{"text_format":"1","workbook":"xlsx","n_sheets":9,"sheets":["Entradas","Info General","Distritos","Salidas","Códigos","Tipo de Gestión","Manual de Usuario","Definiciones RAEE","Sheet1"],"not_rendered":{"charts":0,"images":7,"macros":0,"external_links":0,"defined_names":121,"comments":0,"pivot_tables":0},"unopened":[],"bounds":{"document_bytes":16777216,"sheet_cells":100000,"rows_first":2000,"rows_last":500,"rows_between":2000,"halvings":0,"cell_chars":16384,"cell_head_chars":4096},"cells_cut":0,"cells_raw":0,"read":"whole","date_system":"1900"}

{"sheet":"Entradas","index":0,"n_rows":20000,"n_cols":30,"rows_kept":4500,"cut":true,"hidden":false,"merged":[[0,11,1,15],[0,16,1,29],[0,4,1,10],[0,0,1,3]],"bounds":{"rows_first":2000,"rows_last":500,"rows_between":2000,"halvings":0}}
["1.DATOS GENERALES DEL INFORME",null,null,null,"2. DATOS DEL GESTOR DE RESIDUOS",null,null,null,null,null,null,"3. DATOS DEL ORIGEN DE LOS RESIDUOS",null,null,null,null,"4. DATOS DE LOS RESIDUOS GESTIONADOS"]
[]
["1.1 Año","1.2 Mes","1.3 Día","1.4 Trimestre","2.1 Razon Social o Propietario:","2.2 N° Cédula fisica, jurídica o dimex","2.3 Código de Registro de Gestor Autorizado","2.4 Provincia","2.5 Cantón","2.6 Distrito","2.7 Nombre del Representante Legal","3.1 Origen de los residuos","3.2 Cédula Jurídica o de Identidad","3.3 No. de Autorización ante el Ministerio de Salud","3.4 Nombre de la empresa","3.5 No. de recibo","4.1 Tipo de Residuo","4.2 Categorización del tipo de Residuo","4.3 Descripción Comercial del Residuo","4.4 Código","4.5 Descripción de los Residuos","4.10 Recolección","4.11 Transporte","4.12 Acopio","4.13 Preparación para la valorización","4.14 Valorización","4.15 Exportación","4.16 Importación","4.17 Tratamiento","4.18 Disposición Final"]
[null,null,null,null,null,null,null,null,null,null,null,null,null,null,null,null,null,null,null,null,{"$f":"IFERROR(VLOOKUP(T4,Códigos!B:C,2,0),\" \")","v":" "}]
[null,null,null,null,null,null,null,null,null,null,null,null,null,null,null,null,null,null,null,null,{"$f":"IFERROR(VLOOKUP(T5,Códigos!B:C,2,0),\" \")","v":" "}]
[null,null,null,null,null,null,null,null,null,null,null,null,null,null,null,null,null,null,null,null,{"$f":"IFERROR(VLOOKUP(T6,Códigos!B:C,2,0),\" \")","v":" "}]
[null,null,null,null,null,null,null,null,null,null,null,null,null,null,null,null,null,null,null,null,{"$f":"IFERROR(VLOOKUP(T7,Códigos!B:C,2,0),\" \")","v":" "}]
[null,null,null,null,null,null,null,null,null,null,null,null,null,null,null,null,null,null,null,null,{"$f":"IFERROR(VLOOKUP(T8,Códigos!B:C,2,0),\" \")","v":" "}]
[null,null,null,null,null,null,null,null,null,null,null,null,null,null,null,null,null,null,null,null,{"$f":"IFERROR(VLOOKUP(T9,Códigos!B:C,2,0),\" \")","v":" "}]
[null,null,null,null,null,null,null,null,null,null,null,null,null,null,null,null,null,null,null,null,{"$f":"IFERROR(VLOOKUP(T10,Códigos!B:C,2,0),\" \")","v":" "}]
[null,null,null,null,null,null,null,null,null,null,null,null,null,null,null,null,null,null,null,null,{"$f":"IFERROR(VLOOKUP(T11,Códigos!B:C,2,0),\" \")","v":" "}]
[null,null,null,null,null,null,null,null,null,null,null,null,null,null,null,null,null,null,null,null,{"$f":"IFERROR(VLOOKUP(T12,Códigos!B:C,2,0),\" \")","v":" "}]
[null,null,null,null,null,null,null,null,null,null,null,null,null,null,null,null,null,null,null,null,{"$f":"IFERROR(VLOOKUP(T13,Códigos!B:C,2,0),\" \")","v":" "}]
[null,null,null,null,null,null,null,null,null,null,null,null,null,null,null,null,null,null,null,null,{"$f":"IFERROR(VLOOKUP(T14,Códigos!B:C,2,0),\" \")","v":" "}]
[null,null,null,null,null,null,null,null,null,null,null,null,null,null,null,null,null,null,null,null,{"$f":"IFERROR(VLOOKUP(T15,Códigos!B:C,2,0),\" \")","v":" "}]
[null,null,null,null,null,null,null,null,null,null,null,null,null,null,null,null,null,null,null,null,{"$f":"IFERROR(VLOOKUP(T16,Códigos!B:C,2,0),\" \")","v":" "}]
[null,null,null,null,null,null,null,null,null,null,null,null,null,null,null,null,null,null,null,null,{"$f":"IFERROR(VLOOKUP(T17,Códigos!B:C,2,0),\" \")","v":" "}]
[null,null,null,null,null,null,null,null,null,null,null,null,null,null,null,null,null,null,null,null,{"$f":"IFERROR(VLOOKUP(T18,Códigos!B:C,2,0),\" \")","v":" "}]
[null,null,null,null,null,null,null,null,null,null,null,null,null,null,null,null,null,null,null,null,{"$f":"IFERROR(VLOOKUP(T19,Códigos!B:C,2,0),\" \")","v":" "}]
[null,null,null,null,null,null,null,null,null,null,null,null,null,null,null,null,null,null,null,null,{"$f":"IFERROR(VLOOKUP(T20,Códigos!B:C,2,0),\" \")","v":" "}]
[null,null,null,null,null,null,null,null,null,null,null,null,null,null,null,null,null,null,null,null,{"$f":"IFERROR(VLOOKUP(T21,Códigos!B:C,2,0),\" \")","v":" "}]
[null,null,null,null,null,null,null,null,null,null,null,null,null,null,null,null,null,null,null,null,{"$f":"IFERROR(VLOOKUP(T22,Códigos!B:C,2,0),\" \")","v":" "}]
[null,null,null,null,null,null,null,null,null,null,null,null,null,null,null,null,null,null,null,null,{"$f":"IFERROR(VLOOKUP(T23,Códigos!B:C,2,0),\" \")","v":" "}]
[null,null,null,null,null,null,null,null,null,null,null,null,null,null,null,null,null,null,null,null,{"$f":"IFERROR(VLOOKUP(T24,Códigos!B:C,2,0),\" \")","v":" "}]
[null,null,null,null,null,null,null,null,null,null,null,null,null,null,null,null,null,null,null,null,{"$f":"IFERROR(VLOOKUP(T25,Códigos!B:C,2,0),\" \")","v":" "}]
[null,null,null,null,null,null,null,null,null,null,null,null,null,null,null,null,null,null,null,null,{"$f":"IFERROR(VLOOKUP(T26,Códigos!B:C,2,0),\" \")","v":" "}]
[null,null,null,null,null,null,null,null,null,null,null,null,null,null,null,null,null,null,null,null,{"$f":"IFERROR(VLOOKUP(T27,Códigos!B:C,2,0),\" \")","v":" "}]
[null,null,null,null,null,null,null,null,null,null,null,null,null,null,null,null,null,null,null,null,{"$f":"IFERROR(VLOOKUP(T28,Códigos!B:C,2,0),\" \")","v":" "}]
[null,null,null,null,null,null,null,null,null,null,null,null,null,null,null,null,null,null,null,null,{"$f":"IFERROR(VLOOKUP(T29,Códigos!B:C,2,0),\" \")","v":" "}]
[null,null,null,null,null,null,null,null,null,null,null,null,null,null,null,null,null,null,null,null,{"$f":"IFERROR(VLOOKUP(T30,Códigos!B:C,2,0),\" \")","v":" "}]
[null,null,null,null,null,null,null,null,null,null,null,null,null,null,null,null,null,null,null,null,{"$f":"IFERROR(VLOOKUP(T31,Códigos!B:C,2,0),\" \")","v":" "}]
[null,null,null,null,null,null,null,null,null,null,null,null,null,null,null,null,null,null,null,null,{"$f":"IFERROR(VLOOKUP(T32,Códigos!B:C,2,0),\" \")","v":" "}]
[null,null,null,null,null,null,null,null,null,null,null,null,null,null,null,null,null,null,null,null,{"$f":"IFERROR(VLOOKUP(T33,Códigos!B:C,2,0),\" \")","v":" "}]
[null,null,null,null,null,null,null,null,null,null,null,null,null,null,null,null,null,null,null,null,{"$f":"IFERROR(VLOOKUP(T34,Códigos!B:C,2,0),\" \")","v":" "}]
[null,null,null,null,null,null,null,null,null,null,null,null,null,null,null,null,null,null,null,null,{"$f":"IFERROR(VLOOKUP(T35,Códigos!B:C,2,0),\" \")","v":" "}]
[null,null,null,null,null,null,null,null,null,null,null,null,null,null,null,null,null,null,null,null,{"$f":"IFERROR(VLOOKUP(T36,Códigos!B:C,2,0),\" \")","v":" "}]
[null,null,null,null,null,null,null,null,null,null,null,null,null,null,null,null,null,null,null,null,{"$f":"IFERROR(VLOOKUP(T37,Códigos!B:C,2,0),\" \")","v":" "}]
[null,null,null,null,null,null,null,null,null,null,null,null,null,null,null,null,null,null,null,null,{"$f":"IFERROR(VLOOKUP(T38,Códigos!B:C,2,0),\" \")","v":" "}]
[null,null,null,null,null,null,null,null,null,null,null,null,null,null,null,null,null,null,null,null,{"$f":"IFERROR(VLOOKUP(T39,Códigos!B:C,2,0),\" \")","v":" "}]
[null,null,null,null,null,null,null,null,null,null,null,null,null,null,null,null,null,null,null,null,{"$f":"IFERROR(VLOOKUP(T40,Códigos!B:C,2,0),\" \")","v":" "}]
[null,null,null,null,null,null,null,null,null,null,null,null,null,null,null,null,null,null,null,null,{"$f":"IFERROR(VLOOKUP(T41,Códigos!B:C,2,0),\" \")","v":" "}]
[null,null,null,null,null,null,null,null,null,null,null,null,null,null,null,null,null,null,null,null,{"$f":"IFERROR(VLOOKUP(T42,Códigos!B:C,2,0),\" \")","v":" "}]
[null,null,null,null,null,null,null,null,null,null,null,null,null,null,null,null,null,null,null,null,{"$f":"IFERROR(VLOOKUP(T43,Códigos!B:C,2,0),\" \")","v":" "}]
[null,null,null,null,null,null,null,null,null,null,null,null,null,null,null,null,null,null,null,null,{"$f":"IFERROR(VLOOKUP(T44,Códigos!B:C,2,0),\" \")","v":" "}]
[null,null,null,null,null,null,null,null,null,null,null,null,null,null,null,null,null,null,null,null,{"$f":"IFERROR(VLOOKUP(T45,Códigos!B:C,2,0),\" \")","v":" "}]
[null,null,null,null,null,null,null,null,null,null,null,null,null,null,null,null,null,null,null,null,{"$f":"IFERROR(VLOOKUP(T46,Códigos!B:C,2,0),\" \")","v":" "}]
[null,null,null,null,null,null,null,null,null,null,null,null,null,null,null,null,null,null,null,null,{"$f":"IFERROR(VLOOKUP(T47,Códigos!B:C,2,0),\" \")","v":" "}]
[null,null,null,null,null,null,null,null,null,null,null,null,null,null,null,null,null,null,null,null,{"$f":"IFERROR(VLOOKUP(T48,Códigos!B:C,2,0),\" \")","v":" "}]
[null,null,null,null,null,null,null,null,null,null,null,null,null,null,null,null,null,null,null,null,{"$f":"IFERROR(VLOOKUP(T49,Códigos!B:C,2,0),\" \")","v":" "}]
[null,null,null,null,null,null,null,null,null,null,null,null,null,null,null,null,null,null,null,null,{"$f":"IFERROR(VLOOKUP(T50,Códigos!B:C,2,0),\" \")","v":" "}]
[null,null,null,null,null,null,null,null,null,null,null,null,null,null,null,null,null,null,null,null,{"$f":"IFERROR(VLOOKUP(T51,Códigos!B:C,2,0),\" \")","v":" "}]
[null,null,null,null,null,null,null,null,null,null,null,null,null,null,null,null,null,null,null,null,{"$f":"IFERROR(VLOOKUP(T52,Códigos!B:C,2,0),\" \")","v":" "}]
[null,null,null,null,null,null,null,null,null,null,null,null,null,null,null,null,null,null,null,null,{"$f":"IFERROR(VLOOKUP(T53,Códigos!B:C,2,0),\" \")","v":" "}]
[null,null,null,null,null,null,null,null,null,null,null,null,null,null,null,null,null,null,null,null,{"$f":"IFERROR(VLOOKUP(T54,Códigos!B:C,2,0),\" \")","v":" "}]
[null,null,null,null,null,null,null,null,null,null,null,null,null,null,null,null,null,null,null,null,{"$f":"IFERROR(VLOOKUP(T55,Códigos!B:C,2,0),\" \")","v":" "}]
[null,null,null,null,null,null,null,null,null,null,null,null,null,null,null,null,null,null,null,null,{"$f":"IFERROR(VLOOKUP(T56,Códigos!B:C,2,0),\" \")","v":" "}]
[null,null,null,null,null,null,null,null,null,null,null,null,null,null,null,null,null,null,null,null,{"$f":"IFERROR(VLOOKUP(T57,Códigos!B:C,2,0),\" \")","v":" "}]
[null,null,null,null,null,null,null,null,null,null,null,null,null,null,null,null,null,null,null,null,{"$f":"IFERROR(VLOOKUP(T58,Códigos!B:C,2,0),\" \")","v":" "}]
[null,null,null,null,null,null,null,null,null,null,null,null,null,null,null,null,null,null,null,null,{"$f":"IFERROR(VLOOKUP(T59,Códigos!B:C,2,0),\" \")","v":" "}]
[null,null,null,null,null,null,null,null,null,null,null,null,null,null,null,null,null,null,null,null,{"$f":"IFERROR(VLOOKUP(T60,Códigos!B:C,2,0),\" \")","v":" "}]
[null,null,null,null,null,null,null,null,null,null,null,null,null,null,null,null,null,null,null,null,{"$f":"IFERROR(VLOOKUP(T61,Códigos!B:C,2,0),\" \")","v":" "}]
[null,null,null,null,null,null,null,null,null,null,null,null,null,null,null,null,null,null,null,null,{"$f":"IFERROR(VLOOKUP(T62,Códigos!B:C,2,0),\" \")","v":" "}]
[null,null,null,null,null,null,null,null,null,null,null,null,null,null,null,null,null,null,null,null,{"$f":"IFERROR(VLOOKUP(T63,Códigos!B:C,2,0),\" \")","v":" "}]
[null,null,null,null,null,null,null,null,null,null,null,null,null,null,null,null,null,null,null,null,{"$f":"IFERROR(VLOOKUP(T64,Códigos!B:C,2,0),\" \")","v":" "}]
[null,null,null,null,null,null,null,null,null,null,null,null,null,null,null,null,null,null,null,null,{"$f":"IFERROR(VLOOKUP(T65,Códigos!B:C,2,0),\" \")","v":" "}]
[null,null,null,null,null,null,null,null,null,null,null,null,null,null,null,null,null,null,null,null,{"$f":"IFERROR(VLOOKUP(T66,Códigos!B:C,2,0),\" \")","v":" "}]
[null,null,null,null,null,null,null,null,null,null,null,null,null,null,null,null,null,null,null,null,{"$f":"IFERROR(VLOOKUP(T67,Códigos!B:C,2,0),\" \")","v":" "}]
[null,null,null,null,null,null,null,null,null,null,null,null,null,null,null,null,null,null,null,null,{"$f":"IFERROR(VLOOKUP(T68,Códigos!B:C,2,0),\" \")","v":" "}]
[null,null,null,null,null,null,null,null,null,null,null,null,null,null,null,null,null,null,null,null,{"$f":"IFERROR(VLOOKUP(T69,Códigos!B:C,2,0),\" \")","v":" "}]
[null,null,null,null,null,null,null,null,null,null,null,null,null,null,null,null,null,null,null,null,{"$f":"IFERROR(VLOOKUP(T70,Códigos!B:C,2,0),\" \")","v":" "}]
[null,null,null,null,null,null,null,null,null,null,null,null,null,null,null,null,null,null,null,null,{"$f":"IFERROR(VLOOKUP(T71,Códigos!B:C,2,0),\" \")","v":" "}]
[null,null,null,null,null,null,null,null,null,null,null,null,null,null,null,null,null,null,null,null,{"$f":"IFERROR(VLOOKUP(T72,Códigos!B:C,2,0),\" \")","v":" "}]
[null,null,null,null,null,null,null,null,null,null,null,null,null,null,null,null,null,null,null,null,{"$f":"IFERROR(VLOOKUP(T73,Códigos!B:C,2,0),\" \")","v":" "}]
[null,null,null,null,null,null,null,null,null,null,null,null,null,null,null,null,null,null,null,null,{"$f":"IFERROR(VLOOKUP(T74,Códigos!B:C,2,0),\" \")","v":" "}]
[null,null,null,null,null,null,null,null,null,null,null,null,null,null,null,null,null,null,null,null,{"$f":"IFERROR(VLOOKUP(T75,Códigos!B:C,2,0),\" \")","v":" "}]
[null,null,null,null,null,null,null,null,null,null,null,null,null,null,null,null,null,null,null,null,{"$f":"IFERROR(VLOOKUP(T76,Códigos!B:C,2,0),\" \")","v":" "}]
[null,null,null,null,null,null,null,null,null,null,null,null,null,null,null,null,null,null,null,null,{"$f":"IFERROR(VLOOKUP(T77,Códigos!B:C,2,0),\" \")","v":" "}]
[null,null,null,null,null,null,null,null,null,null,null,null,null,null,null,null,null,null,null,null,{"$f":"IFERROR(VLOOKUP(T78,Códigos!B:C,2,0),\" \")","v":" "}]
[null,null,null,null,null,null,null,null,null,null,null,null,null,null,null,null,null,null,null,null,{"$f":"IFERROR(VLOOKUP(T79,Códigos!B:C,2,0),\" \")","v":" "}]
[null,null,null,null,null,null,null,null,null,null,null,null,null,null,null,null,null,null,null,null,{"$f":"IFERROR(VLOOKUP(T80,Códigos!B:C,2,0),\" \")","v":" "}]
[null,null,null,null,null,null,null,null,null,null,null,null,null,null,null,null,null,null,null,null,{"$f":"IFERROR(VLOOKUP(T81,Códigos!B:C,2,0),\" \")","v":" "}]
[null,null,null,null,null,null,null,null,null,null,null,null,null,null,null,null,null,null,null,null,{"$f":"IFERROR(VLOOKUP(T82,Códigos!B:C,2,0),\" \")","v":" "}]
[null,null,null,null,null,null,null,null,null,null,null,null,null,null,null,null,null,null,null,null,{"$f":"IFERROR(VLOOKUP(T83,Códigos!B:C,2,0),\" \")","v":" "}]
[null,null,null,null,null,null,null,null,null,null,null,null,null,null,null,null,null,null,null,null,{"$f":"IFERROR(VLOOKUP(T84,Códigos!B:C,2,0),\" \")","v":" "}]
[null,null,null,null,null,null,null,null,null,null,null,null,null,null,null,null,null,null,null,null,{"$f":"IFERROR(VLOOKUP(T85,Códigos!B:C,2,0),\" \")","v":" "}]
[null,null,null,null,null,null,null,null,null,null,null,null,null,null,null,null,null,null,null,null,{"$f":"IFERROR(VLOOKUP(T86,Códigos!B:C,2,0),\" \")","v":" "}]
[null,null,null,null,null,null,null,null,null,null,null,null,null,null,null,null,null,null,null,null,{"$f":"IFERROR(VLOOKUP(T87,Códigos!B:C,2,0),\" \")","v":" "}]
[null,null,null,null,null,null,null,null,null,null,null,null,null,null,null,null,null,null,null,null,{"$f":"IFERROR(VLOOKUP(T88,Códigos!B:C,2,0),\" \")","v":" "}]
[null,null,null,null,null,null,null,null,null,null,null,null,null,null,null,null,null,null,null,null,{"$f":"IFERROR(VLOOKUP(T89,Códigos!B:C,2,0),\" \")","v":" "}]
[null,null,null,null,null,null,null,null,null,null,null,null,null,null,null,null,null,null,null,null,{"$f":"IFERROR(VLOOKUP(T90,Códigos!B:C,2,0),\" \")","v":" "}]
[null,null,null,null,null,null,null,null,null,null,null,null,null,null,null,null,null,null,null,null,{"$f":"IFERROR(VLOOKUP(T91,Códigos!B:C,2,0),\" \")","v":" "}]
[null,null,null,null,null,null,null,null,null,null,null,null,null,null,null,null,null,null,null,null,{"$f":"IFERROR(VLOOKUP(T92,Códigos!B:C,2,0),\" \")","v":" "}]
[null,null,null,null,null,null,null,null,null,null,null,null,null,null,null,null,null,null,null,null,{"$f":"IFERROR(VLOOKUP(T93,Códigos!B:C,2,0),\" \")","v":" "}]
[null,null,null,null,null,null,null,null,null,null,null,null,null,null,null,null,null,null,null,null,{"$f":"IFERROR(VLOOKUP(T94,Códigos!B:C,2,0),\" \")","v":" "}]
[null,null,null,null,null,null,null,null,null,null,null,null,null,null,null,null,null,null,null,null,{"$f":"IFERROR(VLOOKUP(T95,Códigos!B:C,2,0),\" \")","v":" "}]
[null,null,null,null,null,null,null,null,null,null,null,null,null,null,null,null,null,null,null,null,{"$f":"IFERROR(VLOOKUP(T96,Códigos!B:C,2,0),\" \")","v":" "}]
[null,null,null,null,null,null,null,null,null,null,null,null,null,null,null,null,null,null,null,null,{"$f":"IFERROR(VLOOKUP(T97,Códigos!B:C,2,0),\" \")","v":" "}]
[null,null,null,null,null,null,null,null,null,null,null,null,null,null,null,null,null,null,null,null,{"$f":"IFERROR(VLOOKUP(T98,Códigos!B:C,2,0),\" \")","v":" "}]
[null,null,null,null,null,null,null,null,null,null,null,null,null,null,null,null,null,null,null,null,{"$f":"IFERROR(VLOOKUP(T99,Códigos!B:C,2,0),\" \")","v":" "}]
[null,null,null,null,null,null,null,null,null,null,null,null,null,null,null,null,null,null,null,null,{"$f":"IFERROR(VLOOKUP(T100,Códigos!B:C,2,0),\" \")","v":" "}]
[null,null,null,null,null,null,null,null,null,null,null,null,null,null,null,null,null,null,null,null,{"$f":"IFERROR(VLOOKUP(T101,Códigos!B:C,2,0),\" \")","v":" "}]
[null,null,null,null,null,null,null,null,null,null,null,null,null,null,null,null,null,null,null,null,{"$f":"IFERROR(VLOOKUP(T102,Códigos!B:C,2,0),\" \")","v":" "}]
[null,null,null,null,null,null,null,null,null,null,null,null,null,null,null,null,null,null,null,null,{"$f":"IFERROR(VLOOKUP(T103,Códigos!B:C,2,0),\" \")","v":" "}]
[null,null,null,null,null,null,null,null,null,null,null,null,null,null,null,null,null,null,null,null,{"$f":"IFERROR(VLOOKUP(T104,Códigos!B:C,2,0),\" \")","v":" "}]
[null,null,null,null,null,null,null,null,null,null,null,null,null,null,null,null,null,null,null,null,{"$f":"IFERROR(VLOOKUP(T105,Códigos!B:C,2,0),\" \")","v":" "}]
[null,null,null,null,null,null,null,null,null,null,null,null,null,null,null,null,null,null,null,null,{"$f":"IFERROR(VLOOKUP(T106,Códigos!B:C,2,0),\" \")","v":" "}]
[null,null,null,null,null,null,null,null,null,null,null,null,null,null,null,null,null,null,null,null,{"$f":"IFERROR(VLOOKUP(T107,Códigos!B:C,2,0),\" \")","v":" "}]
[null,null,null,null,null,null,null,null,null,null,null,null,null,null,null,null,null,null,null,null,{"$f":"IFERROR(VLOOKUP(T108,Códigos!B:C,2,0),\" \")","v":" "}]
[null,null,null,null,null,null,null,null,null,null,null,null,null,null,null,null,null,null,null,null,{"$f":"IFERROR(VLOOKUP(T109,Códigos!B:C,2,0),\" \")","v":" "}]
[null,null,null,null,null,null,null,null,null,null,null,null,null,null,null,null,null,null,null,null,{"$f":"IFERROR(VLOOKUP(T110,Códigos!B:C,2,0),\" \")","v":" "}]
[null,null,null,null,null,null,null,null,null,null,null,null,null,null,null,null,null,null,null,null,{"$f":"IFERROR(VLOOKUP(T111,Códigos!B:C,2,0),\" \")","v":" "}]
[null,null,null,null,null,null,null,null,null,null,null,null,null,null,null,null,null,null,null,null,{"$f":"IFERROR(VLOOKUP(T112,Códigos!B:C,2,0),\" \")","v":" "}]
[null,null,null,null,null,null,null,null,null,null,null,null,null,null,null,null,null,null,null,null,{"$f":"IFERROR(VLOOKUP(T113,Códigos!B:C,2,0),\" \")","v":" "}]
[null,null,null,null,null,null,null,null,null,null,null,null,null,null,null,null,null,null,null,null,{"$f":"IFERROR(VLOOKUP(T114,Códigos!B:C,2,0),\" \")","v":" "}]
[null,null,null,null,null,null,null,null,null,null,null,null,null,null,null,null,null,null,null,null,{"$f":"IFERROR(VLOOKUP(T115,Códigos!B:C,2,0),\" \")","v":" "}]
[null,null,null,null,null,null,null,null,null,null,null,null,null,null,null,null,null,null,null,null,{"$f":"IFERROR(VLOOKUP(T116,Códigos!B:C,2,0),\" \")","v":" "}]
[null,null,null,null,null,null,null,null,null,null,null,null,null,null,null,null,null,null,null,null,{"$f":"IFERROR(VLOOKUP(T117,Códigos!B:C,2,0),\" \")","v":" "}]
[null,null,null,null,null,null,null,null,null,null,null,null,null,null,null,null,null,null,null,null,{"$f":"IFERROR(VLOOKUP(T118,Códigos!B:C,2,0),\" \")","v":" "}]
[null,null,null,null,null,null,null,null,null,null,null,null,null,null,null,null,null,null,null,null,{"$f":"IFERROR(VLOOKUP(T119,Códigos!B:C,2,0),\" \")","v":" "}]
[null,null,null,null,null,null,null,null,null,null,null,null,null,null,null,null,null,null,null,null,{"$f":"IFERROR(VLOOKUP(T120,Códigos!B:C,2,0),\" \")","v":" "}]
[null,null,null,null,null,null,null,null,null,null,null,null,null,null,null,null,null,null,null,null,{"$f":"IFERROR(VLOOKUP(T121,Códigos!B:C,2,0),\" \")","v":" "}]
[null,null,null,null,null,null,null,null,null,null,null,null,null,null,null,null,null,null,null,null,{"$f":"IFERROR(VLOOKUP(T122,Códigos!B:C,2,0),\" \")","v":" "}]
[null,null,null,null,null,null,null,null,null,null,null,null,null,null,null,null,null,null,null,null,{"$f":"IFERROR(VLOOKUP(T123,Códigos!B:C,2,0),\" \")","v":" "}]
[null,null,null,null,null,null,null,null,null,null,null,null,null,null,null,null,null,null,null,null,{"$f":"IFERROR(VLOOKUP(T124,Códigos!B:C,2,0),\" \")","v":" "}]
[null,null,null,null,null,null,null,null,null,null,null,null,null,null,null,null,null,null,null,null,{"$f":"IFERROR(VLOOKUP(T125,Códigos!B:C,2,0),\" \")","v":" "}]
[null,null,null,null,null,null,null,null,null,null,null,null,null,null,null,null,null,null,null,null,{"$f":"IFERROR(VLOOKUP(T126,Códigos!B:C,2,0),\" \")","v":" "}]
[null,null,null,null,null,null,null,null,null,null,null,null,null,null,null,null,null,null,null,null,{"$f":"IFERROR(VLOOKUP(T127,Códigos!B:C,2,0),\" \")","v":" "}]
[null,null,null,null,null,null,null,null,null,null,null,null,null,null,null,null,null,null,null,null,{"$f":"IFERROR(VLOOKUP(T128,Códigos!B:C,2,0),\" \")","v":" "}]
[null,null,null,null,null,null,null,null,null,null,null,null,null,null,null,null,null,null,null,null,{"$f":"IFERROR(VLOOKUP(T129,Códigos!B:C,2,0),\" \")","v":" "}]
[null,null,null,null,null,null,null,null,null,null,null,null,null,null,null,null,null,null,null,null,{"$f":"IFERROR(VLOOKUP(T130,Códigos!B:C,2,0),\" \")","v":" "}]
[null,null,null,null,null,null,null,null,null,null,null,null,null,null,null,null,null,null,null,null,{"$f":"IFERROR(VLOOKUP(T131,Códigos!B:C,2,0),\" \")","v":" "}]
[null,null,null,null,null,null,null,null,null,null,null,null,null,null,null,null,null,null,null,null,{"$f":"IFERROR(VLOOKUP(T132,Códigos!B:C,2,0),\" \")","v":" "}]
[null,null,null,null,null,null,null,null,null,null,null,null,null,null,null,null,null,null,null,null,{"$f":"IFERROR(VLOOKUP(T133,Códigos!B:C,2,0),\" \")","v":" "}]
[null,null,null,null,null,null,null,null,null,null,null,null,null,null,null,null,null,null,null,null,{"$f":"IFERROR(VLOOKUP(T134,Códigos!B:C,2,0),\" \")","v":" "}]
[null,null,null,null,null,null,null,null,null,null,null,null,null,null,null,null,null,null,null,null,{"$f":"IFERROR(VLOOKUP(T135,Códigos!B:C,2,0),\" \")","v":" "}]
[null,null,null,null,null,null,null,null,null,null,null,null,null,null,null,null,null,null,null,null,{"$f":"IFERROR(VLOOKUP(T136,Códigos!B:C,2,0),\" \")","v":" "}]
[null,null,null,null,null,null,null,null,null,null,null,null,null,null,null,null,null,null,null,null,{"$f":"IFERROR(VLOOKUP(T137,Códigos!B:C,2,0),\" \")","v":" "}]
[null,null,null,null,null,null,null,null,null,null,null,null,null,null,null,null,null,null,null,null,{"$f":"IFERROR(VLOOKUP(T138,Códigos!B:C,2,0),\" \")","v":" "}]
[null,null,null,null,null,null,null,null,null,null,null,null,null,null,null,null,null,null,null,null,{"$f":"IFERROR(VLOOKUP(T139,Códigos!B:C,2,0),\" \")","v":" "}]
[null,null,null,null,null,null,null,null,null,null,null,null,null,null,null,null,null,null,null,null,{"$f":"IFERROR(VLOOKUP(T140,Códigos!B:C,2,0),\" \")","v":" "}]
[null,null,null,null,null,null,null,null,null,null,null,null,null,null,null,null,null,null,null,null,{"$f":"IFERROR(VLOOKUP(T141,Códigos!B:C,2,0),\" \")","v":" "}]
[null,null,null,null,null,null,null,null,null,null,null,null,null,null,null,null,null,null,null,null,{"$f":"IFERROR(VLOOKUP(T142,Códigos!B:C,2,0),\" \")","v":" "}]
[null,null,null,null,null,null,null,null,null,null,null,null,null,null,null,null,null,null,null,null,{"$f":"IFERROR(VLOOKUP(T143,Códigos!B:C,2,0),\" \")","v":" "}]
[null,null,null,null,null,null,null,null,null,null,null,null,null,null,null,null,null,null,null,null,{"$f":"IFERROR(VLOOKUP(T144,Códigos!B:C,2,0),\" \")","v":" "}]
[null,null,null,null,null,null,null,null,null,null,null,null,null,null,null,null,null,null,null,null,{"$f":"IFERROR(VLOOKUP(T145,Códigos!B:C,2,0),\" \")","v":" "}]
[null,null,null,null,null,null,null,null,null,null,null,null,null,null,null,null,null,null,null,null,{"$f":"IFERROR(VLOOKUP(T146,Códigos!B:C,2,0),\" \")","v":" "}]
[null,null,null,null,null,null,null,null,null,null,null,null,null,null,null,null,null,null,null,null,{"$f":"IFERROR(VLOOKUP(T147,Códigos!B:C,2,0),\" \")","v":" "}]
[null,null,null,null,null,null,null,null,null,null,null,null,null,null,null,null,null,null,null,null,{"$f":"IFERROR(VLOOKUP(T148,Códigos!B:C,2,0),\" \")","v":" "}]
[null,null,null,null,null,null,null,null,null,null,null,null,null,null,null,null,null,null,null,null,{"$f":"IFERROR(VLOOKUP(T149,Códigos!B:C,2,0),\" \")","v":" "}]
[null,null,null,null,null,null,null,null,null,null,null,null,null,null,null,null,null,null,null,null,{"$f":"IFERROR(VLOOKUP(T150,Códigos!B:C,2,0),\" \")","v":" "}]
[null,null,null,null,null,null,null,null,null,null,null,null,null,null,null,null,null,null,null,null,{"$f":"IFERROR(VLOOKUP(T151,Códigos!B:C,2,0),\" \")","v":" "}]
[null,null,null,null,null,null,null,null,null,null,null,null,null,null,null,null,null,null,null,null,{"$f":"IFERROR(VLOOKUP(T152,Códigos!B:C,2,0),\" \")","v":" "}]
[null,null,null,null,null,null,null,null,null,null,null,null,null,null,null,null,null,null,null,null,{"$f":"IFERROR(VLOOKUP(T153,Códigos!B:C,2,0),\" \")","v":" "}]
[null,null,null,null,null,null,null,null,null,null,null,null,null,null,null,null,null,null,null,null,{"$f":"IFERROR(VLOOKUP(T154,Códigos!B:C,2,0),\" \")","v":" "}]
[null,null,null,null,null,null,null,null,null,null,null,null,null,null,null,null,null,null,null,null,{"$f":"IFERROR(VLOOKUP(T155,Códigos!B:C,2,0),\" \")","v":" "}]
[null,null,null,null,null,null,null,null,null,null,null,null,null,null,null,null,null,null,null,null,{"$f":"IFERROR(VLOOKUP(T156,Códigos!B:C,2,0),\" \")","v":" "}]
[null,null,null,null,null,null,null,null,null,null,null,null,null,null,null,null,null,null,null,null,{"$f":"IFERROR(VLOOKUP(T157,Códigos!B:C,2,0),\" \")","v":" "}]
[null,null,null,null,null,null,null,null,null,null,null,null,null,null,null,null,null,null,null,null,{"$f":"IFERROR(VLOOKUP(T158,Códigos!B:C,2,0),\" \")","v":" "}]
[null,null,null,null,null,null,null,null,null,null,null,null,null,null,null,null,null,null,null,null,{"$f":"IFERROR(VLOOKUP(T159,Códigos!B:C,2,0),\" \")","v":" "}]
[null,null,null,null,null,null,null,null,null,null,null,null,null,null,null,null,null,null,null,null,{"$f":"IFERROR(VLOOKUP(T160,Códigos!B:C,2,0),\" \")","v":" "}]
[null,null,null,null,null,null,null,null,null,null,null,null,null,null,null,null,null,null,null,null,{"$f":"IFERROR(VLOOKUP(T161,Códigos!B:C,2,0),\" \")","v":" "}]
[null,null,null,null,null,null,null,null,null,null,null,null,null,null,null,null,null,null,null,null,{"$f":"IFERROR(VLOOKUP(T162,Códigos!B:C,2,0),\" \")","v":" "}]
[null,null,null,null,null,null,null,null,null,null,null,null,null,null,null,null,null,null,null,null,{"$f":"IFERROR(VLOOKUP(T163,Códigos!B:C,2,0),\" \")","v":" "}]
[null,null,null,null,null,null,null,null,null,null,null,null,null,null,null,null,null,null,null,null,{"$f":"IFERROR(VLOOKUP(T164,Códigos!B:C,2,0),\" \")","v":" "}]
[null,null,null,null,null,null,null,null,null,null,null,null,null,null,null,null,null,null,null,null,{"$f":"IFERROR(VLOOKUP(T165,Códigos!B:C,2,0),\" \")","v":" "}]
[null,null,null,null,null,null,null,null,null,null,null,null,null,null,null,null,null,null,null,null,{"$f":"IFERROR(VLOOKUP(T166,Códigos!B:C,2,0),\" \")","v":" "}]
[null,null,null,null,null,null,null,null,null,null,null,null,null,null,null,null,null,null,null,null,{"$f":"IFERROR(VLOOKUP(T167,Códigos!B:C,2,0),\" \")","v":" "}]
[null,null,null,null,null,null,null,null,null,null,null,null,null,null,null,null,null,null,null,null,{"$f":"IFERROR(VLOOKUP(T168,Códigos!B:C,2,0),\" \")","v":" "}]
[null,null,null,null,null,null,null,null,null,null,null,null,null,null,null,null,null,null,null,null,{"$f":"IFERROR(VLOOKUP(T169,Códigos!B:C,2,0),\" \")","v":" "}]
[null,null,null,null,null,null,null,null,null,null,null,null,null,null,null,null,null,null,null,null,{"$f":"IFERROR(VLOOKUP(T170,Códigos!B:C,2,0),\" \")","v":" "}]
[null,null,null,null,null,null,null,null,null,null,null,null,null,null,null,null,null,null,null,null,{"$f":"IFERROR(VLOOKUP(T171,Códigos!B:C,2,0),\" \")","v":" "}]
[null,null,null,null,null,null,null,null,null,null,null,null,null,null,null,null,null,null,null,null,{"$f":"IFERROR(VLOOKUP(T172,Códigos!B:C,2,0),\" \")","v":" "}]
[null,null,null,null,null,null,null,null,null,null,null,null,null,null,null,null,null,null,null,null,{"$f":"IFERROR(VLOOKUP(T173,Códigos!B:C,2,0),\" \")","v":" "}]
[null,null,null,null,null,null,null,null,null,null,null,null,null,null,null,null,null,null,null,null,{"$f":"IFERROR(VLOOKUP(T174,Códigos!B:C,2,0),\" \")","v":" "}]
[null,null,null,null,null,null,null,null,null,null,null,null,null,null,null,null,null,null,null,null,{"$f":"IFERROR(VLOOKUP(T175,Códigos!B:C,2,0),\" \")","v":" "}]
[null,null,null,null,null,null,null,null,null,null,null,null,null,null,null,null,null,null,null,null,{"$f":"IFERROR(VLOOKUP(T176,Códigos!B:C,2,0),\" \")","v":" "}]
[null,null,null,null,null,null,null,null,null,null,null,null,null,null,null,null,null,null,null,null,{"$f":"IFERROR(VLOOKUP(T177,Códigos!B:C,2,0),\" \")","v":" "}]
[null,null,null,null,null,null,null,null,null,null,null,null,null,null,null,null,null,null,null,null,{"$f":"IFERROR(VLOOKUP(T178,Códigos!B:C,2,0),\" \")","v":" "}]
[null,null,null,null,null,null,null,null,null,null,null,null,null,null,null,null,null,null,null,null,{"$f":"IFERROR(VLOOKUP(T179,Códigos!B:C,2,0),\" \")","v":" "}]
[null,null,null,null,null,null,null,null,null,null,null,null,null,null,null,null,null,null,null,null,{"$f":"IFERROR(VLOOKUP(T180,Códigos!B:C,2,0),\" \")","v":" "}]
[null,null,null,null,null,null,null,null,null,null,null,null,null,null,null,null,null,null,null,null,{"$f":"IFERROR(VLOOKUP(T181,Códigos!B:C,2,0),\" \")","v":" "}]
[null,null,null,null,null,null,null,null,null,null,null,null,null,null,null,null,null,null,null,null,{"$f":"IFERROR(VLOOKUP(T182,Códigos!B:C,2,0),\" \")","v":" "}]
[null,null,null,null,null,null,null,null,null,null,null,null,null,null,null,null,null,null,null,null,{"$f":"IFERROR(VLOOKUP(T183,Códigos!B:C,2,0),\" \")","v":" "}]
[null,null,null,null,null,null,null,null,null,null,null,null,null,null,null,null,null,null,null,null,{"$f":"IFERROR(VLOOKUP(T184,Códigos!B:C,2,0),\" \")","v":" "}]
[null,null,null,null,null,null,null,null,null,null,null,null,null,null,null,null,null,null,null,null,{"$f":"IFERROR(VLOOKUP(T185,Códigos!B:C,2,0),\" \")","v":" "}]
[null,null,null,null,null,null,null,null,null,null,null,null,null,null,null,null,null,null,null,null,{"$f":"IFERROR(VLOOKUP(T186,Códigos!B:C,2,0),\" \")","v":" "}]
[null,null,null,null,null,null,null,null,null,null,null,null,null,null,null,null,null,null,null,null,{"$f":"IFERROR(VLOOKUP(T187,Códigos!B:C,2,0),\" \")","v":" "}]
[null,null,null,null,null,null,null,null,null,null,null,null,null,null,null,null,null,null,null,null,{"$f":"IFERROR(VLOOKUP(T188,Códigos!B:C,2,0),\" \")","v":" "}]
[null,null,null,null,null,null,null,null,null,null,null,null,null,null,null,null,null,null,null,null,{"$f":"IFERROR(VLOOKUP(T189,Códigos!B:C,2,0),\" \")","v":" "}]
[null,null,null,null,null,null,null,null,null,null,null,null,null,null,null,null,null,null,null,null,{"$f":"IFERROR(VLOOKUP(T190,Códigos!B:C,2,0),\" \")","v":" "}]
[null,null,null,null,null,null,null,null,null,null,null,null,null,null,null,null,null,null,null,null,{"$f":"IFERROR(VLOOKUP(T191,Códigos!B:C,2,0),\" \")","v":" "}]
[null,null,null,null,null,null,null,null,null,null,null,null,null,null,null,null,null,null,null,null,{"$f":"IFERROR(VLOOKUP(T192,Códigos!B:C,2,0),\" \")","v":" "}]
[null,null,null,null,null,null,null,null,null,null,null,null,null,null,null,null,null,null,null,null,{"$f":"IFERROR(VLOOKUP(T193,Códigos!B:C,2,0),\" \")","v":" "}]
[null,null,null,null,null,null,null,null,null,null,null,null,null,null,null,null,null,null,null,null,{"$f":"IFERROR(VLOOKUP(T194,Códigos!B:C,2,0),\" \")","v":" "}]
[null,null,null,null,null,null,null,null,null,null,null,null,null,null,null,null,null,null,null,null,{"$f":"IFERROR(VLOOKUP(T195,Códigos!B:C,2,0),\" \")","v":" "}]
[null,null,null,null,null,null,null,null,null,null,null,null,null,null,null,null,null,null,null,null,{"$f":"IFERROR(VLOOKUP(T196,Códigos!B:C,2,0),\" \")","v":" "}]
[null,null,null,null,null,null,null,null,null,null,null,null,null,null,null,null,null,null,null,null,{"$f":"IFERROR(VLOOKUP(T197,Códigos!B:C,2,0),\" \")","v":" "}]
[null,null,null,null,null,null,null,null,null,null,null,null,null,null,null,null,null,null,null,null,{"$f":"IFERROR(VLOOKUP(T198,Códigos!B:C,2,0),\" \")","v":" "}]
[null,null,null,null,null,null,null,null,null,null,null,null,null,null,null,null,null,null,null,null,{"$f":"IFERROR(VLOOKUP(T199,Códigos!B:C,2,0),\" \")","v":" "}]
[null,null,null,null,null,null,null,null,null,null,null,null,null,null,null,null,null,null,null,null,{"$f":"IFERROR(VLOOKUP(T200,Códigos!B:C,2,0),\" \")","v":" "}]
[null,null,null,null,null,null,null,null,null,null,null,null,null,null,null,null,null,null,null,null,{"$f":"IFERROR(VLOOKUP(T201,Códigos!B:C,2,0),\" \")","v":" "}]
[null,null,null,null,null,null,null,null,null,null,null,null,null,null,null,null,null,null,null,null,{"$f":"IFERROR(VLOOKUP(T202,Códigos!B:C,2,0),\" \")","v":" "}]
[null,null,null,null,null,null,null,null,null,null,null,null,null,null,null,null,null,null,null,null,{"$f":"IFERROR(VLOOKUP(T203,Códigos!B:C,2,0),\" \")","v":" "}]
[null,null,null,null,null,null,null,null,null,null,null,null,null,null,null,null,null,null,null,null,{"$f":"IFERROR(VLOOKUP(T204,Códigos!B:C,2,0),\" \")","v":" "}]
[null,null,null,null,null,null,null,null,null,null,null,null,null,null,null,null,null,null,null,null,{"$f":"IFERROR(VLOOKUP(T205,Códigos!B:C,2,0),\" \")","v":" "}]
[null,null,null,null,null,null,null,null,null,null,null,null,null,null,null,null,null,null,null,null,{"$f":"IFERROR(VLOOKUP(T206,Códigos!B:C,2,0),\" \")","v":" "}]
[null,null,null,null,null,null,null,null,null,null,null,null,null,null,null,null,null,null,null,null,{"$f":"IFERROR(VLOOKUP(T207,Códigos!B:C,2,0),\" \")","v":" "}]
[null,null,null,null,null,null,null,null,null,null,null,null,null,null,null,null,null,null,null,null,{"$f":"IFERROR(VLOOKUP(T208,Códigos!B:C,2,0),\" \")","v":" "}]
[null,null,null,null,null,null,null,null,null,null,null,null,null,null,null,null,null,null,null,null,{"$f":"IFERROR(VLOOKUP(T209,Códigos!B:C,2,0),\" \")","v":" "}]
[null,null,null,null,null,null,null,null,null,null,null,null,null,null,null,null,null,null,null,null,{"$f":"IFERROR(VLOOKUP(T210,Códigos!B:C,2,0),\" \")","v":" "}]
[null,null,null,null,null,null,null,null,null,null,null,null,null,null,null,null,null,null,null,null,{"$f":"IFERROR(VLOOKUP(T211,Códigos!B:C,2,0),\" \")","v":" "}]
[null,null,null,null,null,null,null,null,null,null,null,null,null,null,null,null,null,null,null,null,{"$f":"IFERROR(VLOOKUP(T212,Códigos!B:C,2,0),\" \")","v":" "}]
[null,null,null,null,null,null,null,null,null,null,null,null,null,null,null,null,null,null,null,null,{"$f":"IFERROR(VLOOKUP(T213,Códigos!B:C,2,0),\" \")","v":" "}]
[null,null,null,null,null,null,null,null,null,null,null,null,null,null,null,null,null,null,null,null,{"$f":"IFERROR(VLOOKUP(T214,Códigos!B:C,2,0),\" \")","v":" "}]
[null,null,null,null,null,null,null,null,null,null,null,null,null,null,null,null,null,null,null,null,{"$f":"IFERROR(VLOOKUP(T215,Códigos!B:C,2,0),\" \")","v":" "}]
[null,null,null,null,null,null,null,null,null,null,null,null,null,null,null,null,null,null,null,null,{"$f":"IFERROR(VLOOKUP(T216,Códigos!B:C,2,0),\" \")","v":" "}]
[null,null,null,null,null,null,null,null,null,null,null,null,null,null,null,null,null,null,null,null,{"$f":"IFERROR(VLOOKUP(T217,Códigos!B:C,2,0),\" \")","v":" "}]
[null,null,null,null,null,null,null,null,null,null,null,null,null,null,null,null,null,null,null,null,{"$f":"IFERROR(VLOOKUP(T218,Códigos!B:C,2,0),\" \")","v":" "}]
[null,null,null,null,null,null,null,null,null,null,null,null,null,null,null,null,null,null,null,null,{"$f":"IFERROR(VLOOKUP(T219,Códigos!B:C,2,0),\" \")","v":" "}]
[null,null,null,null,null,null,null,null,null,null,null,null,null,null,null,null,null,null,null,null,{"$f":"IFERROR(VLOOKUP(T220,Códigos!B:C,2,0),\" \")","v":" "}]
[null,null,null,null,null,null,null,null,null,null,null,null,null,null,null,null,null,null,null,null,{"$f":"IFERROR(VLOOKUP(T221,Códigos!B:C,2,0),\" \")","v":" "}]
[null,null,null,null,null,null,null,null,null,null,null,null,null,null,null,null,null,null,null,null,{"$f":"IFERROR(VLOOKUP(T222,Códigos!B:C,2,0),\" \")","v":" "}]
[null,null,null,null,null,null,null,null,null,null,null,null,null,null,null,null,null,null,null,null,{"$f":"IFERROR(VLOOKUP(T223,Códigos!B:C,2,0),\" \")","v":" "}]
[null,null,null,null,null,null,null,null,null,null,null,null,null,null,null,null,null,null,null,null,{"$f":"IFERROR(VLOOKUP(T224,Códigos!B:C,2,0),\" \")","v":" "}]
[null,null,null,null,null,null,null,null,null,null,null,null,null,null,null,null,null,null,null,null,{"$f":"IFERROR(VLOOKUP(T225,Códigos!B:C,2,0),\" \")","v":" "}]
[null,null,null,null,null,null,null,null,null,null,null,null,null,null,null,null,null,null,null,null,{"$f":"IFERROR(VLOOKUP(T226,Códigos!B:C,2,0),\" \")","v":" "}]
[null,null,null,null,null,null,null,null,null,null,null,null,null,null,null,null,null,null,null,null,{"$f":"IFERROR(VLOOKUP(T227,Códigos!B:C,2,0),\" \")","v":" "}]
[null,null,null,null,null,null,null,null,null,null,null,null,null,null,null,null,null,null,null,null,{"$f":"IFERROR(VLOOKUP(T228,Códigos!B:C,2,0),\" \")","v":" "}]
[null,null,null,null,null,null,null,null,null,null,null,null,null,null,null,null,null,null,null,null,{"$f":"IFERROR(VLOOKUP(T229,Códigos!B:C,2,0),\" \")","v":" "}]
[null,null,null,null,null,null,null,null,null,null,null,null,null,null,null,null,null,null,null,null,{"$f":"IFERROR(VLOOKUP(T230,Códigos!B:C,2,0),\" \")","v":" "}]
[null,null,null,null,null,null,null,null,null,null,null,null,null,null,null,null,null,null,null,null,{"$f":"IFERROR(VLOOKUP(T231,Códigos!B:C,2,0),\" \")","v":" "}]
[null,null,null,null,null,null,null,null,null,null,null,null,null,null,null,null,null,null,null,null,{"$f":"IFERROR(VLOOKUP(T232,Códigos!B:C,2,0),\" \")","v":" "}]
[null,null,null,null,null,null,null,null,null,null,null,null,null,null,null,null,null,null,null,null,{"$f":"IFERROR(VLOOKUP(T233,Códigos!B:C,2,0),\" \")","v":" "}]
[null,null,null,null,null,null,null,null,null,null,null,null,null,null,null,null,null,null,null,null,{"$f":"IFERROR(VLOOKUP(T234,Códigos!B:C,2,0),\" \")","v":" "}]
[null,null,null,null,null,null,null,null,null,null,null,null,null,null,null,null,null,null,null,null,{"$f":"IFERROR(VLOOKUP(T235,Códigos!B:C,2,0),\" \")","v":" "}]
[null,null,null,null,null,null,null,null,null,null,null,null,null,null,null,null,null,null,null,null,{"$f":"IFERROR(VLOOKUP(T236,Códigos!B:C,2,0),\" \")","v":" "}]
[null,null,null,null,null,null,null,null,null,null,null,null,null,null,null,null,null,null,null,null,{"$f":"IFERROR(VLOOKUP(T237,Códigos!B:C,2,0),\" \")","v":" "}]
[null,null,null,null,null,null,null,null,null,null,null,null,null,null,null,null,null,null,null,null,{"$f":"IFERROR(VLOOKUP(T238,Códigos!B:C,2,0),\" \")","v":" "}]
[null,null,null,null,null,null,null,null,null,null,null,null,null,null,null,null,null,null,null,null,{"$f":"IFERROR(VLOOKUP(T239,Códigos!B:C,2,0),\" \")","v":" "}]
[null,null,null,null,null,null,null,null,null,null,null,null,null,null,null,null,null,null,null,null,{"$f":"IFERROR(VLOOKUP(T240,Códigos!B:C,2,0),\" \")","v":" "}]
[null,null,null,null,null,null,null,null,null,null,null,null,null,null,null,null,null,null,null,null,{"$f":"IFERROR(VLOOKUP(T241,Códigos!B:C,2,0),\" \")","v":" "}]
[null,null,null,null,null,null,null,null,null,null,null,null,null,null,null,null,null,null,null,null,{"$f":"IFERROR(VLOOKUP(T242,Códigos!B:C,2,0),\" \")","v":" "}]
[null,null,null,null,null,null,null,null,null,null,null,null,null,null,null,null,null,null,null,null,{"$f":"IFERROR(VLOOKUP(T243,Códigos!B:C,2,0),\" \")","v":" "}]
[null,null,null,null,null,null,null,null,null,null,null,null,null,null,null,null,null,null,null,null,{"$f":"IFERROR(VLOOKUP(T244,Códigos!B:C,2,0),\" \")","v":" "}]
[null,null,null,null,null,null,null,null,null,null,null,null,null,null,null,null,null,null,null,null,{"$f":"IFERROR(VLOOKUP(T245,Códigos!B:C,2,0),\" \")","v":" "}]
[null,null,null,null,null,null,null,null,null,null,null,null,null,null,null,null,null,null,null,null,{"$f":"IFERROR(VLOOKUP(T246,Códigos!B:C,2,0),\" \")","v":" "}]
[null,null,null,null,null,null,null,null,null,null,null,null,null,null,null,null,null,null,null,null,{"$f":"IFERROR(VLOOKUP(T247,Códigos!B:C,2,0),\" \")","v":" "}]
[null,null,null,null,null,null,null,null,null,null,null,null,null,null,null,null,null,null,null,null,{"$f":"IFERROR(VLOOKUP(T248,Códigos!B:C,2,0),\" \")","v":" "}]
[null,null,null,null,null,null,null,null,null,null,null,null,null,null,null,null,null,null,null,null,{"$f":"IFERROR(VLOOKUP(T249,Códigos!B:C,2,0),\" \")","v":" "}]
[null,null,null,null,null,null,null,null,null,null,null,null,null,null,null,null,null,null,null,null,{"$f":"IFERROR(VLOOKUP(T250,Códigos!B:C,2,0),\" \")","v":" "}]
[null,null,null,null,null,null,null,null,null,null,null,null,null,null,null,null,null,null,null,null,{"$f":"IFERROR(VLOOKUP(T251,Códigos!B:C,2,0),\" \")","v":" "}]
[null,null,null,null,null,null,null,null,null,null,null,null,null,null,null,null,null,null,null,null,{"$f":"IFERROR(VLOOKUP(T252,Códigos!B:C,2,0),\" \")","v":" "}]
[null,null,null,null,null,null,null,null,null,null,null,null,null,null,null,null,null,null,null,null,{"$f":"IFERROR(VLOOKUP(T253,Códigos!B:C,2,0),\" \")","v":" "}]
[null,null,null,null,null,null,null,null,null,null,null,null,null,null,null,null,null,null,null,null,{"$f":"IFERROR(VLOOKUP(T254,Códigos!B:C,2,0),\" \")","v":" "}]
[null,null,null,null,null,null,null,null,null,null,null,null,null,null,null,null,null,null,null,null,{"$f":"IFERROR(VLOOKUP(T255,Códigos!B:C,2,0),\" \")","v":" "}]
[null,null,null,null,null,null,null,null,null,null,null,null,null,null,null,null,null,null,null,null,{"$f":"IFERROR(VLOOKUP(T256,Códigos!B:C,2,0),\" \")","v":" "}]
[null,null,null,null,null,null,null,null,null,null,null,null,null,null,null,null,null,null,null,null,{"$f":"IFERROR(VLOOKUP(T257,Códigos!B:C,2,0),\" \")","v":" "}]
[null,null,null,null,null,null,null,null,null,null,null,null,null,null,null,null,null,null,null,null,{"$f":"IFERROR(VLOOKUP(T258,Códigos!B:C,2,0),\" \")","v":" "}]
[null,null,null,null,null,null,null,null,null,null,null,null,null,null,null,null,null,null,null,null,{"$f":"IFERROR(VLOOKUP(T259,Códigos!B:C,2,0),\" \")","v":" "}]
[null,null,null,null,null,null,null,null,null,null,null,null,null,null,null,null,null,null,null,null,{"$f":"IFERROR(VLOOKUP(T260,Códigos!B:C,2,0),\" \")","v":" "}]
[null,null,null,null,null,null,null,null,null,null,null,null,null,null,null,null,null,null,null,null,{"$f":"IFERROR(VLOOKUP(T261,Códigos!B:C,2,0),\" \")","v":" "}]
[null,null,null,null,null,null,null,null,null,null,null,null,null,null,null,null,null,null,null,null,{"$f":"IFERROR(VLOOKUP(T262,Códigos!B:C,2,0),\" \")","v":" "}]
[null,null,null,null,null,null,null,null,null,null,null,null,null,null,null,null,null,null,null,null,{"$f":"IFERROR(VLOOKUP(T263,Códigos!B:C,2,0),\" \")","v":" "}]
[null,null,null,null,null,null,null,null,null,null,null,null,null,null,null,null,null,null,null,null,{"$f":"IFERROR(VLOOKUP(T264,Códigos!B:C,2,0),\" \")","v":" "}]
[null,null,null,null,null,null,null,null,null,null,null,null,null,null,null,null,null,null,null,null,{"$f":"IFERROR(VLOOKUP(T265,Códigos!B:C,2,0),\" \")","v":" "}]
[null,null,null,null,null,null,null,null,null,null,null,null,null,null,null,null,null,null,null,null,{"$f":"IFERROR(VLOOKUP(T266,Códigos!B:C,2,0),\" \")","v":" "}]
[null,null,null,null,null,null,null,null,null,null,null,null,null,null,null,null,null,null,null,null,{"$f":"IFERROR(VLOOKUP(T267,Códigos!B:C,2,0),\" \")","v":" "}]
[null,null,null,null,null,null,null,null,null,null,null,null,null,null,null,null,null,null,null,null,{"$f":"IFERROR(VLOOKUP(T268,Códigos!B:C,2,0),\" \")","v":" "}]
[null,null,null,null,null,null,null,null,null,null,null,null,null,null,null,null,null,null,null,null,{"$f":"IFERROR(VLOOKUP(T269,Códigos!B:C,2,0),\" \")","v":" "}]
[null,null,null,null,null,null,null,null,null,null,null,null,null,null,null,null,null,null,null,null,{"$f":"IFERROR(VLOOKUP(T270,Códigos!B:C,2,0),\" \")","v":" "}]
[null,null,null,null,null,null,null,null,null,null,null,null,null,null,null,null,null,null,null,null,{"$f":"IFERROR(VLOOKUP(T271,Códigos!B:C,2,0),\" \")","v":" "}]
[null,null,null,null,null,null,null,null,null,null,null,null,null,null,null,null,null,null,null,null,{"$f":"IFERROR(VLOOKUP(T272,Códigos!B:C,2,0),\" \")","v":" "}]
[null,null,null,null,null,null,null,null,null,null,null,null,null,null,null,null,null,null,null,null,{"$f":"IFERROR(VLOOKUP(T273,Códigos!B:C,2,0),\" \")","v":" "}]
[null,null,null,null,null,null,null,null,null,null,null,null,null,null,null,null,null,null,null,null,{"$f":"IFERROR(VLOOKUP(T274,Códigos!B:C,2,0),\" \")","v":" "}]
[null,null,null,null,null,null,null,null,null,null,null,null,null,null,null,null,null,null,null,null,{"$f":"IFERROR(VLOOKUP(T275,Códigos!B:C,2,0),\" \")","v":" "}]
[null,null,null,null,null,null,null,null,null,null,null,null,null,null,null,null,null,null,null,null,{"$f":"IFERROR(VLOOKUP(T276,Códigos!B:C,2,0),\" \")","v":" "}]
[null,null,null,null,null,null,null,null,null,null,null,null,null,null,null,null,null,null,null,null,{"$f":"IFERROR(VLOOKUP(T277,Códigos!B:C,2,0),\" \")","v":" "}]
[null,null,null,null,null,null,null,null,null,null,null,null,null,null,null,null,null,null,null,null,{"$f":"IFERROR(VLOOKUP(T278,Códigos!B:C,2,0),\" \")","v":" "}]
[null,null,null,null,null,null,null,null,null,null,null,null,null,null,null,null,null,null,null,null,{"$f":"IFERROR(VLOOKUP(T279,Códigos!B:C,2,0),\" \")","v":" "}]
[null,null,null,null,null,null,null,null,null,null,null,null,null,null,null,null,null,null,null,null,{"$f":"IFERROR(VLOOKUP(T280,Códigos!B:C,2,0),\" \")","v":" "}]
[null,null,null,null,null,null,null,null,null,null,null,null,null,null,null,null,null,null,null,null,{"$f":"IFERROR(VLOOKUP(T281,Códigos!B:C,2,0),\" \")","v":" "}]
[null,null,null,null,null,null,null,null,null,null,null,null,null,null,null,null,null,null,null,null,{"$f":"IFERROR(VLOOKUP(T282,Códigos!B:C,2,0),\" \")","v":" "}]
[null,null,null,null,null,null,null,null,null,null,null,null,null,null,null,null,null,null,null,null,{"$f":"IFERROR(VLOOKUP(T283,Códigos!B:C,2,0),\" \")","v":" "}]
[null,null,null,null,null,null,null,null,null,null,null,null,null,null,null,null,null,null,null,null,{"$f":"IFERROR(VLOOKUP(T284,Códigos!B:C,2,0),\" \")","v":" "}]
[null,null,null,null,null,null,null,null,null,null,null,null,null,null,null,null,null,null,null,null,{"$f":"IFERROR(VLOOKUP(T285,Códigos!B:C,2,0),\" \")","v":" "}]
[null,null,null,null,null,null,null,null,null,null,null,null,null,null,null,null,null,null,null,null,{"$f":"IFERROR(VLOOKUP(T286,Códigos!B:C,2,0),\" \")","v":" "}]
[null,null,null,null,null,null,null,null,null,null,null,null,null,null,null,null,null,null,null,null,{"$f":"IFERROR(VLOOKUP(T287,Códigos!B:C,2,0),\" \")","v":" "}]
[null,null,null,null,null,null,null,null,null,null,null,null,null,null,null,null,null,null,null,null,{"$f":"IFERROR(VLOOKUP(T288,Códigos!B:C,2,0),\" \")","v":" "}]
[null,null,null,null,null,null,null,null,null,null,null,null,null,null,null,null,null,null,null,null,{"$f":"IFERROR(VLOOKUP(T289,Códigos!B:C,2,0),\" \")","v":" "}]
[null,null,null,null,null,null,null,null,null,null,null,null,null,null,null,null,null,null,null,null,{"$f":"IFERROR(VLOOKUP(T290,Códigos!B:C,2,0),\" \")","v":" "}]
[null,null,null,null,null,null,null,null,null,null,null,null,null,null,null,null,null,null,null,null,{"$f":"IFERROR(VLOOKUP(T291,Códigos!B:C,2,0),\" \")","v":" "}]
[null,null,null,null,null,null,null,null,null,null,null,null,null,null,null,null,null,null,null,null,{"$f":"IFERROR(VLOOKUP(T292,Códigos!B:C,2,0),\" \")","v":" "}]
[null,null,null,null,null,null,null,null,null,null,null,null,null,null,null,null,null,null,null,null,{"$f":"IFERROR(VLOOKUP(T293,Códigos!B:C,2,0),\" \")","v":" "}]
[null,null,null,null,null,null,null,null,null,null,null,null,null,null,null,null,null,null,null,null,{"$f":"IFERROR(VLOOKUP(T294,Códigos!B:C,2,0),\" \")","v":" "}]
[null,null,null,null,null,null,null,null,null,null,null,null,null,null,null,null,null,null,null,null,{"$f":"IFERROR(VLOOKUP(T295,Códigos!B:C,2,0),\" \")","v":" "}]
[null,null,null,null,null,null,null,null,null,null,null,null,null,null,null,null,null,null,null,null,{"$f":"IFERROR(VLOOKUP(T296,Códigos!B:C,2,0),\" \")","v":" "}]
[null,null,null,null,null,null,null,null,null,null,null,null,null,null,null,null,null,null,null,null,{"$f":"IFERROR(VLOOKUP(T297,Códigos!B:C,2,0),\" \")","v":" "}]
[null,null,null,null,null,null,null,null,null,null,null,null,null,null,null,null,null,null,null,null,{"$f":"IFERROR(VLOOKUP(T298,Códigos!B:C,2,0),\" \")","v":" "}]
[null,null,null,null,null,null,null,null,null,null,null,null,null,null,null,null,null,null,null,null,{"$f":"IFERROR(VLOOKUP(T299,Códigos!B:C,2,0),\" \")","v":" "}]
[null,null,null,null,null,null,null,null,null,null,null,null,null,null,null,null,null,null,null,null,{"$f":"IFERROR(VLOOKUP(T300,Códigos!B:C,2,0),\" \")","v":" "}]
[null,null,null,null,null,null,null,null,null,null,null,null,null,null,null,null,null,null,null,null,{"$f":"IFERROR(VLOOKUP(T301,Códigos!B:C,2,0),\" \")","v":" "}]
[null,null,null,null,null,null,null,null,null,null,null,null,null,null,null,null,null,null,null,null,{"$f":"IFERROR(VLOOKUP(T302,Códigos!B:C,2,0),\" \")","v":" "}]
[null,null,null,null,null,null,null,null,null,null,null,null,null,null,null,null,null,null,null,null,{"$f":"IFERROR(VLOOKUP(T303,Códigos!B:C,2,0),\" \")","v":" "}]
[null,null,null,null,null,null,null,null,null,null,null,null,null,null,null,null,null,null,null,null,{"$f":"IFERROR(VLOOKUP(T304,Códigos!B:C,2,0),\" \")","v":" "}]
[null,null,null,null,null,null,null,null,null,null,null,null,null,null,null,null,null,null,null,null,{"$f":"IFERROR(VLOOKUP(T305,Códigos!B:C,2,0),\" \")","v":" "}]
[null,null,null,null,null,null,null,null,null,null,null,null,null,null,null,null,null,null,null,null,{"$f":"IFERROR(VLOOKUP(T306,Códigos!B:C,2,0),\" \")","v":" "}]
[null,null,null,null,null,null,null,null,null,null,null,null,null,null,null,null,null,null,null,null,{"$f":"IFERROR(VLOOKUP(T307,Códigos!B:C,2,0),\" \")","v":" "}]
[null,null,null,null,null,null,null,null,null,null,null,null,null,null,null,null,null,null,null,null,{"$f":"IFERROR(VLOOKUP(T308,Códigos!B:C,2,0),\" \")","v":" "}]
[null,null,null,null,null,null,null,null,null,null,null,null,null,null,null,null,null,null,null,null,{"$f":"IFERROR(VLOOKUP(T309,Códigos!B:C,2,0),\" \")","v":" "}]
[null,null,null,null,null,null,null,null,null,null,null,null,null,null,null,null,null,null,null,null,{"$f":"IFERROR(VLOOKUP(T310,Códigos!B:C,2,0),\" \")","v":" "}]
[null,null,null,null,null,null,null,null,null,null,null,null,null,null,null,null,null,null,null,null,{"$f":"IFERROR(VLOOKUP(T311,Códigos!B:C,2,0),\" \")","v":" "}]
[null,null,null,null,null,null,null,null,null,null,null,null,null,null,null,null,null,null,null,null,{"$f":"IFERROR(VLOOKUP(T312,Códigos!B:C,2,0),\" \")","v":" "}]
[null,null,null,null,null,null,null,null,null,null,null,null,null,null,null,null,null,null,null,null,{"$f":"IFERROR(VLOOKUP(T313,Códigos!B:C,2,0),\" \")","v":" "}]
[null,null,null,null,null,null,null,null,null,null,null,null,null,null,null,null,null,null,null,null,{"$f":"IFERROR(VLOOKUP(T314,Códigos!B:C,2,0),\" \")","v":" "}]
[null,null,null,null,null,null,null,null,null,null,null,null,null,null,null,null,null,null,null,null,{"$f":"IFERROR(VLOOKUP(T315,Códigos!B:C,2,0),\" \")","v":" "}]
[null,null,null,null,null,null,null,null,null,null,null,null,null,null,null,null,null,null,null,null,{"$f":"IFERROR(VLOOKUP(T316,Códigos!B:C,2,0),\" \")","v":" "}]
[null,null,null,null,null,null,null,null,null,null,null,null,null,null,null,null,null,null,null,null,{"$f":"IFERROR(VLOOKUP(T317,Códigos!B:C,2,0),\" \")","v":" "}]
[null,null,null,null,null,null,null,null,null,null,null,null,null,null,null,null,null,null,null,null,{"$f":"IFERROR(VLOOKUP(T318,Códigos!B:C,2,0),\" \")","v":" "}]
[null,null,null,null,null,null,null,null,null,null,null,null,null,null,null,null,null,null,null,null,{"$f":"IFERROR(VLOOKUP(T319,Códigos!B:C,2,0),\" \")","v":" "}]
[null,null,null,null,null,null,null,null,null,null,null,null,null,null,null,null,null,null,null,null,{"$f":"IFERROR(VLOOKUP(T320,Códigos!B:C,2,0),\" \")","v":" "}]
[null,null,null,null,null,null,null,null,null,null,null,null,null,null,null,null,null,null,null,null,{"$f":"IFERROR(VLOOKUP(T321,Códigos!B:C,2,0),\" \")","v":" "}]
[null,null,null,null,null,null,null,null,null,null,null,null,null,null,null,null,null,null,null,null,{"$f":"IFERROR(VLOOKUP(T322,Códigos!B:C,2,0),\" \")","v":" "}]
[null,null,null,null,null,null,null,null,null,null,null,null,null,null,null,null,null,null,null,null,{"$f":"IFERROR(VLOOKUP(T323,Códigos!B:C,2,0),\" \")","v":" "}]
[null,null,null,null,null,null,null,null,null,null,null,null,null,null,null,null,null,null,null,null,{"$f":"IFERROR(VLOOKUP(T324,Códigos!B:C,2,0),\" \")","v":" "}]
[null,null,null,null,null,null,null,null,null,null,null,null,null,null,null,null,null,null,null,null,{"$f":"IFERROR(VLOOKUP(T325,Códigos!B:C,2,0),\" \")","v":" "}]
[null,null,null,null,null,null,null,null,null,null,null,null,null,null,null,null,null,null,null,null,{"$f":"IFERROR(VLOOKUP(T326,Códigos!B:C,2,0),\" \")","v":" "}]
[null,null,null,null,null,null,null,null,null,null,null,null,null,null,null,null,null,null,null,null,{"$f":"IFERROR(VLOOKUP(T327,Códigos!B:C,2,0),\" \")","v":" "}]
[null,null,null,null,null,null,null,null,null,null,null,null,null,null,null,null,null,null,null,null,{"$f":"IFERROR(VLOOKUP(T328,Códigos!B:C,2,0),\" \")","v":" "}]
[null,null,null,null,null,null,null,null,null,null,null,null,null,null,null,null,null,null,null,null,{"$f":"IFERROR(VLOOKUP(T329,Códigos!B:C,2,0),\" \")","v":" "}]
[null,null,null,null,null,null,null,null,null,null,null,null,null,null,null,null,null,null,null,null,{"$f":"IFERROR(VLOOKUP(T330,Códigos!B:C,2,0),\" \")","v":" "}]
[null,null,null,null,null,null,null,null,null,null,null,null,null,null,null,null,null,null,null,null,{"$f":"IFERROR(VLOOKUP(T331,Códigos!B:C,2,0),\" \")","v":" "}]
[null,null,null,null,null,null,null,null,null,null,null,null,null,null,null,null,null,null,null,null,{"$f":"IFERROR(VLOOKUP(T332,Códigos!B:C,2,0),\" \")","v":" "}]
[null,null,null,null,null,null,null,null,null,null,null,null,null,null,null,null,null,null,null,null,{"$f":"IFERROR(VLOOKUP(T333,Códigos!B:C,2,0),\" \")","v":" "}]
[null,null,null,null,null,null,null,null,null,null,null,null,null,null,null,null,null,null,null,null,{"$f":"IFERROR(VLOOKUP(T334,Códigos!B:C,2,0),\" \")","v":" "}]
[null,null,null,null,null,null,null,null,null,null,null,null,null,null,null,null,null,null,null,null,{"$f":"IFERROR(VLOOKUP(T335,Códigos!B:C,2,0),\" \")","v":" "}]
[null,null,null,null,null,null,null,null,null,null,null,null,null,null,null,null,null,null,null,null,{"$f":"IFERROR(VLOOKUP(T336,Códigos!B:C,2,0),\" \")","v":" "}]
[null,null,null,null,null,null,null,null,null,null,null,null,null,null,null,null,null,null,null,null,{"$f":"IFERROR(VLOOKUP(T337,Códigos!B:C,2,0),\" \")","v":" "}]
[null,null,null,null,null,null,null,null,null,null,null,null,null,null,null,null,null,null,null,null,{"$f":"IFERROR(VLOOKUP(T338,Códigos!B:C,2,0),\" \")","v":" "}]
[null,null,null,null,null,null,null,null,null,null,null,null,null,null,null,null,null,null,null,null,{"$f":"IFERROR(VLOOKUP(T339,Códigos!B:C,2,0),\" \")","v":" "}]
[null,null,null,null,null,null,null,null,null,null,null,null,null,null,null,null,null,null,null,null,{"$f":"IFERROR(VLOOKUP(T340,Códigos!B:C,2,0),\" \")","v":" "}]
[null,null,null,null,null,null,null,null,null,null,null,null,null,null,null,null,null,null,null,null,{"$f":"IFERROR(VLOOKUP(T341,Códigos!B:C,2,0),\" \")","v":" "}]
[null,null,null,null,null,null,null,null,null,null,null,null,null,null,null,null,null,null,null,null,{"$f":"IFERROR(VLOOKUP(T342,Códigos!B:C,2,0),\" \")","v":" "}]
[null,null,null,null,null,null,null,null,null,null,null,null,null,null,null,null,null,null,null,null,{"$f":"IFERROR(VLOOKUP(T343,Códigos!B:C,2,0),\" \")","v":" "}]
[null,null,null,null,null,null,null,null,null,null,null,null,null,null,null,null,null,null,null,null,{"$f":"IFERROR(VLOOKUP(T344,Códigos!B:C,2,0),\" \")","v":" "}]
[null,null,null,null,null,null,null,null,null,null,null,null,null,null,null,null,null,null,null,null,{"$f":"IFERROR(VLOOKUP(T345,Códigos!B:C,2,0),\" \")","v":" "}]
[null,null,null,null,null,null,null,null,null,null,null,null,null,null,null,null,null,null,null,null,{"$f":"IFERROR(VLOOKUP(T346,Códigos!B:C,2,0),\" \")","v":" "}]
[null,null,null,null,null,null,null,null,null,null,null,null,null,null,null,null,null,null,null,null,{"$f":"IFERROR(VLOOKUP(T347,Códigos!B:C,2,0),\" \")","v":" "}]
[null,null,null,null,null,null,null,null,null,null,null,null,null,null,null,null,null,null,null,null,{"$f":"IFERROR(VLOOKUP(T348,Códigos!B:C,2,0),\" \")","v":" "}]
[null,null,null,null,null,null,null,null,null,null,null,null,null,null,null,null,null,null,null,null,{"$f":"IFERROR(VLOOKUP(T349,Códigos!B:C,2,0),\" \")","v":" "}]
[null,null,null,null,null,null,null,null,null,null,null,null,null,null,null,null,null,null,null,null,{"$f":"IFERROR(VLOOKUP(T350,Códigos!B:C,2,0),\" \")","v":" "}]
[null,null,null,null,null,null,null,null,null,null,null,null,null,null,null,null,null,null,null,null,{"$f":"IFERROR(VLOOKUP(T351,Códigos!B:C,2,0),\" \")","v":" "}]
[null,null,null,null,null,null,null,null,null,null,null,null,null,null,null,null,null,null,null,null,{"$f":"IFERROR(VLOOKUP(T352,Códigos!B:C,2,0),\" \")","v":" "}]
[null,null,null,null,null,null,null,null,null,null,null,null,null,null,null,null,null,null,null,null,{"$f":"IFERROR(VLOOKUP(T353,Códigos!B:C,2,0),\" \")","v":" "}]
[null,null,null,null,null,null,null,null,null,null,null,null,null,null,null,null,null,null,null,null,{"$f":"IFERROR(VLOOKUP(T354,Códigos!B:C,2,0),\" \")","v":" "}]
[null,null,null,null,null,null,null,null,null,null,null,null,null,null,null,null,null,null,null,null,{"$f":"IFERROR(VLOOKUP(T355,Códigos!B:C,2,0),\" \")","v":" "}]
[null,null,null,null,null,null,null,null,null,null,null,null,null,null,null,null,null,null,null,null,{"$f":"IFERROR(VLOOKUP(T356,Códigos!B:C,2,0),\" \")","v":" "}]
[null,null,null,null,null,null,null,null,null,null,null,null,null,null,null,null,null,null,null,null,{"$f":"IFERROR(VLOOKUP(T357,Códigos!B:C,2,0),\" \")","v":" "}]
[null,null,null,null,null,null,null,null,null,null,null,null,null,null,null,null,null,null,null,null,{"$f":"IFERROR(VLOOKUP(T358,Códigos!B:C,2,0),\" \")","v":" "}]
[null,null,null,null,null,null,null,null,null,null,null,null,null,null,null,null,null,null,null,null,{"$f":"IFERROR(VLOOKUP(T359,Códigos!B:C,2,0),\" \")","v":" "}]
[null,null,null,null,null,null,null,null,null,null,null,null,null,null,null,null,null,null,null,null,{"$f":"IFERROR(VLOOKUP(T360,Códigos!B:C,2,0),\" \")","v":" "}]
[null,null,null,null,null,null,null,null,null,null,null,null,null,null,null,null,null,null,null,null,{"$f":"IFERROR(VLOOKUP(T361,Códigos!B:C,2,0),\" \")","v":" "}]
[null,null,null,null,null,null,null,null,null,null,null,null,null,null,null,null,null,null,null,null,{"$f":"IFERROR(VLOOKUP(T362,Códigos!B:C,2,0),\" \")","v":" "}]
[null,null,null,null,null,null,null,null,null,null,null,null,null,null,null,null,null,null,null,null,{"$f":"IFERROR(VLOOKUP(T363,Códigos!B:C,2,0),\" \")","v":" "}]
[null,null,null,null,null,null,null,null,null,null,null,null,null,null,null,null,null,null,null,null,{"$f":"IFERROR(VLOOKUP(T364,Códigos!B:C,2,0),\" \")","v":" "}]
[null,null,null,null,null,null,null,null,null,null,null,null,null,null,null,null,null,null,null,null,{"$f":"IFERROR(VLOOKUP(T365,Códigos!B:C,2,0),\" \")","v":" "}]
[null,null,null,null,null,null,null,null,null,null,null,null,null,null,null,null,null,null,null,null,{"$f":"IFERROR(VLOOKUP(T366,Códigos!B:C,2,0),\" \")","v":" "}]
[null,null,null,null,null,null,null,null,null,null,null,null,null,null,null,null,null,null,null,null,{"$f":"IFERROR(VLOOKUP(T367,Códigos!B:C,2,0),\" \")","v":" "}]
[null,null,null,null,null,null,null,null,null,null,null,null,null,null,null,null,null,null,null,null,{"$f":"IFERROR(VLOOKUP(T368,Códigos!B:C,2,0),\" \")","v":" "}]
[null,null,null,null,null,null,null,null,null,null,null,null,null,null,null,null,null,null,null,null,{"$f":"IFERROR(VLOOKUP(T369,Códigos!B:C,2,0),\" \")","v":" "}]
[null,null,null,null,null,null,null,null,null,null,null,null,null,null,null,null,null,null,null,null,{"$f":"IFERROR(VLOOKUP(T370,Códigos!B:C,2,0),\" \")","v":" "}]
[null,null,null,null,null,null,null,null,null,null,null,null,null,null,null,null,null,null,null,null,{"$f":"IFERROR(VLOOKUP(T371,Códigos!B:C,2,0),\" \")","v":" "}]
[null,null,null,null,null,null,null,null,null,null,null,null,null,null,null,null,null,null,null,null,{"$f":"IFERROR(VLOOKUP(T372,Códigos!B:C,2,0),\" \")","v":" "}]
[null,null,null,null,null,null,null,null,null,null,null,null,null,null,null,null,null,null,null,null,{"$f":"IFERROR(VLOOKUP(T373,Códigos!B:C,2,0),\" \")","v":" "}]
[null,null,null,null,null,null,null,null,null,null,null,null,null,null,null,null,null,null,null,null,{"$f":"IFERROR(VLOOKUP(T374,Códigos!B:C,2,0),\" \")","v":" "}]
[null,null,null,null,null,null,null,null,null,null,null,null,null,null,null,null,null,null,null,null,{"$f":"IFERROR(VLOOKUP(T375,Códigos!B:C,2,0),\" \")","v":" "}]
[null,null,null,null,null,null,null,null,null,null,null,null,null,null,null,null,null,null,null,null,{"$f":"IFERROR(VLOOKUP(T376,Códigos!B:C,2,0),\" \")","v":" "}]
[null,null,null,null,null,null,null,null,null,null,null,null,null,null,null,null,null,null,null,null,{"$f":"IFERROR(VLOOKUP(T377,Códigos!B:C,2,0),\" \")","v":" "}]
[null,null,null,null,null,null,null,null,null,null,null,null,null,null,null,null,null,null,null,null,{"$f":"IFERROR(VLOOKUP(T378,Códigos!B:C,2,0),\" \")","v":" "}]
[null,null,null,null,null,null,null,null,null,null,null,null,null,null,null,null,null,null,null,null,{"$f":"IFERROR(VLOOKUP(T379,Códigos!B:C,2,0),\" \")","v":" "}]
[null,null,null,null,null,null,null,null,null,null,null,null,null,null,null,null,null,null,null,null,{"$f":"IFERROR(VLOOKUP(T380,Códigos!B:C,2,0),\" \")","v":" "}]
[null,null,null,null,null,null,null,null,null,null,null,null,null,null,null,null,null,null,null,null,{"$f":"IFERROR(VLOOKUP(T381,Códigos!B:C,2,0),\" \")","v":" "}]
[null,null,null,null,null,null,null,null,null,null,null,null,null,null,null,null,null,null,null,null,{"$f":"IFERROR(VLOOKUP(T382,Códigos!B:C,2,0),\" \")","v":" "}]
[null,null,null,null,null,null,null,null,null,null,null,null,null,null,null,null,null,null,null,null,{"$f":"IFERROR(VLOOKUP(T383,Códigos!B:C,2,0),\" \")","v":" "}]
[null,null,null,null,null,null,null,null,null,null,null,null,null,null,null,null,null,null,null,null,{"$f":"IFERROR(VLOOKUP(T384,Códigos!B:C,2,0),\" \")","v":" "}]
[null,null,null,null,null,null,null,null,null,null,null,null,null,null,null,null,null,null,null,null,{"$f":"IFERROR(VLOOKUP(T385,Códigos!B:C,2,0),\" \")","v":" "}]
[null,null,null,null,null,null,null,null,null,null,null,null,null,null,null,null,null,null,null,null,{"$f":"IFERROR(VLOOKUP(T386,Códigos!B:C,2,0),\" \")","v":" "}]
[null,null,null,null,null,null,null,null,null,null,null,null,null,null,null,null,null,null,null,null,{"$f":"IFERROR(VLOOKUP(T387,Códigos!B:C,2,0),\" \")","v":" "}]
[null,null,null,null,null,null,null,null,null,null,null,null,null,null,null,null,null,null,null,null,{"$f":"IFERROR(VLOOKUP(T388,Códigos!B:C,2,0),\" \")","v":" "}]
[null,null,null,null,null,null,null,null,null,null,null,null,null,null,null,null,null,null,null,null,{"$f":"IFERROR(VLOOKUP(T389,Códigos!B:C,2,0),\" \")","v":" "}]
[null,null,null,null,null,null,null,null,null,null,null,null,null,null,null,null,null,null,null,null,{"$f":"IFERROR(VLOOKUP(T390,Códigos!B:C,2,0),\" \")","v":" "}]
[null,null,null,null,null,null,null,null,null,null,null,null,null,null,null,null,null,null,null,null,{"$f":"IFERROR(VLOOKUP(T391,Códigos!B:C,2,0),\" \")","v":" "}]
[null,null,null,null,null,null,null,null,null,null,null,null,null,null,null,null,null,null,null,null,{"$f":"IFERROR(VLOOKUP(T392,Códigos!B:C,2,0),\" \")","v":" "}]
[null,null,null,null,null,null,null,null,null,null,null,null,null,null,null,null,null,null,null,null,{"$f":"IFERROR(VLOOKUP(T393,Códigos!B:C,2,0),\" \")","v":" "}]
[null,null,null,null,null,null,null,null,null,null,null,null,null,null,null,null,null,null,null,null,{"$f":"IFERROR(VLOOKUP(T394,Códigos!B:C,2,0),\" \")","v":" "}]
[null,null,null,null,null,null,null,null,null,null,null,null,null,null,null,null,null,null,null,null,{"$f":"IFERROR(VLOOKUP(T395,Códigos!B:C,2,0),\" \")","v":" "}]
[null,null,null,null,null,null,null,null,null,null,null,null,null,null,null,null,null,null,null,null,{"$f":"IFERROR(VLOOKUP(T396,Códigos!B:C,2,0),\" \")","v":" "}]
[null,null,null,null,null,null,null,null,null,null,null,null,null,null,null,null,null,null,null,null,{"$f":"IFERROR(VLOOKUP(T397,Códigos!B:C,2,0),\" \")","v":" "}]
[null,null,null,null,null,null,null,null,null,null,null,null,null,null,null,null,null,null,null,null,{"$f":"IFERROR(VLOOKUP(T398,Códigos!B:C,2,0),\" \")","v":" "}]
[null,null,null,null,null,null,null,null,null,null,null,null,null,null,null,null,null,null,null,null,{"$f":"IFERROR(VLOOKUP(T399,Códigos!B:C,2,0),\" \")","v":" "}]
[null,null,null,null,null,null,null,null,null,null,null,null,null,null,null,null,null,null,null,null,{"$f":"IFERROR(VLOOKUP(T400,Códigos!B:C,2,0),\" \")","v":" "}]
[null,null,null,null,null,null,null,null,null,null,null,null,null,null,null,null,null,null,null,null,{"$f":"IFERROR(VLOOKUP(T401,Códigos!B:C,2,0),\" \")","v":" "}]
[null,null,null,null,null,null,null,null,null,null,null,null,null,null,null,null,null,null,null,null,{"$f":"IFERROR(VLOOKUP(T402,Códigos!B:C,2,0),\" \")","v":" "}]
[null,null,null,null,null,null,null,null,null,null,null,null,null,null,null,null,null,null,null,null,{"$f":"IFERROR(VLOOKUP(T403,Códigos!B:C,2,0),\" \")","v":" "}]
[null,null,null,null,null,null,null,null,null,null,null,null,null,null,null,null,null,null,null,null,{"$f":"IFERROR(VLOOKUP(T404,Códigos!B:C,2,0),\" \")","v":" "}]
[null,null,null,null,null,null,null,null,null,null,null,null,null,null,null,null,null,null,null,null,{"$f":"IFERROR(VLOOKUP(T405,Códigos!B:C,2,0),\" \")","v":" "}]
[null,null,null,null,null,null,null,null,null,null,null,null,null,null,null,null,null,null,null,null,{"$f":"IFERROR(VLOOKUP(T406,Códigos!B:C,2,0),\" \")","v":" "}]
[null,null,null,null,null,null,null,null,null,null,null,null,null,null,null,null,null,null,null,null,{"$f":"IFERROR(VLOOKUP(T407,Códigos!B:C,2,0),\" \")","v":" "}]
[null,null,null,null,null,null,null,null,null,null,null,null,null,null,null,null,null,null,null,null,{"$f":"IFERROR(VLOOKUP(T408,Códigos!B:C,2,0),\" \")","v":" "}]
[null,null,null,null,null,null,null,null,null,null,null,null,null,null,null,null,null,null,null,null,{"$f":"IFERROR(VLOOKUP(T409,Códigos!B:C,2,0),\" \")","v":" "}]
[null,null,null,null,null,null,null,null,null,null,null,null,null,null,null,null,null,null,null,null,{"$f":"IFERROR(VLOOKUP(T410,Códigos!B:C,2,0),\" \")","v":" "}]
[null,null,null,null,null,null,null,null,null,null,null,null,null,null,null,null,null,null,null,null,{"$f":"IFERROR(VLOOKUP(T411,Códigos!B:C,2,0),\" \")","v":" "}]
[null,null,null,null,null,null,null,null,null,null,null,null,null,null,null,null,null,null,null,null,{"$f":"IFERROR(VLOOKUP(T412,Códigos!B:C,2,0),\" \")","v":" "}]
[null,null,null,null,null,null,null,null,null,null,null,null,null,null,null,null,null,null,null,null,{"$f":"IFERROR(VLOOKUP(T413,Códigos!B:C,2,0),\" \")","v":" "}]
[null,null,null,null,null,null,null,null,null,null,null,null,null,null,null,null,null,null,null,null,{"$f":"IFERROR(VLOOKUP(T414,Códigos!B:C,2,0),\" \")","v":" "}]
[null,null,null,null,null,null,null,null,null,null,null,null,null,null,null,null,null,null,null,null,{"$f":"IFERROR(VLOOKUP(T415,Códigos!B:C,2,0),\" \")","v":" "}]
[null,null,null,null,null,null,null,null,null,null,null,null,null,null,null,null,null,null,null,null,{"$f":"IFERROR(VLOOKUP(T416,Códigos!B:C,2,0),\" \")","v":" "}]
[null,null,null,null,null,null,null,null,null,null,null,null,null,null,null,null,null,null,null,null,{"$f":"IFERROR(VLOOKUP(T417,Códigos!B:C,2,0),\" \")","v":" "}]
[null,null,null,null,null,null,null,null,null,null,null,null,null,null,null,null,null,null,null,null,{"$f":"IFERROR(VLOOKUP(T418,Códigos!B:C,2,0),\" \")","v":" "}]
[null,null,null,null,null,null,null,null,null,null,null,null,null,null,null,null,null,null,null,null,{"$f":"IFERROR(VLOOKUP(T419,Códigos!B:C,2,0),\" \")","v":" "}]
[null,null,null,null,null,null,null,null,null,null,null,null,null,null,null,null,null,null,null,null,{"$f":"IFERROR(VLOOKUP(T420,Códigos!B:C,2,0),\" \")","v":" "}]
[null,null,null,null,null,null,null,null,null,null,null,null,null,null,null,null,null,null,null,null,{"$f":"IFERROR(VLOOKUP(T421,Códigos!B:C,2,0),\" \")","v":" "}]
[null,null,null,null,null,null,null,null,null,null,null,null,null,null,null,null,null,null,null,null,{"$f":"IFERROR(VLOOKUP(T422,Códigos!B:C,2,0),\" \")","v":" "}]
[null,null,null,null,null,null,null,null,null,null,null,null,null,null,null,null,null,null,null,null,{"$f":"IFERROR(VLOOKUP(T423,Códigos!B:C,2,0),\" \")","v":" "}]
[null,null,null,null,null,null,null,null,null,null,null,null,null,null,null,null,null,null,null,null,{"$f":"IFERROR(VLOOKUP(T424,Códigos!B:C,2,0),\" \")","v":" "}]
[null,null,null,null,null,null,null,null,null,null,null,null,null,null,null,null,null,null,null,null,{"$f":"IFERROR(VLOOKUP(T425,Códigos!B:C,2,0),\" \")","v":" "}]
[null,null,null,null,null,null,null,null,null,null,null,null,null,null,null,null,null,null,null,null,{"$f":"IFERROR(VLOOKUP(T426,Códigos!B:C,2,0),\" \")","v":" "}]
[null,null,null,null,null,null,null,null,null,null,null,null,null,null,null,null,null,null,null,null,{"$f":"IFERROR(VLOOKUP(T427,Códigos!B:C,2,0),\" \")","v":" "}]
[null,null,null,null,null,null,null,null,null,null,null,null,null,null,null,null,null,null,null,null,{"$f":"IFERROR(VLOOKUP(T428,Códigos!B:C,2,0),\" \")","v":" "}]
[null,null,null,null,null,null,null,null,null,null,null,null,null,null,null,null,null,null,null,null,{"$f":"IFERROR(VLOOKUP(T429,Códigos!B:C,2,0),\" \")","v":" "}]
[null,null,null,null,null,null,null,null,null,null,null,null,null,null,null,null,null,null,null,null,{"$f":"IFERROR(VLOOKUP(T430,Códigos!B:C,2,0),\" \")","v":" "}]
[null,null,null,null,null,null,null,null,null,null,null,null,null,null,null,null,null,null,null,null,{"$f":"IFERROR(VLOOKUP(T431,Códigos!B:C,2,0),\" \")","v":" "}]
[null,null,null,null,null,null,null,null,null,null,null,null,null,null,null,null,null,null,null,null,{"$f":"IFERROR(VLOOKUP(T432,Códigos!B:C,2,0),\" \")","v":" "}]
[null,null,null,null,null,null,null,null,null,null,null,null,null,null,null,null,null,null,null,null,{"$f":"IFERROR(VLOOKUP(T433,Códigos!B:C,2,0),\" \")","v":" "}]
[null,null,null,null,null,null,null,null,null,null,null,null,null,null,null,null,null,null,null,null,{"$f":"IFERROR(VLOOKUP(T434,Códigos!B:C,2,0),\" \")","v":" "}]
[null,null,null,null,null,null,null,null,null,null,null,null,null,null,null,null,null,null,null,null,{"$f":"IFERROR(VLOOKUP(T435,Códigos!B:C,2,0),\" \")","v":" "}]
[null,null,null,null,null,null,null,null,null,null,null,null,null,null,null,null,null,null,null,null,{"$f":"IFERROR(VLOOKUP(T436,Códigos!B:C,2,0),\" \")","v":" "}]
[null,null,null,null,null,null,null,null,null,null,null,null,null,null,null,null,null,null,null,null,{"$f":"IFERROR(VLOOKUP(T437,Códigos!B:C,2,0),\" \")","v":" "}]
[null,null,null,null,null,null,null,null,null,null,null,null,null,null,null,null,null,null,null,null,{"$f":"IFERROR(VLOOKUP(T438,Códigos!B:C,2,0),\" \")","v":" "}]
[null,null,null,null,null,null,null,null,null,null,null,null,null,null,null,null,null,null,null,null,{"$f":"IFERROR(VLOOKUP(T439,Códigos!B:C,2,0),\" \")","v":" "}]
[null,null,null,null,null,null,null,null,null,null,null,null,null,null,null,null,null,null,null,null,{"$f":"IFERROR(VLOOKUP(T440,Códigos!B:C,2,0),\" \")","v":" "}]
[null,null,null,null,null,null,null,null,null,null,null,null,null,null,null,null,null,null,null,null,{"$f":"IFERROR(VLOOKUP(T441,Códigos!B:C,2,0),\" \")","v":" "}]
[null,null,null,null,null,null,null,null,null,null,null,null,null,null,null,null,null,null,null,null,{"$f":"IFERROR(VLOOKUP(T442,Códigos!B:C,2,0),\" \")","v":" "}]
[null,null,null,null,null,null,null,null,null,null,null,null,null,null,null,null,null,null,null,null,{"$f":"IFERROR(VLOOKUP(T443,Códigos!B:C,2,0),\" \")","v":" "}]
[null,null,null,null,null,null,null,null,null,null,null,null,null,null,null,null,null,null,null,null,{"$f":"IFERROR(VLOOKUP(T444,Códigos!B:C,2,0),\" \")","v":" "}]
[null,null,null,null,null,null,null,null,null,null,null,null,null,null,null,null,null,null,null,null,{"$f":"IFERROR(VLOOKUP(T445,Códigos!B:C,2,0),\" \")","v":" "}]
[null,null,null,null,null,null,null,null,null,null,null,null,null,null,null,null,null,null,null,null,{"$f":"IFERROR(VLOOKUP(T446,Códigos!B:C,2,0),\" \")","v":" "}]
[null,null,null,null,null,null,null,null,null,null,null,null,null,null,null,null,null,null,null,null,{"$f":"IFERROR(VLOOKUP(T447,Códigos!B:C,2,0),\" \")","v":" "}]
[null,null,null,null,null,null,null,null,null,null,null,null,null,null,null,null,null,null,null,null,{"$f":"IFERROR(VLOOKUP(T448,Códigos!B:C,2,0),\" \")","v":" "}]
[null,null,null,null,null,null,null,null,null,null,null,null,null,null,null,null,null,null,null,null,{"$f":"IFERROR(VLOOKUP(T449,Códigos!B:C,2,0),\" \")","v":" "}]
[null,null,null,null,null,null,null,null,null,null,null,null,null,null,null,null,null,null,null,null,{"$f":"IFERROR(VLOOKUP(T450,Códigos!B:C,2,0),\" \")","v":" "}]
[null,null,null,null,null,null,null,null,null,null,null,null,null,null,null,null,null,null,null,null,{"$f":"IFERROR(VLOOKUP(T451,Códigos!B:C,2,0),\" \")","v":" "}]
[null,null,null,null,null,null,null,null,null,null,null,null,null,null,null,null,null,null,null,null,{"$f":"IFERROR(VLOOKUP(T452,Códigos!B:C,2,0),\" \")","v":" "}]
[null,null,null,null,null,null,null,null,null,null,null,null,null,null,null,null,null,null,null,null,{"$f":"IFERROR(VLOOKUP(T453,Códigos!B:C,2,0),\" \")","v":" "}]
[null,null,null,null,null,null,null,null,null,null,null,null,null,null,null,null,null,null,null,null,{"$f":"IFERROR(VLOOKUP(T454,Códigos!B:C,2,0),\" \")","v":" "}]
[null,null,null,null,null,null,null,null,null,null,null,null,null,null,null,null,null,null,null,null,{"$f":"IFERROR(VLOOKUP(T455,Códigos!B:C,2,0),\" \")","v":" "}]
[null,null,null,null,null,null,null,null,null,null,null,null,null,null,null,null,null,null,null,null,{"$f":"IFERROR(VLOOKUP(T456,Códigos!B:C,2,0),\" \")","v":" "}]
[null,null,null,null,null,null,null,null,null,null,null,null,null,null,null,null,null,null,null,null,{"$f":"IFERROR(VLOOKUP(T457,Códigos!B:C,2,0),\" \")","v":" "}]
[null,null,null,null,null,null,null,null,null,null,null,null,null,null,null,null,null,null,null,null,{"$f":"IFERROR(VLOOKUP(T458,Códigos!B:C,2,0),\" \")","v":" "}]
[null,null,null,null,null,null,null,null,null,null,null,null,null,null,null,null,null,null,null,null,{"$f":"IFERROR(VLOOKUP(T459,Códigos!B:C,2,0),\" \")","v":" "}]
[null,null,null,null,null,null,null,null,null,null,null,null,null,null,null,null,null,null,null,null,{"$f":"IFERROR(VLOOKUP(T460,Códigos!B:C,2,0),\" \")","v":" "}]
[null,null,null,null,null,null,null,null,null,null,null,null,null,null,null,null,null,null,null,null,{"$f":"IFERROR(VLOOKUP(T461,Códigos!B:C,2,0),\" \")","v":" "}]
[null,null,null,null,null,null,null,null,null,null,null,null,null,null,null,null,null,null,null,null,{"$f":"IFERROR(VLOOKUP(T462,Códigos!B:C,2,0),\" \")","v":" "}]
[null,null,null,null,null,null,null,null,null,null,null,null,null,null,null,null,null,null,null,null,{"$f":"IFERROR(VLOOKUP(T463,Códigos!B:C,2,0),\" \")","v":" "}]
[null,null,null,null,null,null,null,null,null,null,null,null,null,null,null,null,null,null,null,null,{"$f":"IFERROR(VLOOKUP(T464,Códigos!B:C,2,0),\" \")","v":" "}]
[null,null,null,null,null,null,null,null,null,null,null,null,null,null,null,null,null,null,null,null,{"$f":"IFERROR(VLOOKUP(T465,Códigos!B:C,2,0),\" \")","v":" "}]
[null,null,null,null,null,null,null,null,null,null,null,null,null,null,null,null,null,null,null,null,{"$f":"IFERROR(VLOOKUP(T466,Códigos!B:C,2,0),\" \")","v":" "}]
[null,null,null,null,null,null,null,null,null,null,null,null,null,null,null,null,null,null,null,null,{"$f":"IFERROR(VLOOKUP(T467,Códigos!B:C,2,0),\" \")","v":" "}]
[null,null,null,null,null,null,null,null,null,null,null,null,null,null,null,null,null,null,null,null,{"$f":"IFERROR(VLOOKUP(T468,Códigos!B:C,2,0),\" \")","v":" "}]
[null,null,null,null,null,null,null,null,null,null,null,null,null,null,null,null,null,null,null,null,{"$f":"IFERROR(VLOOKUP(T469,Códigos!B:C,2,0),\" \")","v":" "}]
[null,null,null,null,null,null,null,null,null,null,null,null,null,null,null,null,null,null,null,null,{"$f":"IFERROR(VLOOKUP(T470,Códigos!B:C,2,0),\" \")","v":" "}]
[null,null,null,null,null,null,null,null,null,null,null,null,null,null,null,null,null,null,null,null,{"$f":"IFERROR(VLOOKUP(T471,Códigos!B:C,2,0),\" \")","v":" "}]
[null,null,null,null,null,null,null,null,null,null,null,null,null,null,null,null,null,null,null,null,{"$f":"IFERROR(VLOOKUP(T472,Códigos!B:C,2,0),\" \")","v":" "}]
[null,null,null,null,null,null,null,null,null,null,null,null,null,null,null,null,null,null,null,null,{"$f":"IFERROR(VLOOKUP(T473,Códigos!B:C,2,0),\" \")","v":" "}]
[null,null,null,null,null,null,null,null,null,null,null,null,null,null,null,null,null,null,null,null,{"$f":"IFERROR(VLOOKUP(T474,Códigos!B:C,2,0),\" \")","v":" "}]
[null,null,null,null,null,null,null,null,null,null,null,null,null,null,null,null,null,null,null,null,{"$f":"IFERROR(VLOOKUP(T475,Códigos!B:C,2,0),\" \")","v":" "}]
[null,null,null,null,null,null,null,null,null,null,null,null,null,null,null,null,null,null,null,null,{"$f":"IFERROR(VLOOKUP(T476,Códigos!B:C,2,0),\" \")","v":" "}]
[null,null,null,null,null,null,null,null,null,null,null,null,null,null,null,null,null,null,null,null,{"$f":"IFERROR(VLOOKUP(T477,Códigos!B:C,2,0),\" \")","v":" "}]
[null,null,null,null,null,null,null,null,null,null,null,null,null,null,null,null,null,null,null,null,{"$f":"IFERROR(VLOOKUP(T478,Códigos!B:C,2,0),\" \")","v":" "}]
[null,null,null,null,null,null,null,null,null,null,null,null,null,null,null,null,null,null,null,null,{"$f":"IFERROR(VLOOKUP(T479,Códigos!B:C,2,0),\" \")","v":" "}]
[null,null,null,null,null,null,null,null,null,null,null,null,null,null,null,null,null,null,null,null,{"$f":"IFERROR(VLOOKUP(T480,Códigos!B:C,2,0),\" \")","v":" "}]
[null,null,null,null,null,null,null,null,null,null,null,null,null,null,null,null,null,null,null,null,{"$f":"IFERROR(VLOOKUP(T481,Códigos!B:C,2,0),\" \")","v":" "}]
[null,null,null,null,null,null,null,null,null,null,null,null,null,null,null,null,null,null,null,null,{"$f":"IFERROR(VLOOKUP(T482,Códigos!B:C,2,0),\" \")","v":" "}]
[null,null,null,null,null,null,null,null,null,null,null,null,null,null,null,null,null,null,null,null,{"$f":"IFERROR(VLOOKUP(T483,Códigos!B:C,2,0),\" \")","v":" "}]
[null,null,null,null,null,null,null,null,null,null,null,null,null,null,null,null,null,null,null,null,{"$f":"IFERROR(VLOOKUP(T484,Códigos!B:C,2,0),\" \")","v":" "}]
[null,null,null,null,null,null,null,null,null,null,null,null,null,null,null,null,null,null,null,null,{"$f":"IFERROR(VLOOKUP(T485,Códigos!B:C,2,0),\" \")","v":" "}]
[null,null,null,null,null,null,null,null,null,null,null,null,null,null,null,null,null,null,null,null,{"$f":"IFERROR(VLOOKUP(T486,Códigos!B:C,2,0),\" \")","v":" "}]
[null,null,null,null,null,null,null,null,null,null,null,null,null,null,null,null,null,null,null,null,{"$f":"IFERROR(VLOOKUP(T487,Códigos!B:C,2,0),\" \")","v":" "}]
[null,null,null,null,null,null,null,null,null,null,null,null,null,null,null,null,null,null,null,null,{"$f":"IFERROR(VLOOKUP(T488,Códigos!B:C,2,0),\" \")","v":" "}]
[null,null,null,null,null,null,null,null,null,null,null,null,null,null,null,null,null,null,null,null,{"$f":"IFERROR(VLOOKUP(T489,Códigos!B:C,2,0),\" \")","v":" "}]
[null,null,null,null,null,null,null,null,null,null,null,null,null,null,null,null,null,null,null,null,{"$f":"IFERROR(VLOOKUP(T490,Códigos!B:C,2,0),\" \")","v":" "}]
[null,null,null,null,null,null,null,null,null,null,null,null,null,null,null,null,null,null,null,null,{"$f":"IFERROR(VLOOKUP(T491,Códigos!B:C,2,0),\" \")","v":" "}]
[null,null,null,null,null,null,null,null,null,null,null,null,null,null,null,null,null,null,null,null,{"$f":"IFERROR(VLOOKUP(T492,Códigos!B:C,2,0),\" \")","v":" "}]
[null,null,null,null,null,null,null,null,null,null,null,null,null,null,null,null,null,null,null,null,{"$f":"IFERROR(VLOOKUP(T493,Códigos!B:C,2,0),\" \")","v":" "}]
[null,null,null,null,null,null,null,null,null,null,null,null,null,null,null,null,null,null,null,null,{"$f":"IFERROR(VLOOKUP(T494,Códigos!B:C,2,0),\" \")","v":" "}]
[null,null,null,null,null,null,null,null,null,null,null,null,null,null,null,null,null,null,null,null,{"$f":"IFERROR(VLOOKUP(T495,Códigos!B:C,2,0),\" \")","v":" "}]
[null,null,null,null,null,null,null,null,null,null,null,null,null,null,null,null,null,null,null,null,{"$f":"IFERROR(VLOOKUP(T496,Códigos!B:C,2,0),\" \")","v":" "}]
[null,null,null,null,null,null,null,null,null,null,null,null,null,null,null,null,null,null,null,null,{"$f":"IFERROR(VLOOKUP(T497,Códigos!B:C,2,0),\" \")","v":" "}]
[null,null,null,null,null,null,null,null,null,null,null,null,null,null,null,null,null,null,null,null,{"$f":"IFERROR(VLOOKUP(T498,Códigos!B:C,2,0),\" \")","v":" "}]
[null,null,null,null,null,null,null,null,null,null,null,null,null,null,null,null,null,null,null,null,{"$f":"IFERROR(VLOOKUP(T499,Códigos!B:C,2,0),\" \")","v":" "}]
[null,null,null,null,null,null,null,null,null,null,null,null,null,null,null,null,null,null,null,null,{"$f":"IFERROR(VLOOKUP(T500,Códigos!B:C,2,0),\" \")","v":" "}]
[null,null,null,null,null,null,null,null,null,null,null,null,null,null,null,null,null,null,null,null,{"$f":"IFERROR(VLOOKUP(T501,Códigos!B:C,2,0),\" \")","v":" "}]
[null,null,null,null,null,null,null,null,null,null,null,null,null,null,null,null,null,null,null,null,{"$f":"IFERROR(VLOOKUP(T502,Códigos!B:C,2,0),\" \")","v":" "}]
[null,null,null,null,null,null,null,null,null,null,null,null,null,null,null,null,null,null,null,null,{"$f":"IFERROR(VLOOKUP(T503,Códigos!B:C,2,0),\" \")","v":" "}]
[null,null,null,null,null,null,null,null,null,null,null,null,null,null,null,null,null,null,null,null,{"$f":"IFERROR(VLOOKUP(T504,Códigos!B:C,2,0),\" \")","v":" "}]
[null,null,null,null,null,null,null,null,null,null,null,null,null,null,null,null,null,null,null,null,{"$f":"IFERROR(VLOOKUP(T505,Códigos!B:C,2,0),\" \")","v":" "}]
[null,null,null,null,null,null,null,null,null,null,null,null,null,null,null,null,null,null,null,null,{"$f":"IFERROR(VLOOKUP(T506,Códigos!B:C,2,0),\" \")","v":" "}]
[null,null,null,null,null,null,null,null,null,null,null,null,null,null,null,null,null,null,null,null,{"$f":"IFERROR(VLOOKUP(T507,Códigos!B:C,2,0),\" \")","v":" "}]
[null,null,null,null,null,null,null,null,null,null,null,null,null,null,null,null,null,null,null,null,{"$f":"IFERROR(VLOOKUP(T508,Códigos!B:C,2,0),\" \")","v":" "}]
[null,null,null,null,null,null,null,null,null,null,null,null,null,null,null,null,null,null,null,null,{"$f":"IFERROR(VLOOKUP(T509,Códigos!B:C,2,0),\" \")","v":" "}]
[null,null,null,null,null,null,null,null,null,null,null,null,null,null,null,null,null,null,null,null,{"$f":"IFERROR(VLOOKUP(T510,Códigos!B:C,2,0),\" \")","v":" "}]
[null,null,null,null,null,null,null,null,null,null,null,null,null,null,null,null,null,null,null,null,{"$f":"IFERROR(VLOOKUP(T511,Códigos!B:C,2,0),\" \")","v":" "}]
[null,null,null,null,null,null,null,null,null,null,null,null,null,null,null,null,null,null,null,null,{"$f":"IFERROR(VLOOKUP(T512,Códigos!B:C,2,0),\" \")","v":" "}]
[null,null,null,null,null,null,null,null,null,null,null,null,null,null,null,null,null,null,null,null,{"$f":"IFERROR(VLOOKUP(T513,Códigos!B:C,2,0),\" \")","v":" "}]
[null,null,null,null,null,null,null,null,null,null,null,null,null,null,null,null,null,null,null,null,{"$f":"IFERROR(VLOOKUP(T514,Códigos!B:C,2,0),\" \")","v":" "}]
[null,null,null,null,null,null,null,null,null,null,null,null,null,null,null,null,null,null,null,null,{"$f":"IFERROR(VLOOKUP(T515,Códigos!B:C,2,0),\" \")","v":" "}]
[null,null,null,null,null,null,null,null,null,null,null,null,null,null,null,null,null,null,null,null,{"$f":"IFERROR(VLOOKUP(T516,Códigos!B:C,2,0),\" \")","v":" "}]
[null,null,null,null,null,null,null,null,null,null,null,null,null,null,null,null,null,null,null,null,{"$f":"IFERROR(VLOOKUP(T517,Códigos!B:C,2,0),\" \")","v":" "}]
[null,null,null,null,null,null,null,null,null,null,null,null,null,null,null,null,null,null,null,null,{"$f":"IFERROR(VLOOKUP(T518,Códigos!B:C,2,0),\" \")","v":" "}]
[null,null,null,null,null,null,null,null,null,null,null,null,null,null,null,null,null,null,null,null,{"$f":"IFERROR(VLOOKUP(T519,Códigos!B:C,2,0),\" \")","v":" "}]
[null,null,null,null,null,null,null,null,null,null,null,null,null,null,null,null,null,null,null,null,{"$f":"IFERROR(VLOOKUP(T520,Códigos!B:C,2,0),\" \")","v":" "}]
[null,null,null,null,null,null,null,null,null,null,null,null,null,null,null,null,null,null,null,null,{"$f":"IFERROR(VLOOKUP(T521,Códigos!B:C,2,0),\" \")","v":" "}]
[null,null,null,null,null,null,null,null,null,null,null,null,null,null,null,null,null,null,null,null,{"$f":"IFERROR(VLOOKUP(T522,Códigos!B:C,2,0),\" \")","v":" "}]
[null,null,null,null,null,null,null,null,null,null,null,null,null,null,null,null,null,null,null,null,{"$f":"IFERROR(VLOOKUP(T523,Códigos!B:C,2,0),\" \")","v":" "}]
[null,null,null,null,null,null,null,null,null,null,null,null,null,null,null,null,null,null,null,null,{"$f":"IFERROR(VLOOKUP(T524,Códigos!B:C,2,0),\" \")","v":" "}]
[null,null,null,null,null,null,null,null,null,null,null,null,null,null,null,null,null,null,null,null,{"$f":"IFERROR(VLOOKUP(T525,Códigos!B:C,2,0),\" \")","v":" "}]
[null,null,null,null,null,null,null,null,null,null,null,null,null,null,null,null,null,null,null,null,{"$f":"IFERROR(VLOOKUP(T526,Códigos!B:C,2,0),\" \")","v":" "}]
[null,null,null,null,null,null,null,null,null,null,null,null,null,null,null,null,null,null,null,null,{"$f":"IFERROR(VLOOKUP(T527,Códigos!B:C,2,0),\" \")","v":" "}]
[null,null,null,null,null,null,null,null,null,null,null,null,null,null,null,null,null,null,null,null,{"$f":"IFERROR(VLOOKUP(T528,Códigos!B:C,2,0),\" \")","v":" "}]
[null,null,null,null,null,null,null,null,null,null,null,null,null,null,null,null,null,null,null,null,{"$f":"IFERROR(VLOOKUP(T529,Códigos!B:C,2,0),\" \")","v":" "}]
[null,null,null,null,null,null,null,null,null,null,null,null,null,null,null,null,null,null,null,null,{"$f":"IFERROR(VLOOKUP(T530,Códigos!B:C,2,0),\" \")","v":" "}]
[null,null,null,null,null,null,null,null,null,null,null,null,null,null,null,null,null,null,null,null,{"$f":"IFERROR(VLOOKUP(T531,Códigos!B:C,2,0),\" \")","v":" "}]
[null,null,null,null,null,null,null,null,null,null,null,null,null,null,null,null,null,null,null,null,{"$f":"IFERROR(VLOOKUP(T532,Códigos!B:C,2,0),\" \")","v":" "}]
[null,null,null,null,null,null,null,null,null,null,null,null,null,null,null,null,null,null,null,null,{"$f":"IFERROR(VLOOKUP(T533,Códigos!B:C,2,0),\" \")","v":" "}]
[null,null,null,null,null,null,null,null,null,null,null,null,null,null,null,null,null,null,null,null,{"$f":"IFERROR(VLOOKUP(T534,Códigos!B:C,2,0),\" \")","v":" "}]
[null,null,null,null,null,null,null,null,null,null,null,null,null,null,null,null,null,null,null,null,{"$f":"IFERROR(VLOOKUP(T535,Códigos!B:C,2,0),\" \")","v":" "}]
[null,null,null,null,null,null,null,null,null,null,null,null,null,null,null,null,null,null,null,null,{"$f":"IFERROR(VLOOKUP(T536,Códigos!B:C,2,0),\" \")","v":" "}]
[null,null,null,null,null,null,null,null,null,null,null,null,null,null,null,null,null,null,null,null,{"$f":"IFERROR(VLOOKUP(T537,Códigos!B:C,2,0),\" \")","v":" "}]
[null,null,null,null,null,null,null,null,null,null,null,null,null,null,null,null,null,null,null,null,{"$f":"IFERROR(VLOOKUP(T538,Códigos!B:C,2,0),\" \")","v":" "}]
[null,null,null,null,null,null,null,null,null,null,null,null,null,null,null,null,null,null,null,null,{"$f":"IFERROR(VLOOKUP(T539,Códigos!B:C,2,0),\" \")","v":" "}]
[null,null,null,null,null,null,null,null,null,null,null,null,null,null,null,null,null,null,null,null,{"$f":"IFERROR(VLOOKUP(T540,Códigos!B:C,2,0),\" \")","v":" "}]
[null,null,null,null,null,null,null,null,null,null,null,null,null,null,null,null,null,null,null,null,{"$f":"IFERROR(VLOOKUP(T541,Códigos!B:C,2,0),\" \")","v":" "}]
[null,null,null,null,null,null,null,null,null,null,null,null,null,null,null,null,null,null,null,null,{"$f":"IFERROR(VLOOKUP(T542,Códigos!B:C,2,0),\" \")","v":" "}]
[null,null,null,null,null,null,null,null,null,null,null,null,null,null,null,null,null,null,null,null,{"$f":"IFERROR(VLOOKUP(T543,Códigos!B:C,2,0),\" \")","v":" "}]
[null,null,null,null,null,null,null,null,null,null,null,null,null,null,null,null,null,null,null,null,{"$f":"IFERROR(VLOOKUP(T544,Códigos!B:C,2,0),\" \")","v":" "}]
[null,null,null,null,null,null,null,null,null,null,null,null,null,null,null,null,null,null,null,null,{"$f":"IFERROR(VLOOKUP(T545,Códigos!B:C,2,0),\" \")","v":" "}]
[null,null,null,null,null,null,null,null,null,null,null,null,null,null,null,null,null,null,null,null,{"$f":"IFERROR(VLOOKUP(T546,Códigos!B:C,2,0),\" \")","v":" "}]
[null,null,null,null,null,null,null,null,null,null,null,null,null,null,null,null,null,null,null,null,{"$f":"IFERROR(VLOOKUP(T547,Códigos!B:C,2,0),\" \")","v":" "}]
[null,null,null,null,null,null,null,null,null,null,null,null,null,null,null,null,null,null,null,null,{"$f":"IFERROR(VLOOKUP(T548,Códigos!B:C,2,0),\" \")","v":" "}]
[null,null,null,null,null,null,null,null,null,null,null,null,null,null,null,null,null,null,null,null,{"$f":"IFERROR(VLOOKUP(T549,Códigos!B:C,2,0),\" \")","v":" "}]
[null,null,null,null,null,null,null,null,null,null,null,null,null,null,null,null,null,null,null,null,{"$f":"IFERROR(VLOOKUP(T550,Códigos!B:C,2,0),\" \")","v":" "}]
[null,null,null,null,null,null,null,null,null,null,null,null,null,null,null,null,null,null,null,null,{"$f":"IFERROR(VLOOKUP(T551,Códigos!B:C,2,0),\" \")","v":" "}]
[null,null,null,null,null,null,null,null,null,null,null,null,null,null,null,null,null,null,null,null,{"$f":"IFERROR(VLOOKUP(T552,Códigos!B:C,2,0),\" \")","v":" "}]
[null,null,null,null,null,null,null,null,null,null,null,null,null,null,null,null,null,null,null,null,{"$f":"IFERROR(VLOOKUP(T553,Códigos!B:C,2,0),\" \")","v":" "}]
[null,null,null,null,null,null,null,null,null,null,null,null,null,null,null,null,null,null,null,null,{"$f":"IFERROR(VLOOKUP(T554,Códigos!B:C,2,0),\" \")","v":" "}]
[null,null,null,null,null,null,null,null,null,null,null,null,null,null,null,null,null,null,null,null,{"$f":"IFERROR(VLOOKUP(T555,Códigos!B:C,2,0),\" \")","v":" "}]
[null,null,null,null,null,null,null,null,null,null,null,null,null,null,null,null,null,null,null,null,{"$f":"IFERROR(VLOOKUP(T556,Códigos!B:C,2,0),\" \")","v":" "}]
[null,null,null,null,null,null,null,null,null,null,null,null,null,null,null,null,null,null,null,null,{"$f":"IFERROR(VLOOKUP(T557,Códigos!B:C,2,0),\" \")","v":" "}]
[null,null,null,null,null,null,null,null,null,null,null,null,null,null,null,null,null,null,null,null,{"$f":"IFERROR(VLOOKUP(T558,Códigos!B:C,2,0),\" \")","v":" "}]
[null,null,null,null,null,null,null,null,null,null,null,null,null,null,null,null,null,null,null,null,{"$f":"IFERROR(VLOOKUP(T559,Códigos!B:C,2,0),\" \")","v":" "}]
[null,null,null,null,null,null,null,null,null,null,null,null,null,null,null,null,null,null,null,null,{"$f":"IFERROR(VLOOKUP(T560,Códigos!B:C,2,0),\" \")","v":" "}]
[null,null,null,null,null,null,null,null,null,null,null,null,null,null,null,null,null,null,null,null,{"$f":"IFERROR(VLOOKUP(T561,Códigos!B:C,2,0),\" \")","v":" "}]
[null,null,null,null,null,null,null,null,null,null,null,null,null,null,null,null,null,null,null,null,{"$f":"IFERROR(VLOOKUP(T562,Códigos!B:C,2,0),\" \")","v":" "}]
[null,null,null,null,null,null,null,null,null,null,null,null,null,null,null,null,null,null,null,null,{"$f":"IFERROR(VLOOKUP(T563,Códigos!B:C,2,0),\" \")","v":" "}]
[null,null,null,null,null,null,null,null,null,null,null,null,null,null,null,null,null,null,null,null,{"$f":"IFERROR(VLOOKUP(T564,Códigos!B:C,2,0),\" \")","v":" "}]
[null,null,null,null,null,null,null,null,null,null,null,null,null,null,null,null,null,null,null,null,{"$f":"IFERROR(VLOOKUP(T565,Códigos!B:C,2,0),\" \")","v":" "}]
[null,null,null,null,null,null,null,null,null,null,null,null,null,null,null,null,null,null,null,null,{"$f":"IFERROR(VLOOKUP(T566,Códigos!B:C,2,0),\" \")","v":" "}]
[null,null,null,null,null,null,null,null,null,null,null,null,null,null,null,null,null,null,null,null,{"$f":"IFERROR(VLOOKUP(T567,Códigos!B:C,2,0),\" \")","v":" "}]
[null,null,null,null,null,null,null,null,null,null,null,null,null,null,null,null,null,null,null,null,{"$f":"IFERROR(VLOOKUP(T568,Códigos!B:C,2,0),\" \")","v":" "}]
[null,null,null,null,null,null,null,null,null,null,null,null,null,null,null,null,null,null,null,null,{"$f":"IFERROR(VLOOKUP(T569,Códigos!B:C,2,0),\" \")","v":" "}]
[null,null,null,null,null,null,null,null,null,null,null,null,null,null,null,null,null,null,null,null,{"$f":"IFERROR(VLOOKUP(T570,Códigos!B:C,2,0),\" \")","v":" "}]
[null,null,null,null,null,null,null,null,null,null,null,null,null,null,null,null,null,null,null,null,{"$f":"IFERROR(VLOOKUP(T571,Códigos!B:C,2,0),\" \")","v":" "}]
[null,null,null,null,null,null,null,null,null,null,null,null,null,null,null,null,null,null,null,null,{"$f":"IFERROR(VLOOKUP(T572,Códigos!B:C,2,0),\" \")","v":" "}]
[null,null,null,null,null,null,null,null,null,null,null,null,null,null,null,null,null,null,null,null,{"$f":"IFERROR(VLOOKUP(T573,Códigos!B:C,2,0),\" \")","v":" "}]
[null,null,null,null,null,null,null,null,null,null,null,null,null,null,null,null,null,null,null,null,{"$f":"IFERROR(VLOOKUP(T574,Códigos!B:C,2,0),\" \")","v":" "}]
[null,null,null,null,null,null,null,null,null,null,null,null,null,null,null,null,null,null,null,null,{"$f":"IFERROR(VLOOKUP(T575,Códigos!B:C,2,0),\" \")","v":" "}]
[null,null,null,null,null,null,null,null,null,null,null,null,null,null,null,null,null,null,null,null,{"$f":"IFERROR(VLOOKUP(T576,Códigos!B:C,2,0),\" \")","v":" "}]
[null,null,null,null,null,null,null,null,null,null,null,null,null,null,null,null,null,null,null,null,{"$f":"IFERROR(VLOOKUP(T577,Códigos!B:C,2,0),\" \")","v":" "}]
[null,null,null,null,null,null,null,null,null,null,null,null,null,null,null,null,null,null,null,null,{"$f":"IFERROR(VLOOKUP(T578,Códigos!B:C,2,0),\" \")","v":" "}]
[null,null,null,null,null,null,null,null,null,null,null,null,null,null,null,null,null,null,null,null,{"$f":"IFERROR(VLOOKUP(T579,Códigos!B:C,2,0),\" \")","v":" "}]
[null,null,null,null,null,null,null,null,null,null,null,null,null,null,null,null,null,null,null,null,{"$f":"IFERROR(VLOOKUP(T580,Códigos!B:C,2,0),\" \")","v":" "}]
[null,null,null,null,null,null,null,null,null,null,null,null,null,null,null,null,null,null,null,null,{"$f":"IFERROR(VLOOKUP(T581,Códigos!B:C,2,0),\" \")","v":" "}]
[null,null,null,null,null,null,null,null,null,null,null,null,null,null,null,null,null,null,null,null,{"$f":"IFERROR(VLOOKUP(T582,Códigos!B:C,2,0),\" \")","v":" "}]
[null,null,null,null,null,null,null,null,null,null,null,null,null,null,null,null,null,null,null,null,{"$f":"IFERROR(VLOOKUP(T583,Códigos!B:C,2,0),\" \")","v":" "}]
[null,null,null,null,null,null,null,null,null,null,null,null,null,null,null,null,null,null,null,null,{"$f":"IFERROR(VLOOKUP(T584,Códigos!B:C,2,0),\" \")","v":" "}]
[null,null,null,null,null,null,null,null,null,null,null,null,null,null,null,null,null,null,null,null,{"$f":"IFERROR(VLOOKUP(T585,Códigos!B:C,2,0),\" \")","v":" "}]
[null,null,null,null,null,null,null,null,null,null,null,null,null,null,null,null,null,null,null,null,{"$f":"IFERROR(VLOOKUP(T586,Códigos!B:C,2,0),\" \")","v":" "}]
[null,null,null,null,null,null,null,null,null,null,null,null,null,null,null,null,null,null,null,null,{"$f":"IFERROR(VLOOKUP(T587,Códigos!B:C,2,0),\" \")","v":" "}]
[null,null,null,null,null,null,null,null,null,null,null,null,null,null,null,null,null,null,null,null,{"$f":"IFERROR(VLOOKUP(T588,Códigos!B:C,2,0),\" \")","v":" "}]
[null,null,null,null,null,null,null,null,null,null,null,null,null,null,null,null,null,null,null,null,{"$f":"IFERROR(VLOOKUP(T589,Códigos!B:C,2,0),\" \")","v":" "}]
[null,null,null,null,null,null,null,null,null,null,null,null,null,null,null,null,null,null,null,null,{"$f":"IFERROR(VLOOKUP(T590,Códigos!B:C,2,0),\" \")","v":" "}]
[null,null,null,null,null,null,null,null,null,null,null,null,null,null,null,null,null,null,null,null,{"$f":"IFERROR(VLOOKUP(T591,Códigos!B:C,2,0),\" \")","v":" "}]
[null,null,null,null,null,null,null,null,null,null,null,null,null,null,null,null,null,null,null,null,{"$f":"IFERROR(VLOOKUP(T592,Códigos!B:C,2,0),\" \")","v":" "}]
[null,null,null,null,null,null,null,null,null,null,null,null,null,null,null,null,null,null,null,null,{"$f":"IFERROR(VLOOKUP(T593,Códigos!B:C,2,0),\" \")","v":" "}]
[null,null,null,null,null,null,null,null,null,null,null,null,null,null,null,null,null,null,null,null,{"$f":"IFERROR(VLOOKUP(T594,Códigos!B:C,2,0),\" \")","v":" "}]
[null,null,null,null,null,null,null,null,null,null,null,null,null,null,null,null,null,null,null,null,{"$f":"IFERROR(VLOOKUP(T595,Códigos!B:C,2,0),\" \")","v":" "}]
[null,null,null,null,null,null,null,null,null,null,null,null,null,null,null,null,null,null,null,null,{"$f":"IFERROR(VLOOKUP(T596,Códigos!B:C,2,0),\" \")","v":" "}]
[null,null,null,null,null,null,null,null,null,null,null,null,null,null,null,null,null,null,null,null,{"$f":"IFERROR(VLOOKUP(T597,Códigos!B:C,2,0),\" \")","v":" "}]
[null,null,null,null,null,null,null,null,null,null,null,null,null,null,null,null,null,null,null,null,{"$f":"IFERROR(VLOOKUP(T598,Códigos!B:C,2,0),\" \")","v":" "}]
[null,null,null,null,null,null,null,null,null,null,null,null,null,null,null,null,null,null,null,null,{"$f":"IFERROR(VLOOKUP(T599,Códigos!B:C,2,0),\" \")","v":" "}]
[null,null,null,null,null,null,null,null,null,null,null,null,null,null,null,null,null,null,null,null,{"$f":"IFERROR(VLOOKUP(T600,Códigos!B:C,2,0),\" \")","v":" "}]
[null,null,null,null,null,null,null,null,null,null,null,null,null,null,null,null,null,null,null,null,{"$f":"IFERROR(VLOOKUP(T601,Códigos!B:C,2,0),\" \")","v":" "}]
[null,null,null,null,null,null,null,null,null,null,null,null,null,null,null,null,null,null,null,null,{"$f":"IFERROR(VLOOKUP(T602,Códigos!B:C,2,0),\" \")","v":" "}]
[null,null,null,null,null,null,null,null,null,null,null,null,null,null,null,null,null,null,null,null,{"$f":"IFERROR(VLOOKUP(T603,Códigos!B:C,2,0),\" \")","v":" "}]
[null,null,null,null,null,null,null,null,null,null,null,null,null,null,null,null,null,null,null,null,{"$f":"IFERROR(VLOOKUP(T604,Códigos!B:C,2,0),\" \")","v":" "}]
[null,null,null,null,null,null,null,null,null,null,null,null,null,null,null,null,null,null,null,null,{"$f":"IFERROR(VLOOKUP(T605,Códigos!B:C,2,0),\" \")","v":" "}]
[null,null,null,null,null,null,null,null,null,null,null,null,null,null,null,null,null,null,null,null,{"$f":"IFERROR(VLOOKUP(T606,Códigos!B:C,2,0),\" \")","v":" "}]
[null,null,null,null,null,null,null,null,null,null,null,null,null,null,null,null,null,null,null,null,{"$f":"IFERROR(VLOOKUP(T607,Códigos!B:C,2,0),\" \")","v":" "}]
[null,null,null,null,null,null,null,null,null,null,null,null,null,null,null,null,null,null,null,null,{"$f":"IFERROR(VLOOKUP(T608,Códigos!B:C,2,0),\" \")","v":" "}]
[null,null,null,null,null,null,null,null,null,null,null,null,null,null,null,null,null,null,null,null,{"$f":"IFERROR(VLOOKUP(T609,Códigos!B:C,2,0),\" \")","v":" "}]
[null,null,null,null,null,null,null,null,null,null,null,null,null,null,null,null,null,null,null,null,{"$f":"IFERROR(VLOOKUP(T610,Códigos!B:C,2,0),\" \")","v":" "}]
[null,null,null,null,null,null,null,null,null,null,null,null,null,null,null,null,null,null,null,null,{"$f":"IFERROR(VLOOKUP(T611,Códigos!B:C,2,0),\" \")","v":" "}]
[null,null,null,null,null,null,null,null,null,null,null,null,null,null,null,null,null,null,null,null,{"$f":"IFERROR(VLOOKUP(T612,Códigos!B:C,2,0),\" \")","v":" "}]
[null,null,null,null,null,null,null,null,null,null,null,null,null,null,null,null,null,null,null,null,{"$f":"IFERROR(VLOOKUP(T613,Códigos!B:C,2,0),\" \")","v":" "}]
[null,null,null,null,null,null,null,null,null,null,null,null,null,null,null,null,null,null,null,null,{"$f":"IFERROR(VLOOKUP(T614,Códigos!B:C,2,0),\" \")","v":" "}]
[null,null,null,null,null,null,null,null,null,null,null,null,null,null,null,null,null,null,null,null,{"$f":"IFERROR(VLOOKUP(T615,Códigos!B:C,2,0),\" \")","v":" "}]
[null,null,null,null,null,null,null,null,null,null,null,null,null,null,null,null,null,null,null,null,{"$f":"IFERROR(VLOOKUP(T616,Códigos!B:C,2,0),\" \")","v":" "}]
[null,null,null,null,null,null,null,null,null,null,null,null,null,null,null,null,null,null,null,null,{"$f":"IFERROR(VLOOKUP(T617,Códigos!B:C,2,0),\" \")","v":" "}]
[null,null,null,null,null,null,null,null,null,null,null,null,null,null,null,null,null,null,null,null,{"$f":"IFERROR(VLOOKUP(T618,Códigos!B:C,2,0),\" \")","v":" "}]
[null,null,null,null,null,null,null,null,null,null,null,null,null,null,null,null,null,null,null,null,{"$f":"IFERROR(VLOOKUP(T619,Códigos!B:C,2,0),\" \")","v":" "}]
[null,null,null,null,null,null,null,null,null,null,null,null,null,null,null,null,null,null,null,null,{"$f":"IFERROR(VLOOKUP(T620,Códigos!B:C,2,0),\" \")","v":" "}]
[null,null,null,null,null,null,null,null,null,null,null,null,null,null,null,null,null,null,null,null,{"$f":"IFERROR(VLOOKUP(T621,Códigos!B:C,2,0),\" \")","v":" "}]
[null,null,null,null,null,null,null,null,null,null,null,null,null,null,null,null,null,null,null,null,{"$f":"IFERROR(VLOOKUP(T622,Códigos!B:C,2,0),\" \")","v":" "}]
[null,null,null,null,null,null,null,null,null,null,null,null,null,null,null,null,null,null,null,null,{"$f":"IFERROR(VLOOKUP(T623,Códigos!B:C,2,0),\" \")","v":" "}]
[null,null,null,null,null,null,null,null,null,null,null,null,null,null,null,null,null,null,null,null,{"$f":"IFERROR(VLOOKUP(T624,Códigos!B:C,2,0),\" \")","v":" "}]
[null,null,null,null,null,null,null,null,null,null,null,null,null,null,null,null,null,null,null,null,{"$f":"IFERROR(VLOOKUP(T625,Códigos!B:C,2,0),\" \")","v":" "}]
[null,null,null,null,null,null,null,null,null,null,null,null,null,null,null,null,null,null,null,null,{"$f":"IFERROR(VLOOKUP(T626,Códigos!B:C,2,0),\" \")","v":" "}]
[null,null,null,null,null,null,null,null,null,null,null,null,null,null,null,null,null,null,null,null,{"$f":"IFERROR(VLOOKUP(T627,Códigos!B:C,2,0),\" \")","v":" "}]
[null,null,null,null,null,null,null,null,null,null,null,null,null,null,null,null,null,null,null,null,{"$f":"IFERROR(VLOOKUP(T628,Códigos!B:C,2,0),\" \")","v":" "}]
[null,null,null,null,null,null,null,null,null,null,null,null,null,null,null,null,null,null,null,null,{"$f":"IFERROR(VLOOKUP(T629,Códigos!B:C,2,0),\" \")","v":" "}]
[null,null,null,null,null,null,null,null,null,null,null,null,null,null,null,null,null,null,null,null,{"$f":"IFERROR(VLOOKUP(T630,Códigos!B:C,2,0),\" \")","v":" "}]
[null,null,null,null,null,null,null,null,null,null,null,null,null,null,null,null,null,null,null,null,{"$f":"IFERROR(VLOOKUP(T631,Códigos!B:C,2,0),\" \")","v":" "}]
[null,null,null,null,null,null,null,null,null,null,null,null,null,null,null,null,null,null,null,null,{"$f":"IFERROR(VLOOKUP(T632,Códigos!B:C,2,0),\" \")","v":" "}]
[null,null,null,null,null,null,null,null,null,null,null,null,null,null,null,null,null,null,null,null,{"$f":"IFERROR(VLOOKUP(T633,Códigos!B:C,2,0),\" \")","v":" "}]
[null,null,null,null,null,null,null,null,null,null,null,null,null,null,null,null,null,null,null,null,{"$f":"IFERROR(VLOOKUP(T634,Códigos!B:C,2,0),\" \")","v":" "}]
[null,null,null,null,null,null,null,null,null,null,null,null,null,null,null,null,null,null,null,null,{"$f":"IFERROR(VLOOKUP(T635,Códigos!B:C,2,0),\" \")","v":" "}]
[null,null,null,null,null,null,null,null,null,null,null,null,null,null,null,null,null,null,null,null,{"$f":"IFERROR(VLOOKUP(T636,Códigos!B:C,2,0),\" \")","v":" "}]
[null,null,null,null,null,null,null,null,null,null,null,null,null,null,null,null,null,null,null,null,{"$f":"IFERROR(VLOOKUP(T637,Códigos!B:C,2,0),\" \")","v":" "}]
[null,null,null,null,null,null,null,null,null,null,null,null,null,null,null,null,null,null,null,null,{"$f":"IFERROR(VLOOKUP(T638,Códigos!B:C,2,0),\" \")","v":" "}]
[null,null,null,null,null,null,null,null,null,null,null,null,null,null,null,null,null,null,null,null,{"$f":"IFERROR(VLOOKUP(T639,Códigos!B:C,2,0),\" \")","v":" "}]
[null,null,null,null,null,null,null,null,null,null,null,null,null,null,null,null,null,null,null,null,{"$f":"IFERROR(VLOOKUP(T640,Códigos!B:C,2,0),\" \")","v":" "}]
[null,null,null,null,null,null,null,null,null,null,null,null,null,null,null,null,null,null,null,null,{"$f":"IFERROR(VLOOKUP(T641,Códigos!B:C,2,0),\" \")","v":" "}]
[null,null,null,null,null,null,null,null,null,null,null,null,null,null,null,null,null,null,null,null,{"$f":"IFERROR(VLOOKUP(T642,Códigos!B:C,2,0),\" \")","v":" "}]
[null,null,null,null,null,null,null,null,null,null,null,null,null,null,null,null,null,null,null,null,{"$f":"IFERROR(VLOOKUP(T643,Códigos!B:C,2,0),\" \")","v":" "}]
[null,null,null,null,null,null,null,null,null,null,null,null,null,null,null,null,null,null,null,null,{"$f":"IFERROR(VLOOKUP(T644,Códigos!B:C,2,0),\" \")","v":" "}]
[null,null,null,null,null,null,null,null,null,null,null,null,null,null,null,null,null,null,null,null,{"$f":"IFERROR(VLOOKUP(T645,Códigos!B:C,2,0),\" \")","v":" "}]
[null,null,null,null,null,null,null,null,null,null,null,null,null,null,null,null,null,null,null,null,{"$f":"IFERROR(VLOOKUP(T646,Códigos!B:C,2,0),\" \")","v":" "}]
[null,null,null,null,null,null,null,null,null,null,null,null,null,null,null,null,null,null,null,null,{"$f":"IFERROR(VLOOKUP(T647,Códigos!B:C,2,0),\" \")","v":" "}]
[null,null,null,null,null,null,null,null,null,null,null,null,null,null,null,null,null,null,null,null,{"$f":"IFERROR(VLOOKUP(T648,Códigos!B:C,2,0),\" \")","v":" "}]
[null,null,null,null,null,null,null,null,null,null,null,null,null,null,null,null,null,null,null,null,{"$f":"IFERROR(VLOOKUP(T649,Códigos!B:C,2,0),\" \")","v":" "}]
[null,null,null,null,null,null,null,null,null,null,null,null,null,null,null,null,null,null,null,null,{"$f":"IFERROR(VLOOKUP(T650,Códigos!B:C,2,0),\" \")","v":" "}]
[null,null,null,null,null,null,null,null,null,null,null,null,null,null,null,null,null,null,null,null,{"$f":"IFERROR(VLOOKUP(T651,Códigos!B:C,2,0),\" \")","v":" "}]
[null,null,null,null,null,null,null,null,null,null,null,null,null,null,null,null,null,null,null,null,{"$f":"IFERROR(VLOOKUP(T652,Códigos!B:C,2,0),\" \")","v":" "}]
[null,null,null,null,null,null,null,null,null,null,null,null,null,null,null,null,null,null,null,null,{"$f":"IFERROR(VLOOKUP(T653,Códigos!B:C,2,0),\" \")","v":" "}]
[null,null,null,null,null,null,null,null,null,null,null,null,null,null,null,null,null,null,null,null,{"$f":"IFERROR(VLOOKUP(T654,Códigos!B:C,2,0),\" \")","v":" "}]
[null,null,null,null,null,null,null,null,null,null,null,null,null,null,null,null,null,null,null,null,{"$f":"IFERROR(VLOOKUP(T655,Códigos!B:C,2,0),\" \")","v":" "}]
[null,null,null,null,null,null,null,null,null,null,null,null,null,null,null,null,null,null,null,null,{"$f":"IFERROR(VLOOKUP(T656,Códigos!B:C,2,0),\" \")","v":" "}]
[null,null,null,null,null,null,null,null,null,null,null,null,null,null,null,null,null,null,null,null,{"$f":"IFERROR(VLOOKUP(T657,Códigos!B:C,2,0),\" \")","v":" "}]
[null,null,null,null,null,null,null,null,null,null,null,null,null,null,null,null,null,null,null,null,{"$f":"IFERROR(VLOOKUP(T658,Códigos!B:C,2,0),\" \")","v":" "}]
[null,null,null,null,null,null,null,null,null,null,null,null,null,null,null,null,null,null,null,null,{"$f":"IFERROR(VLOOKUP(T659,Códigos!B:C,2,0),\" \")","v":" "}]
[null,null,null,null,null,null,null,null,null,null,null,null,null,null,null,null,null,null,null,null,{"$f":"IFERROR(VLOOKUP(T660,Códigos!B:C,2,0),\" \")","v":" "}]
[null,null,null,null,null,null,null,null,null,null,null,null,null,null,null,null,null,null,null,null,{"$f":"IFERROR(VLOOKUP(T661,Códigos!B:C,2,0),\" \")","v":" "}]
[null,null,null,null,null,null,null,null,null,null,null,null,null,null,null,null,null,null,null,null,{"$f":"IFERROR(VLOOKUP(T662,Códigos!B:C,2,0),\" \")","v":" "}]
[null,null,null,null,null,null,null,null,null,null,null,null,null,null,null,null,null,null,null,null,{"$f":"IFERROR(VLOOKUP(T663,Códigos!B:C,2,0),\" \")","v":" "}]
[null,null,null,null,null,null,null,null,null,null,null,null,null,null,null,null,null,null,null,null,{"$f":"IFERROR(VLOOKUP(T664,Códigos!B:C,2,0),\" \")","v":" "}]
[null,null,null,null,null,null,null,null,null,null,null,null,null,null,null,null,null,null,null,null,{"$f":"IFERROR(VLOOKUP(T665,Códigos!B:C,2,0),\" \")","v":" "}]
[null,null,null,null,null,null,null,null,null,null,null,null,null,null,null,null,null,null,null,null,{"$f":"IFERROR(VLOOKUP(T666,Códigos!B:C,2,0),\" \")","v":" "}]
[null,null,null,null,null,null,null,null,null,null,null,null,null,null,null,null,null,null,null,null,{"$f":"IFERROR(VLOOKUP(T667,Códigos!B:C,2,0),\" \")","v":" "}]
[null,null,null,null,null,null,null,null,null,null,null,null,null,null,null,null,null,null,null,null,{"$f":"IFERROR(VLOOKUP(T668,Códigos!B:C,2,0),\" \")","v":" "}]
[null,null,null,null,null,null,null,null,null,null,null,null,null,null,null,null,null,null,null,null,{"$f":"IFERROR(VLOOKUP(T669,Códigos!B:C,2,0),\" \")","v":" "}]
[null,null,null,null,null,null,null,null,null,null,null,null,null,null,null,null,null,null,null,null,{"$f":"IFERROR(VLOOKUP(T670,Códigos!B:C,2,0),\" \")","v":" "}]
[null,null,null,null,null,null,null,null,null,null,null,null,null,null,null,null,null,null,null,null,{"$f":"IFERROR(VLOOKUP(T671,Códigos!B:C,2,0),\" \")","v":" "}]
[null,null,null,null,null,null,null,null,null,null,null,null,null,null,null,null,null,null,null,null,{"$f":"IFERROR(VLOOKUP(T672,Códigos!B:C,2,0),\" \")","v":" "}]
[null,null,null,null,null,null,null,null,null,null,null,null,null,null,null,null,null,null,null,null,{"$f":"IFERROR(VLOOKUP(T673,Códigos!B:C,2,0),\" \")","v":" "}]
[null,null,null,null,null,null,null,null,null,null,null,null,null,null,null,null,null,null,null,null,{"$f":"IFERROR(VLOOKUP(T674,Códigos!B:C,2,0),\" \")","v":" "}]
[null,null,null,null,null,null,null,null,null,null,null,null,null,null,null,null,null,null,null,null,{"$f":"IFERROR(VLOOKUP(T675,Códigos!B:C,2,0),\" \")","v":" "}]
[null,null,null,null,null,null,null,null,null,null,null,null,null,null,null,null,null,null,null,null,{"$f":"IFERROR(VLOOKUP(T676,Códigos!B:C,2,0),\" \")","v":" "}]
[null,null,null,null,null,null,null,null,null,null,null,null,null,null,null,null,null,null,null,null,{"$f":"IFERROR(VLOOKUP(T677,Códigos!B:C,2,0),\" \")","v":" "}]
[null,null,null,null,null,null,null,null,null,null,null,null,null,null,null,null,null,null,null,null,{"$f":"IFERROR(VLOOKUP(T678,Códigos!B:C,2,0),\" \")","v":" "}]
[null,null,null,null,null,null,null,null,null,null,null,null,null,null,null,null,null,null,null,null,{"$f":"IFERROR(VLOOKUP(T679,Códigos!B:C,2,0),\" \")","v":" "}]
[null,null,null,null,null,null,null,null,null,null,null,null,null,null,null,null,null,null,null,null,{"$f":"IFERROR(VLOOKUP(T680,Códigos!B:C,2,0),\" \")","v":" "}]
[null,null,null,null,null,null,null,null,null,null,null,null,null,null,null,null,null,null,null,null,{"$f":"IFERROR(VLOOKUP(T681,Códigos!B:C,2,0),\" \")","v":" "}]
[null,null,null,null,null,null,null,null,null,null,null,null,null,null,null,null,null,null,null,null,{"$f":"IFERROR(VLOOKUP(T682,Códigos!B:C,2,0),\" \")","v":" "}]
[null,null,null,null,null,null,null,null,null,null,null,null,null,null,null,null,null,null,null,null,{"$f":"IFERROR(VLOOKUP(T683,Códigos!B:C,2,0),\" \")","v":" "}]
[null,null,null,null,null,null,null,null,null,null,null,null,null,null,null,null,null,null,null,null,{"$f":"IFERROR(VLOOKUP(T684,Códigos!B:C,2,0),\" \")","v":" "}]
[null,null,null,null,null,null,null,null,null,null,null,null,null,null,null,null,null,null,null,null,{"$f":"IFERROR(VLOOKUP(T685,Códigos!B:C,2,0),\" \")","v":" "}]
[null,null,null,null,null,null,null,null,null,null,null,null,null,null,null,null,null,null,null,null,{"$f":"IFERROR(VLOOKUP(T686,Códigos!B:C,2,0),\" \")","v":" "}]
[null,null,null,null,null,null,null,null,null,null,null,null,null,null,null,null,null,null,null,null,{"$f":"IFERROR(VLOOKUP(T687,Códigos!B:C,2,0),\" \")","v":" "}]
[null,null,null,null,null,null,null,null,null,null,null,null,null,null,null,null,null,null,null,null,{"$f":"IFERROR(VLOOKUP(T688,Códigos!B:C,2,0),\" \")","v":" "}]
[null,null,null,null,null,null,null,null,null,null,null,null,null,null,null,null,null,null,null,null,{"$f":"IFERROR(VLOOKUP(T689,Códigos!B:C,2,0),\" \")","v":" "}]
[null,null,null,null,null,null,null,null,null,null,null,null,null,null,null,null,null,null,null,null,{"$f":"IFERROR(VLOOKUP(T690,Códigos!B:C,2,0),\" \")","v":" "}]
[null,null,null,null,null,null,null,null,null,null,null,null,null,null,null,null,null,null,null,null,{"$f":"IFERROR(VLOOKUP(T691,Códigos!B:C,2,0),\" \")","v":" "}]
[null,null,null,null,null,null,null,null,null,null,null,null,null,null,null,null,null,null,null,null,{"$f":"IFERROR(VLOOKUP(T692,Códigos!B:C,2,0),\" \")","v":" "}]
[null,null,null,null,null,null,null,null,null,null,null,null,null,null,null,null,null,null,null,null,{"$f":"IFERROR(VLOOKUP(T693,Códigos!B:C,2,0),\" \")","v":" "}]
[null,null,null,null,null,null,null,null,null,null,null,null,null,null,null,null,null,null,null,null,{"$f":"IFERROR(VLOOKUP(T694,Códigos!B:C,2,0),\" \")","v":" "}]
[null,null,null,null,null,null,null,null,null,null,null,null,null,null,null,null,null,null,null,null,{"$f":"IFERROR(VLOOKUP(T695,Códigos!B:C,2,0),\" \")","v":" "}]
[null,null,null,null,null,null,null,null,null,null,null,null,null,null,null,null,null,null,null,null,{"$f":"IFERROR(VLOOKUP(T696,Códigos!B:C,2,0),\" \")","v":" "}]
[null,null,null,null,null,null,null,null,null,null,null,null,null,null,null,null,null,null,null,null,{"$f":"IFERROR(VLOOKUP(T697,Códigos!B:C,2,0),\" \")","v":" "}]
[null,null,null,null,null,null,null,null,null,null,null,null,null,null,null,null,null,null,null,null,{"$f":"IFERROR(VLOOKUP(T698,Códigos!B:C,2,0),\" \")","v":" "}]
[null,null,null,null,null,null,null,null,null,null,null,null,null,null,null,null,null,null,null,null,{"$f":"IFERROR(VLOOKUP(T699,Códigos!B:C,2,0),\" \")","v":" "}]
[null,null,null,null,null,null,null,null,null,null,null,null,null,null,null,null,null,null,null,null,{"$f":"IFERROR(VLOOKUP(T700,Códigos!B:C,2,0),\" \")","v":" "}]
[null,null,null,null,null,null,null,null,null,null,null,null,null,null,null,null,null,null,null,null,{"$f":"IFERROR(VLOOKUP(T701,Códigos!B:C,2,0),\" \")","v":" "}]
[null,null,null,null,null,null,null,null,null,null,null,null,null,null,null,null,null,null,null,null,{"$f":"IFERROR(VLOOKUP(T702,Códigos!B:C,2,0),\" \")","v":" "}]
[null,null,null,null,null,null,null,null,null,null,null,null,null,null,null,null,null,null,null,null,{"$f":"IFERROR(VLOOKUP(T703,Códigos!B:C,2,0),\" \")","v":" "}]
[null,null,null,null,null,null,null,null,null,null,null,null,null,null,null,null,null,null,null,null,{"$f":"IFERROR(VLOOKUP(T704,Códigos!B:C,2,0),\" \")","v":" "}]
[null,null,null,null,null,null,null,null,null,null,null,null,null,null,null,null,null,null,null,null,{"$f":"IFERROR(VLOOKUP(T705,Códigos!B:C,2,0),\" \")","v":" "}]
[null,null,null,null,null,null,null,null,null,null,null,null,null,null,null,null,null,null,null,null,{"$f":"IFERROR(VLOOKUP(T706,Códigos!B:C,2,0),\" \")","v":" "}]
[null,null,null,null,null,null,null,null,null,null,null,null,null,null,null,null,null,null,null,null,{"$f":"IFERROR(VLOOKUP(T707,Códigos!B:C,2,0),\" \")","v":" "}]
[null,null,null,null,null,null,null,null,null,null,null,null,null,null,null,null,null,null,null,null,{"$f":"IFERROR(VLOOKUP(T708,Códigos!B:C,2,0),\" \")","v":" "}]
[null,null,null,null,null,null,null,null,null,null,null,null,null,null,null,null,null,null,null,null,{"$f":"IFERROR(VLOOKUP(T709,Códigos!B:C,2,0),\" \")","v":" "}]
[null,null,null,null,null,null,null,null,null,null,null,null,null,null,null,null,null,null,null,null,{"$f":"IFERROR(VLOOKUP(T710,Códigos!B:C,2,0),\" \")","v":" "}]
[null,null,null,null,null,null,null,null,null,null,null,null,null,null,null,null,null,null,null,null,{"$f":"IFERROR(VLOOKUP(T711,Códigos!B:C,2,0),\" \")","v":" "}]
[null,null,null,null,null,null,null,null,null,null,null,null,null,null,null,null,null,null,null,null,{"$f":"IFERROR(VLOOKUP(T712,Códigos!B:C,2,0),\" \")","v":" "}]
[null,null,null,null,null,null,null,null,null,null,null,null,null,null,null,null,null,null,null,null,{"$f":"IFERROR(VLOOKUP(T713,Códigos!B:C,2,0),\" \")","v":" "}]
[null,null,null,null,null,null,null,null,null,null,null,null,null,null,null,null,null,null,null,null,{"$f":"IFERROR(VLOOKUP(T714,Códigos!B:C,2,0),\" \")","v":" "}]
[null,null,null,null,null,null,null,null,null,null,null,null,null,null,null,null,null,null,null,null,{"$f":"IFERROR(VLOOKUP(T715,Códigos!B:C,2,0),\" \")","v":" "}]
[null,null,null,null,null,null,null,null,null,null,null,null,null,null,null,null,null,null,null,null,{"$f":"IFERROR(VLOOKUP(T716,Códigos!B:C,2,0),\" \")","v":" "}]
[null,null,null,null,null,null,null,null,null,null,null,null,null,null,null,null,null,null,null,null,{"$f":"IFERROR(VLOOKUP(T717,Códigos!B:C,2,0),\" \")","v":" "}]
[null,null,null,null,null,null,null,null,null,null,null,null,null,null,null,null,null,null,null,null,{"$f":"IFERROR(VLOOKUP(T718,Códigos!B:C,2,0),\" \")","v":" "}]
[null,null,null,null,null,null,null,null,null,null,null,null,null,null,null,null,null,null,null,null,{"$f":"IFERROR(VLOOKUP(T719,Códigos!B:C,2,0),\" \")","v":" "}]
[null,null,null,null,null,null,null,null,null,null,null,null,null,null,null,null,null,null,null,null,{"$f":"IFERROR(VLOOKUP(T720,Códigos!B:C,2,0),\" \")","v":" "}]
[null,null,null,null,null,null,null,null,null,null,null,null,null,null,null,null,null,null,null,null,{"$f":"IFERROR(VLOOKUP(T721,Códigos!B:C,2,0),\" \")","v":" "}]
[null,null,null,null,null,null,null,null,null,null,null,null,null,null,null,null,null,null,null,null,{"$f":"IFERROR(VLOOKUP(T722,Códigos!B:C,2,0),\" \")","v":" "}]
[null,null,null,null,null,null,null,null,null,null,null,null,null,null,null,null,null,null,null,null,{"$f":"IFERROR(VLOOKUP(T723,Códigos!B:C,2,0),\" \")","v":" "}]
[null,null,null,null,null,null,null,null,null,null,null,null,null,null,null,null,null,null,null,null,{"$f":"IFERROR(VLOOKUP(T724,Códigos!B:C,2,0),\" \")","v":" "}]
[null,null,null,null,null,null,null,null,null,null,null,null,null,null,null,null,null,null,null,null,{"$f":"IFERROR(VLOOKUP(T725,Códigos!B:C,2,0),\" \")","v":" "}]
[null,null,null,null,null,null,null,null,null,null,null,null,null,null,null,null,null,null,null,null,{"$f":"IFERROR(VLOOKUP(T726,Códigos!B:C,2,0),\" \")","v":" "}]
[null,null,null,null,null,null,null,null,null,null,null,null,null,null,null,null,null,null,null,null,{"$f":"IFERROR(VLOOKUP(T727,Códigos!B:C,2,0),\" \")","v":" "}]
[null,null,null,null,null,null,null,null,null,null,null,null,null,null,null,null,null,null,null,null,{"$f":"IFERROR(VLOOKUP(T728,Códigos!B:C,2,0),\" \")","v":" "}]
[null,null,null,null,null,null,null,null,null,null,null,null,null,null,null,null,null,null,null,null,{"$f":"IFERROR(VLOOKUP(T729,Códigos!B:C,2,0),\" \")","v":" "}]
[null,null,null,null,null,null,null,null,null,null,null,null,null,null,null,null,null,null,null,null,{"$f":"IFERROR(VLOOKUP(T730,Códigos!B:C,2,0),\" \")","v":" "}]
[null,null,null,null,null,null,null,null,null,null,null,null,null,null,null,null,null,null,null,null,{"$f":"IFERROR(VLOOKUP(T731,Códigos!B:C,2,0),\" \")","v":" "}]
[null,null,null,null,null,null,null,null,null,null,null,null,null,null,null,null,null,null,null,null,{"$f":"IFERROR(VLOOKUP(T732,Códigos!B:C,2,0),\" \")","v":" "}]
[null,null,null,null,null,null,null,null,null,null,null,null,null,null,null,null,null,null,null,null,{"$f":"IFERROR(VLOOKUP(T733,Códigos!B:C,2,0),\" \")","v":" "}]
[null,null,null,null,null,null,null,null,null,null,null,null,null,null,null,null,null,null,null,null,{"$f":"IFERROR(VLOOKUP(T734,Códigos!B:C,2,0),\" \")","v":" "}]
[null,null,null,null,null,null,null,null,null,null,null,null,null,null,null,null,null,null,null,null,{"$f":"IFERROR(VLOOKUP(T735,Códigos!B:C,2,0),\" \")","v":" "}]
[null,null,null,null,null,null,null,null,null,null,null,null,null,null,null,null,null,null,null,null,{"$f":"IFERROR(VLOOKUP(T736,Códigos!B:C,2,0),\" \")","v":" "}]
[null,null,null,null,null,null,null,null,null,null,null,null,null,null,null,null,null,null,null,null,{"$f":"IFERROR(VLOOKUP(T737,Códigos!B:C,2,0),\" \")","v":" "}]
[null,null,null,null,null,null,null,null,null,null,null,null,null,null,null,null,null,null,null,null,{"$f":"IFERROR(VLOOKUP(T738,Códigos!B:C,2,0),\" \")","v":" "}]
[null,null,null,null,null,null,null,null,null,null,null,null,null,null,null,null,null,null,null,null,{"$f":"IFERROR(VLOOKUP(T739,Códigos!B:C,2,0),\" \")","v":" "}]
[null,null,null,null,null,null,null,null,null,null,null,null,null,null,null,null,null,null,null,null,{"$f":"IFERROR(VLOOKUP(T740,Códigos!B:C,2,0),\" \")","v":" "}]
[null,null,null,null,null,null,null,null,null,null,null,null,null,null,null,null,null,null,null,null,{"$f":"IFERROR(VLOOKUP(T741,Códigos!B:C,2,0),\" \")","v":" "}]
[null,null,null,null,null,null,null,null,null,null,null,null,null,null,null,null,null,null,null,null,{"$f":"IFERROR(VLOOKUP(T742,Códigos!B:C,2,0),\" \")","v":" "}]
[null,null,null,null,null,null,null,null,null,null,null,null,null,null,null,null,null,null,null,null,{"$f":"IFERROR(VLOOKUP(T743,Códigos!B:C,2,0),\" \")","v":" "}]
[null,null,null,null,null,null,null,null,null,null,null,null,null,null,null,null,null,null,null,null,{"$f":"IFERROR(VLOOKUP(T744,Códigos!B:C,2,0),\" \")","v":" "}]
[null,null,null,null,null,null,null,null,null,null,null,null,null,null,null,null,null,null,null,null,{"$f":"IFERROR(VLOOKUP(T745,Códigos!B:C,2,0),\" \")","v":" "}]
[null,null,null,null,null,null,null,null,null,null,null,null,null,null,null,null,null,null,null,null,{"$f":"IFERROR(VLOOKUP(T746,Códigos!B:C,2,0),\" \")","v":" "}]
[null,null,null,null,null,null,null,null,null,null,null,null,null,null,null,null,null,null,null,null,{"$f":"IFERROR(VLOOKUP(T747,Códigos!B:C,2,0),\" \")","v":" "}]
[null,null,null,null,null,null,null,null,null,null,null,null,null,null,null,null,null,null,null,null,{"$f":"IFERROR(VLOOKUP(T748,Códigos!B:C,2,0),\" \")","v":" "}]
[null,null,null,null,null,null,null,null,null,null,null,null,null,null,null,null,null,null,null,null,{"$f":"IFERROR(VLOOKUP(T749,Códigos!B:C,2,0),\" \")","v":" "}]
[null,null,null,null,null,null,null,null,null,null,null,null,null,null,null,null,null,null,null,null,{"$f":"IFERROR(VLOOKUP(T750,Códigos!B:C,2,0),\" \")","v":" "}]
[null,null,null,null,null,null,null,null,null,null,null,null,null,null,null,null,null,null,null,null,{"$f":"IFERROR(VLOOKUP(T751,Códigos!B:C,2,0),\" \")","v":" "}]
[null,null,null,null,null,null,null,null,null,null,null,null,null,null,null,null,null,null,null,null,{"$f":"IFERROR(VLOOKUP(T752,Códigos!B:C,2,0),\" \")","v":" "}]
[null,null,null,null,null,null,null,null,null,null,null,null,null,null,null,null,null,null,null,null,{"$f":"IFERROR(VLOOKUP(T753,Códigos!B:C,2,0),\" \")","v":" "}]
[null,null,null,null,null,null,null,null,null,null,null,null,null,null,null,null,null,null,null,null,{"$f":"IFERROR(VLOOKUP(T754,Códigos!B:C,2,0),\" \")","v":" "}]
[null,null,null,null,null,null,null,null,null,null,null,null,null,null,null,null,null,null,null,null,{"$f":"IFERROR(VLOOKUP(T755,Códigos!B:C,2,0),\" \")","v":" "}]
[null,null,null,null,null,null,null,null,null,null,null,null,null,null,null,null,null,null,null,null,{"$f":"IFERROR(VLOOKUP(T756,Códigos!B:C,2,0),\" \")","v":" "}]
[null,null,null,null,null,null,null,null,null,null,null,null,null,null,null,null,null,null,null,null,{"$f":"IFERROR(VLOOKUP(T757,Códigos!B:C,2,0),\" \")","v":" "}]
[null,null,null,null,null,null,null,null,null,null,null,null,null,null,null,null,null,null,null,null,{"$f":"IFERROR(VLOOKUP(T758,Códigos!B:C,2,0),\" \")","v":" "}]
[null,null,null,null,null,null,null,null,null,null,null,null,null,null,null,null,null,null,null,null,{"$f":"IFERROR(VLOOKUP(T759,Códigos!B:C,2,0),\" \")","v":" "}]
[null,null,null,null,null,null,null,null,null,null,null,null,null,null,null,null,null,null,null,null,{"$f":"IFERROR(VLOOKUP(T760,Códigos!B:C,2,0),\" \")","v":" "}]
[null,null,null,null,null,null,null,null,null,null,null,null,null,null,null,null,null,null,null,null,{"$f":"IFERROR(VLOOKUP(T761,Códigos!B:C,2,0),\" \")","v":" "}]
[null,null,null,null,null,null,null,null,null,null,null,null,null,null,null,null,null,null,null,null,{"$f":"IFERROR(VLOOKUP(T762,Códigos!B:C,2,0),\" \")","v":" "}]
[null,null,null,null,null,null,null,null,null,null,null,null,null,null,null,null,null,null,null,null,{"$f":"IFERROR(VLOOKUP(T763,Códigos!B:C,2,0),\" \")","v":" "}]
[null,null,null,null,null,null,null,null,null,null,null,null,null,null,null,null,null,null,null,null,{"$f":"IFERROR(VLOOKUP(T764,Códigos!B:C,2,0),\" \")","v":" "}]
[null,null,null,null,null,null,null,null,null,null,null,null,null,null,null,null,null,null,null,null,{"$f":"IFERROR(VLOOKUP(T765,Códigos!B:C,2,0),\" \")","v":" "}]
[null,null,null,null,null,null,null,null,null,null,null,null,null,null,null,null,null,null,null,null,{"$f":"IFERROR(VLOOKUP(T766,Códigos!B:C,2,0),\" \")","v":" "}]
[null,null,null,null,null,null,null,null,null,null,null,null,null,null,null,null,null,null,null,null,{"$f":"IFERROR(VLOOKUP(T767,Códigos!B:C,2,0),\" \")","v":" "}]
[null,null,null,null,null,null,null,null,null,null,null,null,null,null,null,null,null,null,null,null,{"$f":"IFERROR(VLOOKUP(T768,Códigos!B:C,2,0),\" \")","v":" "}]
[null,null,null,null,null,null,null,null,null,null,null,null,null,null,null,null,null,null,null,null,{"$f":"IFERROR(VLOOKUP(T769,Códigos!B:C,2,0),\" \")","v":" "}]
[null,null,null,null,null,null,null,null,null,null,null,null,null,null,null,null,null,null,null,null,{"$f":"IFERROR(VLOOKUP(T770,Códigos!B:C,2,0),\" \")","v":" "}]
[null,null,null,null,null,null,null,null,null,null,null,null,null,null,null,null,null,null,null,null,{"$f":"IFERROR(VLOOKUP(T771,Códigos!B:C,2,0),\" \")","v":" "}]
[null,null,null,null,null,null,null,null,null,null,null,null,null,null,null,null,null,null,null,null,{"$f":"IFERROR(VLOOKUP(T772,Códigos!B:C,2,0),\" \")","v":" "}]
[null,null,null,null,null,null,null,null,null,null,null,null,null,null,null,null,null,null,null,null,{"$f":"IFERROR(VLOOKUP(T773,Códigos!B:C,2,0),\" \")","v":" "}]
[null,null,null,null,null,null,null,null,null,null,null,null,null,null,null,null,null,null,null,null,{"$f":"IFERROR(VLOOKUP(T774,Códigos!B:C,2,0),\" \")","v":" "}]
[null,null,null,null,null,null,null,null,null,null,null,null,null,null,null,null,null,null,null,null,{"$f":"IFERROR(VLOOKUP(T775,Códigos!B:C,2,0),\" \")","v":" "}]
[null,null,null,null,null,null,null,null,null,null,null,null,null,null,null,null,null,null,null,null,{"$f":"IFERROR(VLOOKUP(T776,Códigos!B:C,2,0),\" \")","v":" "}]
[null,null,null,null,null,null,null,null,null,null,null,null,null,null,null,null,null,null,null,null,{"$f":"IFERROR(VLOOKUP(T777,Códigos!B:C,2,0),\" \")","v":" "}]
[null,null,null,null,null,null,null,null,null,null,null,null,null,null,null,null,null,null,null,null,{"$f":"IFERROR(VLOOKUP(T778,Códigos!B:C,2,0),\" \")","v":" "}]
[null,null,null,null,null,null,null,null,null,null,null,null,null,null,null,null,null,null,null,null,{"$f":"IFERROR(VLOOKUP(T779,Códigos!B:C,2,0),\" \")","v":" "}]
[null,null,null,null,null,null,null,null,null,null,null,null,null,null,null,null,null,null,null,null,{"$f":"IFERROR(VLOOKUP(T780,Códigos!B:C,2,0),\" \")","v":" "}]
[null,null,null,null,null,null,null,null,null,null,null,null,null,null,null,null,null,null,null,null,{"$f":"IFERROR(VLOOKUP(T781,Códigos!B:C,2,0),\" \")","v":" "}]
[null,null,null,null,null,null,null,null,null,null,null,null,null,null,null,null,null,null,null,null,{"$f":"IFERROR(VLOOKUP(T782,Códigos!B:C,2,0),\" \")","v":" "}]
[null,null,null,null,null,null,null,null,null,null,null,null,null,null,null,null,null,null,null,null,{"$f":"IFERROR(VLOOKUP(T783,Códigos!B:C,2,0),\" \")","v":" "}]
[null,null,null,null,null,null,null,null,null,null,null,null,null,null,null,null,null,null,null,null,{"$f":"IFERROR(VLOOKUP(T784,Códigos!B:C,2,0),\" \")","v":" "}]
[null,null,null,null,null,null,null,null,null,null,null,null,null,null,null,null,null,null,null,null,{"$f":"IFERROR(VLOOKUP(T785,Códigos!B:C,2,0),\" \")","v":" "}]
[null,null,null,null,null,null,null,null,null,null,null,null,null,null,null,null,null,null,null,null,{"$f":"IFERROR(VLOOKUP(T786,Códigos!B:C,2,0),\" \")","v":" "}]
[null,null,null,null,null,null,null,null,null,null,null,null,null,null,null,null,null,null,null,null,{"$f":"IFERROR(VLOOKUP(T787,Códigos!B:C,2,0),\" \")","v":" "}]
[null,null,null,null,null,null,null,null,null,null,null,null,null,null,null,null,null,null,null,null,{"$f":"IFERROR(VLOOKUP(T788,Códigos!B:C,2,0),\" \")","v":" "}]
[null,null,null,null,null,null,null,null,null,null,null,null,null,null,null,null,null,null,null,null,{"$f":"IFERROR(VLOOKUP(T789,Códigos!B:C,2,0),\" \")","v":" "}]
[null,null,null,null,null,null,null,null,null,null,null,null,null,null,null,null,null,null,null,null,{"$f":"IFERROR(VLOOKUP(T790,Códigos!B:C,2,0),\" \")","v":" "}]
[null,null,null,null,null,null,null,null,null,null,null,null,null,null,null,null,null,null,null,null,{"$f":"IFERROR(VLOOKUP(T791,Códigos!B:C,2,0),\" \")","v":" "}]
[null,null,null,null,null,null,null,null,null,null,null,null,null,null,null,null,null,null,null,null,{"$f":"IFERROR(VLOOKUP(T792,Códigos!B:C,2,0),\" \")","v":" "}]
[null,null,null,null,null,null,null,null,null,null,null,null,null,null,null,null,null,null,null,null,{"$f":"IFERROR(VLOOKUP(T793,Códigos!B:C,2,0),\" \")","v":" "}]
[null,null,null,null,null,null,null,null,null,null,null,null,null,null,null,null,null,null,null,null,{"$f":"IFERROR(VLOOKUP(T794,Códigos!B:C,2,0),\" \")","v":" "}]
[null,null,null,null,null,null,null,null,null,null,null,null,null,null,null,null,null,null,null,null,{"$f":"IFERROR(VLOOKUP(T795,Códigos!B:C,2,0),\" \")","v":" "}]
[null,null,null,null,null,null,null,null,null,null,null,null,null,null,null,null,null,null,null,null,{"$f":"IFERROR(VLOOKUP(T796,Códigos!B:C,2,0),\" \")","v":" "}]
[null,null,null,null,null,null,null,null,null,null,null,null,null,null,null,null,null,null,null,null,{"$f":"IFERROR(VLOOKUP(T797,Códigos!B:C,2,0),\" \")","v":" "}]
[null,null,null,null,null,null,null,null,null,null,null,null,null,null,null,null,null,null,null,null,{"$f":"IFERROR(VLOOKUP(T798,Códigos!B:C,2,0),\" \")","v":" "}]
[null,null,null,null,null,null,null,null,null,null,null,null,null,null,null,null,null,null,null,null,{"$f":"IFERROR(VLOOKUP(T799,Códigos!B:C,2,0),\" \")","v":" "}]
[null,null,null,null,null,null,null,null,null,null,null,null,null,null,null,null,null,null,null,null,{"$f":"IFERROR(VLOOKUP(T800,Códigos!B:C,2,0),\" \")","v":" "}]
[null,null,null,null,null,null,null,null,null,null,null,null,null,null,null,null,null,null,null,null,{"$f":"IFERROR(VLOOKUP(T801,Códigos!B:C,2,0),\" \")","v":" "}]
[null,null,null,null,null,null,null,null,null,null,null,null,null,null,null,null,null,null,null,null,{"$f":"IFERROR(VLOOKUP(T802,Códigos!B:C,2,0),\" \")","v":" "}]
[null,null,null,null,null,null,null,null,null,null,null,null,null,null,null,null,null,null,null,null,{"$f":"IFERROR(VLOOKUP(T803,Códigos!B:C,2,0),\" \")","v":" "}]
[null,null,null,null,null,null,null,null,null,null,null,null,null,null,null,null,null,null,null,null,{"$f":"IFERROR(VLOOKUP(T804,Códigos!B:C,2,0),\" \")","v":" "}]
[null,null,null,null,null,null,null,null,null,null,null,null,null,null,null,null,null,null,null,null,{"$f":"IFERROR(VLOOKUP(T805,Códigos!B:C,2,0),\" \")","v":" "}]
[null,null,null,null,null,null,null,null,null,null,null,null,null,null,null,null,null,null,null,null,{"$f":"IFERROR(VLOOKUP(T806,Códigos!B:C,2,0),\" \")","v":" "}]
[null,null,null,null,null,null,null,null,null,null,null,null,null,null,null,null,null,null,null,null,{"$f":"IFERROR(VLOOKUP(T807,Códigos!B:C,2,0),\" \")","v":" "}]
[null,null,null,null,null,null,null,null,null,null,null,null,null,null,null,null,null,null,null,null,{"$f":"IFERROR(VLOOKUP(T808,Códigos!B:C,2,0),\" \")","v":" "}]
[null,null,null,null,null,null,null,null,null,null,null,null,null,null,null,null,null,null,null,null,{"$f":"IFERROR(VLOOKUP(T809,Códigos!B:C,2,0),\" \")","v":" "}]
[null,null,null,null,null,null,null,null,null,null,null,null,null,null,null,null,null,null,null,null,{"$f":"IFERROR(VLOOKUP(T810,Códigos!B:C,2,0),\" \")","v":" "}]
[null,null,null,null,null,null,null,null,null,null,null,null,null,null,null,null,null,null,null,null,{"$f":"IFERROR(VLOOKUP(T811,Códigos!B:C,2,0),\" \")","v":" "}]
[null,null,null,null,null,null,null,null,null,null,null,null,null,null,null,null,null,null,null,null,{"$f":"IFERROR(VLOOKUP(T812,Códigos!B:C,2,0),\" \")","v":" "}]
[null,null,null,null,null,null,null,null,null,null,null,null,null,null,null,null,null,null,null,null,{"$f":"IFERROR(VLOOKUP(T813,Códigos!B:C,2,0),\" \")","v":" "}]
[null,null,null,null,null,null,null,null,null,null,null,null,null,null,null,null,null,null,null,null,{"$f":"IFERROR(VLOOKUP(T814,Códigos!B:C,2,0),\" \")","v":" "}]
[null,null,null,null,null,null,null,null,null,null,null,null,null,null,null,null,null,null,null,null,{"$f":"IFERROR(VLOOKUP(T815,Códigos!B:C,2,0),\" \")","v":" "}]
[null,null,null,null,null,null,null,null,null,null,null,null,null,null,null,null,null,null,null,null,{"$f":"IFERROR(VLOOKUP(T816,Códigos!B:C,2,0),\" \")","v":" "}]
[null,null,null,null,null,null,null,null,null,null,null,null,null,null,null,null,null,null,null,null,{"$f":"IFERROR(VLOOKUP(T817,Códigos!B:C,2,0),\" \")","v":" "}]
[null,null,null,null,null,null,null,null,null,null,null,null,null,null,null,null,null,null,null,null,{"$f":"IFERROR(VLOOKUP(T818,Códigos!B:C,2,0),\" \")","v":" "}]
[null,null,null,null,null,null,null,null,null,null,null,null,null,null,null,null,null,null,null,null,{"$f":"IFERROR(VLOOKUP(T819,Códigos!B:C,2,0),\" \")","v":" "}]
[null,null,null,null,null,null,null,null,null,null,null,null,null,null,null,null,null,null,null,null,{"$f":"IFERROR(VLOOKUP(T820,Códigos!B:C,2,0),\" \")","v":" "}]
[null,null,null,null,null,null,null,null,null,null,null,null,null,null,null,null,null,null,null,null,{"$f":"IFERROR(VLOOKUP(T821,Códigos!B:C,2,0),\" \")","v":" "}]
[null,null,null,null,null,null,null,null,null,null,null,null,null,null,null,null,null,null,null,null,{"$f":"IFERROR(VLOOKUP(T822,Códigos!B:C,2,0),\" \")","v":" "}]
[null,null,null,null,null,null,null,null,null,null,null,null,null,null,null,null,null,null,null,null,{"$f":"IFERROR(VLOOKUP(T823,Códigos!B:C,2,0),\" \")","v":" "}]
[null,null,null,null,null,null,null,null,null,null,null,null,null,null,null,null,null,null,null,null,{"$f":"IFERROR(VLOOKUP(T824,Códigos!B:C,2,0),\" \")","v":" "}]
[null,null,null,null,null,null,null,null,null,null,null,null,null,null,null,null,null,null,null,null,{"$f":"IFERROR(VLOOKUP(T825,Códigos!B:C,2,0),\" \")","v":" "}]
[null,null,null,null,null,null,null,null,null,null,null,null,null,null,null,null,null,null,null,null,{"$f":"IFERROR(VLOOKUP(T826,Códigos!B:C,2,0),\" \")","v":" "}]
[null,null,null,null,null,null,null,null,null,null,null,null,null,null,null,null,null,null,null,null,{"$f":"IFERROR(VLOOKUP(T827,Códigos!B:C,2,0),\" \")","v":" "}]
[null,null,null,null,null,null,null,null,null,null,null,null,null,null,null,null,null,null,null,null,{"$f":"IFERROR(VLOOKUP(T828,Códigos!B:C,2,0),\" \")","v":" "}]
[null,null,null,null,null,null,null,null,null,null,null,null,null,null,null,null,null,null,null,null,{"$f":"IFERROR(VLOOKUP(T829,Códigos!B:C,2,0),\" \")","v":" "}]
[null,null,null,null,null,null,null,null,null,null,null,null,null,null,null,null,null,null,null,null,{"$f":"IFERROR(VLOOKUP(T830,Códigos!B:C,2,0),\" \")","v":" "}]
[null,null,null,null,null,null,null,null,null,null,null,null,null,null,null,null,null,null,null,null,{"$f":"IFERROR(VLOOKUP(T831,Códigos!B:C,2,0),\" \")","v":" "}]
[null,null,null,null,null,null,null,null,null,null,null,null,null,null,null,null,null,null,null,null,{"$f":"IFERROR(VLOOKUP(T832,Códigos!B:C,2,0),\" \")","v":" "}]
[null,null,null,null,null,null,null,null,null,null,null,null,null,null,null,null,null,null,null,null,{"$f":"IFERROR(VLOOKUP(T833,Códigos!B:C,2,0),\" \")","v":" "}]
[null,null,null,null,null,null,null,null,null,null,null,null,null,null,null,null,null,null,null,null,{"$f":"IFERROR(VLOOKUP(T834,Códigos!B:C,2,0),\" \")","v":" "}]
[null,null,null,null,null,null,null,null,null,null,null,null,null,null,null,null,null,null,null,null,{"$f":"IFERROR(VLOOKUP(T835,Códigos!B:C,2,0),\" \")","v":" "}]
[null,null,null,null,null,null,null,null,null,null,null,null,null,null,null,null,null,null,null,null,{"$f":"IFERROR(VLOOKUP(T836,Códigos!B:C,2,0),\" \")","v":" "}]
[null,null,null,null,null,null,null,null,null,null,null,null,null,null,null,null,null,null,null,null,{"$f":"IFERROR(VLOOKUP(T837,Códigos!B:C,2,0),\" \")","v":" "}]
[null,null,null,null,null,null,null,null,null,null,null,null,null,null,null,null,null,null,null,null,{"$f":"IFERROR(VLOOKUP(T838,Códigos!B:C,2,0),\" \")","v":" "}]
[null,null,null,null,null,null,null,null,null,null,null,null,null,null,null,null,null,null,null,null,{"$f":"IFERROR(VLOOKUP(T839,Códigos!B:C,2,0),\" \")","v":" "}]
[null,null,null,null,null,null,null,null,null,null,null,null,null,null,null,null,null,null,null,null,{"$f":"IFERROR(VLOOKUP(T840,Códigos!B:C,2,0),\" \")","v":" "}]
[null,null,null,null,null,null,null,null,null,null,null,null,null,null,null,null,null,null,null,null,{"$f":"IFERROR(VLOOKUP(T841,Códigos!B:C,2,0),\" \")","v":" "}]
[null,null,null,null,null,null,null,null,null,null,null,null,null,null,null,null,null,null,null,null,{"$f":"IFERROR(VLOOKUP(T842,Códigos!B:C,2,0),\" \")","v":" "}]
[null,null,null,null,null,null,null,null,null,null,null,null,null,null,null,null,null,null,null,null,{"$f":"IFERROR(VLOOKUP(T843,Códigos!B:C,2,0),\" \")","v":" "}]
[null,null,null,null,null,null,null,null,null,null,null,null,null,null,null,null,null,null,null,null,{"$f":"IFERROR(VLOOKUP(T844,Códigos!B:C,2,0),\" \")","v":" "}]
[null,null,null,null,null,null,null,null,null,null,null,null,null,null,null,null,null,null,null,null,{"$f":"IFERROR(VLOOKUP(T845,Códigos!B:C,2,0),\" \")","v":" "}]
[null,null,null,null,null,null,null,null,null,null,null,null,null,null,null,null,null,null,null,null,{"$f":"IFERROR(VLOOKUP(T846,Códigos!B:C,2,0),\" \")","v":" "}]
[null,null,null,null,null,null,null,null,null,null,null,null,null,null,null,null,null,null,null,null,{"$f":"IFERROR(VLOOKUP(T847,Códigos!B:C,2,0),\" \")","v":" "}]
[null,null,null,null,null,null,null,null,null,null,null,null,null,null,null,null,null,null,null,null,{"$f":"IFERROR(VLOOKUP(T848,Códigos!B:C,2,0),\" \")","v":" "}]
[null,null,null,null,null,null,null,null,null,null,null,null,null,null,null,null,null,null,null,null,{"$f":"IFERROR(VLOOKUP(T849,Códigos!B:C,2,0),\" \")","v":" "}]
[null,null,null,null,null,null,null,null,null,null,null,null,null,null,null,null,null,null,null,null,{"$f":"IFERROR(VLOOKUP(T850,Códigos!B:C,2,0),\" \")","v":" "}]
[null,null,null,null,null,null,null,null,null,null,null,null,null,null,null,null,null,null,null,null,{"$f":"IFERROR(VLOOKUP(T851,Códigos!B:C,2,0),\" \")","v":" "}]
[null,null,null,null,null,null,null,null,null,null,null,null,null,null,null,null,null,null,null,null,{"$f":"IFERROR(VLOOKUP(T852,Códigos!B:C,2,0),\" \")","v":" "}]
[null,null,null,null,null,null,null,null,null,null,null,null,null,null,null,null,null,null,null,null,{"$f":"IFERROR(VLOOKUP(T853,Códigos!B:C,2,0),\" \")","v":" "}]
[null,null,null,null,null,null,null,null,null,null,null,null,null,null,null,null,null,null,null,null,{"$f":"IFERROR(VLOOKUP(T854,Códigos!B:C,2,0),\" \")","v":" "}]
[null,null,null,null,null,null,null,null,null,null,null,null,null,null,null,null,null,null,null,null,{"$f":"IFERROR(VLOOKUP(T855,Códigos!B:C,2,0),\" \")","v":" "}]
[null,null,null,null,null,null,null,null,null,null,null,null,null,null,null,null,null,null,null,null,{"$f":"IFERROR(VLOOKUP(T856,Códigos!B:C,2,0),\" \")","v":" "}]
[null,null,null,null,null,null,null,null,null,null,null,null,null,null,null,null,null,null,null,null,{"$f":"IFERROR(VLOOKUP(T857,Códigos!B:C,2,0),\" \")","v":" "}]
[null,null,null,null,null,null,null,null,null,null,null,null,null,null,null,null,null,null,null,null,{"$f":"IFERROR(VLOOKUP(T858,Códigos!B:C,2,0),\" \")","v":" "}]
[null,null,null,null,null,null,null,null,null,null,null,null,null,null,null,null,null,null,null,null,{"$f":"IFERROR(VLOOKUP(T859,Códigos!B:C,2,0),\" \")","v":" "}]
[null,null,null,null,null,null,null,null,null,null,null,null,null,null,null,null,null,null,null,null,{"$f":"IFERROR(VLOOKUP(T860,Códigos!B:C,2,0),\" \")","v":" "}]
[null,null,null,null,null,null,null,null,null,null,null,null,null,null,null,null,null,null,null,null,{"$f":"IFERROR(VLOOKUP(T861,Códigos!B:C,2,0),\" \")","v":" "}]
[null,null,null,null,null,null,null,null,null,null,null,null,null,null,null,null,null,null,null,null,{"$f":"IFERROR(VLOOKUP(T862,Códigos!B:C,2,0),\" \")","v":" "}]
[null,null,null,null,null,null,null,null,null,null,null,null,null,null,null,null,null,null,null,null,{"$f":"IFERROR(VLOOKUP(T863,Códigos!B:C,2,0),\" \")","v":" "}]
[null,null,null,null,null,null,null,null,null,null,null,null,null,null,null,null,null,null,null,null,{"$f":"IFERROR(VLOOKUP(T864,Códigos!B:C,2,0),\" \")","v":" "}]
[null,null,null,null,null,null,null,null,null,null,null,null,null,null,null,null,null,null,null,null,{"$f":"IFERROR(VLOOKUP(T865,Códigos!B:C,2,0),\" \")","v":" "}]
[null,null,null,null,null,null,null,null,null,null,null,null,null,null,null,null,null,null,null,null,{"$f":"IFERROR(VLOOKUP(T866,Códigos!B:C,2,0),\" \")","v":" "}]
[null,null,null,null,null,null,null,null,null,null,null,null,null,null,null,null,null,null,null,null,{"$f":"IFERROR(VLOOKUP(T867,Códigos!B:C,2,0),\" \")","v":" "}]
[null,null,null,null,null,null,null,null,null,null,null,null,null,null,null,null,null,null,null,null,{"$f":"IFERROR(VLOOKUP(T868,Códigos!B:C,2,0),\" \")","v":" "}]
[null,null,null,null,null,null,null,null,null,null,null,null,null,null,null,null,null,null,null,null,{"$f":"IFERROR(VLOOKUP(T869,Códigos!B:C,2,0),\" \")","v":" "}]
[null,null,null,null,null,null,null,null,null,null,null,null,null,null,null,null,null,null,null,null,{"$f":"IFERROR(VLOOKUP(T870,Códigos!B:C,2,0),\" \")","v":" "}]
[null,null,null,null,null,null,null,null,null,null,null,null,null,null,null,null,null,null,null,null,{"$f":"IFERROR(VLOOKUP(T871,Códigos!B:C,2,0),\" \")","v":" "}]
[null,null,null,null,null,null,null,null,null,null,null,null,null,null,null,null,null,null,null,null,{"$f":"IFERROR(VLOOKUP(T872,Códigos!B:C,2,0),\" \")","v":" "}]
[null,null,null,null,null,null,null,null,null,null,null,null,null,null,null,null,null,null,null,null,{"$f":"IFERROR(VLOOKUP(T873,Códigos!B:C,2,0),\" \")","v":" "}]
[null,null,null,null,null,null,null,null,null,null,null,null,null,null,null,null,null,null,null,null,{"$f":"IFERROR(VLOOKUP(T874,Códigos!B:C,2,0),\" \")","v":" "}]
[null,null,null,null,null,null,null,null,null,null,null,null,null,null,null,null,null,null,null,null,{"$f":"IFERROR(VLOOKUP(T875,Códigos!B:C,2,0),\" \")","v":" "}]
[null,null,null,null,null,null,null,null,null,null,null,null,null,null,null,null,null,null,null,null,{"$f":"IFERROR(VLOOKUP(T876,Códigos!B:C,2,0),\" \")","v":" "}]
[null,null,null,null,null,null,null,null,null,null,null,null,null,null,null,null,null,null,null,null,{"$f":"IFERROR(VLOOKUP(T877,Códigos!B:C,2,0),\" \")","v":" "}]
[null,null,null,null,null,null,null,null,null,null,null,null,null,null,null,null,null,null,null,null,{"$f":"IFERROR(VLOOKUP(T878,Códigos!B:C,2,0),\" \")","v":" "}]
[null,null,null,null,null,null,null,null,null,null,null,null,null,null,null,null,null,null,null,null,{"$f":"IFERROR(VLOOKUP(T879,Códigos!B:C,2,0),\" \")","v":" "}]
[null,null,null,null,null,null,null,null,null,null,null,null,null,null,null,null,null,null,null,null,{"$f":"IFERROR(VLOOKUP(T880,Códigos!B:C,2,0),\" \")","v":" "}]
[null,null,null,null,null,null,null,null,null,null,null,null,null,null,null,null,null,null,null,null,{"$f":"IFERROR(VLOOKUP(T881,Códigos!B:C,2,0),\" \")","v":" "}]
[null,null,null,null,null,null,null,null,null,null,null,null,null,null,null,null,null,null,null,null,{"$f":"IFERROR(VLOOKUP(T882,Códigos!B:C,2,0),\" \")","v":" "}]
[null,null,null,null,null,null,null,null,null,null,null,null,null,null,null,null,null,null,null,null,{"$f":"IFERROR(VLOOKUP(T883,Códigos!B:C,2,0),\" \")","v":" "}]
[null,null,null,null,null,null,null,null,null,null,null,null,null,null,null,null,null,null,null,null,{"$f":"IFERROR(VLOOKUP(T884,Códigos!B:C,2,0),\" \")","v":" "}]
[null,null,null,null,null,null,null,null,null,null,null,null,null,null,null,null,null,null,null,null,{"$f":"IFERROR(VLOOKUP(T885,Códigos!B:C,2,0),\" \")","v":" "}]
[null,null,null,null,null,null,null,null,null,null,null,null,null,null,null,null,null,null,null,null,{"$f":"IFERROR(VLOOKUP(T886,Códigos!B:C,2,0),\" \")","v":" "}]
[null,null,null,null,null,null,null,null,null,null,null,null,null,null,null,null,null,null,null,null,{"$f":"IFERROR(VLOOKUP(T887,Códigos!B:C,2,0),\" \")","v":" "}]
[null,null,null,null,null,null,null,null,null,null,null,null,null,null,null,null,null,null,null,null,{"$f":"IFERROR(VLOOKUP(T888,Códigos!B:C,2,0),\" \")","v":" "}]
[null,null,null,null,null,null,null,null,null,null,null,null,null,null,null,null,null,null,null,null,{"$f":"IFERROR(VLOOKUP(T889,Códigos!B:C,2,0),\" \")","v":" "}]
[null,null,null,null,null,null,null,null,null,null,null,null,null,null,null,null,null,null,null,null,{"$f":"IFERROR(VLOOKUP(T890,Códigos!B:C,2,0),\" \")","v":" "}]
[null,null,null,null,null,null,null,null,null,null,null,null,null,null,null,null,null,null,null,null,{"$f":"IFERROR(VLOOKUP(T891,Códigos!B:C,2,0),\" \")","v":" "}]
[null,null,null,null,null,null,null,null,null,null,null,null,null,null,null,null,null,null,null,null,{"$f":"IFERROR(VLOOKUP(T892,Códigos!B:C,2,0),\" \")","v":" "}]
[null,null,null,null,null,null,null,null,null,null,null,null,null,null,null,null,null,null,null,null,{"$f":"IFERROR(VLOOKUP(T893,Códigos!B:C,2,0),\" \")","v":" "}]
[null,null,null,null,null,null,null,null,null,null,null,null,null,null,null,null,null,null,null,null,{"$f":"IFERROR(VLOOKUP(T894,Códigos!B:C,2,0),\" \")","v":" "}]
[null,null,null,null,null,null,null,null,null,null,null,null,null,null,null,null,null,null,null,null,{"$f":"IFERROR(VLOOKUP(T895,Códigos!B:C,2,0),\" \")","v":" "}]
[null,null,null,null,null,null,null,null,null,null,null,null,null,null,null,null,null,null,null,null,{"$f":"IFERROR(VLOOKUP(T896,Códigos!B:C,2,0),\" \")","v":" "}]
[null,null,null,null,null,null,null,null,null,null,null,null,null,null,null,null,null,null,null,null,{"$f":"IFERROR(VLOOKUP(T897,Códigos!B:C,2,0),\" \")","v":" "}]
[null,null,null,null,null,null,null,null,null,null,null,null,null,null,null,null,null,null,null,null,{"$f":"IFERROR(VLOOKUP(T898,Códigos!B:C,2,0),\" \")","v":" "}]
[null,null,null,null,null,null,null,null,null,null,null,null,null,null,null,null,null,null,null,null,{"$f":"IFERROR(VLOOKUP(T899,Códigos!B:C,2,0),\" \")","v":" "}]
[null,null,null,null,null,null,null,null,null,null,null,null,null,null,null,null,null,null,null,null,{"$f":"IFERROR(VLOOKUP(T900,Códigos!B:C,2,0),\" \")","v":" "}]
[null,null,null,null,null,null,null,null,null,null,null,null,null,null,null,null,null,null,null,null,{"$f":"IFERROR(VLOOKUP(T901,Códigos!B:C,2,0),\" \")","v":" "}]
[null,null,null,null,null,null,null,null,null,null,null,null,null,null,null,null,null,null,null,null,{"$f":"IFERROR(VLOOKUP(T902,Códigos!B:C,2,0),\" \")","v":" "}]
[null,null,null,null,null,null,null,null,null,null,null,null,null,null,null,null,null,null,null,null,{"$f":"IFERROR(VLOOKUP(T903,Códigos!B:C,2,0),\" \")","v":" "}]
[null,null,null,null,null,null,null,null,null,null,null,null,null,null,null,null,null,null,null,null,{"$f":"IFERROR(VLOOKUP(T904,Códigos!B:C,2,0),\" \")","v":" "}]
[null,null,null,null,null,null,null,null,null,null,null,null,null,null,null,null,null,null,null,null,{"$f":"IFERROR(VLOOKUP(T905,Códigos!B:C,2,0),\" \")","v":" "}]
[null,null,null,null,null,null,null,null,null,null,null,null,null,null,null,null,null,null,null,null,{"$f":"IFERROR(VLOOKUP(T906,Códigos!B:C,2,0),\" \")","v":" "}]
[null,null,null,null,null,null,null,null,null,null,null,null,null,null,null,null,null,null,null,null,{"$f":"IFERROR(VLOOKUP(T907,Códigos!B:C,2,0),\" \")","v":" "}]
[null,null,null,null,null,null,null,null,null,null,null,null,null,null,null,null,null,null,null,null,{"$f":"IFERROR(VLOOKUP(T908,Códigos!B:C,2,0),\" \")","v":" "}]
[null,null,null,null,null,null,null,null,null,null,null,null,null,null,null,null,null,null,null,null,{"$f":"IFERROR(VLOOKUP(T909,Códigos!B:C,2,0),\" \")","v":" "}]
[null,null,null,null,null,null,null,null,null,null,null,null,null,null,null,null,null,null,null,null,{"$f":"IFERROR(VLOOKUP(T910,Códigos!B:C,2,0),\" \")","v":" "}]
[null,null,null,null,null,null,null,null,null,null,null,null,null,null,null,null,null,null,null,null,{"$f":"IFERROR(VLOOKUP(T911,Códigos!B:C,2,0),\" \")","v":" "}]
[null,null,null,null,null,null,null,null,null,null,null,null,null,null,null,null,null,null,null,null,{"$f":"IFERROR(VLOOKUP(T912,Códigos!B:C,2,0),\" \")","v":" "}]
[null,null,null,null,null,null,null,null,null,null,null,null,null,null,null,null,null,null,null,null,{"$f":"IFERROR(VLOOKUP(T913,Códigos!B:C,2,0),\" \")","v":" "}]
[null,null,null,null,null,null,null,null,null,null,null,null,null,null,null,null,null,null,null,null,{"$f":"IFERROR(VLOOKUP(T914,Códigos!B:C,2,0),\" \")","v":" "}]
[null,null,null,null,null,null,null,null,null,null,null,null,null,null,null,null,null,null,null,null,{"$f":"IFERROR(VLOOKUP(T915,Códigos!B:C,2,0),\" \")","v":" "}]
[null,null,null,null,null,null,null,null,null,null,null,null,null,null,null,null,null,null,null,null,{"$f":"IFERROR(VLOOKUP(T916,Códigos!B:C,2,0),\" \")","v":" "}]
[null,null,null,null,null,null,null,null,null,null,null,null,null,null,null,null,null,null,null,null,{"$f":"IFERROR(VLOOKUP(T917,Códigos!B:C,2,0),\" \")","v":" "}]
[null,null,null,null,null,null,null,null,null,null,null,null,null,null,null,null,null,null,null,null,{"$f":"IFERROR(VLOOKUP(T918,Códigos!B:C,2,0),\" \")","v":" "}]
[null,null,null,null,null,null,null,null,null,null,null,null,null,null,null,null,null,null,null,null,{"$f":"IFERROR(VLOOKUP(T919,Códigos!B:C,2,0),\" \")","v":" "}]
[null,null,null,null,null,null,null,null,null,null,null,null,null,null,null,null,null,null,null,null,{"$f":"IFERROR(VLOOKUP(T920,Códigos!B:C,2,0),\" \")","v":" "}]
[null,null,null,null,null,null,null,null,null,null,null,null,null,null,null,null,null,null,null,null,{"$f":"IFERROR(VLOOKUP(T921,Códigos!B:C,2,0),\" \")","v":" "}]
[null,null,null,null,null,null,null,null,null,null,null,null,null,null,null,null,null,null,null,null,{"$f":"IFERROR(VLOOKUP(T922,Códigos!B:C,2,0),\" \")","v":" "}]
[null,null,null,null,null,null,null,null,null,null,null,null,null,null,null,null,null,null,null,null,{"$f":"IFERROR(VLOOKUP(T923,Códigos!B:C,2,0),\" \")","v":" "}]
[null,null,null,null,null,null,null,null,null,null,null,null,null,null,null,null,null,null,null,null,{"$f":"IFERROR(VLOOKUP(T924,Códigos!B:C,2,0),\" \")","v":" "}]
[null,null,null,null,null,null,null,null,null,null,null,null,null,null,null,null,null,null,null,null,{"$f":"IFERROR(VLOOKUP(T925,Códigos!B:C,2,0),\" \")","v":" "}]
[null,null,null,null,null,null,null,null,null,null,null,null,null,null,null,null,null,null,null,null,{"$f":"IFERROR(VLOOKUP(T926,Códigos!B:C,2,0),\" \")","v":" "}]
[null,null,null,null,null,null,null,null,null,null,null,null,null,null,null,null,null,null,null,null,{"$f":"IFERROR(VLOOKUP(T927,Códigos!B:C,2,0),\" \")","v":" "}]
[null,null,null,null,null,null,null,null,null,null,null,null,null,null,null,null,null,null,null,null,{"$f":"IFERROR(VLOOKUP(T928,Códigos!B:C,2,0),\" \")","v":" "}]
[null,null,null,null,null,null,null,null,null,null,null,null,null,null,null,null,null,null,null,null,{"$f":"IFERROR(VLOOKUP(T929,Códigos!B:C,2,0),\" \")","v":" "}]
[null,null,null,null,null,null,null,null,null,null,null,null,null,null,null,null,null,null,null,null,{"$f":"IFERROR(VLOOKUP(T930,Códigos!B:C,2,0),\" \")","v":" "}]
[null,null,null,null,null,null,null,null,null,null,null,null,null,null,null,null,null,null,null,null,{"$f":"IFERROR(VLOOKUP(T931,Códigos!B:C,2,0),\" \")","v":" "}]
[null,null,null,null,null,null,null,null,null,null,null,null,null,null,null,null,null,null,null,null,{"$f":"IFERROR(VLOOKUP(T932,Códigos!B:C,2,0),\" \")","v":" "}]
[null,null,null,null,null,null,null,null,null,null,null,null,null,null,null,null,null,null,null,null,{"$f":"IFERROR(VLOOKUP(T933,Códigos!B:C,2,0),\" \")","v":" "}]
[null,null,null,null,null,null,null,null,null,null,null,null,null,null,null,null,null,null,null,null,{"$f":"IFERROR(VLOOKUP(T934,Códigos!B:C,2,0),\" \")","v":" "}]
[null,null,null,null,null,null,null,null,null,null,null,null,null,null,null,null,null,null,null,null,{"$f":"IFERROR(VLOOKUP(T935,Códigos!B:C,2,0),\" \")","v":" "}]
[null,null,null,null,null,null,null,null,null,null,null,null,null,null,null,null,null,null,null,null,{"$f":"IFERROR(VLOOKUP(T936,Códigos!B:C,2,0),\" \")","v":" "}]
[null,null,null,null,null,null,null,null,null,null,null,null,null,null,null,null,null,null,null,null,{"$f":"IFERROR(VLOOKUP(T937,Códigos!B:C,2,0),\" \")","v":" "}]
[null,null,null,null,null,null,null,null,null,null,null,null,null,null,null,null,null,null,null,null,{"$f":"IFERROR(VLOOKUP(T938,Códigos!B:C,2,0),\" \")","v":" "}]
[null,null,null,null,null,null,null,null,null,null,null,null,null,null,null,null,null,null,null,null,{"$f":"IFERROR(VLOOKUP(T939,Códigos!B:C,2,0),\" \")","v":" "}]
[null,null,null,null,null,null,null,null,null,null,null,null,null,null,null,null,null,null,null,null,{"$f":"IFERROR(VLOOKUP(T940,Códigos!B:C,2,0),\" \")","v":" "}]
[null,null,null,null,null,null,null,null,null,null,null,null,null,null,null,null,null,null,null,null,{"$f":"IFERROR(VLOOKUP(T941,Códigos!B:C,2,0),\" \")","v":" "}]
[null,null,null,null,null,null,null,null,null,null,null,null,null,null,null,null,null,null,null,null,{"$f":"IFERROR(VLOOKUP(T942,Códigos!B:C,2,0),\" \")","v":" "}]
[null,null,null,null,null,null,null,null,null,null,null,null,null,null,null,null,null,null,null,null,{"$f":"IFERROR(VLOOKUP(T943,Códigos!B:C,2,0),\" \")","v":" "}]
[null,null,null,null,null,null,null,null,null,null,null,null,null,null,null,null,null,null,null,null,{"$f":"IFERROR(VLOOKUP(T944,Códigos!B:C,2,0),\" \")","v":" "}]
[null,null,null,null,null,null,null,null,null,null,null,null,null,null,null,null,null,null,null,null,{"$f":"IFERROR(VLOOKUP(T945,Códigos!B:C,2,0),\" \")","v":" "}]
[null,null,null,null,null,null,null,null,null,null,null,null,null,null,null,null,null,null,null,null,{"$f":"IFERROR(VLOOKUP(T946,Códigos!B:C,2,0),\" \")","v":" "}]
[null,null,null,null,null,null,null,null,null,null,null,null,null,null,null,null,null,null,null,null,{"$f":"IFERROR(VLOOKUP(T947,Códigos!B:C,2,0),\" \")","v":" "}]
[null,null,null,null,null,null,null,null,null,null,null,null,null,null,null,null,null,null,null,null,{"$f":"IFERROR(VLOOKUP(T948,Códigos!B:C,2,0),\" \")","v":" "}]
[null,null,null,null,null,null,null,null,null,null,null,null,null,null,null,null,null,null,null,null,{"$f":"IFERROR(VLOOKUP(T949,Códigos!B:C,2,0),\" \")","v":" "}]
[null,null,null,null,null,null,null,null,null,null,null,null,null,null,null,null,null,null,null,null,{"$f":"IFERROR(VLOOKUP(T950,Códigos!B:C,2,0),\" \")","v":" "}]
[null,null,null,null,null,null,null,null,null,null,null,null,null,null,null,null,null,null,null,null,{"$f":"IFERROR(VLOOKUP(T951,Códigos!B:C,2,0),\" \")","v":" "}]
[null,null,null,null,null,null,null,null,null,null,null,null,null,null,null,null,null,null,null,null,{"$f":"IFERROR(VLOOKUP(T952,Códigos!B:C,2,0),\" \")","v":" "}]
[null,null,null,null,null,null,null,null,null,null,null,null,null,null,null,null,null,null,null,null,{"$f":"IFERROR(VLOOKUP(T953,Códigos!B:C,2,0),\" \")","v":" "}]
[null,null,null,null,null,null,null,null,null,null,null,null,null,null,null,null,null,null,null,null,{"$f":"IFERROR(VLOOKUP(T954,Códigos!B:C,2,0),\" \")","v":" "}]
[null,null,null,null,null,null,null,null,null,null,null,null,null,null,null,null,null,null,null,null,{"$f":"IFERROR(VLOOKUP(T955,Códigos!B:C,2,0),\" \")","v":" "}]
[null,null,null,null,null,null,null,null,null,null,null,null,null,null,null,null,null,null,null,null,{"$f":"IFERROR(VLOOKUP(T956,Códigos!B:C,2,0),\" \")","v":" "}]
[null,null,null,null,null,null,null,null,null,null,null,null,null,null,null,null,null,null,null,null,{"$f":"IFERROR(VLOOKUP(T957,Códigos!B:C,2,0),\" \")","v":" "}]
[null,null,null,null,null,null,null,null,null,null,null,null,null,null,null,null,null,null,null,null,{"$f":"IFERROR(VLOOKUP(T958,Códigos!B:C,2,0),\" \")","v":" "}]
[null,null,null,null,null,null,null,null,null,null,null,null,null,null,null,null,null,null,null,null,{"$f":"IFERROR(VLOOKUP(T959,Códigos!B:C,2,0),\" \")","v":" "}]
[null,null,null,null,null,null,null,null,null,null,null,null,null,null,null,null,null,null,null,null,{"$f":"IFERROR(VLOOKUP(T960,Códigos!B:C,2,0),\" \")","v":" "}]
[null,null,null,null,null,null,null,null,null,null,null,null,null,null,null,null,null,null,null,null,{"$f":"IFERROR(VLOOKUP(T961,Códigos!B:C,2,0),\" \")","v":" "}]
[null,null,null,null,null,null,null,null,null,null,null,null,null,null,null,null,null,null,null,null,{"$f":"IFERROR(VLOOKUP(T962,Códigos!B:C,2,0),\" \")","v":" "}]
[null,null,null,null,null,null,null,null,null,null,null,null,null,null,null,null,null,null,null,null,{"$f":"IFERROR(VLOOKUP(T963,Códigos!B:C,2,0),\" \")","v":" "}]
[null,null,null,null,null,null,null,null,null,null,null,null,null,null,null,null,null,null,null,null,{"$f":"IFERROR(VLOOKUP(T964,Códigos!B:C,2,0),\" \")","v":" "}]
[null,null,null,null,null,null,null,null,null,null,null,null,null,null,null,null,null,null,null,null,{"$f":"IFERROR(VLOOKUP(T965,Códigos!B:C,2,0),\" \")","v":" "}]
[null,null,null,null,null,null,null,null,null,null,null,null,null,null,null,null,null,null,null,null,{"$f":"IFERROR(VLOOKUP(T966,Códigos!B:C,2,0),\" \")","v":" "}]
[null,null,null,null,null,null,null,null,null,null,null,null,null,null,null,null,null,null,null,null,{"$f":"IFERROR(VLOOKUP(T967,Códigos!B:C,2,0),\" \")","v":" "}]
[null,null,null,null,null,null,null,null,null,null,null,null,null,null,null,null,null,null,null,null,{"$f":"IFERROR(VLOOKUP(T968,Códigos!B:C,2,0),\" \")","v":" "}]
[null,null,null,null,null,null,null,null,null,null,null,null,null,null,null,null,null,null,null,null,{"$f":"IFERROR(VLOOKUP(T969,Códigos!B:C,2,0),\" \")","v":" "}]
[null,null,null,null,null,null,null,null,null,null,null,null,null,null,null,null,null,null,null,null,{"$f":"IFERROR(VLOOKUP(T970,Códigos!B:C,2,0),\" \")","v":" "}]
[null,null,null,null,null,null,null,null,null,null,null,null,null,null,null,null,null,null,null,null,{"$f":"IFERROR(VLOOKUP(T971,Códigos!B:C,2,0),\" \")","v":" "}]
[null,null,null,null,null,null,null,null,null,null,null,null,null,null,null,null,null,null,null,null,{"$f":"IFERROR(VLOOKUP(T972,Códigos!B:C,2,0),\" \")","v":" "}]
[null,null,null,null,null,null,null,null,null,null,null,null,null,null,null,null,null,null,null,null,{"$f":"IFERROR(VLOOKUP(T973,Códigos!B:C,2,0),\" \")","v":" "}]
[null,null,null,null,null,null,null,null,null,null,null,null,null,null,null,null,null,null,null,null,{"$f":"IFERROR(VLOOKUP(T974,Códigos!B:C,2,0),\" \")","v":" "}]
[null,null,null,null,null,null,null,null,null,null,null,null,null,null,null,null,null,null,null,null,{"$f":"IFERROR(VLOOKUP(T975,Códigos!B:C,2,0),\" \")","v":" "}]
[null,null,null,null,null,null,null,null,null,null,null,null,null,null,null,null,null,null,null,null,{"$f":"IFERROR(VLOOKUP(T976,Códigos!B:C,2,0),\" \")","v":" "}]
[null,null,null,null,null,null,null,null,null,null,null,null,null,null,null,null,null,null,null,null,{"$f":"IFERROR(VLOOKUP(T977,Códigos!B:C,2,0),\" \")","v":" "}]
[null,null,null,null,null,null,null,null,null,null,null,null,null,null,null,null,null,null,null,null,{"$f":"IFERROR(VLOOKUP(T978,Códigos!B:C,2,0),\" \")","v":" "}]
[null,null,null,null,null,null,null,null,null,null,null,null,null,null,null,null,null,null,null,null,{"$f":"IFERROR(VLOOKUP(T979,Códigos!B:C,2,0),\" \")","v":" "}]
[null,null,null,null,null,null,null,null,null,null,null,null,null,null,null,null,null,null,null,null,{"$f":"IFERROR(VLOOKUP(T980,Códigos!B:C,2,0),\" \")","v":" "}]
[null,null,null,null,null,null,null,null,null,null,null,null,null,null,null,null,null,null,null,null,{"$f":"IFERROR(VLOOKUP(T981,Códigos!B:C,2,0),\" \")","v":" "}]
[null,null,null,null,null,null,null,null,null,null,null,null,null,null,null,null,null,null,null,null,{"$f":"IFERROR(VLOOKUP(T982,Códigos!B:C,2,0),\" \")","v":" "}]
[null,null,null,null,null,null,null,null,null,null,null,null,null,null,null,null,null,null,null,null,{"$f":"IFERROR(VLOOKUP(T983,Códigos!B:C,2,0),\" \")","v":" "}]
[null,null,null,null,null,null,null,null,null,null,null,null,null,null,null,null,null,null,null,null,{"$f":"IFERROR(VLOOKUP(T984,Códigos!B:C,2,0),\" \")","v":" "}]
[null,null,null,null,null,null,null,null,null,null,null,null,null,null,null,null,null,null,null,null,{"$f":"IFERROR(VLOOKUP(T985,Códigos!B:C,2,0),\" \")","v":" "}]
[null,null,null,null,null,null,null,null,null,null,null,null,null,null,null,null,null,null,null,null,{"$f":"IFERROR(VLOOKUP(T986,Códigos!B:C,2,0),\" \")","v":" "}]
[null,null,null,null,null,null,null,null,null,null,null,null,null,null,null,null,null,null,null,null,{"$f":"IFERROR(VLOOKUP(T987,Códigos!B:C,2,0),\" \")","v":" "}]
[null,null,null,null,null,null,null,null,null,null,null,null,null,null,null,null,null,null,null,null,{"$f":"IFERROR(VLOOKUP(T988,Códigos!B:C,2,0),\" \")","v":" "}]
[null,null,null,null,null,null,null,null,null,null,null,null,null,null,null,null,null,null,null,null,{"$f":"IFERROR(VLOOKUP(T989,Códigos!B:C,2,0),\" \")","v":" "}]
[null,null,null,null,null,null,null,null,null,null,null,null,null,null,null,null,null,null,null,null,{"$f":"IFERROR(VLOOKUP(T990,Códigos!B:C,2,0),\" \")","v":" "}]
[null,null,null,null,null,null,null,null,null,null,null,null,null,null,null,null,null,null,null,null,{"$f":"IFERROR(VLOOKUP(T991,Códigos!B:C,2,0),\" \")","v":" "}]
[null,null,null,null,null,null,null,null,null,null,null,null,null,null,null,null,null,null,null,null,{"$f":"IFERROR(VLOOKUP(T992,Códigos!B:C,2,0),\" \")","v":" "}]
[null,null,null,null,null,null,null,null,null,null,null,null,null,null,null,null,null,null,null,null,{"$f":"IFERROR(VLOOKUP(T993,Códigos!B:C,2,0),\" \")","v":" "}]
[null,null,null,null,null,null,null,null,null,null,null,null,null,null,null,null,null,null,null,null,{"$f":"IFERROR(VLOOKUP(T994,Códigos!B:C,2,0),\" \")","v":" "}]
[null,null,null,null,null,null,null,null,null,null,null,null,null,null,null,null,null,null,null,null,{"$f":"IFERROR(VLOOKUP(T995,Códigos!B:C,2,0),\" \")","v":" "}]
[null,null,null,null,null,null,null,null,null,null,null,null,null,null,null,null,null,null,null,null,{"$f":"IFERROR(VLOOKUP(T996,Códigos!B:C,2,0),\" \")","v":" "}]
[null,null,null,null,null,null,null,null,null,null,null,null,null,null,null,null,null,null,null,null,{"$f":"IFERROR(VLOOKUP(T997,Códigos!B:C,2,0),\" \")","v":" "}]
[null,null,null,null,null,null,null,null,null,null,null,null,null,null,null,null,null,null,null,null,{"$f":"IFERROR(VLOOKUP(T998,Códigos!B:C,2,0),\" \")","v":" "}]
[null,null,null,null,null,null,null,null,null,null,null,null,null,null,null,null,null,null,null,null,{"$f":"IFERROR(VLOOKUP(T999,Códigos!B:C,2,0),\" \")","v":" "}]
[null,null,null,null,null,null,null,null,null,null,null,null,null,null,null,null,null,null,null,null,{"$f":"IFERROR(VLOOKUP(T1000,Códigos!B:C,2,0),\" \")","v":" "}]
[null,null,null,null,null,null,null,null,null,null,null,null,null,null,null,null,null,null,null,null,{"$f":"IFERROR(VLOOKUP(T1001,Códigos!B:C,2,0),\" \")","v":" "}]
[null,null,null,null,null,null,null,null,null,null,null,null,null,null,null,null,null,null,null,null,{"$f":"IFERROR(VLOOKUP(T1002,Códigos!B:C,2,0),\" \")","v":" "}]
[null,null,null,null,null,null,null,null,null,null,null,null,null,null,null,null,null,null,null,null,{"$f":"IFERROR(VLOOKUP(T1003,Códigos!B:C,2,0),\" \")","v":" "}]
[null,null,null,null,null,null,null,null,null,null,null,null,null,null,null,null,null,null,null,null,{"$f":"IFERROR(VLOOKUP(T1004,Códigos!B:C,2,0),\" \")","v":" "}]
[null,null,null,null,null,null,null,null,null,null,null,null,null,null,null,null,null,null,null,null,{"$f":"IFERROR(VLOOKUP(T1005,Códigos!B:C,2,0),\" \")","v":" "}]
[null,null,null,null,null,null,null,null,null,null,null,null,null,null,null,null,null,null,null,null,{"$f":"IFERROR(VLOOKUP(T1006,Códigos!B:C,2,0),\" \")","v":" "}]
[null,null,null,null,null,null,null,null,null,null,null,null,null,null,null,null,null,null,null,null,{"$f":"IFERROR(VLOOKUP(T1007,Códigos!B:C,2,0),\" \")","v":" "}]
[null,null,null,null,null,null,null,null,null,null,null,null,null,null,null,null,null,null,null,null,{"$f":"IFERROR(VLOOKUP(T1008,Códigos!B:C,2,0),\" \")","v":" "}]
[null,null,null,null,null,null,null,null,null,null,null,null,null,null,null,null,null,null,null,null,{"$f":"IFERROR(VLOOKUP(T1009,Códigos!B:C,2,0),\" \")","v":" "}]
[null,null,null,null,null,null,null,null,null,null,null,null,null,null,null,null,null,null,null,null,{"$f":"IFERROR(VLOOKUP(T1010,Códigos!B:C,2,0),\" \")","v":" "}]
[null,null,null,null,null,null,null,null,null,null,null,null,null,null,null,null,null,null,null,null,{"$f":"IFERROR(VLOOKUP(T1011,Códigos!B:C,2,0),\" \")","v":" "}]
[null,null,null,null,null,null,null,null,null,null,null,null,null,null,null,null,null,null,null,null,{"$f":"IFERROR(VLOOKUP(T1012,Códigos!B:C,2,0),\" \")","v":" "}]
[null,null,null,null,null,null,null,null,null,null,null,null,null,null,null,null,null,null,null,null,{"$f":"IFERROR(VLOOKUP(T1013,Códigos!B:C,2,0),\" \")","v":" "}]
[null,null,null,null,null,null,null,null,null,null,null,null,null,null,null,null,null,null,null,null,{"$f":"IFERROR(VLOOKUP(T1014,Códigos!B:C,2,0),\" \")","v":" "}]
[null,null,null,null,null,null,null,null,null,null,null,null,null,null,null,null,null,null,null,null,{"$f":"IFERROR(VLOOKUP(T1015,Códigos!B:C,2,0),\" \")","v":" "}]
[null,null,null,null,null,null,null,null,null,null,null,null,null,null,null,null,null,null,null,null,{"$f":"IFERROR(VLOOKUP(T1016,Códigos!B:C,2,0),\" \")","v":" "}]
[null,null,null,null,null,null,null,null,null,null,null,null,null,null,null,null,null,null,null,null,{"$f":"IFERROR(VLOOKUP(T1017,Códigos!B:C,2,0),\" \")","v":" "}]
[null,null,null,null,null,null,null,null,null,null,null,null,null,null,null,null,null,null,null,null,{"$f":"IFERROR(VLOOKUP(T1018,Códigos!B:C,2,0),\" \")","v":" "}]
[null,null,null,null,null,null,null,null,null,null,null,null,null,null,null,null,null,null,null,null,{"$f":"IFERROR(VLOOKUP(T1019,Códigos!B:C,2,0),\" \")","v":" "}]
[null,null,null,null,null,null,null,null,null,null,null,null,null,null,null,null,null,null,null,null,{"$f":"IFERROR(VLOOKUP(T1020,Códigos!B:C,2,0),\" \")","v":" "}]
[null,null,null,null,null,null,null,null,null,null,null,null,null,null,null,null,null,null,null,null,{"$f":"IFERROR(VLOOKUP(T1021,Códigos!B:C,2,0),\" \")","v":" "}]
[null,null,null,null,null,null,null,null,null,null,null,null,null,null,null,null,null,null,null,null,{"$f":"IFERROR(VLOOKUP(T1022,Códigos!B:C,2,0),\" \")","v":" "}]
[null,null,null,null,null,null,null,null,null,null,null,null,null,null,null,null,null,null,null,null,{"$f":"IFERROR(VLOOKUP(T1023,Códigos!B:C,2,0),\" \")","v":" "}]
[null,null,null,null,null,null,null,null,null,null,null,null,null,null,null,null,null,null,null,null,{"$f":"IFERROR(VLOOKUP(T1024,Códigos!B:C,2,0),\" \")","v":" "}]
[null,null,null,null,null,null,null,null,null,null,null,null,null,null,null,null,null,null,null,null,{"$f":"IFERROR(VLOOKUP(T1025,Códigos!B:C,2,0),\" \")","v":" "}]
[null,null,null,null,null,null,null,null,null,null,null,null,null,null,null,null,null,null,null,null,{"$f":"IFERROR(VLOOKUP(T1026,Códigos!B:C,2,0),\" \")","v":" "}]
[null,null,null,null,null,null,null,null,null,null,null,null,null,null,null,null,null,null,null,null,{"$f":"IFERROR(VLOOKUP(T1027,Códigos!B:C,2,0),\" \")","v":" "}]
[null,null,null,null,null,null,null,null,null,null,null,null,null,null,null,null,null,null,null,null,{"$f":"IFERROR(VLOOKUP(T1028,Códigos!B:C,2,0),\" \")","v":" "}]
[null,null,null,null,null,null,null,null,null,null,null,null,null,null,null,null,null,null,null,null,{"$f":"IFERROR(VLOOKUP(T1029,Códigos!B:C,2,0),\" \")","v":" "}]
[null,null,null,null,null,null,null,null,null,null,null,null,null,null,null,null,null,null,null,null,{"$f":"IFERROR(VLOOKUP(T1030,Códigos!B:C,2,0),\" \")","v":" "}]
[null,null,null,null,null,null,null,null,null,null,null,null,null,null,null,null,null,null,null,null,{"$f":"IFERROR(VLOOKUP(T1031,Códigos!B:C,2,0),\" \")","v":" "}]
[null,null,null,null,null,null,null,null,null,null,null,null,null,null,null,null,null,null,null,null,{"$f":"IFERROR(VLOOKUP(T1032,Códigos!B:C,2,0),\" \")","v":" "}]
[null,null,null,null,null,null,null,null,null,null,null,null,null,null,null,null,null,null,null,null,{"$f":"IFERROR(VLOOKUP(T1033,Códigos!B:C,2,0),\" \")","v":" "}]
[null,null,null,null,null,null,null,null,null,null,null,null,null,null,null,null,null,null,null,null,{"$f":"IFERROR(VLOOKUP(T1034,Códigos!B:C,2,0),\" \")","v":" "}]
[null,null,null,null,null,null,null,null,null,null,null,null,null,null,null,null,null,null,null,null,{"$f":"IFERROR(VLOOKUP(T1035,Códigos!B:C,2,0),\" \")","v":" "}]
[null,null,null,null,null,null,null,null,null,null,null,null,null,null,null,null,null,null,null,null,{"$f":"IFERROR(VLOOKUP(T1036,Códigos!B:C,2,0),\" \")","v":" "}]
[null,null,null,null,null,null,null,null,null,null,null,null,null,null,null,null,null,null,null,null,{"$f":"IFERROR(VLOOKUP(T1037,Códigos!B:C,2,0),\" \")","v":" "}]
[null,null,null,null,null,null,null,null,null,null,null,null,null,null,null,null,null,null,null,null,{"$f":"IFERROR(VLOOKUP(T1038,Códigos!B:C,2,0),\" \")","v":" "}]
[null,null,null,null,null,null,null,null,null,null,null,null,null,null,null,null,null,null,null,null,{"$f":"IFERROR(VLOOKUP(T1039,Códigos!B:C,2,0),\" \")","v":" "}]
[null,null,null,null,null,null,null,null,null,null,null,null,null,null,null,null,null,null,null,null,{"$f":"IFERROR(VLOOKUP(T1040,Códigos!B:C,2,0),\" \")","v":" "}]
[null,null,null,null,null,null,null,null,null,null,null,null,null,null,null,null,null,null,null,null,{"$f":"IFERROR(VLOOKUP(T1041,Códigos!B:C,2,0),\" \")","v":" "}]
[null,null,null,null,null,null,null,null,null,null,null,null,null,null,null,null,null,null,null,null,{"$f":"IFERROR(VLOOKUP(T1042,Códigos!B:C,2,0),\" \")","v":" "}]
[null,null,null,null,null,null,null,null,null,null,null,null,null,null,null,null,null,null,null,null,{"$f":"IFERROR(VLOOKUP(T1043,Códigos!B:C,2,0),\" \")","v":" "}]
[null,null,null,null,null,null,null,null,null,null,null,null,null,null,null,null,null,null,null,null,{"$f":"IFERROR(VLOOKUP(T1044,Códigos!B:C,2,0),\" \")","v":" "}]
[null,null,null,null,null,null,null,null,null,null,null,null,null,null,null,null,null,null,null,null,{"$f":"IFERROR(VLOOKUP(T1045,Códigos!B:C,2,0),\" \")","v":" "}]
[null,null,null,null,null,null,null,null,null,null,null,null,null,null,null,null,null,null,null,null,{"$f":"IFERROR(VLOOKUP(T1046,Códigos!B:C,2,0),\" \")","v":" "}]
[null,null,null,null,null,null,null,null,null,null,null,null,null,null,null,null,null,null,null,null,{"$f":"IFERROR(VLOOKUP(T1047,Códigos!B:C,2,0),\" \")","v":" "}]
[null,null,null,null,null,null,null,null,null,null,null,null,null,null,null,null,null,null,null,null,{"$f":"IFERROR(VLOOKUP(T1048,Códigos!B:C,2,0),\" \")","v":" "}]
[null,null,null,null,null,null,null,null,null,null,null,null,null,null,null,null,null,null,null,null,{"$f":"IFERROR(VLOOKUP(T1049,Códigos!B:C,2,0),\" \")","v":" "}]
[null,null,null,null,null,null,null,null,null,null,null,null,null,null,null,null,null,null,null,null,{"$f":"IFERROR(VLOOKUP(T1050,Códigos!B:C,2,0),\" \")","v":" "}]
[null,null,null,null,null,null,null,null,null,null,null,null,null,null,null,null,null,null,null,null,{"$f":"IFERROR(VLOOKUP(T1051,Códigos!B:C,2,0),\" \")","v":" "}]
[null,null,null,null,null,null,null,null,null,null,null,null,null,null,null,null,null,null,null,null,{"$f":"IFERROR(VLOOKUP(T1052,Códigos!B:C,2,0),\" \")","v":" "}]
[null,null,null,null,null,null,null,null,null,null,null,null,null,null,null,null,null,null,null,null,{"$f":"IFERROR(VLOOKUP(T1053,Códigos!B:C,2,0),\" \")","v":" "}]
[null,null,null,null,null,null,null,null,null,null,null,null,null,null,null,null,null,null,null,null,{"$f":"IFERROR(VLOOKUP(T1054,Códigos!B:C,2,0),\" \")","v":" "}]
[null,null,null,null,null,null,null,null,null,null,null,null,null,null,null,null,null,null,null,null,{"$f":"IFERROR(VLOOKUP(T1055,Códigos!B:C,2,0),\" \")","v":" "}]
[null,null,null,null,null,null,null,null,null,null,null,null,null,null,null,null,null,null,null,null,{"$f":"IFERROR(VLOOKUP(T1056,Códigos!B:C,2,0),\" \")","v":" "}]
[null,null,null,null,null,null,null,null,null,null,null,null,null,null,null,null,null,null,null,null,{"$f":"IFERROR(VLOOKUP(T1057,Códigos!B:C,2,0),\" \")","v":" "}]
[null,null,null,null,null,null,null,null,null,null,null,null,null,null,null,null,null,null,null,null,{"$f":"IFERROR(VLOOKUP(T1058,Códigos!B:C,2,0),\" \")","v":" "}]
[null,null,null,null,null,null,null,null,null,null,null,null,null,null,null,null,null,null,null,null,{"$f":"IFERROR(VLOOKUP(T1059,Códigos!B:C,2,0),\" \")","v":" "}]
[null,null,null,null,null,null,null,null,null,null,null,null,null,null,null,null,null,null,null,null,{"$f":"IFERROR(VLOOKUP(T1060,Códigos!B:C,2,0),\" \")","v":" "}]
[null,null,null,null,null,null,null,null,null,null,null,null,null,null,null,null,null,null,null,null,{"$f":"IFERROR(VLOOKUP(T1061,Códigos!B:C,2,0),\" \")","v":" "}]
[null,null,null,null,null,null,null,null,null,null,null,null,null,null,null,null,null,null,null,null,{"$f":"IFERROR(VLOOKUP(T1062,Códigos!B:C,2,0),\" \")","v":" "}]
[null,null,null,null,null,null,null,null,null,null,null,null,null,null,null,null,null,null,null,null,{"$f":"IFERROR(VLOOKUP(T1063,Códigos!B:C,2,0),\" \")","v":" "}]
[null,null,null,null,null,null,null,null,null,null,null,null,null,null,null,null,null,null,null,null,{"$f":"IFERROR(VLOOKUP(T1064,Códigos!B:C,2,0),\" \")","v":" "}]
[null,null,null,null,null,null,null,null,null,null,null,null,null,null,null,null,null,null,null,null,{"$f":"IFERROR(VLOOKUP(T1065,Códigos!B:C,2,0),\" \")","v":" "}]
[null,null,null,null,null,null,null,null,null,null,null,null,null,null,null,null,null,null,null,null,{"$f":"IFERROR(VLOOKUP(T1066,Códigos!B:C,2,0),\" \")","v":" "}]
[null,null,null,null,null,null,null,null,null,null,null,null,null,null,null,null,null,null,null,null,{"$f":"IFERROR(VLOOKUP(T1067,Códigos!B:C,2,0),\" \")","v":" "}]
[null,null,null,null,null,null,null,null,null,null,null,null,null,null,null,null,null,null,null,null,{"$f":"IFERROR(VLOOKUP(T1068,Códigos!B:C,2,0),\" \")","v":" "}]
[null,null,null,null,null,null,null,null,null,null,null,null,null,null,null,null,null,null,null,null,{"$f":"IFERROR(VLOOKUP(T1069,Códigos!B:C,2,0),\" \")","v":" "}]
[null,null,null,null,null,null,null,null,null,null,null,null,null,null,null,null,null,null,null,null,{"$f":"IFERROR(VLOOKUP(T1070,Códigos!B:C,2,0),\" \")","v":" "}]
[null,null,null,null,null,null,null,null,null,null,null,null,null,null,null,null,null,null,null,null,{"$f":"IFERROR(VLOOKUP(T1071,Códigos!B:C,2,0),\" \")","v":" "}]
[null,null,null,null,null,null,null,null,null,null,null,null,null,null,null,null,null,null,null,null,{"$f":"IFERROR(VLOOKUP(T1072,Códigos!B:C,2,0),\" \")","v":" "}]
[null,null,null,null,null,null,null,null,null,null,null,null,null,null,null,null,null,null,null,null,{"$f":"IFERROR(VLOOKUP(T1073,Códigos!B:C,2,0),\" \")","v":" "}]
[null,null,null,null,null,null,null,null,null,null,null,null,null,null,null,null,null,null,null,null,{"$f":"IFERROR(VLOOKUP(T1074,Códigos!B:C,2,0),\" \")","v":" "}]
[null,null,null,null,null,null,null,null,null,null,null,null,null,null,null,null,null,null,null,null,{"$f":"IFERROR(VLOOKUP(T1075,Códigos!B:C,2,0),\" \")","v":" "}]
[null,null,null,null,null,null,null,null,null,null,null,null,null,null,null,null,null,null,null,null,{"$f":"IFERROR(VLOOKUP(T1076,Códigos!B:C,2,0),\" \")","v":" "}]
[null,null,null,null,null,null,null,null,null,null,null,null,null,null,null,null,null,null,null,null,{"$f":"IFERROR(VLOOKUP(T1077,Códigos!B:C,2,0),\" \")","v":" "}]
[null,null,null,null,null,null,null,null,null,null,null,null,null,null,null,null,null,null,null,null,{"$f":"IFERROR(VLOOKUP(T1078,Códigos!B:C,2,0),\" \")","v":" "}]
[null,null,null,null,null,null,null,null,null,null,null,null,null,null,null,null,null,null,null,null,{"$f":"IFERROR(VLOOKUP(T1079,Códigos!B:C,2,0),\" \")","v":" "}]
[null,null,null,null,null,null,null,null,null,null,null,null,null,null,null,null,null,null,null,null,{"$f":"IFERROR(VLOOKUP(T1080,Códigos!B:C,2,0),\" \")","v":" "}]
[null,null,null,null,null,null,null,null,null,null,null,null,null,null,null,null,null,null,null,null,{"$f":"IFERROR(VLOOKUP(T1081,Códigos!B:C,2,0),\" \")","v":" "}]
[null,null,null,null,null,null,null,null,null,null,null,null,null,null,null,null,null,null,null,null,{"$f":"IFERROR(VLOOKUP(T1082,Códigos!B:C,2,0),\" \")","v":" "}]
[null,null,null,null,null,null,null,null,null,null,null,null,null,null,null,null,null,null,null,null,{"$f":"IFERROR(VLOOKUP(T1083,Códigos!B:C,2,0),\" \")","v":" "}]
[null,null,null,null,null,null,null,null,null,null,null,null,null,null,null,null,null,null,null,null,{"$f":"IFERROR(VLOOKUP(T1084,Códigos!B:C,2,0),\" \")","v":" "}]
[null,null,null,null,null,null,null,null,null,null,null,null,null,null,null,null,null,null,null,null,{"$f":"IFERROR(VLOOKUP(T1085,Códigos!B:C,2,0),\" \")","v":" "}]
[null,null,null,null,null,null,null,null,null,null,null,null,null,null,null,null,null,null,null,null,{"$f":"IFERROR(VLOOKUP(T1086,Códigos!B:C,2,0),\" \")","v":" "}]
[null,null,null,null,null,null,null,null,null,null,null,null,null,null,null,null,null,null,null,null,{"$f":"IFERROR(VLOOKUP(T1087,Códigos!B:C,2,0),\" \")","v":" "}]
[null,null,null,null,null,null,null,null,null,null,null,null,null,null,null,null,null,null,null,null,{"$f":"IFERROR(VLOOKUP(T1088,Códigos!B:C,2,0),\" \")","v":" "}]
[null,null,null,null,null,null,null,null,null,null,null,null,null,null,null,null,null,null,null,null,{"$f":"IFERROR(VLOOKUP(T1089,Códigos!B:C,2,0),\" \")","v":" "}]
[null,null,null,null,null,null,null,null,null,null,null,null,null,null,null,null,null,null,null,null,{"$f":"IFERROR(VLOOKUP(T1090,Códigos!B:C,2,0),\" \")","v":" "}]
[null,null,null,null,null,null,null,null,null,null,null,null,null,null,null,null,null,null,null,null,{"$f":"IFERROR(VLOOKUP(T1091,Códigos!B:C,2,0),\" \")","v":" "}]
[null,null,null,null,null,null,null,null,null,null,null,null,null,null,null,null,null,null,null,null,{"$f":"IFERROR(VLOOKUP(T1092,Códigos!B:C,2,0),\" \")","v":" "}]
[null,null,null,null,null,null,null,null,null,null,null,null,null,null,null,null,null,null,null,null,{"$f":"IFERROR(VLOOKUP(T1093,Códigos!B:C,2,0),\" \")","v":" "}]
[null,null,null,null,null,null,null,null,null,null,null,null,null,null,null,null,null,null,null,null,{"$f":"IFERROR(VLOOKUP(T1094,Códigos!B:C,2,0),\" \")","v":" "}]
[null,null,null,null,null,null,null,null,null,null,null,null,null,null,null,null,null,null,null,null,{"$f":"IFERROR(VLOOKUP(T1095,Códigos!B:C,2,0),\" \")","v":" "}]
[null,null,null,null,null,null,null,null,null,null,null,null,null,null,null,null,null,null,null,null,{"$f":"IFERROR(VLOOKUP(T1096,Códigos!B:C,2,0),\" \")","v":" "}]
[null,null,null,null,null,null,null,null,null,null,null,null,null,null,null,null,null,null,null,null,{"$f":"IFERROR(VLOOKUP(T1097,Códigos!B:C,2,0),\" \")","v":" "}]
[null,null,null,null,null,null,null,null,null,null,null,null,null,null,null,null,null,null,null,null,{"$f":"IFERROR(VLOOKUP(T1098,Códigos!B:C,2,0),\" \")","v":" "}]
[null,null,null,null,null,null,null,null,null,null,null,null,null,null,null,null,null,null,null,null,{"$f":"IFERROR(VLOOKUP(T1099,Códigos!B:C,2,0),\" \")","v":" "}]
[null,null,null,null,null,null,null,null,null,null,null,null,null,null,null,null,null,null,null,null,{"$f":"IFERROR(VLOOKUP(T1100,Códigos!B:C,2,0),\" \")","v":" "}]
[null,null,null,null,null,null,null,null,null,null,null,null,null,null,null,null,null,null,null,null,{"$f":"IFERROR(VLOOKUP(T1101,Códigos!B:C,2,0),\" \")","v":" "}]
[null,null,null,null,null,null,null,null,null,null,null,null,null,null,null,null,null,null,null,null,{"$f":"IFERROR(VLOOKUP(T1102,Códigos!B:C,2,0),\" \")","v":" "}]
[null,null,null,null,null,null,null,null,null,null,null,null,null,null,null,null,null,null,null,null,{"$f":"IFERROR(VLOOKUP(T1103,Códigos!B:C,2,0),\" \")","v":" "}]
[null,null,null,null,null,null,null,null,null,null,null,null,null,null,null,null,null,null,null,null,{"$f":"IFERROR(VLOOKUP(T1104,Códigos!B:C,2,0),\" \")","v":" "}]
[null,null,null,null,null,null,null,null,null,null,null,null,null,null,null,null,null,null,null,null,{"$f":"IFERROR(VLOOKUP(T1105,Códigos!B:C,2,0),\" \")","v":" "}]
[null,null,null,null,null,null,null,null,null,null,null,null,null,null,null,null,null,null,null,null,{"$f":"IFERROR(VLOOKUP(T1106,Códigos!B:C,2,0),\" \")","v":" "}]
[null,null,null,null,null,null,null,null,null,null,null,null,null,null,null,null,null,null,null,null,{"$f":"IFERROR(VLOOKUP(T1107,Códigos!B:C,2,0),\" \")","v":" "}]
[null,null,null,null,null,null,null,null,null,null,null,null,null,null,null,null,null,null,null,null,{"$f":"IFERROR(VLOOKUP(T1108,Códigos!B:C,2,0),\" \")","v":" "}]
[null,null,null,null,null,null,null,null,null,null,null,null,null,null,null,null,null,null,null,null,{"$f":"IFERROR(VLOOKUP(T1109,Códigos!B:C,2,0),\" \")","v":" "}]
[null,null,null,null,null,null,null,null,null,null,null,null,null,null,null,null,null,null,null,null,{"$f":"IFERROR(VLOOKUP(T1110,Códigos!B:C,2,0),\" \")","v":" "}]
[null,null,null,null,null,null,null,null,null,null,null,null,null,null,null,null,null,null,null,null,{"$f":"IFERROR(VLOOKUP(T1111,Códigos!B:C,2,0),\" \")","v":" "}]
[null,null,null,null,null,null,null,null,null,null,null,null,null,null,null,null,null,null,null,null,{"$f":"IFERROR(VLOOKUP(T1112,Códigos!B:C,2,0),\" \")","v":" "}]
[null,null,null,null,null,null,null,null,null,null,null,null,null,null,null,null,null,null,null,null,{"$f":"IFERROR(VLOOKUP(T1113,Códigos!B:C,2,0),\" \")","v":" "}]
[null,null,null,null,null,null,null,null,null,null,null,null,null,null,null,null,null,null,null,null,{"$f":"IFERROR(VLOOKUP(T1114,Códigos!B:C,2,0),\" \")","v":" "}]
[null,null,null,null,null,null,null,null,null,null,null,null,null,null,null,null,null,null,null,null,{"$f":"IFERROR(VLOOKUP(T1115,Códigos!B:C,2,0),\" \")","v":" "}]
[null,null,null,null,null,null,null,null,null,null,null,null,null,null,null,null,null,null,null,null,{"$f":"IFERROR(VLOOKUP(T1116,Códigos!B:C,2,0),\" \")","v":" "}]
[null,null,null,null,null,null,null,null,null,null,null,null,null,null,null,null,null,null,null,null,{"$f":"IFERROR(VLOOKUP(T1117,Códigos!B:C,2,0),\" \")","v":" "}]
[null,null,null,null,null,null,null,null,null,null,null,null,null,null,null,null,null,null,null,null,{"$f":"IFERROR(VLOOKUP(T1118,Códigos!B:C,2,0),\" \")","v":" "}]
[null,null,null,null,null,null,null,null,null,null,null,null,null,null,null,null,null,null,null,null,{"$f":"IFERROR(VLOOKUP(T1119,Códigos!B:C,2,0),\" \")","v":" "}]
[null,null,null,null,null,null,null,null,null,null,null,null,null,null,null,null,null,null,null,null,{"$f":"IFERROR(VLOOKUP(T1120,Códigos!B:C,2,0),\" \")","v":" "}]
[null,null,null,null,null,null,null,null,null,null,null,null,null,null,null,null,null,null,null,null,{"$f":"IFERROR(VLOOKUP(T1121,Códigos!B:C,2,0),\" \")","v":" "}]
[null,null,null,null,null,null,null,null,null,null,null,null,null,null,null,null,null,null,null,null,{"$f":"IFERROR(VLOOKUP(T1122,Códigos!B:C,2,0),\" \")","v":" "}]
[null,null,null,null,null,null,null,null,null,null,null,null,null,null,null,null,null,null,null,null,{"$f":"IFERROR(VLOOKUP(T1123,Códigos!B:C,2,0),\" \")","v":" "}]
[null,null,null,null,null,null,null,null,null,null,null,null,null,null,null,null,null,null,null,null,{"$f":"IFERROR(VLOOKUP(T1124,Códigos!B:C,2,0),\" \")","v":" "}]
[null,null,null,null,null,null,null,null,null,null,null,null,null,null,null,null,null,null,null,null,{"$f":"IFERROR(VLOOKUP(T1125,Códigos!B:C,2,0),\" \")","v":" "}]
[null,null,null,null,null,null,null,null,null,null,null,null,null,null,null,null,null,null,null,null,{"$f":"IFERROR(VLOOKUP(T1126,Códigos!B:C,2,0),\" \")","v":" "}]
[null,null,null,null,null,null,null,null,null,null,null,null,null,null,null,null,null,null,null,null,{"$f":"IFERROR(VLOOKUP(T1127,Códigos!B:C,2,0),\" \")","v":" "}]
[null,null,null,null,null,null,null,null,null,null,null,null,null,null,null,null,null,null,null,null,{"$f":"IFERROR(VLOOKUP(T1128,Códigos!B:C,2,0),\" \")","v":" "}]
[null,null,null,null,null,null,null,null,null,null,null,null,null,null,null,null,null,null,null,null,{"$f":"IFERROR(VLOOKUP(T1129,Códigos!B:C,2,0),\" \")","v":" "}]
[null,null,null,null,null,null,null,null,null,null,null,null,null,null,null,null,null,null,null,null,{"$f":"IFERROR(VLOOKUP(T1130,Códigos!B:C,2,0),\" \")","v":" "}]
[null,null,null,null,null,null,null,null,null,null,null,null,null,null,null,null,null,null,null,null,{"$f":"IFERROR(VLOOKUP(T1131,Códigos!B:C,2,0),\" \")","v":" "}]
[null,null,null,null,null,null,null,null,null,null,null,null,null,null,null,null,null,null,null,null,{"$f":"IFERROR(VLOOKUP(T1132,Códigos!B:C,2,0),\" \")","v":" "}]
[null,null,null,null,null,null,null,null,null,null,null,null,null,null,null,null,null,null,null,null,{"$f":"IFERROR(VLOOKUP(T1133,Códigos!B:C,2,0),\" \")","v":" "}]
[null,null,null,null,null,null,null,null,null,null,null,null,null,null,null,null,null,null,null,null,{"$f":"IFERROR(VLOOKUP(T1134,Códigos!B:C,2,0),\" \")","v":" "}]
[null,null,null,null,null,null,null,null,null,null,null,null,null,null,null,null,null,null,null,null,{"$f":"IFERROR(VLOOKUP(T1135,Códigos!B:C,2,0),\" \")","v":" "}]
[null,null,null,null,null,null,null,null,null,null,null,null,null,null,null,null,null,null,null,null,{"$f":"IFERROR(VLOOKUP(T1136,Códigos!B:C,2,0),\" \")","v":" "}]
[null,null,null,null,null,null,null,null,null,null,null,null,null,null,null,null,null,null,null,null,{"$f":"IFERROR(VLOOKUP(T1137,Códigos!B:C,2,0),\" \")","v":" "}]
[null,null,null,null,null,null,null,null,null,null,null,null,null,null,null,null,null,null,null,null,{"$f":"IFERROR(VLOOKUP(T1138,Códigos!B:C,2,0),\" \")","v":" "}]
[null,null,null,null,null,null,null,null,null,null,null,null,null,null,null,null,null,null,null,null,{"$f":"IFERROR(VLOOKUP(T1139,Códigos!B:C,2,0),\" \")","v":" "}]
[null,null,null,null,null,null,null,null,null,null,null,null,null,null,null,null,null,null,null,null,{"$f":"IFERROR(VLOOKUP(T1140,Códigos!B:C,2,0),\" \")","v":" "}]
[null,null,null,null,null,null,null,null,null,null,null,null,null,null,null,null,null,null,null,null,{"$f":"IFERROR(VLOOKUP(T1141,Códigos!B:C,2,0),\" \")","v":" "}]
[null,null,null,null,null,null,null,null,null,null,null,null,null,null,null,null,null,null,null,null,{"$f":"IFERROR(VLOOKUP(T1142,Códigos!B:C,2,0),\" \")","v":" "}]
[null,null,null,null,null,null,null,null,null,null,null,null,null,null,null,null,null,null,null,null,{"$f":"IFERROR(VLOOKUP(T1143,Códigos!B:C,2,0),\" \")","v":" "}]
[null,null,null,null,null,null,null,null,null,null,null,null,null,null,null,null,null,null,null,null,{"$f":"IFERROR(VLOOKUP(T1144,Códigos!B:C,2,0),\" \")","v":" "}]
[null,null,null,null,null,null,null,null,null,null,null,null,null,null,null,null,null,null,null,null,{"$f":"IFERROR(VLOOKUP(T1145,Códigos!B:C,2,0),\" \")","v":" "}]
[null,null,null,null,null,null,null,null,null,null,null,null,null,null,null,null,null,null,null,null,{"$f":"IFERROR(VLOOKUP(T1146,Códigos!B:C,2,0),\" \")","v":" "}]
[null,null,null,null,null,null,null,null,null,null,null,null,null,null,null,null,null,null,null,null,{"$f":"IFERROR(VLOOKUP(T1147,Códigos!B:C,2,0),\" \")","v":" "}]
[null,null,null,null,null,null,null,null,null,null,null,null,null,null,null,null,null,null,null,null,{"$f":"IFERROR(VLOOKUP(T1148,Códigos!B:C,2,0),\" \")","v":" "}]
[null,null,null,null,null,null,null,null,null,null,null,null,null,null,null,null,null,null,null,null,{"$f":"IFERROR(VLOOKUP(T1149,Códigos!B:C,2,0),\" \")","v":" "}]
[null,null,null,null,null,null,null,null,null,null,null,null,null,null,null,null,null,null,null,null,{"$f":"IFERROR(VLOOKUP(T1150,Códigos!B:C,2,0),\" \")","v":" "}]
[null,null,null,null,null,null,null,null,null,null,null,null,null,null,null,null,null,null,null,null,{"$f":"IFERROR(VLOOKUP(T1151,Códigos!B:C,2,0),\" \")","v":" "}]
[null,null,null,null,null,null,null,null,null,null,null,null,null,null,null,null,null,null,null,null,{"$f":"IFERROR(VLOOKUP(T1152,Códigos!B:C,2,0),\" \")","v":" "}]
[null,null,null,null,null,null,null,null,null,null,null,null,null,null,null,null,null,null,null,null,{"$f":"IFERROR(VLOOKUP(T1153,Códigos!B:C,2,0),\" \")","v":" "}]
[null,null,null,null,null,null,null,null,null,null,null,null,null,null,null,null,null,null,null,null,{"$f":"IFERROR(VLOOKUP(T1154,Códigos!B:C,2,0),\" \")","v":" "}]
[null,null,null,null,null,null,null,null,null,null,null,null,null,null,null,null,null,null,null,null,{"$f":"IFERROR(VLOOKUP(T1155,Códigos!B:C,2,0),\" \")","v":" "}]
[null,null,null,null,null,null,null,null,null,null,null,null,null,null,null,null,null,null,null,null,{"$f":"IFERROR(VLOOKUP(T1156,Códigos!B:C,2,0),\" \")","v":" "}]
[null,null,null,null,null,null,null,null,null,null,null,null,null,null,null,null,null,null,null,null,{"$f":"IFERROR(VLOOKUP(T1157,Códigos!B:C,2,0),\" \")","v":" "}]
[null,null,null,null,null,null,null,null,null,null,null,null,null,null,null,null,null,null,null,null,{"$f":"IFERROR(VLOOKUP(T1158,Códigos!B:C,2,0),\" \")","v":" "}]
[null,null,null,null,null,null,null,null,null,null,null,null,null,null,null,null,null,null,null,null,{"$f":"IFERROR(VLOOKUP(T1159,Códigos!B:C,2,0),\" \")","v":" "}]
[null,null,null,null,null,null,null,null,null,null,null,null,null,null,null,null,null,null,null,null,{"$f":"IFERROR(VLOOKUP(T1160,Códigos!B:C,2,0),\" \")","v":" "}]
[null,null,null,null,null,null,null,null,null,null,null,null,null,null,null,null,null,null,null,null,{"$f":"IFERROR(VLOOKUP(T1161,Códigos!B:C,2,0),\" \")","v":" "}]
[null,null,null,null,null,null,null,null,null,null,null,null,null,null,null,null,null,null,null,null,{"$f":"IFERROR(VLOOKUP(T1162,Códigos!B:C,2,0),\" \")","v":" "}]
[null,null,null,null,null,null,null,null,null,null,null,null,null,null,null,null,null,null,null,null,{"$f":"IFERROR(VLOOKUP(T1163,Códigos!B:C,2,0),\" \")","v":" "}]
[null,null,null,null,null,null,null,null,null,null,null,null,null,null,null,null,null,null,null,null,{"$f":"IFERROR(VLOOKUP(T1164,Códigos!B:C,2,0),\" \")","v":" "}]
[null,null,null,null,null,null,null,null,null,null,null,null,null,null,null,null,null,null,null,null,{"$f":"IFERROR(VLOOKUP(T1165,Códigos!B:C,2,0),\" \")","v":" "}]
[null,null,null,null,null,null,null,null,null,null,null,null,null,null,null,null,null,null,null,null,{"$f":"IFERROR(VLOOKUP(T1166,Códigos!B:C,2,0),\" \")","v":" "}]
[null,null,null,null,null,null,null,null,null,null,null,null,null,null,null,null,null,null,null,null,{"$f":"IFERROR(VLOOKUP(T1167,Códigos!B:C,2,0),\" \")","v":" "}]
[null,null,null,null,null,null,null,null,null,null,null,null,null,null,null,null,null,null,null,null,{"$f":"IFERROR(VLOOKUP(T1168,Códigos!B:C,2,0),\" \")","v":" "}]
[null,null,null,null,null,null,null,null,null,null,null,null,null,null,null,null,null,null,null,null,{"$f":"IFERROR(VLOOKUP(T1169,Códigos!B:C,2,0),\" \")","v":" "}]
[null,null,null,null,null,null,null,null,null,null,null,null,null,null,null,null,null,null,null,null,{"$f":"IFERROR(VLOOKUP(T1170,Códigos!B:C,2,0),\" \")","v":" "}]
[null,null,null,null,null,null,null,null,null,null,null,null,null,null,null,null,null,null,null,null,{"$f":"IFERROR(VLOOKUP(T1171,Códigos!B:C,2,0),\" \")","v":" "}]
[null,null,null,null,null,null,null,null,null,null,null,null,null,null,null,null,null,null,null,null,{"$f":"IFERROR(VLOOKUP(T1172,Códigos!B:C,2,0),\" \")","v":" "}]
[null,null,null,null,null,null,null,null,null,null,null,null,null,null,null,null,null,null,null,null,{"$f":"IFERROR(VLOOKUP(T1173,Códigos!B:C,2,0),\" \")","v":" "}]
[null,null,null,null,null,null,null,null,null,null,null,null,null,null,null,null,null,null,null,null,{"$f":"IFERROR(VLOOKUP(T1174,Códigos!B:C,2,0),\" \")","v":" "}]
[null,null,null,null,null,null,null,null,null,null,null,null,null,null,null,null,null,null,null,null,{"$f":"IFERROR(VLOOKUP(T1175,Códigos!B:C,2,0),\" \")","v":" "}]
[null,null,null,null,null,null,null,null,null,null,null,null,null,null,null,null,null,null,null,null,{"$f":"IFERROR(VLOOKUP(T1176,Códigos!B:C,2,0),\" \")","v":" "}]
[null,null,null,null,null,null,null,null,null,null,null,null,null,null,null,null,null,null,null,null,{"$f":"IFERROR(VLOOKUP(T1177,Códigos!B:C,2,0),\" \")","v":" "}]
[null,null,null,null,null,null,null,null,null,null,null,null,null,null,null,null,null,null,null,null,{"$f":"IFERROR(VLOOKUP(T1178,Códigos!B:C,2,0),\" \")","v":" "}]
[null,null,null,null,null,null,null,null,null,null,null,null,null,null,null,null,null,null,null,null,{"$f":"IFERROR(VLOOKUP(T1179,Códigos!B:C,2,0),\" \")","v":" "}]
[null,null,null,null,null,null,null,null,null,null,null,null,null,null,null,null,null,null,null,null,{"$f":"IFERROR(VLOOKUP(T1180,Códigos!B:C,2,0),\" \")","v":" "}]
[null,null,null,null,null,null,null,null,null,null,null,null,null,null,null,null,null,null,null,null,{"$f":"IFERROR(VLOOKUP(T1181,Códigos!B:C,2,0),\" \")","v":" "}]
[null,null,null,null,null,null,null,null,null,null,null,null,null,null,null,null,null,null,null,null,{"$f":"IFERROR(VLOOKUP(T1182,Códigos!B:C,2,0),\" \")","v":" "}]
[null,null,null,null,null,null,null,null,null,null,null,null,null,null,null,null,null,null,null,null,{"$f":"IFERROR(VLOOKUP(T1183,Códigos!B:C,2,0),\" \")","v":" "}]
[null,null,null,null,null,null,null,null,null,null,null,null,null,null,null,null,null,null,null,null,{"$f":"IFERROR(VLOOKUP(T1184,Códigos!B:C,2,0),\" \")","v":" "}]
[null,null,null,null,null,null,null,null,null,null,null,null,null,null,null,null,null,null,null,null,{"$f":"IFERROR(VLOOKUP(T1185,Códigos!B:C,2,0),\" \")","v":" "}]
[null,null,null,null,null,null,null,null,null,null,null,null,null,null,null,null,null,null,null,null,{"$f":"IFERROR(VLOOKUP(T1186,Códigos!B:C,2,0),\" \")","v":" "}]
[null,null,null,null,null,null,null,null,null,null,null,null,null,null,null,null,null,null,null,null,{"$f":"IFERROR(VLOOKUP(T1187,Códigos!B:C,2,0),\" \")","v":" "}]
[null,null,null,null,null,null,null,null,null,null,null,null,null,null,null,null,null,null,null,null,{"$f":"IFERROR(VLOOKUP(T1188,Códigos!B:C,2,0),\" \")","v":" "}]
[null,null,null,null,null,null,null,null,null,null,null,null,null,null,null,null,null,null,null,null,{"$f":"IFERROR(VLOOKUP(T1189,Códigos!B:C,2,0),\" \")","v":" "}]
[null,null,null,null,null,null,null,null,null,null,null,null,null,null,null,null,null,null,null,null,{"$f":"IFERROR(VLOOKUP(T1190,Códigos!B:C,2,0),\" \")","v":" "}]
[null,null,null,null,null,null,null,null,null,null,null,null,null,null,null,null,null,null,null,null,{"$f":"IFERROR(VLOOKUP(T1191,Códigos!B:C,2,0),\" \")","v":" "}]
[null,null,null,null,null,null,null,null,null,null,null,null,null,null,null,null,null,null,null,null,{"$f":"IFERROR(VLOOKUP(T1192,Códigos!B:C,2,0),\" \")","v":" "}]
[null,null,null,null,null,null,null,null,null,null,null,null,null,null,null,null,null,null,null,null,{"$f":"IFERROR(VLOOKUP(T1193,Códigos!B:C,2,0),\" \")","v":" "}]
[null,null,null,null,null,null,null,null,null,null,null,null,null,null,null,null,null,null,null,null,{"$f":"IFERROR(VLOOKUP(T1194,Códigos!B:C,2,0),\" \")","v":" "}]
[null,null,null,null,null,null,null,null,null,null,null,null,null,null,null,null,null,null,null,null,{"$f":"IFERROR(VLOOKUP(T1195,Códigos!B:C,2,0),\" \")","v":" "}]
[null,null,null,null,null,null,null,null,null,null,null,null,null,null,null,null,null,null,null,null,{"$f":"IFERROR(VLOOKUP(T1196,Códigos!B:C,2,0),\" \")","v":" "}]
[null,null,null,null,null,null,null,null,null,null,null,null,null,null,null,null,null,null,null,null,{"$f":"IFERROR(VLOOKUP(T1197,Códigos!B:C,2,0),\" \")","v":" "}]
[null,null,null,null,null,null,null,null,null,null,null,null,null,null,null,null,null,null,null,null,{"$f":"IFERROR(VLOOKUP(T1198,Códigos!B:C,2,0),\" \")","v":" "}]
[null,null,null,null,null,null,null,null,null,null,null,null,null,null,null,null,null,null,null,null,{"$f":"IFERROR(VLOOKUP(T1199,Códigos!B:C,2,0),\" \")","v":" "}]
[null,null,null,null,null,null,null,null,null,null,null,null,null,null,null,null,null,null,null,null,{"$f":"IFERROR(VLOOKUP(T1200,Códigos!B:C,2,0),\" \")","v":" "}]
[null,null,null,null,null,null,null,null,null,null,null,null,null,null,null,null,null,null,null,null,{"$f":"IFERROR(VLOOKUP(T1201,Códigos!B:C,2,0),\" \")","v":" "}]
[null,null,null,null,null,null,null,null,null,null,null,null,null,null,null,null,null,null,null,null,{"$f":"IFERROR(VLOOKUP(T1202,Códigos!B:C,2,0),\" \")","v":" "}]
[null,null,null,null,null,null,null,null,null,null,null,null,null,null,null,null,null,null,null,null,{"$f":"IFERROR(VLOOKUP(T1203,Códigos!B:C,2,0),\" \")","v":" "}]
[null,null,null,null,null,null,null,null,null,null,null,null,null,null,null,null,null,null,null,null,{"$f":"IFERROR(VLOOKUP(T1204,Códigos!B:C,2,0),\" \")","v":" "}]
[null,null,null,null,null,null,null,null,null,null,null,null,null,null,null,null,null,null,null,null,{"$f":"IFERROR(VLOOKUP(T1205,Códigos!B:C,2,0),\" \")","v":" "}]
[null,null,null,null,null,null,null,null,null,null,null,null,null,null,null,null,null,null,null,null,{"$f":"IFERROR(VLOOKUP(T1206,Códigos!B:C,2,0),\" \")","v":" "}]
[null,null,null,null,null,null,null,null,null,null,null,null,null,null,null,null,null,null,null,null,{"$f":"IFERROR(VLOOKUP(T1207,Códigos!B:C,2,0),\" \")","v":" "}]
[null,null,null,null,null,null,null,null,null,null,null,null,null,null,null,null,null,null,null,null,{"$f":"IFERROR(VLOOKUP(T1208,Códigos!B:C,2,0),\" \")","v":" "}]
[null,null,null,null,null,null,null,null,null,null,null,null,null,null,null,null,null,null,null,null,{"$f":"IFERROR(VLOOKUP(T1209,Códigos!B:C,2,0),\" \")","v":" "}]
[null,null,null,null,null,null,null,null,null,null,null,null,null,null,null,null,null,null,null,null,{"$f":"IFERROR(VLOOKUP(T1210,Códigos!B:C,2,0),\" \")","v":" "}]
[null,null,null,null,null,null,null,null,null,null,null,null,null,null,null,null,null,null,null,null,{"$f":"IFERROR(VLOOKUP(T1211,Códigos!B:C,2,0),\" \")","v":" "}]
[null,null,null,null,null,null,null,null,null,null,null,null,null,null,null,null,null,null,null,null,{"$f":"IFERROR(VLOOKUP(T1212,Códigos!B:C,2,0),\" \")","v":" "}]
[null,null,null,null,null,null,null,null,null,null,null,null,null,null,null,null,null,null,null,null,{"$f":"IFERROR(VLOOKUP(T1213,Códigos!B:C,2,0),\" \")","v":" "}]
[null,null,null,null,null,null,null,null,null,null,null,null,null,null,null,null,null,null,null,null,{"$f":"IFERROR(VLOOKUP(T1214,Códigos!B:C,2,0),\" \")","v":" "}]
[null,null,null,null,null,null,null,null,null,null,null,null,null,null,null,null,null,null,null,null,{"$f":"IFERROR(VLOOKUP(T1215,Códigos!B:C,2,0),\" \")","v":" "}]
[null,null,null,null,null,null,null,null,null,null,null,null,null,null,null,null,null,null,null,null,{"$f":"IFERROR(VLOOKUP(T1216,Códigos!B:C,2,0),\" \")","v":" "}]
[null,null,null,null,null,null,null,null,null,null,null,null,null,null,null,null,null,null,null,null,{"$f":"IFERROR(VLOOKUP(T1217,Códigos!B:C,2,0),\" \")","v":" "}]
[null,null,null,null,null,null,null,null,null,null,null,null,null,null,null,null,null,null,null,null,{"$f":"IFERROR(VLOOKUP(T1218,Códigos!B:C,2,0),\" \")","v":" "}]
[null,null,null,null,null,null,null,null,null,null,null,null,null,null,null,null,null,null,null,null,{"$f":"IFERROR(VLOOKUP(T1219,Códigos!B:C,2,0),\" \")","v":" "}]
[null,null,null,null,null,null,null,null,null,null,null,null,null,null,null,null,null,null,null,null,{"$f":"IFERROR(VLOOKUP(T1220,Códigos!B:C,2,0),\" \")","v":" "}]
[null,null,null,null,null,null,null,null,null,null,null,null,null,null,null,null,null,null,null,null,{"$f":"IFERROR(VLOOKUP(T1221,Códigos!B:C,2,0),\" \")","v":" "}]
[null,null,null,null,null,null,null,null,null,null,null,null,null,null,null,null,null,null,null,null,{"$f":"IFERROR(VLOOKUP(T1222,Códigos!B:C,2,0),\" \")","v":" "}]
[null,null,null,null,null,null,null,null,null,null,null,null,null,null,null,null,null,null,null,null,{"$f":"IFERROR(VLOOKUP(T1223,Códigos!B:C,2,0),\" \")","v":" "}]
[null,null,null,null,null,null,null,null,null,null,null,null,null,null,null,null,null,null,null,null,{"$f":"IFERROR(VLOOKUP(T1224,Códigos!B:C,2,0),\" \")","v":" "}]
[null,null,null,null,null,null,null,null,null,null,null,null,null,null,null,null,null,null,null,null,{"$f":"IFERROR(VLOOKUP(T1225,Códigos!B:C,2,0),\" \")","v":" "}]
[null,null,null,null,null,null,null,null,null,null,null,null,null,null,null,null,null,null,null,null,{"$f":"IFERROR(VLOOKUP(T1226,Códigos!B:C,2,0),\" \")","v":" "}]
[null,null,null,null,null,null,null,null,null,null,null,null,null,null,null,null,null,null,null,null,{"$f":"IFERROR(VLOOKUP(T1227,Códigos!B:C,2,0),\" \")","v":" "}]
[null,null,null,null,null,null,null,null,null,null,null,null,null,null,null,null,null,null,null,null,{"$f":"IFERROR(VLOOKUP(T1228,Códigos!B:C,2,0),\" \")","v":" "}]
[null,null,null,null,null,null,null,null,null,null,null,null,null,null,null,null,null,null,null,null,{"$f":"IFERROR(VLOOKUP(T1229,Códigos!B:C,2,0),\" \")","v":" "}]
[null,null,null,null,null,null,null,null,null,null,null,null,null,null,null,null,null,null,null,null,{"$f":"IFERROR(VLOOKUP(T1230,Códigos!B:C,2,0),\" \")","v":" "}]
[null,null,null,null,null,null,null,null,null,null,null,null,null,null,null,null,null,null,null,null,{"$f":"IFERROR(VLOOKUP(T1231,Códigos!B:C,2,0),\" \")","v":" "}]
[null,null,null,null,null,null,null,null,null,null,null,null,null,null,null,null,null,null,null,null,{"$f":"IFERROR(VLOOKUP(T1232,Códigos!B:C,2,0),\" \")","v":" "}]
[null,null,null,null,null,null,null,null,null,null,null,null,null,null,null,null,null,null,null,null,{"$f":"IFERROR(VLOOKUP(T1233,Códigos!B:C,2,0),\" \")","v":" "}]
[null,null,null,null,null,null,null,null,null,null,null,null,null,null,null,null,null,null,null,null,{"$f":"IFERROR(VLOOKUP(T1234,Códigos!B:C,2,0),\" \")","v":" "}]
[null,null,null,null,null,null,null,null,null,null,null,null,null,null,null,null,null,null,null,null,{"$f":"IFERROR(VLOOKUP(T1235,Códigos!B:C,2,0),\" \")","v":" "}]
[null,null,null,null,null,null,null,null,null,null,null,null,null,null,null,null,null,null,null,null,{"$f":"IFERROR(VLOOKUP(T1236,Códigos!B:C,2,0),\" \")","v":" "}]
[null,null,null,null,null,null,null,null,null,null,null,null,null,null,null,null,null,null,null,null,{"$f":"IFERROR(VLOOKUP(T1237,Códigos!B:C,2,0),\" \")","v":" "}]
[null,null,null,null,null,null,null,null,null,null,null,null,null,null,null,null,null,null,null,null,{"$f":"IFERROR(VLOOKUP(T1238,Códigos!B:C,2,0),\" \")","v":" "}]
[null,null,null,null,null,null,null,null,null,null,null,null,null,null,null,null,null,null,null,null,{"$f":"IFERROR(VLOOKUP(T1239,Códigos!B:C,2,0),\" \")","v":" "}]
[null,null,null,null,null,null,null,null,null,null,null,null,null,null,null,null,null,null,null,null,{"$f":"IFERROR(VLOOKUP(T1240,Códigos!B:C,2,0),\" \")","v":" "}]
[null,null,null,null,null,null,null,null,null,null,null,null,null,null,null,null,null,null,null,null,{"$f":"IFERROR(VLOOKUP(T1241,Códigos!B:C,2,0),\" \")","v":" "}]
[null,null,null,null,null,null,null,null,null,null,null,null,null,null,null,null,null,null,null,null,{"$f":"IFERROR(VLOOKUP(T1242,Códigos!B:C,2,0),\" \")","v":" "}]
[null,null,null,null,null,null,null,null,null,null,null,null,null,null,null,null,null,null,null,null,{"$f":"IFERROR(VLOOKUP(T1243,Códigos!B:C,2,0),\" \")","v":" "}]
[null,null,null,null,null,null,null,null,null,null,null,null,null,null,null,null,null,null,null,null,{"$f":"IFERROR(VLOOKUP(T1244,Códigos!B:C,2,0),\" \")","v":" "}]
[null,null,null,null,null,null,null,null,null,null,null,null,null,null,null,null,null,null,null,null,{"$f":"IFERROR(VLOOKUP(T1245,Códigos!B:C,2,0),\" \")","v":" "}]
[null,null,null,null,null,null,null,null,null,null,null,null,null,null,null,null,null,null,null,null,{"$f":"IFERROR(VLOOKUP(T1246,Códigos!B:C,2,0),\" \")","v":" "}]
[null,null,null,null,null,null,null,null,null,null,null,null,null,null,null,null,null,null,null,null,{"$f":"IFERROR(VLOOKUP(T1247,Códigos!B:C,2,0),\" \")","v":" "}]
[null,null,null,null,null,null,null,null,null,null,null,null,null,null,null,null,null,null,null,null,{"$f":"IFERROR(VLOOKUP(T1248,Códigos!B:C,2,0),\" \")","v":" "}]
[null,null,null,null,null,null,null,null,null,null,null,null,null,null,null,null,null,null,null,null,{"$f":"IFERROR(VLOOKUP(T1249,Códigos!B:C,2,0),\" \")","v":" "}]
[null,null,null,null,null,null,null,null,null,null,null,null,null,null,null,null,null,null,null,null,{"$f":"IFERROR(VLOOKUP(T1250,Códigos!B:C,2,0),\" \")","v":" "}]
[null,null,null,null,null,null,null,null,null,null,null,null,null,null,null,null,null,null,null,null,{"$f":"IFERROR(VLOOKUP(T1251,Códigos!B:C,2,0),\" \")","v":" "}]
[null,null,null,null,null,null,null,null,null,null,null,null,null,null,null,null,null,null,null,null,{"$f":"IFERROR(VLOOKUP(T1252,Códigos!B:C,2,0),\" \")","v":" "}]
[null,null,null,null,null,null,null,null,null,null,null,null,null,null,null,null,null,null,null,null,{"$f":"IFERROR(VLOOKUP(T1253,Códigos!B:C,2,0),\" \")","v":" "}]
[null,null,null,null,null,null,null,null,null,null,null,null,null,null,null,null,null,null,null,null,{"$f":"IFERROR(VLOOKUP(T1254,Códigos!B:C,2,0),\" \")","v":" "}]
[null,null,null,null,null,null,null,null,null,null,null,null,null,null,null,null,null,null,null,null,{"$f":"IFERROR(VLOOKUP(T1255,Códigos!B:C,2,0),\" \")","v":" "}]
[null,null,null,null,null,null,null,null,null,null,null,null,null,null,null,null,null,null,null,null,{"$f":"IFERROR(VLOOKUP(T1256,Códigos!B:C,2,0),\" \")","v":" "}]
[null,null,null,null,null,null,null,null,null,null,null,null,null,null,null,null,null,null,null,null,{"$f":"IFERROR(VLOOKUP(T1257,Códigos!B:C,2,0),\" \")","v":" "}]
[null,null,null,null,null,null,null,null,null,null,null,null,null,null,null,null,null,null,null,null,{"$f":"IFERROR(VLOOKUP(T1258,Códigos!B:C,2,0),\" \")","v":" "}]
[null,null,null,null,null,null,null,null,null,null,null,null,null,null,null,null,null,null,null,null,{"$f":"IFERROR(VLOOKUP(T1259,Códigos!B:C,2,0),\" \")","v":" "}]
[null,null,null,null,null,null,null,null,null,null,null,null,null,null,null,null,null,null,null,null,{"$f":"IFERROR(VLOOKUP(T1260,Códigos!B:C,2,0),\" \")","v":" "}]
[null,null,null,null,null,null,null,null,null,null,null,null,null,null,null,null,null,null,null,null,{"$f":"IFERROR(VLOOKUP(T1261,Códigos!B:C,2,0),\" \")","v":" "}]
[null,null,null,null,null,null,null,null,null,null,null,null,null,null,null,null,null,null,null,null,{"$f":"IFERROR(VLOOKUP(T1262,Códigos!B:C,2,0),\" \")","v":" "}]
[null,null,null,null,null,null,null,null,null,null,null,null,null,null,null,null,null,null,null,null,{"$f":"IFERROR(VLOOKUP(T1263,Códigos!B:C,2,0),\" \")","v":" "}]
[null,null,null,null,null,null,null,null,null,null,null,null,null,null,null,null,null,null,null,null,{"$f":"IFERROR(VLOOKUP(T1264,Códigos!B:C,2,0),\" \")","v":" "}]
[null,null,null,null,null,null,null,null,null,null,null,null,null,null,null,null,null,null,null,null,{"$f":"IFERROR(VLOOKUP(T1265,Códigos!B:C,2,0),\" \")","v":" "}]
[null,null,null,null,null,null,null,null,null,null,null,null,null,null,null,null,null,null,null,null,{"$f":"IFERROR(VLOOKUP(T1266,Códigos!B:C,2,0),\" \")","v":" "}]
[null,null,null,null,null,null,null,null,null,null,null,null,null,null,null,null,null,null,null,null,{"$f":"IFERROR(VLOOKUP(T1267,Códigos!B:C,2,0),\" \")","v":" "}]
[null,null,null,null,null,null,null,null,null,null,null,null,null,null,null,null,null,null,null,null,{"$f":"IFERROR(VLOOKUP(T1268,Códigos!B:C,2,0),\" \")","v":" "}]
[null,null,null,null,null,null,null,null,null,null,null,null,null,null,null,null,null,null,null,null,{"$f":"IFERROR(VLOOKUP(T1269,Códigos!B:C,2,0),\" \")","v":" "}]
[null,null,null,null,null,null,null,null,null,null,null,null,null,null,null,null,null,null,null,null,{"$f":"IFERROR(VLOOKUP(T1270,Códigos!B:C,2,0),\" \")","v":" "}]
[null,null,null,null,null,null,null,null,null,null,null,null,null,null,null,null,null,null,null,null,{"$f":"IFERROR(VLOOKUP(T1271,Códigos!B:C,2,0),\" \")","v":" "}]
[null,null,null,null,null,null,null,null,null,null,null,null,null,null,null,null,null,null,null,null,{"$f":"IFERROR(VLOOKUP(T1272,Códigos!B:C,2,0),\" \")","v":" "}]
[null,null,null,null,null,null,null,null,null,null,null,null,null,null,null,null,null,null,null,null,{"$f":"IFERROR(VLOOKUP(T1273,Códigos!B:C,2,0),\" \")","v":" "}]
[null,null,null,null,null,null,null,null,null,null,null,null,null,null,null,null,null,null,null,null,{"$f":"IFERROR(VLOOKUP(T1274,Códigos!B:C,2,0),\" \")","v":" "}]
[null,null,null,null,null,null,null,null,null,null,null,null,null,null,null,null,null,null,null,null,{"$f":"IFERROR(VLOOKUP(T1275,Códigos!B:C,2,0),\" \")","v":" "}]
[null,null,null,null,null,null,null,null,null,null,null,null,null,null,null,null,null,null,null,null,{"$f":"IFERROR(VLOOKUP(T1276,Códigos!B:C,2,0),\" \")","v":" "}]
[null,null,null,null,null,null,null,null,null,null,null,null,null,null,null,null,null,null,null,null,{"$f":"IFERROR(VLOOKUP(T1277,Códigos!B:C,2,0),\" \")","v":" "}]
[null,null,null,null,null,null,null,null,null,null,null,null,null,null,null,null,null,null,null,null,{"$f":"IFERROR(VLOOKUP(T1278,Códigos!B:C,2,0),\" \")","v":" "}]
[null,null,null,null,null,null,null,null,null,null,null,null,null,null,null,null,null,null,null,null,{"$f":"IFERROR(VLOOKUP(T1279,Códigos!B:C,2,0),\" \")","v":" "}]
[null,null,null,null,null,null,null,null,null,null,null,null,null,null,null,null,null,null,null,null,{"$f":"IFERROR(VLOOKUP(T1280,Códigos!B:C,2,0),\" \")","v":" "}]
[null,null,null,null,null,null,null,null,null,null,null,null,null,null,null,null,null,null,null,null,{"$f":"IFERROR(VLOOKUP(T1281,Códigos!B:C,2,0),\" \")","v":" "}]
[null,null,null,null,null,null,null,null,null,null,null,null,null,null,null,null,null,null,null,null,{"$f":"IFERROR(VLOOKUP(T1282,Códigos!B:C,2,0),\" \")","v":" "}]
[null,null,null,null,null,null,null,null,null,null,null,null,null,null,null,null,null,null,null,null,{"$f":"IFERROR(VLOOKUP(T1283,Códigos!B:C,2,0),\" \")","v":" "}]
[null,null,null,null,null,null,null,null,null,null,null,null,null,null,null,null,null,null,null,null,{"$f":"IFERROR(VLOOKUP(T1284,Códigos!B:C,2,0),\" \")","v":" "}]
[null,null,null,null,null,null,null,null,null,null,null,null,null,null,null,null,null,null,null,null,{"$f":"IFERROR(VLOOKUP(T1285,Códigos!B:C,2,0),\" \")","v":" "}]
[null,null,null,null,null,null,null,null,null,null,null,null,null,null,null,null,null,null,null,null,{"$f":"IFERROR(VLOOKUP(T1286,Códigos!B:C,2,0),\" \")","v":" "}]
[null,null,null,null,null,null,null,null,null,null,null,null,null,null,null,null,null,null,null,null,{"$f":"IFERROR(VLOOKUP(T1287,Códigos!B:C,2,0),\" \")","v":" "}]
[null,null,null,null,null,null,null,null,null,null,null,null,null,null,null,null,null,null,null,null,{"$f":"IFERROR(VLOOKUP(T1288,Códigos!B:C,2,0),\" \")","v":" "}]
[null,null,null,null,null,null,null,null,null,null,null,null,null,null,null,null,null,null,null,null,{"$f":"IFERROR(VLOOKUP(T1289,Códigos!B:C,2,0),\" \")","v":" "}]
[null,null,null,null,null,null,null,null,null,null,null,null,null,null,null,null,null,null,null,null,{"$f":"IFERROR(VLOOKUP(T1290,Códigos!B:C,2,0),\" \")","v":" "}]
[null,null,null,null,null,null,null,null,null,null,null,null,null,null,null,null,null,null,null,null,{"$f":"IFERROR(VLOOKUP(T1291,Códigos!B:C,2,0),\" \")","v":" "}]
[null,null,null,null,null,null,null,null,null,null,null,null,null,null,null,null,null,null,null,null,{"$f":"IFERROR(VLOOKUP(T1292,Códigos!B:C,2,0),\" \")","v":" "}]
[null,null,null,null,null,null,null,null,null,null,null,null,null,null,null,null,null,null,null,null,{"$f":"IFERROR(VLOOKUP(T1293,Códigos!B:C,2,0),\" \")","v":" "}]
[null,null,null,null,null,null,null,null,null,null,null,null,null,null,null,null,null,null,null,null,{"$f":"IFERROR(VLOOKUP(T1294,Códigos!B:C,2,0),\" \")","v":" "}]
[null,null,null,null,null,null,null,null,null,null,null,null,null,null,null,null,null,null,null,null,{"$f":"IFERROR(VLOOKUP(T1295,Códigos!B:C,2,0),\" \")","v":" "}]
[null,null,null,null,null,null,null,null,null,null,null,null,null,null,null,null,null,null,null,null,{"$f":"IFERROR(VLOOKUP(T1296,Códigos!B:C,2,0),\" \")","v":" "}]
[null,null,null,null,null,null,null,null,null,null,null,null,null,null,null,null,null,null,null,null,{"$f":"IFERROR(VLOOKUP(T1297,Códigos!B:C,2,0),\" \")","v":" "}]
[null,null,null,null,null,null,null,null,null,null,null,null,null,null,null,null,null,null,null,null,{"$f":"IFERROR(VLOOKUP(T1298,Códigos!B:C,2,0),\" \")","v":" "}]
[null,null,null,null,null,null,null,null,null,null,null,null,null,null,null,null,null,null,null,null,{"$f":"IFERROR(VLOOKUP(T1299,Códigos!B:C,2,0),\" \")","v":" "}]
[null,null,null,null,null,null,null,null,null,null,null,null,null,null,null,null,null,null,null,null,{"$f":"IFERROR(VLOOKUP(T1300,Códigos!B:C,2,0),\" \")","v":" "}]
[null,null,null,null,null,null,null,null,null,null,null,null,null,null,null,null,null,null,null,null,{"$f":"IFERROR(VLOOKUP(T1301,Códigos!B:C,2,0),\" \")","v":" "}]
[null,null,null,null,null,null,null,null,null,null,null,null,null,null,null,null,null,null,null,null,{"$f":"IFERROR(VLOOKUP(T1302,Códigos!B:C,2,0),\" \")","v":" "}]
[null,null,null,null,null,null,null,null,null,null,null,null,null,null,null,null,null,null,null,null,{"$f":"IFERROR(VLOOKUP(T1303,Códigos!B:C,2,0),\" \")","v":" "}]
[null,null,null,null,null,null,null,null,null,null,null,null,null,null,null,null,null,null,null,null,{"$f":"IFERROR(VLOOKUP(T1304,Códigos!B:C,2,0),\" \")","v":" "}]
[null,null,null,null,null,null,null,null,null,null,null,null,null,null,null,null,null,null,null,null,{"$f":"IFERROR(VLOOKUP(T1305,Códigos!B:C,2,0),\" \")","v":" "}]
[null,null,null,null,null,null,null,null,null,null,null,null,null,null,null,null,null,null,null,null,{"$f":"IFERROR(VLOOKUP(T1306,Códigos!B:C,2,0),\" \")","v":" "}]
[null,null,null,null,null,null,null,null,null,null,null,null,null,null,null,null,null,null,null,null,{"$f":"IFERROR(VLOOKUP(T1307,Códigos!B:C,2,0),\" \")","v":" "}]
[null,null,null,null,null,null,null,null,null,null,null,null,null,null,null,null,null,null,null,null,{"$f":"IFERROR(VLOOKUP(T1308,Códigos!B:C,2,0),\" \")","v":" "}]
[null,null,null,null,null,null,null,null,null,null,null,null,null,null,null,null,null,null,null,null,{"$f":"IFERROR(VLOOKUP(T1309,Códigos!B:C,2,0),\" \")","v":" "}]
[null,null,null,null,null,null,null,null,null,null,null,null,null,null,null,null,null,null,null,null,{"$f":"IFERROR(VLOOKUP(T1310,Códigos!B:C,2,0),\" \")","v":" "}]
[null,null,null,null,null,null,null,null,null,null,null,null,null,null,null,null,null,null,null,null,{"$f":"IFERROR(VLOOKUP(T1311,Códigos!B:C,2,0),\" \")","v":" "}]
[null,null,null,null,null,null,null,null,null,null,null,null,null,null,null,null,null,null,null,null,{"$f":"IFERROR(VLOOKUP(T1312,Códigos!B:C,2,0),\" \")","v":" "}]
[null,null,null,null,null,null,null,null,null,null,null,null,null,null,null,null,null,null,null,null,{"$f":"IFERROR(VLOOKUP(T1313,Códigos!B:C,2,0),\" \")","v":" "}]
[null,null,null,null,null,null,null,null,null,null,null,null,null,null,null,null,null,null,null,null,{"$f":"IFERROR(VLOOKUP(T1314,Códigos!B:C,2,0),\" \")","v":" "}]
[null,null,null,null,null,null,null,null,null,null,null,null,null,null,null,null,null,null,null,null,{"$f":"IFERROR(VLOOKUP(T1315,Códigos!B:C,2,0),\" \")","v":" "}]
[null,null,null,null,null,null,null,null,null,null,null,null,null,null,null,null,null,null,null,null,{"$f":"IFERROR(VLOOKUP(T1316,Códigos!B:C,2,0),\" \")","v":" "}]
[null,null,null,null,null,null,null,null,null,null,null,null,null,null,null,null,null,null,null,null,{"$f":"IFERROR(VLOOKUP(T1317,Códigos!B:C,2,0),\" \")","v":" "}]
[null,null,null,null,null,null,null,null,null,null,null,null,null,null,null,null,null,null,null,null,{"$f":"IFERROR(VLOOKUP(T1318,Códigos!B:C,2,0),\" \")","v":" "}]
[null,null,null,null,null,null,null,null,null,null,null,null,null,null,null,null,null,null,null,null,{"$f":"IFERROR(VLOOKUP(T1319,Códigos!B:C,2,0),\" \")","v":" "}]
[null,null,null,null,null,null,null,null,null,null,null,null,null,null,null,null,null,null,null,null,{"$f":"IFERROR(VLOOKUP(T1320,Códigos!B:C,2,0),\" \")","v":" "}]
[null,null,null,null,null,null,null,null,null,null,null,null,null,null,null,null,null,null,null,null,{"$f":"IFERROR(VLOOKUP(T1321,Códigos!B:C,2,0),\" \")","v":" "}]
[null,null,null,null,null,null,null,null,null,null,null,null,null,null,null,null,null,null,null,null,{"$f":"IFERROR(VLOOKUP(T1322,Códigos!B:C,2,0),\" \")","v":" "}]
[null,null,null,null,null,null,null,null,null,null,null,null,null,null,null,null,null,null,null,null,{"$f":"IFERROR(VLOOKUP(T1323,Códigos!B:C,2,0),\" \")","v":" "}]
[null,null,null,null,null,null,null,null,null,null,null,null,null,null,null,null,null,null,null,null,{"$f":"IFERROR(VLOOKUP(T1324,Códigos!B:C,2,0),\" \")","v":" "}]
[null,null,null,null,null,null,null,null,null,null,null,null,null,null,null,null,null,null,null,null,{"$f":"IFERROR(VLOOKUP(T1325,Códigos!B:C,2,0),\" \")","v":" "}]
[null,null,null,null,null,null,null,null,null,null,null,null,null,null,null,null,null,null,null,null,{"$f":"IFERROR(VLOOKUP(T1326,Códigos!B:C,2,0),\" \")","v":" "}]
[null,null,null,null,null,null,null,null,null,null,null,null,null,null,null,null,null,null,null,null,{"$f":"IFERROR(VLOOKUP(T1327,Códigos!B:C,2,0),\" \")","v":" "}]
[null,null,null,null,null,null,null,null,null,null,null,null,null,null,null,null,null,null,null,null,{"$f":"IFERROR(VLOOKUP(T1328,Códigos!B:C,2,0),\" \")","v":" "}]
[null,null,null,null,null,null,null,null,null,null,null,null,null,null,null,null,null,null,null,null,{"$f":"IFERROR(VLOOKUP(T1329,Códigos!B:C,2,0),\" \")","v":" "}]
[null,null,null,null,null,null,null,null,null,null,null,null,null,null,null,null,null,null,null,null,{"$f":"IFERROR(VLOOKUP(T1330,Códigos!B:C,2,0),\" \")","v":" "}]
[null,null,null,null,null,null,null,null,null,null,null,null,null,null,null,null,null,null,null,null,{"$f":"IFERROR(VLOOKUP(T1331,Códigos!B:C,2,0),\" \")","v":" "}]
[null,null,null,null,null,null,null,null,null,null,null,null,null,null,null,null,null,null,null,null,{"$f":"IFERROR(VLOOKUP(T1332,Códigos!B:C,2,0),\" \")","v":" "}]
[null,null,null,null,null,null,null,null,null,null,null,null,null,null,null,null,null,null,null,null,{"$f":"IFERROR(VLOOKUP(T1333,Códigos!B:C,2,0),\" \")","v":" "}]
[null,null,null,null,null,null,null,null,null,null,null,null,null,null,null,null,null,null,null,null,{"$f":"IFERROR(VLOOKUP(T1334,Códigos!B:C,2,0),\" \")","v":" "}]
[null,null,null,null,null,null,null,null,null,null,null,null,null,null,null,null,null,null,null,null,{"$f":"IFERROR(VLOOKUP(T1335,Códigos!B:C,2,0),\" \")","v":" "}]
[null,null,null,null,null,null,null,null,null,null,null,null,null,null,null,null,null,null,null,null,{"$f":"IFERROR(VLOOKUP(T1336,Códigos!B:C,2,0),\" \")","v":" "}]
[null,null,null,null,null,null,null,null,null,null,null,null,null,null,null,null,null,null,null,null,{"$f":"IFERROR(VLOOKUP(T1337,Códigos!B:C,2,0),\" \")","v":" "}]
[null,null,null,null,null,null,null,null,null,null,null,null,null,null,null,null,null,null,null,null,{"$f":"IFERROR(VLOOKUP(T1338,Códigos!B:C,2,0),\" \")","v":" "}]
[null,null,null,null,null,null,null,null,null,null,null,null,null,null,null,null,null,null,null,null,{"$f":"IFERROR(VLOOKUP(T1339,Códigos!B:C,2,0),\" \")","v":" "}]
[null,null,null,null,null,null,null,null,null,null,null,null,null,null,null,null,null,null,null,null,{"$f":"IFERROR(VLOOKUP(T1340,Códigos!B:C,2,0),\" \")","v":" "}]
[null,null,null,null,null,null,null,null,null,null,null,null,null,null,null,null,null,null,null,null,{"$f":"IFERROR(VLOOKUP(T1341,Códigos!B:C,2,0),\" \")","v":" "}]
[null,null,null,null,null,null,null,null,null,null,null,null,null,null,null,null,null,null,null,null,{"$f":"IFERROR(VLOOKUP(T1342,Códigos!B:C,2,0),\" \")","v":" "}]
[null,null,null,null,null,null,null,null,null,null,null,null,null,null,null,null,null,null,null,null,{"$f":"IFERROR(VLOOKUP(T1343,Códigos!B:C,2,0),\" \")","v":" "}]
[null,null,null,null,null,null,null,null,null,null,null,null,null,null,null,null,null,null,null,null,{"$f":"IFERROR(VLOOKUP(T1344,Códigos!B:C,2,0),\" \")","v":" "}]
[null,null,null,null,null,null,null,null,null,null,null,null,null,null,null,null,null,null,null,null,{"$f":"IFERROR(VLOOKUP(T1345,Códigos!B:C,2,0),\" \")","v":" "}]
[null,null,null,null,null,null,null,null,null,null,null,null,null,null,null,null,null,null,null,null,{"$f":"IFERROR(VLOOKUP(T1346,Códigos!B:C,2,0),\" \")","v":" "}]
[null,null,null,null,null,null,null,null,null,null,null,null,null,null,null,null,null,null,null,null,{"$f":"IFERROR(VLOOKUP(T1347,Códigos!B:C,2,0),\" \")","v":" "}]
[null,null,null,null,null,null,null,null,null,null,null,null,null,null,null,null,null,null,null,null,{"$f":"IFERROR(VLOOKUP(T1348,Códigos!B:C,2,0),\" \")","v":" "}]
[null,null,null,null,null,null,null,null,null,null,null,null,null,null,null,null,null,null,null,null,{"$f":"IFERROR(VLOOKUP(T1349,Códigos!B:C,2,0),\" \")","v":" "}]
[null,null,null,null,null,null,null,null,null,null,null,null,null,null,null,null,null,null,null,null,{"$f":"IFERROR(VLOOKUP(T1350,Códigos!B:C,2,0),\" \")","v":" "}]
[null,null,null,null,null,null,null,null,null,null,null,null,null,null,null,null,null,null,null,null,{"$f":"IFERROR(VLOOKUP(T1351,Códigos!B:C,2,0),\" \")","v":" "}]
[null,null,null,null,null,null,null,null,null,null,null,null,null,null,null,null,null,null,null,null,{"$f":"IFERROR(VLOOKUP(T1352,Códigos!B:C,2,0),\" \")","v":" "}]
[null,null,null,null,null,null,null,null,null,null,null,null,null,null,null,null,null,null,null,null,{"$f":"IFERROR(VLOOKUP(T1353,Códigos!B:C,2,0),\" \")","v":" "}]
[null,null,null,null,null,null,null,null,null,null,null,null,null,null,null,null,null,null,null,null,{"$f":"IFERROR(VLOOKUP(T1354,Códigos!B:C,2,0),\" \")","v":" "}]
[null,null,null,null,null,null,null,null,null,null,null,null,null,null,null,null,null,null,null,null,{"$f":"IFERROR(VLOOKUP(T1355,Códigos!B:C,2,0),\" \")","v":" "}]
[null,null,null,null,null,null,null,null,null,null,null,null,null,null,null,null,null,null,null,null,{"$f":"IFERROR(VLOOKUP(T1356,Códigos!B:C,2,0),\" \")","v":" "}]
[null,null,null,null,null,null,null,null,null,null,null,null,null,null,null,null,null,null,null,null,{"$f":"IFERROR(VLOOKUP(T1357,Códigos!B:C,2,0),\" \")","v":" "}]
[null,null,null,null,null,null,null,null,null,null,null,null,null,null,null,null,null,null,null,null,{"$f":"IFERROR(VLOOKUP(T1358,Códigos!B:C,2,0),\" \")","v":" "}]
[null,null,null,null,null,null,null,null,null,null,null,null,null,null,null,null,null,null,null,null,{"$f":"IFERROR(VLOOKUP(T1359,Códigos!B:C,2,0),\" \")","v":" "}]
[null,null,null,null,null,null,null,null,null,null,null,null,null,null,null,null,null,null,null,null,{"$f":"IFERROR(VLOOKUP(T1360,Códigos!B:C,2,0),\" \")","v":" "}]
[null,null,null,null,null,null,null,null,null,null,null,null,null,null,null,null,null,null,null,null,{"$f":"IFERROR(VLOOKUP(T1361,Códigos!B:C,2,0),\" \")","v":" "}]
[null,null,null,null,null,null,null,null,null,null,null,null,null,null,null,null,null,null,null,null,{"$f":"IFERROR(VLOOKUP(T1362,Códigos!B:C,2,0),\" \")","v":" "}]
[null,null,null,null,null,null,null,null,null,null,null,null,null,null,null,null,null,null,null,null,{"$f":"IFERROR(VLOOKUP(T1363,Códigos!B:C,2,0),\" \")","v":" "}]
[null,null,null,null,null,null,null,null,null,null,null,null,null,null,null,null,null,null,null,null,{"$f":"IFERROR(VLOOKUP(T1364,Códigos!B:C,2,0),\" \")","v":" "}]
[null,null,null,null,null,null,null,null,null,null,null,null,null,null,null,null,null,null,null,null,{"$f":"IFERROR(VLOOKUP(T1365,Códigos!B:C,2,0),\" \")","v":" "}]
[null,null,null,null,null,null,null,null,null,null,null,null,null,null,null,null,null,null,null,null,{"$f":"IFERROR(VLOOKUP(T1366,Códigos!B:C,2,0),\" \")","v":" "}]
[null,null,null,null,null,null,null,null,null,null,null,null,null,null,null,null,null,null,null,null,{"$f":"IFERROR(VLOOKUP(T1367,Códigos!B:C,2,0),\" \")","v":" "}]
[null,null,null,null,null,null,null,null,null,null,null,null,null,null,null,null,null,null,null,null,{"$f":"IFERROR(VLOOKUP(T1368,Códigos!B:C,2,0),\" \")","v":" "}]
[null,null,null,null,null,null,null,null,null,null,null,null,null,null,null,null,null,null,null,null,{"$f":"IFERROR(VLOOKUP(T1369,Códigos!B:C,2,0),\" \")","v":" "}]
[null,null,null,null,null,null,null,null,null,null,null,null,null,null,null,null,null,null,null,null,{"$f":"IFERROR(VLOOKUP(T1370,Códigos!B:C,2,0),\" \")","v":" "}]
[null,null,null,null,null,null,null,null,null,null,null,null,null,null,null,null,null,null,null,null,{"$f":"IFERROR(VLOOKUP(T1371,Códigos!B:C,2,0),\" \")","v":" "}]
[null,null,null,null,null,null,null,null,null,null,null,null,null,null,null,null,null,null,null,null,{"$f":"IFERROR(VLOOKUP(T1372,Códigos!B:C,2,0),\" \")","v":" "}]
[null,null,null,null,null,null,null,null,null,null,null,null,null,null,null,null,null,null,null,null,{"$f":"IFERROR(VLOOKUP(T1373,Códigos!B:C,2,0),\" \")","v":" "}]
[null,null,null,null,null,null,null,null,null,null,null,null,null,null,null,null,null,null,null,null,{"$f":"IFERROR(VLOOKUP(T1374,Códigos!B:C,2,0),\" \")","v":" "}]
[null,null,null,null,null,null,null,null,null,null,null,null,null,null,null,null,null,null,null,null,{"$f":"IFERROR(VLOOKUP(T1375,Códigos!B:C,2,0),\" \")","v":" "}]
[null,null,null,null,null,null,null,null,null,null,null,null,null,null,null,null,null,null,null,null,{"$f":"IFERROR(VLOOKUP(T1376,Códigos!B:C,2,0),\" \")","v":" "}]
[null,null,null,null,null,null,null,null,null,null,null,null,null,null,null,null,null,null,null,null,{"$f":"IFERROR(VLOOKUP(T1377,Códigos!B:C,2,0),\" \")","v":" "}]
[null,null,null,null,null,null,null,null,null,null,null,null,null,null,null,null,null,null,null,null,{"$f":"IFERROR(VLOOKUP(T1378,Códigos!B:C,2,0),\" \")","v":" "}]
[null,null,null,null,null,null,null,null,null,null,null,null,null,null,null,null,null,null,null,null,{"$f":"IFERROR(VLOOKUP(T1379,Códigos!B:C,2,0),\" \")","v":" "}]
[null,null,null,null,null,null,null,null,null,null,null,null,null,null,null,null,null,null,null,null,{"$f":"IFERROR(VLOOKUP(T1380,Códigos!B:C,2,0),\" \")","v":" "}]
[null,null,null,null,null,null,null,null,null,null,null,null,null,null,null,null,null,null,null,null,{"$f":"IFERROR(VLOOKUP(T1381,Códigos!B:C,2,0),\" \")","v":" "}]
[null,null,null,null,null,null,null,null,null,null,null,null,null,null,null,null,null,null,null,null,{"$f":"IFERROR(VLOOKUP(T1382,Códigos!B:C,2,0),\" \")","v":" "}]
[null,null,null,null,null,null,null,null,null,null,null,null,null,null,null,null,null,null,null,null,{"$f":"IFERROR(VLOOKUP(T1383,Códigos!B:C,2,0),\" \")","v":" "}]
[null,null,null,null,null,null,null,null,null,null,null,null,null,null,null,null,null,null,null,null,{"$f":"IFERROR(VLOOKUP(T1384,Códigos!B:C,2,0),\" \")","v":" "}]
[null,null,null,null,null,null,null,null,null,null,null,null,null,null,null,null,null,null,null,null,{"$f":"IFERROR(VLOOKUP(T1385,Códigos!B:C,2,0),\" \")","v":" "}]
[null,null,null,null,null,null,null,null,null,null,null,null,null,null,null,null,null,null,null,null,{"$f":"IFERROR(VLOOKUP(T1386,Códigos!B:C,2,0),\" \")","v":" "}]
[null,null,null,null,null,null,null,null,null,null,null,null,null,null,null,null,null,null,null,null,{"$f":"IFERROR(VLOOKUP(T1387,Códigos!B:C,2,0),\" \")","v":" "}]
[null,null,null,null,null,null,null,null,null,null,null,null,null,null,null,null,null,null,null,null,{"$f":"IFERROR(VLOOKUP(T1388,Códigos!B:C,2,0),\" \")","v":" "}]
[null,null,null,null,null,null,null,null,null,null,null,null,null,null,null,null,null,null,null,null,{"$f":"IFERROR(VLOOKUP(T1389,Códigos!B:C,2,0),\" \")","v":" "}]
[null,null,null,null,null,null,null,null,null,null,null,null,null,null,null,null,null,null,null,null,{"$f":"IFERROR(VLOOKUP(T1390,Códigos!B:C,2,0),\" \")","v":" "}]
[null,null,null,null,null,null,null,null,null,null,null,null,null,null,null,null,null,null,null,null,{"$f":"IFERROR(VLOOKUP(T1391,Códigos!B:C,2,0),\" \")","v":" "}]
[null,null,null,null,null,null,null,null,null,null,null,null,null,null,null,null,null,null,null,null,{"$f":"IFERROR(VLOOKUP(T1392,Códigos!B:C,2,0),\" \")","v":" "}]
[null,null,null,null,null,null,null,null,null,null,null,null,null,null,null,null,null,null,null,null,{"$f":"IFERROR(VLOOKUP(T1393,Códigos!B:C,2,0),\" \")","v":" "}]
[null,null,null,null,null,null,null,null,null,null,null,null,null,null,null,null,null,null,null,null,{"$f":"IFERROR(VLOOKUP(T1394,Códigos!B:C,2,0),\" \")","v":" "}]
[null,null,null,null,null,null,null,null,null,null,null,null,null,null,null,null,null,null,null,null,{"$f":"IFERROR(VLOOKUP(T1395,Códigos!B:C,2,0),\" \")","v":" "}]
[null,null,null,null,null,null,null,null,null,null,null,null,null,null,null,null,null,null,null,null,{"$f":"IFERROR(VLOOKUP(T1396,Códigos!B:C,2,0),\" \")","v":" "}]
[null,null,null,null,null,null,null,null,null,null,null,null,null,null,null,null,null,null,null,null,{"$f":"IFERROR(VLOOKUP(T1397,Códigos!B:C,2,0),\" \")","v":" "}]
[null,null,null,null,null,null,null,null,null,null,null,null,null,null,null,null,null,null,null,null,{"$f":"IFERROR(VLOOKUP(T1398,Códigos!B:C,2,0),\" \")","v":" "}]
[null,null,null,null,null,null,null,null,null,null,null,null,null,null,null,null,null,null,null,null,{"$f":"IFERROR(VLOOKUP(T1399,Códigos!B:C,2,0),\" \")","v":" "}]
[null,null,null,null,null,null,null,null,null,null,null,null,null,null,null,null,null,null,null,null,{"$f":"IFERROR(VLOOKUP(T1400,Códigos!B:C,2,0),\" \")","v":" "}]
[null,null,null,null,null,null,null,null,null,null,null,null,null,null,null,null,null,null,null,null,{"$f":"IFERROR(VLOOKUP(T1401,Códigos!B:C,2,0),\" \")","v":" "}]
[null,null,null,null,null,null,null,null,null,null,null,null,null,null,null,null,null,null,null,null,{"$f":"IFERROR(VLOOKUP(T1402,Códigos!B:C,2,0),\" \")","v":" "}]
[null,null,null,null,null,null,null,null,null,null,null,null,null,null,null,null,null,null,null,null,{"$f":"IFERROR(VLOOKUP(T1403,Códigos!B:C,2,0),\" \")","v":" "}]
[null,null,null,null,null,null,null,null,null,null,null,null,null,null,null,null,null,null,null,null,{"$f":"IFERROR(VLOOKUP(T1404,Códigos!B:C,2,0),\" \")","v":" "}]
[null,null,null,null,null,null,null,null,null,null,null,null,null,null,null,null,null,null,null,null,{"$f":"IFERROR(VLOOKUP(T1405,Códigos!B:C,2,0),\" \")","v":" "}]
[null,null,null,null,null,null,null,null,null,null,null,null,null,null,null,null,null,null,null,null,{"$f":"IFERROR(VLOOKUP(T1406,Códigos!B:C,2,0),\" \")","v":" "}]
[null,null,null,null,null,null,null,null,null,null,null,null,null,null,null,null,null,null,null,null,{"$f":"IFERROR(VLOOKUP(T1407,Códigos!B:C,2,0),\" \")","v":" "}]
[null,null,null,null,null,null,null,null,null,null,null,null,null,null,null,null,null,null,null,null,{"$f":"IFERROR(VLOOKUP(T1408,Códigos!B:C,2,0),\" \")","v":" "}]
[null,null,null,null,null,null,null,null,null,null,null,null,null,null,null,null,null,null,null,null,{"$f":"IFERROR(VLOOKUP(T1409,Códigos!B:C,2,0),\" \")","v":" "}]
[null,null,null,null,null,null,null,null,null,null,null,null,null,null,null,null,null,null,null,null,{"$f":"IFERROR(VLOOKUP(T1410,Códigos!B:C,2,0),\" \")","v":" "}]
[null,null,null,null,null,null,null,null,null,null,null,null,null,null,null,null,null,null,null,null,{"$f":"IFERROR(VLOOKUP(T1411,Códigos!B:C,2,0),\" \")","v":" "}]
[null,null,null,null,null,null,null,null,null,null,null,null,null,null,null,null,null,null,null,null,{"$f":"IFERROR(VLOOKUP(T1412,Códigos!B:C,2,0),\" \")","v":" "}]
[null,null,null,null,null,null,null,null,null,null,null,null,null,null,null,null,null,null,null,null,{"$f":"IFERROR(VLOOKUP(T1413,Códigos!B:C,2,0),\" \")","v":" "}]
[null,null,null,null,null,null,null,null,null,null,null,null,null,null,null,null,null,null,null,null,{"$f":"IFERROR(VLOOKUP(T1414,Códigos!B:C,2,0),\" \")","v":" "}]
[null,null,null,null,null,null,null,null,null,null,null,null,null,null,null,null,null,null,null,null,{"$f":"IFERROR(VLOOKUP(T1415,Códigos!B:C,2,0),\" \")","v":" "}]
[null,null,null,null,null,null,null,null,null,null,null,null,null,null,null,null,null,null,null,null,{"$f":"IFERROR(VLOOKUP(T1416,Códigos!B:C,2,0),\" \")","v":" "}]
[null,null,null,null,null,null,null,null,null,null,null,null,null,null,null,null,null,null,null,null,{"$f":"IFERROR(VLOOKUP(T1417,Códigos!B:C,2,0),\" \")","v":" "}]
[null,null,null,null,null,null,null,null,null,null,null,null,null,null,null,null,null,null,null,null,{"$f":"IFERROR(VLOOKUP(T1418,Códigos!B:C,2,0),\" \")","v":" "}]
[null,null,null,null,null,null,null,null,null,null,null,null,null,null,null,null,null,null,null,null,{"$f":"IFERROR(VLOOKUP(T1419,Códigos!B:C,2,0),\" \")","v":" "}]
[null,null,null,null,null,null,null,null,null,null,null,null,null,null,null,null,null,null,null,null,{"$f":"IFERROR(VLOOKUP(T1420,Códigos!B:C,2,0),\" \")","v":" "}]
[null,null,null,null,null,null,null,null,null,null,null,null,null,null,null,null,null,null,null,null,{"$f":"IFERROR(VLOOKUP(T1421,Códigos!B:C,2,0),\" \")","v":" "}]
[null,null,null,null,null,null,null,null,null,null,null,null,null,null,null,null,null,null,null,null,{"$f":"IFERROR(VLOOKUP(T1422,Códigos!B:C,2,0),\" \")","v":" "}]
[null,null,null,null,null,null,null,null,null,null,null,null,null,null,null,null,null,null,null,null,{"$f":"IFERROR(VLOOKUP(T1423,Códigos!B:C,2,0),\" \")","v":" "}]
[null,null,null,null,null,null,null,null,null,null,null,null,null,null,null,null,null,null,null,null,{"$f":"IFERROR(VLOOKUP(T1424,Códigos!B:C,2,0),\" \")","v":" "}]
[null,null,null,null,null,null,null,null,null,null,null,null,null,null,null,null,null,null,null,null,{"$f":"IFERROR(VLOOKUP(T1425,Códigos!B:C,2,0),\" \")","v":" "}]
[null,null,null,null,null,null,null,null,null,null,null,null,null,null,null,null,null,null,null,null,{"$f":"IFERROR(VLOOKUP(T1426,Códigos!B:C,2,0),\" \")","v":" "}]
[null,null,null,null,null,null,null,null,null,null,null,null,null,null,null,null,null,null,null,null,{"$f":"IFERROR(VLOOKUP(T1427,Códigos!B:C,2,0),\" \")","v":" "}]
[null,null,null,null,null,null,null,null,null,null,null,null,null,null,null,null,null,null,null,null,{"$f":"IFERROR(VLOOKUP(T1428,Códigos!B:C,2,0),\" \")","v":" "}]
[null,null,null,null,null,null,null,null,null,null,null,null,null,null,null,null,null,null,null,null,{"$f":"IFERROR(VLOOKUP(T1429,Códigos!B:C,2,0),\" \")","v":" "}]
[null,null,null,null,null,null,null,null,null,null,null,null,null,null,null,null,null,null,null,null,{"$f":"IFERROR(VLOOKUP(T1430,Códigos!B:C,2,0),\" \")","v":" "}]
[null,null,null,null,null,null,null,null,null,null,null,null,null,null,null,null,null,null,null,null,{"$f":"IFERROR(VLOOKUP(T1431,Códigos!B:C,2,0),\" \")","v":" "}]
[null,null,null,null,null,null,null,null,null,null,null,null,null,null,null,null,null,null,null,null,{"$f":"IFERROR(VLOOKUP(T1432,Códigos!B:C,2,0),\" \")","v":" "}]
[null,null,null,null,null,null,null,null,null,null,null,null,null,null,null,null,null,null,null,null,{"$f":"IFERROR(VLOOKUP(T1433,Códigos!B:C,2,0),\" \")","v":" "}]
[null,null,null,null,null,null,null,null,null,null,null,null,null,null,null,null,null,null,null,null,{"$f":"IFERROR(VLOOKUP(T1434,Códigos!B:C,2,0),\" \")","v":" "}]
[null,null,null,null,null,null,null,null,null,null,null,null,null,null,null,null,null,null,null,null,{"$f":"IFERROR(VLOOKUP(T1435,Códigos!B:C,2,0),\" \")","v":" "}]
[null,null,null,null,null,null,null,null,null,null,null,null,null,null,null,null,null,null,null,null,{"$f":"IFERROR(VLOOKUP(T1436,Códigos!B:C,2,0),\" \")","v":" "}]
[null,null,null,null,null,null,null,null,null,null,null,null,null,null,null,null,null,null,null,null,{"$f":"IFERROR(VLOOKUP(T1437,Códigos!B:C,2,0),\" \")","v":" "}]
[null,null,null,null,null,null,null,null,null,null,null,null,null,null,null,null,null,null,null,null,{"$f":"IFERROR(VLOOKUP(T1438,Códigos!B:C,2,0),\" \")","v":" "}]
[null,null,null,null,null,null,null,null,null,null,null,null,null,null,null,null,null,null,null,null,{"$f":"IFERROR(VLOOKUP(T1439,Códigos!B:C,2,0),\" \")","v":" "}]
[null,null,null,null,null,null,null,null,null,null,null,null,null,null,null,null,null,null,null,null,{"$f":"IFERROR(VLOOKUP(T1440,Códigos!B:C,2,0),\" \")","v":" "}]
[null,null,null,null,null,null,null,null,null,null,null,null,null,null,null,null,null,null,null,null,{"$f":"IFERROR(VLOOKUP(T1441,Códigos!B:C,2,0),\" \")","v":" "}]
[null,null,null,null,null,null,null,null,null,null,null,null,null,null,null,null,null,null,null,null,{"$f":"IFERROR(VLOOKUP(T1442,Códigos!B:C,2,0),\" \")","v":" "}]
[null,null,null,null,null,null,null,null,null,null,null,null,null,null,null,null,null,null,null,null,{"$f":"IFERROR(VLOOKUP(T1443,Códigos!B:C,2,0),\" \")","v":" "}]
[null,null,null,null,null,null,null,null,null,null,null,null,null,null,null,null,null,null,null,null,{"$f":"IFERROR(VLOOKUP(T1444,Códigos!B:C,2,0),\" \")","v":" "}]
[null,null,null,null,null,null,null,null,null,null,null,null,null,null,null,null,null,null,null,null,{"$f":"IFERROR(VLOOKUP(T1445,Códigos!B:C,2,0),\" \")","v":" "}]
[null,null,null,null,null,null,null,null,null,null,null,null,null,null,null,null,null,null,null,null,{"$f":"IFERROR(VLOOKUP(T1446,Códigos!B:C,2,0),\" \")","v":" "}]
[null,null,null,null,null,null,null,null,null,null,null,null,null,null,null,null,null,null,null,null,{"$f":"IFERROR(VLOOKUP(T1447,Códigos!B:C,2,0),\" \")","v":" "}]
[null,null,null,null,null,null,null,null,null,null,null,null,null,null,null,null,null,null,null,null,{"$f":"IFERROR(VLOOKUP(T1448,Códigos!B:C,2,0),\" \")","v":" "}]
[null,null,null,null,null,null,null,null,null,null,null,null,null,null,null,null,null,null,null,null,{"$f":"IFERROR(VLOOKUP(T1449,Códigos!B:C,2,0),\" \")","v":" "}]
[null,null,null,null,null,null,null,null,null,null,null,null,null,null,null,null,null,null,null,null,{"$f":"IFERROR(VLOOKUP(T1450,Códigos!B:C,2,0),\" \")","v":" "}]
[null,null,null,null,null,null,null,null,null,null,null,null,null,null,null,null,null,null,null,null,{"$f":"IFERROR(VLOOKUP(T1451,Códigos!B:C,2,0),\" \")","v":" "}]
[null,null,null,null,null,null,null,null,null,null,null,null,null,null,null,null,null,null,null,null,{"$f":"IFERROR(VLOOKUP(T1452,Códigos!B:C,2,0),\" \")","v":" "}]
[null,null,null,null,null,null,null,null,null,null,null,null,null,null,null,null,null,null,null,null,{"$f":"IFERROR(VLOOKUP(T1453,Códigos!B:C,2,0),\" \")","v":" "}]
[null,null,null,null,null,null,null,null,null,null,null,null,null,null,null,null,null,null,null,null,{"$f":"IFERROR(VLOOKUP(T1454,Códigos!B:C,2,0),\" \")","v":" "}]
[null,null,null,null,null,null,null,null,null,null,null,null,null,null,null,null,null,null,null,null,{"$f":"IFERROR(VLOOKUP(T1455,Códigos!B:C,2,0),\" \")","v":" "}]
[null,null,null,null,null,null,null,null,null,null,null,null,null,null,null,null,null,null,null,null,{"$f":"IFERROR(VLOOKUP(T1456,Códigos!B:C,2,0),\" \")","v":" "}]
[null,null,null,null,null,null,null,null,null,null,null,null,null,null,null,null,null,null,null,null,{"$f":"IFERROR(VLOOKUP(T1457,Códigos!B:C,2,0),\" \")","v":" "}]
[null,null,null,null,null,null,null,null,null,null,null,null,null,null,null,null,null,null,null,null,{"$f":"IFERROR(VLOOKUP(T1458,Códigos!B:C,2,0),\" \")","v":" "}]
[null,null,null,null,null,null,null,null,null,null,null,null,null,null,null,null,null,null,null,null,{"$f":"IFERROR(VLOOKUP(T1459,Códigos!B:C,2,0),\" \")","v":" "}]
[null,null,null,null,null,null,null,null,null,null,null,null,null,null,null,null,null,null,null,null,{"$f":"IFERROR(VLOOKUP(T1460,Códigos!B:C,2,0),\" \")","v":" "}]
[null,null,null,null,null,null,null,null,null,null,null,null,null,null,null,null,null,null,null,null,{"$f":"IFERROR(VLOOKUP(T1461,Códigos!B:C,2,0),\" \")","v":" "}]
[null,null,null,null,null,null,null,null,null,null,null,null,null,null,null,null,null,null,null,null,{"$f":"IFERROR(VLOOKUP(T1462,Códigos!B:C,2,0),\" \")","v":" "}]
[null,null,null,null,null,null,null,null,null,null,null,null,null,null,null,null,null,null,null,null,{"$f":"IFERROR(VLOOKUP(T1463,Códigos!B:C,2,0),\" \")","v":" "}]
[null,null,null,null,null,null,null,null,null,null,null,null,null,null,null,null,null,null,null,null,{"$f":"IFERROR(VLOOKUP(T1464,Códigos!B:C,2,0),\" \")","v":" "}]
[null,null,null,null,null,null,null,null,null,null,null,null,null,null,null,null,null,null,null,null,{"$f":"IFERROR(VLOOKUP(T1465,Códigos!B:C,2,0),\" \")","v":" "}]
[null,null,null,null,null,null,null,null,null,null,null,null,null,null,null,null,null,null,null,null,{"$f":"IFERROR(VLOOKUP(T1466,Códigos!B:C,2,0),\" \")","v":" "}]
[null,null,null,null,null,null,null,null,null,null,null,null,null,null,null,null,null,null,null,null,{"$f":"IFERROR(VLOOKUP(T1467,Códigos!B:C,2,0),\" \")","v":" "}]
[null,null,null,null,null,null,null,null,null,null,null,null,null,null,null,null,null,null,null,null,{"$f":"IFERROR(VLOOKUP(T1468,Códigos!B:C,2,0),\" \")","v":" "}]
[null,null,null,null,null,null,null,null,null,null,null,null,null,null,null,null,null,null,null,null,{"$f":"IFERROR(VLOOKUP(T1469,Códigos!B:C,2,0),\" \")","v":" "}]
[null,null,null,null,null,null,null,null,null,null,null,null,null,null,null,null,null,null,null,null,{"$f":"IFERROR(VLOOKUP(T1470,Códigos!B:C,2,0),\" \")","v":" "}]
[null,null,null,null,null,null,null,null,null,null,null,null,null,null,null,null,null,null,null,null,{"$f":"IFERROR(VLOOKUP(T1471,Códigos!B:C,2,0),\" \")","v":" "}]
[null,null,null,null,null,null,null,null,null,null,null,null,null,null,null,null,null,null,null,null,{"$f":"IFERROR(VLOOKUP(T1472,Códigos!B:C,2,0),\" \")","v":" "}]
[null,null,null,null,null,null,null,null,null,null,null,null,null,null,null,null,null,null,null,null,{"$f":"IFERROR(VLOOKUP(T1473,Códigos!B:C,2,0),\" \")","v":" "}]
[null,null,null,null,null,null,null,null,null,null,null,null,null,null,null,null,null,null,null,null,{"$f":"IFERROR(VLOOKUP(T1474,Códigos!B:C,2,0),\" \")","v":" "}]
[null,null,null,null,null,null,null,null,null,null,null,null,null,null,null,null,null,null,null,null,{"$f":"IFERROR(VLOOKUP(T1475,Códigos!B:C,2,0),\" \")","v":" "}]
[null,null,null,null,null,null,null,null,null,null,null,null,null,null,null,null,null,null,null,null,{"$f":"IFERROR(VLOOKUP(T1476,Códigos!B:C,2,0),\" \")","v":" "}]
[null,null,null,null,null,null,null,null,null,null,null,null,null,null,null,null,null,null,null,null,{"$f":"IFERROR(VLOOKUP(T1477,Códigos!B:C,2,0),\" \")","v":" "}]
[null,null,null,null,null,null,null,null,null,null,null,null,null,null,null,null,null,null,null,null,{"$f":"IFERROR(VLOOKUP(T1478,Códigos!B:C,2,0),\" \")","v":" "}]
[null,null,null,null,null,null,null,null,null,null,null,null,null,null,null,null,null,null,null,null,{"$f":"IFERROR(VLOOKUP(T1479,Códigos!B:C,2,0),\" \")","v":" "}]
[null,null,null,null,null,null,null,null,null,null,null,null,null,null,null,null,null,null,null,null,{"$f":"IFERROR(VLOOKUP(T1480,Códigos!B:C,2,0),\" \")","v":" "}]
[null,null,null,null,null,null,null,null,null,null,null,null,null,null,null,null,null,null,null,null,{"$f":"IFERROR(VLOOKUP(T1481,Códigos!B:C,2,0),\" \")","v":" "}]
[null,null,null,null,null,null,null,null,null,null,null,null,null,null,null,null,null,null,null,null,{"$f":"IFERROR(VLOOKUP(T1482,Códigos!B:C,2,0),\" \")","v":" "}]
[null,null,null,null,null,null,null,null,null,null,null,null,null,null,null,null,null,null,null,null,{"$f":"IFERROR(VLOOKUP(T1483,Códigos!B:C,2,0),\" \")","v":" "}]
[null,null,null,null,null,null,null,null,null,null,null,null,null,null,null,null,null,null,null,null,{"$f":"IFERROR(VLOOKUP(T1484,Códigos!B:C,2,0),\" \")","v":" "}]
[null,null,null,null,null,null,null,null,null,null,null,null,null,null,null,null,null,null,null,null,{"$f":"IFERROR(VLOOKUP(T1485,Códigos!B:C,2,0),\" \")","v":" "}]
[null,null,null,null,null,null,null,null,null,null,null,null,null,null,null,null,null,null,null,null,{"$f":"IFERROR(VLOOKUP(T1486,Códigos!B:C,2,0),\" \")","v":" "}]
[null,null,null,null,null,null,null,null,null,null,null,null,null,null,null,null,null,null,null,null,{"$f":"IFERROR(VLOOKUP(T1487,Códigos!B:C,2,0),\" \")","v":" "}]
[null,null,null,null,null,null,null,null,null,null,null,null,null,null,null,null,null,null,null,null,{"$f":"IFERROR(VLOOKUP(T1488,Códigos!B:C,2,0),\" \")","v":" "}]
[null,null,null,null,null,null,null,null,null,null,null,null,null,null,null,null,null,null,null,null,{"$f":"IFERROR(VLOOKUP(T1489,Códigos!B:C,2,0),\" \")","v":" "}]
[null,null,null,null,null,null,null,null,null,null,null,null,null,null,null,null,null,null,null,null,{"$f":"IFERROR(VLOOKUP(T1490,Códigos!B:C,2,0),\" \")","v":" "}]
[null,null,null,null,null,null,null,null,null,null,null,null,null,null,null,null,null,null,null,null,{"$f":"IFERROR(VLOOKUP(T1491,Códigos!B:C,2,0),\" \")","v":" "}]
[null,null,null,null,null,null,null,null,null,null,null,null,null,null,null,null,null,null,null,null,{"$f":"IFERROR(VLOOKUP(T1492,Códigos!B:C,2,0),\" \")","v":" "}]
[null,null,null,null,null,null,null,null,null,null,null,null,null,null,null,null,null,null,null,null,{"$f":"IFERROR(VLOOKUP(T1493,Códigos!B:C,2,0),\" \")","v":" "}]
[null,null,null,null,null,null,null,null,null,null,null,null,null,null,null,null,null,null,null,null,{"$f":"IFERROR(VLOOKUP(T1494,Códigos!B:C,2,0),\" \")","v":" "}]
[null,null,null,null,null,null,null,null,null,null,null,null,null,null,null,null,null,null,null,null,{"$f":"IFERROR(VLOOKUP(T1495,Códigos!B:C,2,0),\" \")","v":" "}]
[null,null,null,null,null,null,null,null,null,null,null,null,null,null,null,null,null,null,null,null,{"$f":"IFERROR(VLOOKUP(T1496,Códigos!B:C,2,0),\" \")","v":" "}]
[null,null,null,null,null,null,null,null,null,null,null,null,null,null,null,null,null,null,null,null,{"$f":"IFERROR(VLOOKUP(T1497,Códigos!B:C,2,0),\" \")","v":" "}]
[null,null,null,null,null,null,null,null,null,null,null,null,null,null,null,null,null,null,null,null,{"$f":"IFERROR(VLOOKUP(T1498,Códigos!B:C,2,0),\" \")","v":" "}]
[null,null,null,null,null,null,null,null,null,null,null,null,null,null,null,null,null,null,null,null,{"$f":"IFERROR(VLOOKUP(T1499,Códigos!B:C,2,0),\" \")","v":" "}]
[null,null,null,null,null,null,null,null,null,null,null,null,null,null,null,null,null,null,null,null,{"$f":"IFERROR(VLOOKUP(T1500,Códigos!B:C,2,0),\" \")","v":" "}]
[null,null,null,null,null,null,null,null,null,null,null,null,null,null,null,null,null,null,null,null,{"$f":"IFERROR(VLOOKUP(T1501,Códigos!B:C,2,0),\" \")","v":" "}]
[null,null,null,null,null,null,null,null,null,null,null,null,null,null,null,null,null,null,null,null,{"$f":"IFERROR(VLOOKUP(T1502,Códigos!B:C,2,0),\" \")","v":" "}]
[null,null,null,null,null,null,null,null,null,null,null,null,null,null,null,null,null,null,null,null,{"$f":"IFERROR(VLOOKUP(T1503,Códigos!B:C,2,0),\" \")","v":" "}]
[null,null,null,null,null,null,null,null,null,null,null,null,null,null,null,null,null,null,null,null,{"$f":"IFERROR(VLOOKUP(T1504,Códigos!B:C,2,0),\" \")","v":" "}]
[null,null,null,null,null,null,null,null,null,null,null,null,null,null,null,null,null,null,null,null,{"$f":"IFERROR(VLOOKUP(T1505,Códigos!B:C,2,0),\" \")","v":" "}]
[null,null,null,null,null,null,null,null,null,null,null,null,null,null,null,null,null,null,null,null,{"$f":"IFERROR(VLOOKUP(T1506,Códigos!B:C,2,0),\" \")","v":" "}]
[null,null,null,null,null,null,null,null,null,null,null,null,null,null,null,null,null,null,null,null,{"$f":"IFERROR(VLOOKUP(T1507,Códigos!B:C,2,0),\" \")","v":" "}]
[null,null,null,null,null,null,null,null,null,null,null,null,null,null,null,null,null,null,null,null,{"$f":"IFERROR(VLOOKUP(T1508,Códigos!B:C,2,0),\" \")","v":" "}]
[null,null,null,null,null,null,null,null,null,null,null,null,null,null,null,null,null,null,null,null,{"$f":"IFERROR(VLOOKUP(T1509,Códigos!B:C,2,0),\" \")","v":" "}]
[null,null,null,null,null,null,null,null,null,null,null,null,null,null,null,null,null,null,null,null,{"$f":"IFERROR(VLOOKUP(T1510,Códigos!B:C,2,0),\" \")","v":" "}]
[null,null,null,null,null,null,null,null,null,null,null,null,null,null,null,null,null,null,null,null,{"$f":"IFERROR(VLOOKUP(T1511,Códigos!B:C,2,0),\" \")","v":" "}]
[null,null,null,null,null,null,null,null,null,null,null,null,null,null,null,null,null,null,null,null,{"$f":"IFERROR(VLOOKUP(T1512,Códigos!B:C,2,0),\" \")","v":" "}]
[null,null,null,null,null,null,null,null,null,null,null,null,null,null,null,null,null,null,null,null,{"$f":"IFERROR(VLOOKUP(T1513,Códigos!B:C,2,0),\" \")","v":" "}]
[null,null,null,null,null,null,null,null,null,null,null,null,null,null,null,null,null,null,null,null,{"$f":"IFERROR(VLOOKUP(T1514,Códigos!B:C,2,0),\" \")","v":" "}]
[null,null,null,null,null,null,null,null,null,null,null,null,null,null,null,null,null,null,null,null,{"$f":"IFERROR(VLOOKUP(T1515,Códigos!B:C,2,0),\" \")","v":" "}]
[null,null,null,null,null,null,null,null,null,null,null,null,null,null,null,null,null,null,null,null,{"$f":"IFERROR(VLOOKUP(T1516,Códigos!B:C,2,0),\" \")","v":" "}]
[null,null,null,null,null,null,null,null,null,null,null,null,null,null,null,null,null,null,null,null,{"$f":"IFERROR(VLOOKUP(T1517,Códigos!B:C,2,0),\" \")","v":" "}]
[null,null,null,null,null,null,null,null,null,null,null,null,null,null,null,null,null,null,null,null,{"$f":"IFERROR(VLOOKUP(T1518,Códigos!B:C,2,0),\" \")","v":" "}]
[null,null,null,null,null,null,null,null,null,null,null,null,null,null,null,null,null,null,null,null,{"$f":"IFERROR(VLOOKUP(T1519,Códigos!B:C,2,0),\" \")","v":" "}]
[null,null,null,null,null,null,null,null,null,null,null,null,null,null,null,null,null,null,null,null,{"$f":"IFERROR(VLOOKUP(T1520,Códigos!B:C,2,0),\" \")","v":" "}]
[null,null,null,null,null,null,null,null,null,null,null,null,null,null,null,null,null,null,null,null,{"$f":"IFERROR(VLOOKUP(T1521,Códigos!B:C,2,0),\" \")","v":" "}]
[null,null,null,null,null,null,null,null,null,null,null,null,null,null,null,null,null,null,null,null,{"$f":"IFERROR(VLOOKUP(T1522,Códigos!B:C,2,0),\" \")","v":" "}]
[null,null,null,null,null,null,null,null,null,null,null,null,null,null,null,null,null,null,null,null,{"$f":"IFERROR(VLOOKUP(T1523,Códigos!B:C,2,0),\" \")","v":" "}]
[null,null,null,null,null,null,null,null,null,null,null,null,null,null,null,null,null,null,null,null,{"$f":"IFERROR(VLOOKUP(T1524,Códigos!B:C,2,0),\" \")","v":" "}]
[null,null,null,null,null,null,null,null,null,null,null,null,null,null,null,null,null,null,null,null,{"$f":"IFERROR(VLOOKUP(T1525,Códigos!B:C,2,0),\" \")","v":" "}]
[null,null,null,null,null,null,null,null,null,null,null,null,null,null,null,null,null,null,null,null,{"$f":"IFERROR(VLOOKUP(T1526,Códigos!B:C,2,0),\" \")","v":" "}]
[null,null,null,null,null,null,null,null,null,null,null,null,null,null,null,null,null,null,null,null,{"$f":"IFERROR(VLOOKUP(T1527,Códigos!B:C,2,0),\" \")","v":" "}]
[null,null,null,null,null,null,null,null,null,null,null,null,null,null,null,null,null,null,null,null,{"$f":"IFERROR(VLOOKUP(T1528,Códigos!B:C,2,0),\" \")","v":" "}]
[null,null,null,null,null,null,null,null,null,null,null,null,null,null,null,null,null,null,null,null,{"$f":"IFERROR(VLOOKUP(T1529,Códigos!B:C,2,0),\" \")","v":" "}]
[null,null,null,null,null,null,null,null,null,null,null,null,null,null,null,null,null,null,null,null,{"$f":"IFERROR(VLOOKUP(T1530,Códigos!B:C,2,0),\" \")","v":" "}]
[null,null,null,null,null,null,null,null,null,null,null,null,null,null,null,null,null,null,null,null,{"$f":"IFERROR(VLOOKUP(T1531,Códigos!B:C,2,0),\" \")","v":" "}]
[null,null,null,null,null,null,null,null,null,null,null,null,null,null,null,null,null,null,null,null,{"$f":"IFERROR(VLOOKUP(T1532,Códigos!B:C,2,0),\" \")","v":" "}]
[null,null,null,null,null,null,null,null,null,null,null,null,null,null,null,null,null,null,null,null,{"$f":"IFERROR(VLOOKUP(T1533,Códigos!B:C,2,0),\" \")","v":" "}]
[null,null,null,null,null,null,null,null,null,null,null,null,null,null,null,null,null,null,null,null,{"$f":"IFERROR(VLOOKUP(T1534,Códigos!B:C,2,0),\" \")","v":" "}]
[null,null,null,null,null,null,null,null,null,null,null,null,null,null,null,null,null,null,null,null,{"$f":"IFERROR(VLOOKUP(T1535,Códigos!B:C,2,0),\" \")","v":" "}]
[null,null,null,null,null,null,null,null,null,null,null,null,null,null,null,null,null,null,null,null,{"$f":"IFERROR(VLOOKUP(T1536,Códigos!B:C,2,0),\" \")","v":" "}]
[null,null,null,null,null,null,null,null,null,null,null,null,null,null,null,null,null,null,null,null,{"$f":"IFERROR(VLOOKUP(T1537,Códigos!B:C,2,0),\" \")","v":" "}]
[null,null,null,null,null,null,null,null,null,null,null,null,null,null,null,null,null,null,null,null,{"$f":"IFERROR(VLOOKUP(T1538,Códigos!B:C,2,0),\" \")","v":" "}]
[null,null,null,null,null,null,null,null,null,null,null,null,null,null,null,null,null,null,null,null,{"$f":"IFERROR(VLOOKUP(T1539,Códigos!B:C,2,0),\" \")","v":" "}]
[null,null,null,null,null,null,null,null,null,null,null,null,null,null,null,null,null,null,null,null,{"$f":"IFERROR(VLOOKUP(T1540,Códigos!B:C,2,0),\" \")","v":" "}]
[null,null,null,null,null,null,null,null,null,null,null,null,null,null,null,null,null,null,null,null,{"$f":"IFERROR(VLOOKUP(T1541,Códigos!B:C,2,0),\" \")","v":" "}]
[null,null,null,null,null,null,null,null,null,null,null,null,null,null,null,null,null,null,null,null,{"$f":"IFERROR(VLOOKUP(T1542,Códigos!B:C,2,0),\" \")","v":" "}]
[null,null,null,null,null,null,null,null,null,null,null,null,null,null,null,null,null,null,null,null,{"$f":"IFERROR(VLOOKUP(T1543,Códigos!B:C,2,0),\" \")","v":" "}]
[null,null,null,null,null,null,null,null,null,null,null,null,null,null,null,null,null,null,null,null,{"$f":"IFERROR(VLOOKUP(T1544,Códigos!B:C,2,0),\" \")","v":" "}]
[null,null,null,null,null,null,null,null,null,null,null,null,null,null,null,null,null,null,null,null,{"$f":"IFERROR(VLOOKUP(T1545,Códigos!B:C,2,0),\" \")","v":" "}]
[null,null,null,null,null,null,null,null,null,null,null,null,null,null,null,null,null,null,null,null,{"$f":"IFERROR(VLOOKUP(T1546,Códigos!B:C,2,0),\" \")","v":" "}]
[null,null,null,null,null,null,null,null,null,null,null,null,null,null,null,null,null,null,null,null,{"$f":"IFERROR(VLOOKUP(T1547,Códigos!B:C,2,0),\" \")","v":" "}]
[null,null,null,null,null,null,null,null,null,null,null,null,null,null,null,null,null,null,null,null,{"$f":"IFERROR(VLOOKUP(T1548,Códigos!B:C,2,0),\" \")","v":" "}]
[null,null,null,null,null,null,null,null,null,null,null,null,null,null,null,null,null,null,null,null,{"$f":"IFERROR(VLOOKUP(T1549,Códigos!B:C,2,0),\" \")","v":" "}]
[null,null,null,null,null,null,null,null,null,null,null,null,null,null,null,null,null,null,null,null,{"$f":"IFERROR(VLOOKUP(T1550,Códigos!B:C,2,0),\" \")","v":" "}]
[null,null,null,null,null,null,null,null,null,null,null,null,null,null,null,null,null,null,null,null,{"$f":"IFERROR(VLOOKUP(T1551,Códigos!B:C,2,0),\" \")","v":" "}]
[null,null,null,null,null,null,null,null,null,null,null,null,null,null,null,null,null,null,null,null,{"$f":"IFERROR(VLOOKUP(T1552,Códigos!B:C,2,0),\" \")","v":" "}]
[null,null,null,null,null,null,null,null,null,null,null,null,null,null,null,null,null,null,null,null,{"$f":"IFERROR(VLOOKUP(T1553,Códigos!B:C,2,0),\" \")","v":" "}]
[null,null,null,null,null,null,null,null,null,null,null,null,null,null,null,null,null,null,null,null,{"$f":"IFERROR(VLOOKUP(T1554,Códigos!B:C,2,0),\" \")","v":" "}]
[null,null,null,null,null,null,null,null,null,null,null,null,null,null,null,null,null,null,null,null,{"$f":"IFERROR(VLOOKUP(T1555,Códigos!B:C,2,0),\" \")","v":" "}]
[null,null,null,null,null,null,null,null,null,null,null,null,null,null,null,null,null,null,null,null,{"$f":"IFERROR(VLOOKUP(T1556,Códigos!B:C,2,0),\" \")","v":" "}]
[null,null,null,null,null,null,null,null,null,null,null,null,null,null,null,null,null,null,null,null,{"$f":"IFERROR(VLOOKUP(T1557,Códigos!B:C,2,0),\" \")","v":" "}]
[null,null,null,null,null,null,null,null,null,null,null,null,null,null,null,null,null,null,null,null,{"$f":"IFERROR(VLOOKUP(T1558,Códigos!B:C,2,0),\" \")","v":" "}]
[null,null,null,null,null,null,null,null,null,null,null,null,null,null,null,null,null,null,null,null,{"$f":"IFERROR(VLOOKUP(T1559,Códigos!B:C,2,0),\" \")","v":" "}]
[null,null,null,null,null,null,null,null,null,null,null,null,null,null,null,null,null,null,null,null,{"$f":"IFERROR(VLOOKUP(T1560,Códigos!B:C,2,0),\" \")","v":" "}]
[null,null,null,null,null,null,null,null,null,null,null,null,null,null,null,null,null,null,null,null,{"$f":"IFERROR(VLOOKUP(T1561,Códigos!B:C,2,0),\" \")","v":" "}]
[null,null,null,null,null,null,null,null,null,null,null,null,null,null,null,null,null,null,null,null,{"$f":"IFERROR(VLOOKUP(T1562,Códigos!B:C,2,0),\" \")","v":" "}]
[null,null,null,null,null,null,null,null,null,null,null,null,null,null,null,null,null,null,null,null,{"$f":"IFERROR(VLOOKUP(T1563,Códigos!B:C,2,0),\" \")","v":" "}]
[null,null,null,null,null,null,null,null,null,null,null,null,null,null,null,null,null,null,null,null,{"$f":"IFERROR(VLOOKUP(T1564,Códigos!B:C,2,0),\" \")","v":" "}]
[null,null,null,null,null,null,null,null,null,null,null,null,null,null,null,null,null,null,null,null,{"$f":"IFERROR(VLOOKUP(T1565,Códigos!B:C,2,0),\" \")","v":" "}]
[null,null,null,null,null,null,null,null,null,null,null,null,null,null,null,null,null,null,null,null,{"$f":"IFERROR(VLOOKUP(T1566,Códigos!B:C,2,0),\" \")","v":" "}]
[null,null,null,null,null,null,null,null,null,null,null,null,null,null,null,null,null,null,null,null,{"$f":"IFERROR(VLOOKUP(T1567,Códigos!B:C,2,0),\" \")","v":" "}]
[null,null,null,null,null,null,null,null,null,null,null,null,null,null,null,null,null,null,null,null,{"$f":"IFERROR(VLOOKUP(T1568,Códigos!B:C,2,0),\" \")","v":" "}]
[null,null,null,null,null,null,null,null,null,null,null,null,null,null,null,null,null,null,null,null,{"$f":"IFERROR(VLOOKUP(T1569,Códigos!B:C,2,0),\" \")","v":" "}]
[null,null,null,null,null,null,null,null,null,null,null,null,null,null,null,null,null,null,null,null,{"$f":"IFERROR(VLOOKUP(T1570,Códigos!B:C,2,0),\" \")","v":" "}]
[null,null,null,null,null,null,null,null,null,null,null,null,null,null,null,null,null,null,null,null,{"$f":"IFERROR(VLOOKUP(T1571,Códigos!B:C,2,0),\" \")","v":" "}]
[null,null,null,null,null,null,null,null,null,null,null,null,null,null,null,null,null,null,null,null,{"$f":"IFERROR(VLOOKUP(T1572,Códigos!B:C,2,0),\" \")","v":" "}]
[null,null,null,null,null,null,null,null,null,null,null,null,null,null,null,null,null,null,null,null,{"$f":"IFERROR(VLOOKUP(T1573,Códigos!B:C,2,0),\" \")","v":" "}]
[null,null,null,null,null,null,null,null,null,null,null,null,null,null,null,null,null,null,null,null,{"$f":"IFERROR(VLOOKUP(T1574,Códigos!B:C,2,0),\" \")","v":" "}]
[null,null,null,null,null,null,null,null,null,null,null,null,null,null,null,null,null,null,null,null,{"$f":"IFERROR(VLOOKUP(T1575,Códigos!B:C,2,0),\" \")","v":" "}]
[null,null,null,null,null,null,null,null,null,null,null,null,null,null,null,null,null,null,null,null,{"$f":"IFERROR(VLOOKUP(T1576,Códigos!B:C,2,0),\" \")","v":" "}]
[null,null,null,null,null,null,null,null,null,null,null,null,null,null,null,null,null,null,null,null,{"$f":"IFERROR(VLOOKUP(T1577,Códigos!B:C,2,0),\" \")","v":" "}]
[null,null,null,null,null,null,null,null,null,null,null,null,null,null,null,null,null,null,null,null,{"$f":"IFERROR(VLOOKUP(T1578,Códigos!B:C,2,0),\" \")","v":" "}]
[null,null,null,null,null,null,null,null,null,null,null,null,null,null,null,null,null,null,null,null,{"$f":"IFERROR(VLOOKUP(T1579,Códigos!B:C,2,0),\" \")","v":" "}]
[null,null,null,null,null,null,null,null,null,null,null,null,null,null,null,null,null,null,null,null,{"$f":"IFERROR(VLOOKUP(T1580,Códigos!B:C,2,0),\" \")","v":" "}]
[null,null,null,null,null,null,null,null,null,null,null,null,null,null,null,null,null,null,null,null,{"$f":"IFERROR(VLOOKUP(T1581,Códigos!B:C,2,0),\" \")","v":" "}]
[null,null,null,null,null,null,null,null,null,null,null,null,null,null,null,null,null,null,null,null,{"$f":"IFERROR(VLOOKUP(T1582,Códigos!B:C,2,0),\" \")","v":" "}]
[null,null,null,null,null,null,null,null,null,null,null,null,null,null,null,null,null,null,null,null,{"$f":"IFERROR(VLOOKUP(T1583,Códigos!B:C,2,0),\" \")","v":" "}]
[null,null,null,null,null,null,null,null,null,null,null,null,null,null,null,null,null,null,null,null,{"$f":"IFERROR(VLOOKUP(T1584,Códigos!B:C,2,0),\" \")","v":" "}]
[null,null,null,null,null,null,null,null,null,null,null,null,null,null,null,null,null,null,null,null,{"$f":"IFERROR(VLOOKUP(T1585,Códigos!B:C,2,0),\" \")","v":" "}]
[null,null,null,null,null,null,null,null,null,null,null,null,null,null,null,null,null,null,null,null,{"$f":"IFERROR(VLOOKUP(T1586,Códigos!B:C,2,0),\" \")","v":" "}]
[null,null,null,null,null,null,null,null,null,null,null,null,null,null,null,null,null,null,null,null,{"$f":"IFERROR(VLOOKUP(T1587,Códigos!B:C,2,0),\" \")","v":" "}]
[null,null,null,null,null,null,null,null,null,null,null,null,null,null,null,null,null,null,null,null,{"$f":"IFERROR(VLOOKUP(T1588,Códigos!B:C,2,0),\" \")","v":" "}]
[null,null,null,null,null,null,null,null,null,null,null,null,null,null,null,null,null,null,null,null,{"$f":"IFERROR(VLOOKUP(T1589,Códigos!B:C,2,0),\" \")","v":" "}]
[null,null,null,null,null,null,null,null,null,null,null,null,null,null,null,null,null,null,null,null,{"$f":"IFERROR(VLOOKUP(T1590,Códigos!B:C,2,0),\" \")","v":" "}]
[null,null,null,null,null,null,null,null,null,null,null,null,null,null,null,null,null,null,null,null,{"$f":"IFERROR(VLOOKUP(T1591,Códigos!B:C,2,0),\" \")","v":" "}]
[null,null,null,null,null,null,null,null,null,null,null,null,null,null,null,null,null,null,null,null,{"$f":"IFERROR(VLOOKUP(T1592,Códigos!B:C,2,0),\" \")","v":" "}]
[null,null,null,null,null,null,null,null,null,null,null,null,null,null,null,null,null,null,null,null,{"$f":"IFERROR(VLOOKUP(T1593,Códigos!B:C,2,0),\" \")","v":" "}]
[null,null,null,null,null,null,null,null,null,null,null,null,null,null,null,null,null,null,null,null,{"$f":"IFERROR(VLOOKUP(T1594,Códigos!B:C,2,0),\" \")","v":" "}]
[null,null,null,null,null,null,null,null,null,null,null,null,null,null,null,null,null,null,null,null,{"$f":"IFERROR(VLOOKUP(T1595,Códigos!B:C,2,0),\" \")","v":" "}]
[null,null,null,null,null,null,null,null,null,null,null,null,null,null,null,null,null,null,null,null,{"$f":"IFERROR(VLOOKUP(T1596,Códigos!B:C,2,0),\" \")","v":" "}]
[null,null,null,null,null,null,null,null,null,null,null,null,null,null,null,null,null,null,null,null,{"$f":"IFERROR(VLOOKUP(T1597,Códigos!B:C,2,0),\" \")","v":" "}]
[null,null,null,null,null,null,null,null,null,null,null,null,null,null,null,null,null,null,null,null,{"$f":"IFERROR(VLOOKUP(T1598,Códigos!B:C,2,0),\" \")","v":" "}]
[null,null,null,null,null,null,null,null,null,null,null,null,null,null,null,null,null,null,null,null,{"$f":"IFERROR(VLOOKUP(T1599,Códigos!B:C,2,0),\" \")","v":" "}]
[null,null,null,null,null,null,null,null,null,null,null,null,null,null,null,null,null,null,null,null,{"$f":"IFERROR(VLOOKUP(T1600,Códigos!B:C,2,0),\" \")","v":" "}]
[null,null,null,null,null,null,null,null,null,null,null,null,null,null,null,null,null,null,null,null,{"$f":"IFERROR(VLOOKUP(T1601,Códigos!B:C,2,0),\" \")","v":" "}]
[null,null,null,null,null,null,null,null,null,null,null,null,null,null,null,null,null,null,null,null,{"$f":"IFERROR(VLOOKUP(T1602,Códigos!B:C,2,0),\" \")","v":" "}]
[null,null,null,null,null,null,null,null,null,null,null,null,null,null,null,null,null,null,null,null,{"$f":"IFERROR(VLOOKUP(T1603,Códigos!B:C,2,0),\" \")","v":" "}]
[null,null,null,null,null,null,null,null,null,null,null,null,null,null,null,null,null,null,null,null,{"$f":"IFERROR(VLOOKUP(T1604,Códigos!B:C,2,0),\" \")","v":" "}]
[null,null,null,null,null,null,null,null,null,null,null,null,null,null,null,null,null,null,null,null,{"$f":"IFERROR(VLOOKUP(T1605,Códigos!B:C,2,0),\" \")","v":" "}]
[null,null,null,null,null,null,null,null,null,null,null,null,null,null,null,null,null,null,null,null,{"$f":"IFERROR(VLOOKUP(T1606,Códigos!B:C,2,0),\" \")","v":" "}]
[null,null,null,null,null,null,null,null,null,null,null,null,null,null,null,null,null,null,null,null,{"$f":"IFERROR(VLOOKUP(T1607,Códigos!B:C,2,0),\" \")","v":" "}]
[null,null,null,null,null,null,null,null,null,null,null,null,null,null,null,null,null,null,null,null,{"$f":"IFERROR(VLOOKUP(T1608,Códigos!B:C,2,0),\" \")","v":" "}]
[null,null,null,null,null,null,null,null,null,null,null,null,null,null,null,null,null,null,null,null,{"$f":"IFERROR(VLOOKUP(T1609,Códigos!B:C,2,0),\" \")","v":" "}]
[null,null,null,null,null,null,null,null,null,null,null,null,null,null,null,null,null,null,null,null,{"$f":"IFERROR(VLOOKUP(T1610,Códigos!B:C,2,0),\" \")","v":" "}]
[null,null,null,null,null,null,null,null,null,null,null,null,null,null,null,null,null,null,null,null,{"$f":"IFERROR(VLOOKUP(T1611,Códigos!B:C,2,0),\" \")","v":" "}]
[null,null,null,null,null,null,null,null,null,null,null,null,null,null,null,null,null,null,null,null,{"$f":"IFERROR(VLOOKUP(T1612,Códigos!B:C,2,0),\" \")","v":" "}]
[null,null,null,null,null,null,null,null,null,null,null,null,null,null,null,null,null,null,null,null,{"$f":"IFERROR(VLOOKUP(T1613,Códigos!B:C,2,0),\" \")","v":" "}]
[null,null,null,null,null,null,null,null,null,null,null,null,null,null,null,null,null,null,null,null,{"$f":"IFERROR(VLOOKUP(T1614,Códigos!B:C,2,0),\" \")","v":" "}]
[null,null,null,null,null,null,null,null,null,null,null,null,null,null,null,null,null,null,null,null,{"$f":"IFERROR(VLOOKUP(T1615,Códigos!B:C,2,0),\" \")","v":" "}]
[null,null,null,null,null,null,null,null,null,null,null,null,null,null,null,null,null,null,null,null,{"$f":"IFERROR(VLOOKUP(T1616,Códigos!B:C,2,0),\" \")","v":" "}]
[null,null,null,null,null,null,null,null,null,null,null,null,null,null,null,null,null,null,null,null,{"$f":"IFERROR(VLOOKUP(T1617,Códigos!B:C,2,0),\" \")","v":" "}]
[null,null,null,null,null,null,null,null,null,null,null,null,null,null,null,null,null,null,null,null,{"$f":"IFERROR(VLOOKUP(T1618,Códigos!B:C,2,0),\" \")","v":" "}]
[null,null,null,null,null,null,null,null,null,null,null,null,null,null,null,null,null,null,null,null,{"$f":"IFERROR(VLOOKUP(T1619,Códigos!B:C,2,0),\" \")","v":" "}]
[null,null,null,null,null,null,null,null,null,null,null,null,null,null,null,null,null,null,null,null,{"$f":"IFERROR(VLOOKUP(T1620,Códigos!B:C,2,0),\" \")","v":" "}]
[null,null,null,null,null,null,null,null,null,null,null,null,null,null,null,null,null,null,null,null,{"$f":"IFERROR(VLOOKUP(T1621,Códigos!B:C,2,0),\" \")","v":" "}]
[null,null,null,null,null,null,null,null,null,null,null,null,null,null,null,null,null,null,null,null,{"$f":"IFERROR(VLOOKUP(T1622,Códigos!B:C,2,0),\" \")","v":" "}]
[null,null,null,null,null,null,null,null,null,null,null,null,null,null,null,null,null,null,null,null,{"$f":"IFERROR(VLOOKUP(T1623,Códigos!B:C,2,0),\" \")","v":" "}]
[null,null,null,null,null,null,null,null,null,null,null,null,null,null,null,null,null,null,null,null,{"$f":"IFERROR(VLOOKUP(T1624,Códigos!B:C,2,0),\" \")","v":" "}]
[null,null,null,null,null,null,null,null,null,null,null,null,null,null,null,null,null,null,null,null,{"$f":"IFERROR(VLOOKUP(T1625,Códigos!B:C,2,0),\" \")","v":" "}]
[null,null,null,null,null,null,null,null,null,null,null,null,null,null,null,null,null,null,null,null,{"$f":"IFERROR(VLOOKUP(T1626,Códigos!B:C,2,0),\" \")","v":" "}]
[null,null,null,null,null,null,null,null,null,null,null,null,null,null,null,null,null,null,null,null,{"$f":"IFERROR(VLOOKUP(T1627,Códigos!B:C,2,0),\" \")","v":" "}]
[null,null,null,null,null,null,null,null,null,null,null,null,null,null,null,null,null,null,null,null,{"$f":"IFERROR(VLOOKUP(T1628,Códigos!B:C,2,0),\" \")","v":" "}]
[null,null,null,null,null,null,null,null,null,null,null,null,null,null,null,null,null,null,null,null,{"$f":"IFERROR(VLOOKUP(T1629,Códigos!B:C,2,0),\" \")","v":" "}]
[null,null,null,null,null,null,null,null,null,null,null,null,null,null,null,null,null,null,null,null,{"$f":"IFERROR(VLOOKUP(T1630,Códigos!B:C,2,0),\" \")","v":" "}]
[null,null,null,null,null,null,null,null,null,null,null,null,null,null,null,null,null,null,null,null,{"$f":"IFERROR(VLOOKUP(T1631,Códigos!B:C,2,0),\" \")","v":" "}]
[null,null,null,null,null,null,null,null,null,null,null,null,null,null,null,null,null,null,null,null,{"$f":"IFERROR(VLOOKUP(T1632,Códigos!B:C,2,0),\" \")","v":" "}]
[null,null,null,null,null,null,null,null,null,null,null,null,null,null,null,null,null,null,null,null,{"$f":"IFERROR(VLOOKUP(T1633,Códigos!B:C,2,0),\" \")","v":" "}]
[null,null,null,null,null,null,null,null,null,null,null,null,null,null,null,null,null,null,null,null,{"$f":"IFERROR(VLOOKUP(T1634,Códigos!B:C,2,0),\" \")","v":" "}]
[null,null,null,null,null,null,null,null,null,null,null,null,null,null,null,null,null,null,null,null,{"$f":"IFERROR(VLOOKUP(T1635,Códigos!B:C,2,0),\" \")","v":" "}]
[null,null,null,null,null,null,null,null,null,null,null,null,null,null,null,null,null,null,null,null,{"$f":"IFERROR(VLOOKUP(T1636,Códigos!B:C,2,0),\" \")","v":" "}]
[null,null,null,null,null,null,null,null,null,null,null,null,null,null,null,null,null,null,null,null,{"$f":"IFERROR(VLOOKUP(T1637,Códigos!B:C,2,0),\" \")","v":" "}]
[null,null,null,null,null,null,null,null,null,null,null,null,null,null,null,null,null,null,null,null,{"$f":"IFERROR(VLOOKUP(T1638,Códigos!B:C,2,0),\" \")","v":" "}]
[null,null,null,null,null,null,null,null,null,null,null,null,null,null,null,null,null,null,null,null,{"$f":"IFERROR(VLOOKUP(T1639,Códigos!B:C,2,0),\" \")","v":" "}]
[null,null,null,null,null,null,null,null,null,null,null,null,null,null,null,null,null,null,null,null,{"$f":"IFERROR(VLOOKUP(T1640,Códigos!B:C,2,0),\" \")","v":" "}]
[null,null,null,null,null,null,null,null,null,null,null,null,null,null,null,null,null,null,null,null,{"$f":"IFERROR(VLOOKUP(T1641,Códigos!B:C,2,0),\" \")","v":" "}]
[null,null,null,null,null,null,null,null,null,null,null,null,null,null,null,null,null,null,null,null,{"$f":"IFERROR(VLOOKUP(T1642,Códigos!B:C,2,0),\" \")","v":" "}]
[null,null,null,null,null,null,null,null,null,null,null,null,null,null,null,null,null,null,null,null,{"$f":"IFERROR(VLOOKUP(T1643,Códigos!B:C,2,0),\" \")","v":" "}]
[null,null,null,null,null,null,null,null,null,null,null,null,null,null,null,null,null,null,null,null,{"$f":"IFERROR(VLOOKUP(T1644,Códigos!B:C,2,0),\" \")","v":" "}]
[null,null,null,null,null,null,null,null,null,null,null,null,null,null,null,null,null,null,null,null,{"$f":"IFERROR(VLOOKUP(T1645,Códigos!B:C,2,0),\" \")","v":" "}]
[null,null,null,null,null,null,null,null,null,null,null,null,null,null,null,null,null,null,null,null,{"$f":"IFERROR(VLOOKUP(T1646,Códigos!B:C,2,0),\" \")","v":" "}]
[null,null,null,null,null,null,null,null,null,null,null,null,null,null,null,null,null,null,null,null,{"$f":"IFERROR(VLOOKUP(T1647,Códigos!B:C,2,0),\" \")","v":" "}]
[null,null,null,null,null,null,null,null,null,null,null,null,null,null,null,null,null,null,null,null,{"$f":"IFERROR(VLOOKUP(T1648,Códigos!B:C,2,0),\" \")","v":" "}]
[null,null,null,null,null,null,null,null,null,null,null,null,null,null,null,null,null,null,null,null,{"$f":"IFERROR(VLOOKUP(T1649,Códigos!B:C,2,0),\" \")","v":" "}]
[null,null,null,null,null,null,null,null,null,null,null,null,null,null,null,null,null,null,null,null,{"$f":"IFERROR(VLOOKUP(T1650,Códigos!B:C,2,0),\" \")","v":" "}]
[null,null,null,null,null,null,null,null,null,null,null,null,null,null,null,null,null,null,null,null,{"$f":"IFERROR(VLOOKUP(T1651,Códigos!B:C,2,0),\" \")","v":" "}]
[null,null,null,null,null,null,null,null,null,null,null,null,null,null,null,null,null,null,null,null,{"$f":"IFERROR(VLOOKUP(T1652,Códigos!B:C,2,0),\" \")","v":" "}]
[null,null,null,null,null,null,null,null,null,null,null,null,null,null,null,null,null,null,null,null,{"$f":"IFERROR(VLOOKUP(T1653,Códigos!B:C,2,0),\" \")","v":" "}]
[null,null,null,null,null,null,null,null,null,null,null,null,null,null,null,null,null,null,null,null,{"$f":"IFERROR(VLOOKUP(T1654,Códigos!B:C,2,0),\" \")","v":" "}]
[null,null,null,null,null,null,null,null,null,null,null,null,null,null,null,null,null,null,null,null,{"$f":"IFERROR(VLOOKUP(T1655,Códigos!B:C,2,0),\" \")","v":" "}]
[null,null,null,null,null,null,null,null,null,null,null,null,null,null,null,null,null,null,null,null,{"$f":"IFERROR(VLOOKUP(T1656,Códigos!B:C,2,0),\" \")","v":" "}]
[null,null,null,null,null,null,null,null,null,null,null,null,null,null,null,null,null,null,null,null,{"$f":"IFERROR(VLOOKUP(T1657,Códigos!B:C,2,0),\" \")","v":" "}]
[null,null,null,null,null,null,null,null,null,null,null,null,null,null,null,null,null,null,null,null,{"$f":"IFERROR(VLOOKUP(T1658,Códigos!B:C,2,0),\" \")","v":" "}]
[null,null,null,null,null,null,null,null,null,null,null,null,null,null,null,null,null,null,null,null,{"$f":"IFERROR(VLOOKUP(T1659,Códigos!B:C,2,0),\" \")","v":" "}]
[null,null,null,null,null,null,null,null,null,null,null,null,null,null,null,null,null,null,null,null,{"$f":"IFERROR(VLOOKUP(T1660,Códigos!B:C,2,0),\" \")","v":" "}]
[null,null,null,null,null,null,null,null,null,null,null,null,null,null,null,null,null,null,null,null,{"$f":"IFERROR(VLOOKUP(T1661,Códigos!B:C,2,0),\" \")","v":" "}]
[null,null,null,null,null,null,null,null,null,null,null,null,null,null,null,null,null,null,null,null,{"$f":"IFERROR(VLOOKUP(T1662,Códigos!B:C,2,0),\" \")","v":" "}]
[null,null,null,null,null,null,null,null,null,null,null,null,null,null,null,null,null,null,null,null,{"$f":"IFERROR(VLOOKUP(T1663,Códigos!B:C,2,0),\" \")","v":" "}]
[null,null,null,null,null,null,null,null,null,null,null,null,null,null,null,null,null,null,null,null,{"$f":"IFERROR(VLOOKUP(T1664,Códigos!B:C,2,0),\" \")","v":" "}]
[null,null,null,null,null,null,null,null,null,null,null,null,null,null,null,null,null,null,null,null,{"$f":"IFERROR(VLOOKUP(T1665,Códigos!B:C,2,0),\" \")","v":" "}]
[null,null,null,null,null,null,null,null,null,null,null,null,null,null,null,null,null,null,null,null,{"$f":"IFERROR(VLOOKUP(T1666,Códigos!B:C,2,0),\" \")","v":" "}]
[null,null,null,null,null,null,null,null,null,null,null,null,null,null,null,null,null,null,null,null,{"$f":"IFERROR(VLOOKUP(T1667,Códigos!B:C,2,0),\" \")","v":" "}]
[null,null,null,null,null,null,null,null,null,null,null,null,null,null,null,null,null,null,null,null,{"$f":"IFERROR(VLOOKUP(T1668,Códigos!B:C,2,0),\" \")","v":" "}]
[null,null,null,null,null,null,null,null,null,null,null,null,null,null,null,null,null,null,null,null,{"$f":"IFERROR(VLOOKUP(T1669,Códigos!B:C,2,0),\" \")","v":" "}]
[null,null,null,null,null,null,null,null,null,null,null,null,null,null,null,null,null,null,null,null,{"$f":"IFERROR(VLOOKUP(T1670,Códigos!B:C,2,0),\" \")","v":" "}]
[null,null,null,null,null,null,null,null,null,null,null,null,null,null,null,null,null,null,null,null,{"$f":"IFERROR(VLOOKUP(T1671,Códigos!B:C,2,0),\" \")","v":" "}]
[null,null,null,null,null,null,null,null,null,null,null,null,null,null,null,null,null,null,null,null,{"$f":"IFERROR(VLOOKUP(T1672,Códigos!B:C,2,0),\" \")","v":" "}]
[null,null,null,null,null,null,null,null,null,null,null,null,null,null,null,null,null,null,null,null,{"$f":"IFERROR(VLOOKUP(T1673,Códigos!B:C,2,0),\" \")","v":" "}]
[null,null,null,null,null,null,null,null,null,null,null,null,null,null,null,null,null,null,null,null,{"$f":"IFERROR(VLOOKUP(T1674,Códigos!B:C,2,0),\" \")","v":" "}]
[null,null,null,null,null,null,null,null,null,null,null,null,null,null,null,null,null,null,null,null,{"$f":"IFERROR(VLOOKUP(T1675,Códigos!B:C,2,0),\" \")","v":" "}]
[null,null,null,null,null,null,null,null,null,null,null,null,null,null,null,null,null,null,null,null,{"$f":"IFERROR(VLOOKUP(T1676,Códigos!B:C,2,0),\" \")","v":" "}]
[null,null,null,null,null,null,null,null,null,null,null,null,null,null,null,null,null,null,null,null,{"$f":"IFERROR(VLOOKUP(T1677,Códigos!B:C,2,0),\" \")","v":" "}]
[null,null,null,null,null,null,null,null,null,null,null,null,null,null,null,null,null,null,null,null,{"$f":"IFERROR(VLOOKUP(T1678,Códigos!B:C,2,0),\" \")","v":" "}]
[null,null,null,null,null,null,null,null,null,null,null,null,null,null,null,null,null,null,null,null,{"$f":"IFERROR(VLOOKUP(T1679,Códigos!B:C,2,0),\" \")","v":" "}]
[null,null,null,null,null,null,null,null,null,null,null,null,null,null,null,null,null,null,null,null,{"$f":"IFERROR(VLOOKUP(T1680,Códigos!B:C,2,0),\" \")","v":" "}]
[null,null,null,null,null,null,null,null,null,null,null,null,null,null,null,null,null,null,null,null,{"$f":"IFERROR(VLOOKUP(T1681,Códigos!B:C,2,0),\" \")","v":" "}]
[null,null,null,null,null,null,null,null,null,null,null,null,null,null,null,null,null,null,null,null,{"$f":"IFERROR(VLOOKUP(T1682,Códigos!B:C,2,0),\" \")","v":" "}]
[null,null,null,null,null,null,null,null,null,null,null,null,null,null,null,null,null,null,null,null,{"$f":"IFERROR(VLOOKUP(T1683,Códigos!B:C,2,0),\" \")","v":" "}]
[null,null,null,null,null,null,null,null,null,null,null,null,null,null,null,null,null,null,null,null,{"$f":"IFERROR(VLOOKUP(T1684,Códigos!B:C,2,0),\" \")","v":" "}]
[null,null,null,null,null,null,null,null,null,null,null,null,null,null,null,null,null,null,null,null,{"$f":"IFERROR(VLOOKUP(T1685,Códigos!B:C,2,0),\" \")","v":" "}]
[null,null,null,null,null,null,null,null,null,null,null,null,null,null,null,null,null,null,null,null,{"$f":"IFERROR(VLOOKUP(T1686,Códigos!B:C,2,0),\" \")","v":" "}]
[null,null,null,null,null,null,null,null,null,null,null,null,null,null,null,null,null,null,null,null,{"$f":"IFERROR(VLOOKUP(T1687,Códigos!B:C,2,0),\" \")","v":" "}]
[null,null,null,null,null,null,null,null,null,null,null,null,null,null,null,null,null,null,null,null,{"$f":"IFERROR(VLOOKUP(T1688,Códigos!B:C,2,0),\" \")","v":" "}]
[null,null,null,null,null,null,null,null,null,null,null,null,null,null,null,null,null,null,null,null,{"$f":"IFERROR(VLOOKUP(T1689,Códigos!B:C,2,0),\" \")","v":" "}]
[null,null,null,null,null,null,null,null,null,null,null,null,null,null,null,null,null,null,null,null,{"$f":"IFERROR(VLOOKUP(T1690,Códigos!B:C,2,0),\" \")","v":" "}]
[null,null,null,null,null,null,null,null,null,null,null,null,null,null,null,null,null,null,null,null,{"$f":"IFERROR(VLOOKUP(T1691,Códigos!B:C,2,0),\" \")","v":" "}]
[null,null,null,null,null,null,null,null,null,null,null,null,null,null,null,null,null,null,null,null,{"$f":"IFERROR(VLOOKUP(T1692,Códigos!B:C,2,0),\" \")","v":" "}]
[null,null,null,null,null,null,null,null,null,null,null,null,null,null,null,null,null,null,null,null,{"$f":"IFERROR(VLOOKUP(T1693,Códigos!B:C,2,0),\" \")","v":" "}]
[null,null,null,null,null,null,null,null,null,null,null,null,null,null,null,null,null,null,null,null,{"$f":"IFERROR(VLOOKUP(T1694,Códigos!B:C,2,0),\" \")","v":" "}]
[null,null,null,null,null,null,null,null,null,null,null,null,null,null,null,null,null,null,null,null,{"$f":"IFERROR(VLOOKUP(T1695,Códigos!B:C,2,0),\" \")","v":" "}]
[null,null,null,null,null,null,null,null,null,null,null,null,null,null,null,null,null,null,null,null,{"$f":"IFERROR(VLOOKUP(T1696,Códigos!B:C,2,0),\" \")","v":" "}]
[null,null,null,null,null,null,null,null,null,null,null,null,null,null,null,null,null,null,null,null,{"$f":"IFERROR(VLOOKUP(T1697,Códigos!B:C,2,0),\" \")","v":" "}]
[null,null,null,null,null,null,null,null,null,null,null,null,null,null,null,null,null,null,null,null,{"$f":"IFERROR(VLOOKUP(T1698,Códigos!B:C,2,0),\" \")","v":" "}]
[null,null,null,null,null,null,null,null,null,null,null,null,null,null,null,null,null,null,null,null,{"$f":"IFERROR(VLOOKUP(T1699,Códigos!B:C,2,0),\" \")","v":" "}]
[null,null,null,null,null,null,null,null,null,null,null,null,null,null,null,null,null,null,null,null,{"$f":"IFERROR(VLOOKUP(T1700,Códigos!B:C,2,0),\" \")","v":" "}]
[null,null,null,null,null,null,null,null,null,null,null,null,null,null,null,null,null,null,null,null,{"$f":"IFERROR(VLOOKUP(T1701,Códigos!B:C,2,0),\" \")","v":" "}]
[null,null,null,null,null,null,null,null,null,null,null,null,null,null,null,null,null,null,null,null,{"$f":"IFERROR(VLOOKUP(T1702,Códigos!B:C,2,0),\" \")","v":" "}]
[null,null,null,null,null,null,null,null,null,null,null,null,null,null,null,null,null,null,null,null,{"$f":"IFERROR(VLOOKUP(T1703,Códigos!B:C,2,0),\" \")","v":" "}]
[null,null,null,null,null,null,null,null,null,null,null,null,null,null,null,null,null,null,null,null,{"$f":"IFERROR(VLOOKUP(T1704,Códigos!B:C,2,0),\" \")","v":" "}]
[null,null,null,null,null,null,null,null,null,null,null,null,null,null,null,null,null,null,null,null,{"$f":"IFERROR(VLOOKUP(T1705,Códigos!B:C,2,0),\" \")","v":" "}]
[null,null,null,null,null,null,null,null,null,null,null,null,null,null,null,null,null,null,null,null,{"$f":"IFERROR(VLOOKUP(T1706,Códigos!B:C,2,0),\" \")","v":" "}]
[null,null,null,null,null,null,null,null,null,null,null,null,null,null,null,null,null,null,null,null,{"$f":"IFERROR(VLOOKUP(T1707,Códigos!B:C,2,0),\" \")","v":" "}]
[null,null,null,null,null,null,null,null,null,null,null,null,null,null,null,null,null,null,null,null,{"$f":"IFERROR(VLOOKUP(T1708,Códigos!B:C,2,0),\" \")","v":" "}]
[null,null,null,null,null,null,null,null,null,null,null,null,null,null,null,null,null,null,null,null,{"$f":"IFERROR(VLOOKUP(T1709,Códigos!B:C,2,0),\" \")","v":" "}]
[null,null,null,null,null,null,null,null,null,null,null,null,null,null,null,null,null,null,null,null,{"$f":"IFERROR(VLOOKUP(T1710,Códigos!B:C,2,0),\" \")","v":" "}]
[null,null,null,null,null,null,null,null,null,null,null,null,null,null,null,null,null,null,null,null,{"$f":"IFERROR(VLOOKUP(T1711,Códigos!B:C,2,0),\" \")","v":" "}]
[null,null,null,null,null,null,null,null,null,null,null,null,null,null,null,null,null,null,null,null,{"$f":"IFERROR(VLOOKUP(T1712,Códigos!B:C,2,0),\" \")","v":" "}]
[null,null,null,null,null,null,null,null,null,null,null,null,null,null,null,null,null,null,null,null,{"$f":"IFERROR(VLOOKUP(T1713,Códigos!B:C,2,0),\" \")","v":" "}]
[null,null,null,null,null,null,null,null,null,null,null,null,null,null,null,null,null,null,null,null,{"$f":"IFERROR(VLOOKUP(T1714,Códigos!B:C,2,0),\" \")","v":" "}]
[null,null,null,null,null,null,null,null,null,null,null,null,null,null,null,null,null,null,null,null,{"$f":"IFERROR(VLOOKUP(T1715,Códigos!B:C,2,0),\" \")","v":" "}]
[null,null,null,null,null,null,null,null,null,null,null,null,null,null,null,null,null,null,null,null,{"$f":"IFERROR(VLOOKUP(T1716,Códigos!B:C,2,0),\" \")","v":" "}]
[null,null,null,null,null,null,null,null,null,null,null,null,null,null,null,null,null,null,null,null,{"$f":"IFERROR(VLOOKUP(T1717,Códigos!B:C,2,0),\" \")","v":" "}]
[null,null,null,null,null,null,null,null,null,null,null,null,null,null,null,null,null,null,null,null,{"$f":"IFERROR(VLOOKUP(T1718,Códigos!B:C,2,0),\" \")","v":" "}]
[null,null,null,null,null,null,null,null,null,null,null,null,null,null,null,null,null,null,null,null,{"$f":"IFERROR(VLOOKUP(T1719,Códigos!B:C,2,0),\" \")","v":" "}]
[null,null,null,null,null,null,null,null,null,null,null,null,null,null,null,null,null,null,null,null,{"$f":"IFERROR(VLOOKUP(T1720,Códigos!B:C,2,0),\" \")","v":" "}]
[null,null,null,null,null,null,null,null,null,null,null,null,null,null,null,null,null,null,null,null,{"$f":"IFERROR(VLOOKUP(T1721,Códigos!B:C,2,0),\" \")","v":" "}]
[null,null,null,null,null,null,null,null,null,null,null,null,null,null,null,null,null,null,null,null,{"$f":"IFERROR(VLOOKUP(T1722,Códigos!B:C,2,0),\" \")","v":" "}]
[null,null,null,null,null,null,null,null,null,null,null,null,null,null,null,null,null,null,null,null,{"$f":"IFERROR(VLOOKUP(T1723,Códigos!B:C,2,0),\" \")","v":" "}]
[null,null,null,null,null,null,null,null,null,null,null,null,null,null,null,null,null,null,null,null,{"$f":"IFERROR(VLOOKUP(T1724,Códigos!B:C,2,0),\" \")","v":" "}]
[null,null,null,null,null,null,null,null,null,null,null,null,null,null,null,null,null,null,null,null,{"$f":"IFERROR(VLOOKUP(T1725,Códigos!B:C,2,0),\" \")","v":" "}]
[null,null,null,null,null,null,null,null,null,null,null,null,null,null,null,null,null,null,null,null,{"$f":"IFERROR(VLOOKUP(T1726,Códigos!B:C,2,0),\" \")","v":" "}]
[null,null,null,null,null,null,null,null,null,null,null,null,null,null,null,null,null,null,null,null,{"$f":"IFERROR(VLOOKUP(T1727,Códigos!B:C,2,0),\" \")","v":" "}]
[null,null,null,null,null,null,null,null,null,null,null,null,null,null,null,null,null,null,null,null,{"$f":"IFERROR(VLOOKUP(T1728,Códigos!B:C,2,0),\" \")","v":" "}]
[null,null,null,null,null,null,null,null,null,null,null,null,null,null,null,null,null,null,null,null,{"$f":"IFERROR(VLOOKUP(T1729,Códigos!B:C,2,0),\" \")","v":" "}]
[null,null,null,null,null,null,null,null,null,null,null,null,null,null,null,null,null,null,null,null,{"$f":"IFERROR(VLOOKUP(T1730,Códigos!B:C,2,0),\" \")","v":" "}]
[null,null,null,null,null,null,null,null,null,null,null,null,null,null,null,null,null,null,null,null,{"$f":"IFERROR(VLOOKUP(T1731,Códigos!B:C,2,0),\" \")","v":" "}]
[null,null,null,null,null,null,null,null,null,null,null,null,null,null,null,null,null,null,null,null,{"$f":"IFERROR(VLOOKUP(T1732,Códigos!B:C,2,0),\" \")","v":" "}]
[null,null,null,null,null,null,null,null,null,null,null,null,null,null,null,null,null,null,null,null,{"$f":"IFERROR(VLOOKUP(T1733,Códigos!B:C,2,0),\" \")","v":" "}]
[null,null,null,null,null,null,null,null,null,null,null,null,null,null,null,null,null,null,null,null,{"$f":"IFERROR(VLOOKUP(T1734,Códigos!B:C,2,0),\" \")","v":" "}]
[null,null,null,null,null,null,null,null,null,null,null,null,null,null,null,null,null,null,null,null,{"$f":"IFERROR(VLOOKUP(T1735,Códigos!B:C,2,0),\" \")","v":" "}]
[null,null,null,null,null,null,null,null,null,null,null,null,null,null,null,null,null,null,null,null,{"$f":"IFERROR(VLOOKUP(T1736,Códigos!B:C,2,0),\" \")","v":" "}]
[null,null,null,null,null,null,null,null,null,null,null,null,null,null,null,null,null,null,null,null,{"$f":"IFERROR(VLOOKUP(T1737,Códigos!B:C,2,0),\" \")","v":" "}]
[null,null,null,null,null,null,null,null,null,null,null,null,null,null,null,null,null,null,null,null,{"$f":"IFERROR(VLOOKUP(T1738,Códigos!B:C,2,0),\" \")","v":" "}]
[null,null,null,null,null,null,null,null,null,null,null,null,null,null,null,null,null,null,null,null,{"$f":"IFERROR(VLOOKUP(T1739,Códigos!B:C,2,0),\" \")","v":" "}]
[null,null,null,null,null,null,null,null,null,null,null,null,null,null,null,null,null,null,null,null,{"$f":"IFERROR(VLOOKUP(T1740,Códigos!B:C,2,0),\" \")","v":" "}]
[null,null,null,null,null,null,null,null,null,null,null,null,null,null,null,null,null,null,null,null,{"$f":"IFERROR(VLOOKUP(T1741,Códigos!B:C,2,0),\" \")","v":" "}]
[null,null,null,null,null,null,null,null,null,null,null,null,null,null,null,null,null,null,null,null,{"$f":"IFERROR(VLOOKUP(T1742,Códigos!B:C,2,0),\" \")","v":" "}]
[null,null,null,null,null,null,null,null,null,null,null,null,null,null,null,null,null,null,null,null,{"$f":"IFERROR(VLOOKUP(T1743,Códigos!B:C,2,0),\" \")","v":" "}]
[null,null,null,null,null,null,null,null,null,null,null,null,null,null,null,null,null,null,null,null,{"$f":"IFERROR(VLOOKUP(T1744,Códigos!B:C,2,0),\" \")","v":" "}]
[null,null,null,null,null,null,null,null,null,null,null,null,null,null,null,null,null,null,null,null,{"$f":"IFERROR(VLOOKUP(T1745,Códigos!B:C,2,0),\" \")","v":" "}]
[null,null,null,null,null,null,null,null,null,null,null,null,null,null,null,null,null,null,null,null,{"$f":"IFERROR(VLOOKUP(T1746,Códigos!B:C,2,0),\" \")","v":" "}]
[null,null,null,null,null,null,null,null,null,null,null,null,null,null,null,null,null,null,null,null,{"$f":"IFERROR(VLOOKUP(T1747,Códigos!B:C,2,0),\" \")","v":" "}]
[null,null,null,null,null,null,null,null,null,null,null,null,null,null,null,null,null,null,null,null,{"$f":"IFERROR(VLOOKUP(T1748,Códigos!B:C,2,0),\" \")","v":" "}]
[null,null,null,null,null,null,null,null,null,null,null,null,null,null,null,null,null,null,null,null,{"$f":"IFERROR(VLOOKUP(T1749,Códigos!B:C,2,0),\" \")","v":" "}]
[null,null,null,null,null,null,null,null,null,null,null,null,null,null,null,null,null,null,null,null,{"$f":"IFERROR(VLOOKUP(T1750,Códigos!B:C,2,0),\" \")","v":" "}]
[null,null,null,null,null,null,null,null,null,null,null,null,null,null,null,null,null,null,null,null,{"$f":"IFERROR(VLOOKUP(T1751,Códigos!B:C,2,0),\" \")","v":" "}]
[null,null,null,null,null,null,null,null,null,null,null,null,null,null,null,null,null,null,null,null,{"$f":"IFERROR(VLOOKUP(T1752,Códigos!B:C,2,0),\" \")","v":" "}]
[null,null,null,null,null,null,null,null,null,null,null,null,null,null,null,null,null,null,null,null,{"$f":"IFERROR(VLOOKUP(T1753,Códigos!B:C,2,0),\" \")","v":" "}]
[null,null,null,null,null,null,null,null,null,null,null,null,null,null,null,null,null,null,null,null,{"$f":"IFERROR(VLOOKUP(T1754,Códigos!B:C,2,0),\" \")","v":" "}]
[null,null,null,null,null,null,null,null,null,null,null,null,null,null,null,null,null,null,null,null,{"$f":"IFERROR(VLOOKUP(T1755,Códigos!B:C,2,0),\" \")","v":" "}]
[null,null,null,null,null,null,null,null,null,null,null,null,null,null,null,null,null,null,null,null,{"$f":"IFERROR(VLOOKUP(T1756,Códigos!B:C,2,0),\" \")","v":" "}]
[null,null,null,null,null,null,null,null,null,null,null,null,null,null,null,null,null,null,null,null,{"$f":"IFERROR(VLOOKUP(T1757,Códigos!B:C,2,0),\" \")","v":" "}]
[null,null,null,null,null,null,null,null,null,null,null,null,null,null,null,null,null,null,null,null,{"$f":"IFERROR(VLOOKUP(T1758,Códigos!B:C,2,0),\" \")","v":" "}]
[null,null,null,null,null,null,null,null,null,null,null,null,null,null,null,null,null,null,null,null,{"$f":"IFERROR(VLOOKUP(T1759,Códigos!B:C,2,0),\" \")","v":" "}]
[null,null,null,null,null,null,null,null,null,null,null,null,null,null,null,null,null,null,null,null,{"$f":"IFERROR(VLOOKUP(T1760,Códigos!B:C,2,0),\" \")","v":" "}]
[null,null,null,null,null,null,null,null,null,null,null,null,null,null,null,null,null,null,null,null,{"$f":"IFERROR(VLOOKUP(T1761,Códigos!B:C,2,0),\" \")","v":" "}]
[null,null,null,null,null,null,null,null,null,null,null,null,null,null,null,null,null,null,null,null,{"$f":"IFERROR(VLOOKUP(T1762,Códigos!B:C,2,0),\" \")","v":" "}]
[null,null,null,null,null,null,null,null,null,null,null,null,null,null,null,null,null,null,null,null,{"$f":"IFERROR(VLOOKUP(T1763,Códigos!B:C,2,0),\" \")","v":" "}]
[null,null,null,null,null,null,null,null,null,null,null,null,null,null,null,null,null,null,null,null,{"$f":"IFERROR(VLOOKUP(T1764,Códigos!B:C,2,0),\" \")","v":" "}]
[null,null,null,null,null,null,null,null,null,null,null,null,null,null,null,null,null,null,null,null,{"$f":"IFERROR(VLOOKUP(T1765,Códigos!B:C,2,0),\" \")","v":" "}]
[null,null,null,null,null,null,null,null,null,null,null,null,null,null,null,null,null,null,null,null,{"$f":"IFERROR(VLOOKUP(T1766,Códigos!B:C,2,0),\" \")","v":" "}]
[null,null,null,null,null,null,null,null,null,null,null,null,null,null,null,null,null,null,null,null,{"$f":"IFERROR(VLOOKUP(T1767,Códigos!B:C,2,0),\" \")","v":" "}]
[null,null,null,null,null,null,null,null,null,null,null,null,null,null,null,null,null,null,null,null,{"$f":"IFERROR(VLOOKUP(T1768,Códigos!B:C,2,0),\" \")","v":" "}]
[null,null,null,null,null,null,null,null,null,null,null,null,null,null,null,null,null,null,null,null,{"$f":"IFERROR(VLOOKUP(T1769,Códigos!B:C,2,0),\" \")","v":" "}]
[null,null,null,null,null,null,null,null,null,null,null,null,null,null,null,null,null,null,null,null,{"$f":"IFERROR(VLOOKUP(T1770,Códigos!B:C,2,0),\" \")","v":" "}]
[null,null,null,null,null,null,null,null,null,null,null,null,null,null,null,null,null,null,null,null,{"$f":"IFERROR(VLOOKUP(T1771,Códigos!B:C,2,0),\" \")","v":" "}]
[null,null,null,null,null,null,null,null,null,null,null,null,null,null,null,null,null,null,null,null,{"$f":"IFERROR(VLOOKUP(T1772,Códigos!B:C,2,0),\" \")","v":" "}]
[null,null,null,null,null,null,null,null,null,null,null,null,null,null,null,null,null,null,null,null,{"$f":"IFERROR(VLOOKUP(T1773,Códigos!B:C,2,0),\" \")","v":" "}]
[null,null,null,null,null,null,null,null,null,null,null,null,null,null,null,null,null,null,null,null,{"$f":"IFERROR(VLOOKUP(T1774,Códigos!B:C,2,0),\" \")","v":" "}]
[null,null,null,null,null,null,null,null,null,null,null,null,null,null,null,null,null,null,null,null,{"$f":"IFERROR(VLOOKUP(T1775,Códigos!B:C,2,0),\" \")","v":" "}]
[null,null,null,null,null,null,null,null,null,null,null,null,null,null,null,null,null,null,null,null,{"$f":"IFERROR(VLOOKUP(T1776,Códigos!B:C,2,0),\" \")","v":" "}]
[null,null,null,null,null,null,null,null,null,null,null,null,null,null,null,null,null,null,null,null,{"$f":"IFERROR(VLOOKUP(T1777,Códigos!B:C,2,0),\" \")","v":" "}]
[null,null,null,null,null,null,null,null,null,null,null,null,null,null,null,null,null,null,null,null,{"$f":"IFERROR(VLOOKUP(T1778,Códigos!B:C,2,0),\" \")","v":" "}]
[null,null,null,null,null,null,null,null,null,null,null,null,null,null,null,null,null,null,null,null,{"$f":"IFERROR(VLOOKUP(T1779,Códigos!B:C,2,0),\" \")","v":" "}]
[null,null,null,null,null,null,null,null,null,null,null,null,null,null,null,null,null,null,null,null,{"$f":"IFERROR(VLOOKUP(T1780,Códigos!B:C,2,0),\" \")","v":" "}]
[null,null,null,null,null,null,null,null,null,null,null,null,null,null,null,null,null,null,null,null,{"$f":"IFERROR(VLOOKUP(T1781,Códigos!B:C,2,0),\" \")","v":" "}]
[null,null,null,null,null,null,null,null,null,null,null,null,null,null,null,null,null,null,null,null,{"$f":"IFERROR(VLOOKUP(T1782,Códigos!B:C,2,0),\" \")","v":" "}]
[null,null,null,null,null,null,null,null,null,null,null,null,null,null,null,null,null,null,null,null,{"$f":"IFERROR(VLOOKUP(T1783,Códigos!B:C,2,0),\" \")","v":" "}]
[null,null,null,null,null,null,null,null,null,null,null,null,null,null,null,null,null,null,null,null,{"$f":"IFERROR(VLOOKUP(T1784,Códigos!B:C,2,0),\" \")","v":" "}]
[null,null,null,null,null,null,null,null,null,null,null,null,null,null,null,null,null,null,null,null,{"$f":"IFERROR(VLOOKUP(T1785,Códigos!B:C,2,0),\" \")","v":" "}]
[null,null,null,null,null,null,null,null,null,null,null,null,null,null,null,null,null,null,null,null,{"$f":"IFERROR(VLOOKUP(T1786,Códigos!B:C,2,0),\" \")","v":" "}]
[null,null,null,null,null,null,null,null,null,null,null,null,null,null,null,null,null,null,null,null,{"$f":"IFERROR(VLOOKUP(T1787,Códigos!B:C,2,0),\" \")","v":" "}]
[null,null,null,null,null,null,null,null,null,null,null,null,null,null,null,null,null,null,null,null,{"$f":"IFERROR(VLOOKUP(T1788,Códigos!B:C,2,0),\" \")","v":" "}]
[null,null,null,null,null,null,null,null,null,null,null,null,null,null,null,null,null,null,null,null,{"$f":"IFERROR(VLOOKUP(T1789,Códigos!B:C,2,0),\" \")","v":" "}]
[null,null,null,null,null,null,null,null,null,null,null,null,null,null,null,null,null,null,null,null,{"$f":"IFERROR(VLOOKUP(T1790,Códigos!B:C,2,0),\" \")","v":" "}]
[null,null,null,null,null,null,null,null,null,null,null,null,null,null,null,null,null,null,null,null,{"$f":"IFERROR(VLOOKUP(T1791,Códigos!B:C,2,0),\" \")","v":" "}]
[null,null,null,null,null,null,null,null,null,null,null,null,null,null,null,null,null,null,null,null,{"$f":"IFERROR(VLOOKUP(T1792,Códigos!B:C,2,0),\" \")","v":" "}]
[null,null,null,null,null,null,null,null,null,null,null,null,null,null,null,null,null,null,null,null,{"$f":"IFERROR(VLOOKUP(T1793,Códigos!B:C,2,0),\" \")","v":" "}]
[null,null,null,null,null,null,null,null,null,null,null,null,null,null,null,null,null,null,null,null,{"$f":"IFERROR(VLOOKUP(T1794,Códigos!B:C,2,0),\" \")","v":" "}]
[null,null,null,null,null,null,null,null,null,null,null,null,null,null,null,null,null,null,null,null,{"$f":"IFERROR(VLOOKUP(T1795,Códigos!B:C,2,0),\" \")","v":" "}]
[null,null,null,null,null,null,null,null,null,null,null,null,null,null,null,null,null,null,null,null,{"$f":"IFERROR(VLOOKUP(T1796,Códigos!B:C,2,0),\" \")","v":" "}]
[null,null,null,null,null,null,null,null,null,null,null,null,null,null,null,null,null,null,null,null,{"$f":"IFERROR(VLOOKUP(T1797,Códigos!B:C,2,0),\" \")","v":" "}]
[null,null,null,null,null,null,null,null,null,null,null,null,null,null,null,null,null,null,null,null,{"$f":"IFERROR(VLOOKUP(T1798,Códigos!B:C,2,0),\" \")","v":" "}]
[null,null,null,null,null,null,null,null,null,null,null,null,null,null,null,null,null,null,null,null,{"$f":"IFERROR(VLOOKUP(T1799,Códigos!B:C,2,0),\" \")","v":" "}]
[null,null,null,null,null,null,null,null,null,null,null,null,null,null,null,null,null,null,null,null,{"$f":"IFERROR(VLOOKUP(T1800,Códigos!B:C,2,0),\" \")","v":" "}]
[null,null,null,null,null,null,null,null,null,null,null,null,null,null,null,null,null,null,null,null,{"$f":"IFERROR(VLOOKUP(T1801,Códigos!B:C,2,0),\" \")","v":" "}]
[null,null,null,null,null,null,null,null,null,null,null,null,null,null,null,null,null,null,null,null,{"$f":"IFERROR(VLOOKUP(T1802,Códigos!B:C,2,0),\" \")","v":" "}]
[null,null,null,null,null,null,null,null,null,null,null,null,null,null,null,null,null,null,null,null,{"$f":"IFERROR(VLOOKUP(T1803,Códigos!B:C,2,0),\" \")","v":" "}]
[null,null,null,null,null,null,null,null,null,null,null,null,null,null,null,null,null,null,null,null,{"$f":"IFERROR(VLOOKUP(T1804,Códigos!B:C,2,0),\" \")","v":" "}]
[null,null,null,null,null,null,null,null,null,null,null,null,null,null,null,null,null,null,null,null,{"$f":"IFERROR(VLOOKUP(T1805,Códigos!B:C,2,0),\" \")","v":" "}]
[null,null,null,null,null,null,null,null,null,null,null,null,null,null,null,null,null,null,null,null,{"$f":"IFERROR(VLOOKUP(T1806,Códigos!B:C,2,0),\" \")","v":" "}]
[null,null,null,null,null,null,null,null,null,null,null,null,null,null,null,null,null,null,null,null,{"$f":"IFERROR(VLOOKUP(T1807,Códigos!B:C,2,0),\" \")","v":" "}]
[null,null,null,null,null,null,null,null,null,null,null,null,null,null,null,null,null,null,null,null,{"$f":"IFERROR(VLOOKUP(T1808,Códigos!B:C,2,0),\" \")","v":" "}]
[null,null,null,null,null,null,null,null,null,null,null,null,null,null,null,null,null,null,null,null,{"$f":"IFERROR(VLOOKUP(T1809,Códigos!B:C,2,0),\" \")","v":" "}]
[null,null,null,null,null,null,null,null,null,null,null,null,null,null,null,null,null,null,null,null,{"$f":"IFERROR(VLOOKUP(T1810,Códigos!B:C,2,0),\" \")","v":" "}]
[null,null,null,null,null,null,null,null,null,null,null,null,null,null,null,null,null,null,null,null,{"$f":"IFERROR(VLOOKUP(T1811,Códigos!B:C,2,0),\" \")","v":" "}]
[null,null,null,null,null,null,null,null,null,null,null,null,null,null,null,null,null,null,null,null,{"$f":"IFERROR(VLOOKUP(T1812,Códigos!B:C,2,0),\" \")","v":" "}]
[null,null,null,null,null,null,null,null,null,null,null,null,null,null,null,null,null,null,null,null,{"$f":"IFERROR(VLOOKUP(T1813,Códigos!B:C,2,0),\" \")","v":" "}]
[null,null,null,null,null,null,null,null,null,null,null,null,null,null,null,null,null,null,null,null,{"$f":"IFERROR(VLOOKUP(T1814,Códigos!B:C,2,0),\" \")","v":" "}]
[null,null,null,null,null,null,null,null,null,null,null,null,null,null,null,null,null,null,null,null,{"$f":"IFERROR(VLOOKUP(T1815,Códigos!B:C,2,0),\" \")","v":" "}]
[null,null,null,null,null,null,null,null,null,null,null,null,null,null,null,null,null,null,null,null,{"$f":"IFERROR(VLOOKUP(T1816,Códigos!B:C,2,0),\" \")","v":" "}]
[null,null,null,null,null,null,null,null,null,null,null,null,null,null,null,null,null,null,null,null,{"$f":"IFERROR(VLOOKUP(T1817,Códigos!B:C,2,0),\" \")","v":" "}]
[null,null,null,null,null,null,null,null,null,null,null,null,null,null,null,null,null,null,null,null,{"$f":"IFERROR(VLOOKUP(T1818,Códigos!B:C,2,0),\" \")","v":" "}]
[null,null,null,null,null,null,null,null,null,null,null,null,null,null,null,null,null,null,null,null,{"$f":"IFERROR(VLOOKUP(T1819,Códigos!B:C,2,0),\" \")","v":" "}]
[null,null,null,null,null,null,null,null,null,null,null,null,null,null,null,null,null,null,null,null,{"$f":"IFERROR(VLOOKUP(T1820,Códigos!B:C,2,0),\" \")","v":" "}]
[null,null,null,null,null,null,null,null,null,null,null,null,null,null,null,null,null,null,null,null,{"$f":"IFERROR(VLOOKUP(T1821,Códigos!B:C,2,0),\" \")","v":" "}]
[null,null,null,null,null,null,null,null,null,null,null,null,null,null,null,null,null,null,null,null,{"$f":"IFERROR(VLOOKUP(T1822,Códigos!B:C,2,0),\" \")","v":" "}]
[null,null,null,null,null,null,null,null,null,null,null,null,null,null,null,null,null,null,null,null,{"$f":"IFERROR(VLOOKUP(T1823,Códigos!B:C,2,0),\" \")","v":" "}]
[null,null,null,null,null,null,null,null,null,null,null,null,null,null,null,null,null,null,null,null,{"$f":"IFERROR(VLOOKUP(T1824,Códigos!B:C,2,0),\" \")","v":" "}]
[null,null,null,null,null,null,null,null,null,null,null,null,null,null,null,null,null,null,null,null,{"$f":"IFERROR(VLOOKUP(T1825,Códigos!B:C,2,0),\" \")","v":" "}]
[null,null,null,null,null,null,null,null,null,null,null,null,null,null,null,null,null,null,null,null,{"$f":"IFERROR(VLOOKUP(T1826,Códigos!B:C,2,0),\" \")","v":" "}]
[null,null,null,null,null,null,null,null,null,null,null,null,null,null,null,null,null,null,null,null,{"$f":"IFERROR(VLOOKUP(T1827,Códigos!B:C,2,0),\" \")","v":" "}]
[null,null,null,null,null,null,null,null,null,null,null,null,null,null,null,null,null,null,null,null,{"$f":"IFERROR(VLOOKUP(T1828,Códigos!B:C,2,0),\" \")","v":" "}]
[null,null,null,null,null,null,null,null,null,null,null,null,null,null,null,null,null,null,null,null,{"$f":"IFERROR(VLOOKUP(T1829,Códigos!B:C,2,0),\" \")","v":" "}]
[null,null,null,null,null,null,null,null,null,null,null,null,null,null,null,null,null,null,null,null,{"$f":"IFERROR(VLOOKUP(T1830,Códigos!B:C,2,0),\" \")","v":" "}]
[null,null,null,null,null,null,null,null,null,null,null,null,null,null,null,null,null,null,null,null,{"$f":"IFERROR(VLOOKUP(T1831,Códigos!B:C,2,0),\" \")","v":" "}]
[null,null,null,null,null,null,null,null,null,null,null,null,null,null,null,null,null,null,null,null,{"$f":"IFERROR(VLOOKUP(T1832,Códigos!B:C,2,0),\" \")","v":" "}]
[null,null,null,null,null,null,null,null,null,null,null,null,null,null,null,null,null,null,null,null,{"$f":"IFERROR(VLOOKUP(T1833,Códigos!B:C,2,0),\" \")","v":" "}]
[null,null,null,null,null,null,null,null,null,null,null,null,null,null,null,null,null,null,null,null,{"$f":"IFERROR(VLOOKUP(T1834,Códigos!B:C,2,0),\" \")","v":" "}]
[null,null,null,null,null,null,null,null,null,null,null,null,null,null,null,null,null,null,null,null,{"$f":"IFERROR(VLOOKUP(T1835,Códigos!B:C,2,0),\" \")","v":" "}]
[null,null,null,null,null,null,null,null,null,null,null,null,null,null,null,null,null,null,null,null,{"$f":"IFERROR(VLOOKUP(T1836,Códigos!B:C,2,0),\" \")","v":" "}]
[null,null,null,null,null,null,null,null,null,null,null,null,null,null,null,null,null,null,null,null,{"$f":"IFERROR(VLOOKUP(T1837,Códigos!B:C,2,0),\" \")","v":" "}]
[null,null,null,null,null,null,null,null,null,null,null,null,null,null,null,null,null,null,null,null,{"$f":"IFERROR(VLOOKUP(T1838,Códigos!B:C,2,0),\" \")","v":" "}]
[null,null,null,null,null,null,null,null,null,null,null,null,null,null,null,null,null,null,null,null,{"$f":"IFERROR(VLOOKUP(T1839,Códigos!B:C,2,0),\" \")","v":" "}]
[null,null,null,null,null,null,null,null,null,null,null,null,null,null,null,null,null,null,null,null,{"$f":"IFERROR(VLOOKUP(T1840,Códigos!B:C,2,0),\" \")","v":" "}]
[null,null,null,null,null,null,null,null,null,null,null,null,null,null,null,null,null,null,null,null,{"$f":"IFERROR(VLOOKUP(T1841,Códigos!B:C,2,0),\" \")","v":" "}]
[null,null,null,null,null,null,null,null,null,null,null,null,null,null,null,null,null,null,null,null,{"$f":"IFERROR(VLOOKUP(T1842,Códigos!B:C,2,0),\" \")","v":" "}]
[null,null,null,null,null,null,null,null,null,null,null,null,null,null,null,null,null,null,null,null,{"$f":"IFERROR(VLOOKUP(T1843,Códigos!B:C,2,0),\" \")","v":" "}]
[null,null,null,null,null,null,null,null,null,null,null,null,null,null,null,null,null,null,null,null,{"$f":"IFERROR(VLOOKUP(T1844,Códigos!B:C,2,0),\" \")","v":" "}]
[null,null,null,null,null,null,null,null,null,null,null,null,null,null,null,null,null,null,null,null,{"$f":"IFERROR(VLOOKUP(T1845,Códigos!B:C,2,0),\" \")","v":" "}]
[null,null,null,null,null,null,null,null,null,null,null,null,null,null,null,null,null,null,null,null,{"$f":"IFERROR(VLOOKUP(T1846,Códigos!B:C,2,0),\" \")","v":" "}]
[null,null,null,null,null,null,null,null,null,null,null,null,null,null,null,null,null,null,null,null,{"$f":"IFERROR(VLOOKUP(T1847,Códigos!B:C,2,0),\" \")","v":" "}]
[null,null,null,null,null,null,null,null,null,null,null,null,null,null,null,null,null,null,null,null,{"$f":"IFERROR(VLOOKUP(T1848,Códigos!B:C,2,0),\" \")","v":" "}]
[null,null,null,null,null,null,null,null,null,null,null,null,null,null,null,null,null,null,null,null,{"$f":"IFERROR(VLOOKUP(T1849,Códigos!B:C,2,0),\" \")","v":" "}]
[null,null,null,null,null,null,null,null,null,null,null,null,null,null,null,null,null,null,null,null,{"$f":"IFERROR(VLOOKUP(T1850,Códigos!B:C,2,0),\" \")","v":" "}]
[null,null,null,null,null,null,null,null,null,null,null,null,null,null,null,null,null,null,null,null,{"$f":"IFERROR(VLOOKUP(T1851,Códigos!B:C,2,0),\" \")","v":" "}]
[null,null,null,null,null,null,null,null,null,null,null,null,null,null,null,null,null,null,null,null,{"$f":"IFERROR(VLOOKUP(T1852,Códigos!B:C,2,0),\" \")","v":" "}]
[null,null,null,null,null,null,null,null,null,null,null,null,null,null,null,null,null,null,null,null,{"$f":"IFERROR(VLOOKUP(T1853,Códigos!B:C,2,0),\" \")","v":" "}]
[null,null,null,null,null,null,null,null,null,null,null,null,null,null,null,null,null,null,null,null,{"$f":"IFERROR(VLOOKUP(T1854,Códigos!B:C,2,0),\" \")","v":" "}]
[null,null,null,null,null,null,null,null,null,null,null,null,null,null,null,null,null,null,null,null,{"$f":"IFERROR(VLOOKUP(T1855,Códigos!B:C,2,0),\" \")","v":" "}]
[null,null,null,null,null,null,null,null,null,null,null,null,null,null,null,null,null,null,null,null,{"$f":"IFERROR(VLOOKUP(T1856,Códigos!B:C,2,0),\" \")","v":" "}]
[null,null,null,null,null,null,null,null,null,null,null,null,null,null,null,null,null,null,null,null,{"$f":"IFERROR(VLOOKUP(T1857,Códigos!B:C,2,0),\" \")","v":" "}]
[null,null,null,null,null,null,null,null,null,null,null,null,null,null,null,null,null,null,null,null,{"$f":"IFERROR(VLOOKUP(T1858,Códigos!B:C,2,0),\" \")","v":" "}]
[null,null,null,null,null,null,null,null,null,null,null,null,null,null,null,null,null,null,null,null,{"$f":"IFERROR(VLOOKUP(T1859,Códigos!B:C,2,0),\" \")","v":" "}]
[null,null,null,null,null,null,null,null,null,null,null,null,null,null,null,null,null,null,null,null,{"$f":"IFERROR(VLOOKUP(T1860,Códigos!B:C,2,0),\" \")","v":" "}]
[null,null,null,null,null,null,null,null,null,null,null,null,null,null,null,null,null,null,null,null,{"$f":"IFERROR(VLOOKUP(T1861,Códigos!B:C,2,0),\" \")","v":" "}]
[null,null,null,null,null,null,null,null,null,null,null,null,null,null,null,null,null,null,null,null,{"$f":"IFERROR(VLOOKUP(T1862,Códigos!B:C,2,0),\" \")","v":" "}]
[null,null,null,null,null,null,null,null,null,null,null,null,null,null,null,null,null,null,null,null,{"$f":"IFERROR(VLOOKUP(T1863,Códigos!B:C,2,0),\" \")","v":" "}]
[null,null,null,null,null,null,null,null,null,null,null,null,null,null,null,null,null,null,null,null,{"$f":"IFERROR(VLOOKUP(T1864,Códigos!B:C,2,0),\" \")","v":" "}]
[null,null,null,null,null,null,null,null,null,null,null,null,null,null,null,null,null,null,null,null,{"$f":"IFERROR(VLOOKUP(T1865,Códigos!B:C,2,0),\" \")","v":" "}]
[null,null,null,null,null,null,null,null,null,null,null,null,null,null,null,null,null,null,null,null,{"$f":"IFERROR(VLOOKUP(T1866,Códigos!B:C,2,0),\" \")","v":" "}]
[null,null,null,null,null,null,null,null,null,null,null,null,null,null,null,null,null,null,null,null,{"$f":"IFERROR(VLOOKUP(T1867,Códigos!B:C,2,0),\" \")","v":" "}]
[null,null,null,null,null,null,null,null,null,null,null,null,null,null,null,null,null,null,null,null,{"$f":"IFERROR(VLOOKUP(T1868,Códigos!B:C,2,0),\" \")","v":" "}]
[null,null,null,null,null,null,null,null,null,null,null,null,null,null,null,null,null,null,null,null,{"$f":"IFERROR(VLOOKUP(T1869,Códigos!B:C,2,0),\" \")","v":" "}]
[null,null,null,null,null,null,null,null,null,null,null,null,null,null,null,null,null,null,null,null,{"$f":"IFERROR(VLOOKUP(T1870,Códigos!B:C,2,0),\" \")","v":" "}]
[null,null,null,null,null,null,null,null,null,null,null,null,null,null,null,null,null,null,null,null,{"$f":"IFERROR(VLOOKUP(T1871,Códigos!B:C,2,0),\" \")","v":" "}]
[null,null,null,null,null,null,null,null,null,null,null,null,null,null,null,null,null,null,null,null,{"$f":"IFERROR(VLOOKUP(T1872,Códigos!B:C,2,0),\" \")","v":" "}]
[null,null,null,null,null,null,null,null,null,null,null,null,null,null,null,null,null,null,null,null,{"$f":"IFERROR(VLOOKUP(T1873,Códigos!B:C,2,0),\" \")","v":" "}]
[null,null,null,null,null,null,null,null,null,null,null,null,null,null,null,null,null,null,null,null,{"$f":"IFERROR(VLOOKUP(T1874,Códigos!B:C,2,0),\" \")","v":" "}]
[null,null,null,null,null,null,null,null,null,null,null,null,null,null,null,null,null,null,null,null,{"$f":"IFERROR(VLOOKUP(T1875,Códigos!B:C,2,0),\" \")","v":" "}]
[null,null,null,null,null,null,null,null,null,null,null,null,null,null,null,null,null,null,null,null,{"$f":"IFERROR(VLOOKUP(T1876,Códigos!B:C,2,0),\" \")","v":" "}]
[null,null,null,null,null,null,null,null,null,null,null,null,null,null,null,null,null,null,null,null,{"$f":"IFERROR(VLOOKUP(T1877,Códigos!B:C,2,0),\" \")","v":" "}]
[null,null,null,null,null,null,null,null,null,null,null,null,null,null,null,null,null,null,null,null,{"$f":"IFERROR(VLOOKUP(T1878,Códigos!B:C,2,0),\" \")","v":" "}]
[null,null,null,null,null,null,null,null,null,null,null,null,null,null,null,null,null,null,null,null,{"$f":"IFERROR(VLOOKUP(T1879,Códigos!B:C,2,0),\" \")","v":" "}]
[null,null,null,null,null,null,null,null,null,null,null,null,null,null,null,null,null,null,null,null,{"$f":"IFERROR(VLOOKUP(T1880,Códigos!B:C,2,0),\" \")","v":" "}]
[null,null,null,null,null,null,null,null,null,null,null,null,null,null,null,null,null,null,null,null,{"$f":"IFERROR(VLOOKUP(T1881,Códigos!B:C,2,0),\" \")","v":" "}]
[null,null,null,null,null,null,null,null,null,null,null,null,null,null,null,null,null,null,null,null,{"$f":"IFERROR(VLOOKUP(T1882,Códigos!B:C,2,0),\" \")","v":" "}]
[null,null,null,null,null,null,null,null,null,null,null,null,null,null,null,null,null,null,null,null,{"$f":"IFERROR(VLOOKUP(T1883,Códigos!B:C,2,0),\" \")","v":" "}]
[null,null,null,null,null,null,null,null,null,null,null,null,null,null,null,null,null,null,null,null,{"$f":"IFERROR(VLOOKUP(T1884,Códigos!B:C,2,0),\" \")","v":" "}]
[null,null,null,null,null,null,null,null,null,null,null,null,null,null,null,null,null,null,null,null,{"$f":"IFERROR(VLOOKUP(T1885,Códigos!B:C,2,0),\" \")","v":" "}]
[null,null,null,null,null,null,null,null,null,null,null,null,null,null,null,null,null,null,null,null,{"$f":"IFERROR(VLOOKUP(T1886,Códigos!B:C,2,0),\" \")","v":" "}]
[null,null,null,null,null,null,null,null,null,null,null,null,null,null,null,null,null,null,null,null,{"$f":"IFERROR(VLOOKUP(T1887,Códigos!B:C,2,0),\" \")","v":" "}]
[null,null,null,null,null,null,null,null,null,null,null,null,null,null,null,null,null,null,null,null,{"$f":"IFERROR(VLOOKUP(T1888,Códigos!B:C,2,0),\" \")","v":" "}]
[null,null,null,null,null,null,null,null,null,null,null,null,null,null,null,null,null,null,null,null,{"$f":"IFERROR(VLOOKUP(T1889,Códigos!B:C,2,0),\" \")","v":" "}]
[null,null,null,null,null,null,null,null,null,null,null,null,null,null,null,null,null,null,null,null,{"$f":"IFERROR(VLOOKUP(T1890,Códigos!B:C,2,0),\" \")","v":" "}]
[null,null,null,null,null,null,null,null,null,null,null,null,null,null,null,null,null,null,null,null,{"$f":"IFERROR(VLOOKUP(T1891,Códigos!B:C,2,0),\" \")","v":" "}]
[null,null,null,null,null,null,null,null,null,null,null,null,null,null,null,null,null,null,null,null,{"$f":"IFERROR(VLOOKUP(T1892,Códigos!B:C,2,0),\" \")","v":" "}]
[null,null,null,null,null,null,null,null,null,null,null,null,null,null,null,null,null,null,null,null,{"$f":"IFERROR(VLOOKUP(T1893,Códigos!B:C,2,0),\" \")","v":" "}]
[null,null,null,null,null,null,null,null,null,null,null,null,null,null,null,null,null,null,null,null,{"$f":"IFERROR(VLOOKUP(T1894,Códigos!B:C,2,0),\" \")","v":" "}]
[null,null,null,null,null,null,null,null,null,null,null,null,null,null,null,null,null,null,null,null,{"$f":"IFERROR(VLOOKUP(T1895,Códigos!B:C,2,0),\" \")","v":" "}]
[null,null,null,null,null,null,null,null,null,null,null,null,null,null,null,null,null,null,null,null,{"$f":"IFERROR(VLOOKUP(T1896,Códigos!B:C,2,0),\" \")","v":" "}]
[null,null,null,null,null,null,null,null,null,null,null,null,null,null,null,null,null,null,null,null,{"$f":"IFERROR(VLOOKUP(T1897,Códigos!B:C,2,0),\" \")","v":" "}]
[null,null,null,null,null,null,null,null,null,null,null,null,null,null,null,null,null,null,null,null,{"$f":"IFERROR(VLOOKUP(T1898,Códigos!B:C,2,0),\" \")","v":" "}]
[null,null,null,null,null,null,null,null,null,null,null,null,null,null,null,null,null,null,null,null,{"$f":"IFERROR(VLOOKUP(T1899,Códigos!B:C,2,0),\" \")","v":" "}]
[null,null,null,null,null,null,null,null,null,null,null,null,null,null,null,null,null,null,null,null,{"$f":"IFERROR(VLOOKUP(T1900,Códigos!B:C,2,0),\" \")","v":" "}]
[null,null,null,null,null,null,null,null,null,null,null,null,null,null,null,null,null,null,null,null,{"$f":"IFERROR(VLOOKUP(T1901,Códigos!B:C,2,0),\" \")","v":" "}]
[null,null,null,null,null,null,null,null,null,null,null,null,null,null,null,null,null,null,null,null,{"$f":"IFERROR(VLOOKUP(T1902,Códigos!B:C,2,0),\" \")","v":" "}]
[null,null,null,null,null,null,null,null,null,null,null,null,null,null,null,null,null,null,null,null,{"$f":"IFERROR(VLOOKUP(T1903,Códigos!B:C,2,0),\" \")","v":" "}]
[null,null,null,null,null,null,null,null,null,null,null,null,null,null,null,null,null,null,null,null,{"$f":"IFERROR(VLOOKUP(T1904,Códigos!B:C,2,0),\" \")","v":" "}]
[null,null,null,null,null,null,null,null,null,null,null,null,null,null,null,null,null,null,null,null,{"$f":"IFERROR(VLOOKUP(T1905,Códigos!B:C,2,0),\" \")","v":" "}]
[null,null,null,null,null,null,null,null,null,null,null,null,null,null,null,null,null,null,null,null,{"$f":"IFERROR(VLOOKUP(T1906,Códigos!B:C,2,0),\" \")","v":" "}]
[null,null,null,null,null,null,null,null,null,null,null,null,null,null,null,null,null,null,null,null,{"$f":"IFERROR(VLOOKUP(T1907,Códigos!B:C,2,0),\" \")","v":" "}]
[null,null,null,null,null,null,null,null,null,null,null,null,null,null,null,null,null,null,null,null,{"$f":"IFERROR(VLOOKUP(T1908,Códigos!B:C,2,0),\" \")","v":" "}]
[null,null,null,null,null,null,null,null,null,null,null,null,null,null,null,null,null,null,null,null,{"$f":"IFERROR(VLOOKUP(T1909,Códigos!B:C,2,0),\" \")","v":" "}]
[null,null,null,null,null,null,null,null,null,null,null,null,null,null,null,null,null,null,null,null,{"$f":"IFERROR(VLOOKUP(T1910,Códigos!B:C,2,0),\" \")","v":" "}]
[null,null,null,null,null,null,null,null,null,null,null,null,null,null,null,null,null,null,null,null,{"$f":"IFERROR(VLOOKUP(T1911,Códigos!B:C,2,0),\" \")","v":" "}]
[null,null,null,null,null,null,null,null,null,null,null,null,null,null,null,null,null,null,null,null,{"$f":"IFERROR(VLOOKUP(T1912,Códigos!B:C,2,0),\" \")","v":" "}]
[null,null,null,null,null,null,null,null,null,null,null,null,null,null,null,null,null,null,null,null,{"$f":"IFERROR(VLOOKUP(T1913,Códigos!B:C,2,0),\" \")","v":" "}]
[null,null,null,null,null,null,null,null,null,null,null,null,null,null,null,null,null,null,null,null,{"$f":"IFERROR(VLOOKUP(T1914,Códigos!B:C,2,0),\" \")","v":" "}]
[null,null,null,null,null,null,null,null,null,null,null,null,null,null,null,null,null,null,null,null,{"$f":"IFERROR(VLOOKUP(T1915,Códigos!B:C,2,0),\" \")","v":" "}]
[null,null,null,null,null,null,null,null,null,null,null,null,null,null,null,null,null,null,null,null,{"$f":"IFERROR(VLOOKUP(T1916,Códigos!B:C,2,0),\" \")","v":" "}]
[null,null,null,null,null,null,null,null,null,null,null,null,null,null,null,null,null,null,null,null,{"$f":"IFERROR(VLOOKUP(T1917,Códigos!B:C,2,0),\" \")","v":" "}]
[null,null,null,null,null,null,null,null,null,null,null,null,null,null,null,null,null,null,null,null,{"$f":"IFERROR(VLOOKUP(T1918,Códigos!B:C,2,0),\" \")","v":" "}]
[null,null,null,null,null,null,null,null,null,null,null,null,null,null,null,null,null,null,null,null,{"$f":"IFERROR(VLOOKUP(T1919,Códigos!B:C,2,0),\" \")","v":" "}]
[null,null,null,null,null,null,null,null,null,null,null,null,null,null,null,null,null,null,null,null,{"$f":"IFERROR(VLOOKUP(T1920,Códigos!B:C,2,0),\" \")","v":" "}]
[null,null,null,null,null,null,null,null,null,null,null,null,null,null,null,null,null,null,null,null,{"$f":"IFERROR(VLOOKUP(T1921,Códigos!B:C,2,0),\" \")","v":" "}]
[null,null,null,null,null,null,null,null,null,null,null,null,null,null,null,null,null,null,null,null,{"$f":"IFERROR(VLOOKUP(T1922,Códigos!B:C,2,0),\" \")","v":" "}]
[null,null,null,null,null,null,null,null,null,null,null,null,null,null,null,null,null,null,null,null,{"$f":"IFERROR(VLOOKUP(T1923,Códigos!B:C,2,0),\" \")","v":" "}]
[null,null,null,null,null,null,null,null,null,null,null,null,null,null,null,null,null,null,null,null,{"$f":"IFERROR(VLOOKUP(T1924,Códigos!B:C,2,0),\" \")","v":" "}]
[null,null,null,null,null,null,null,null,null,null,null,null,null,null,null,null,null,null,null,null,{"$f":"IFERROR(VLOOKUP(T1925,Códigos!B:C,2,0),\" \")","v":" "}]
[null,null,null,null,null,null,null,null,null,null,null,null,null,null,null,null,null,null,null,null,{"$f":"IFERROR(VLOOKUP(T1926,Códigos!B:C,2,0),\" \")","v":" "}]
[null,null,null,null,null,null,null,null,null,null,null,null,null,null,null,null,null,null,null,null,{"$f":"IFERROR(VLOOKUP(T1927,Códigos!B:C,2,0),\" \")","v":" "}]
[null,null,null,null,null,null,null,null,null,null,null,null,null,null,null,null,null,null,null,null,{"$f":"IFERROR(VLOOKUP(T1928,Códigos!B:C,2,0),\" \")","v":" "}]
[null,null,null,null,null,null,null,null,null,null,null,null,null,null,null,null,null,null,null,null,{"$f":"IFERROR(VLOOKUP(T1929,Códigos!B:C,2,0),\" \")","v":" "}]
[null,null,null,null,null,null,null,null,null,null,null,null,null,null,null,null,null,null,null,null,{"$f":"IFERROR(VLOOKUP(T1930,Códigos!B:C,2,0),\" \")","v":" "}]
[null,null,null,null,null,null,null,null,null,null,null,null,null,null,null,null,null,null,null,null,{"$f":"IFERROR(VLOOKUP(T1931,Códigos!B:C,2,0),\" \")","v":" "}]
[null,null,null,null,null,null,null,null,null,null,null,null,null,null,null,null,null,null,null,null,{"$f":"IFERROR(VLOOKUP(T1932,Códigos!B:C,2,0),\" \")","v":" "}]
[null,null,null,null,null,null,null,null,null,null,null,null,null,null,null,null,null,null,null,null,{"$f":"IFERROR(VLOOKUP(T1933,Códigos!B:C,2,0),\" \")","v":" "}]
[null,null,null,null,null,null,null,null,null,null,null,null,null,null,null,null,null,null,null,null,{"$f":"IFERROR(VLOOKUP(T1934,Códigos!B:C,2,0),\" \")","v":" "}]
[null,null,null,null,null,null,null,null,null,null,null,null,null,null,null,null,null,null,null,null,{"$f":"IFERROR(VLOOKUP(T1935,Códigos!B:C,2,0),\" \")","v":" "}]
[null,null,null,null,null,null,null,null,null,null,null,null,null,null,null,null,null,null,null,null,{"$f":"IFERROR(VLOOKUP(T1936,Códigos!B:C,2,0),\" \")","v":" "}]
[null,null,null,null,null,null,null,null,null,null,null,null,null,null,null,null,null,null,null,null,{"$f":"IFERROR(VLOOKUP(T1937,Códigos!B:C,2,0),\" \")","v":" "}]
[null,null,null,null,null,null,null,null,null,null,null,null,null,null,null,null,null,null,null,null,{"$f":"IFERROR(VLOOKUP(T1938,Códigos!B:C,2,0),\" \")","v":" "}]
[null,null,null,null,null,null,null,null,null,null,null,null,null,null,null,null,null,null,null,null,{"$f":"IFERROR(VLOOKUP(T1939,Códigos!B:C,2,0),\" \")","v":" "}]
[null,null,null,null,null,null,null,null,null,null,null,null,null,null,null,null,null,null,null,null,{"$f":"IFERROR(VLOOKUP(T1940,Códigos!B:C,2,0),\" \")","v":" "}]
[null,null,null,null,null,null,null,null,null,null,null,null,null,null,null,null,null,null,null,null,{"$f":"IFERROR(VLOOKUP(T1941,Códigos!B:C,2,0),\" \")","v":" "}]
[null,null,null,null,null,null,null,null,null,null,null,null,null,null,null,null,null,null,null,null,{"$f":"IFERROR(VLOOKUP(T1942,Códigos!B:C,2,0),\" \")","v":" "}]
[null,null,null,null,null,null,null,null,null,null,null,null,null,null,null,null,null,null,null,null,{"$f":"IFERROR(VLOOKUP(T1943,Códigos!B:C,2,0),\" \")","v":" "}]
[null,null,null,null,null,null,null,null,null,null,null,null,null,null,null,null,null,null,null,null,{"$f":"IFERROR(VLOOKUP(T1944,Códigos!B:C,2,0),\" \")","v":" "}]
[null,null,null,null,null,null,null,null,null,null,null,null,null,null,null,null,null,null,null,null,{"$f":"IFERROR(VLOOKUP(T1945,Códigos!B:C,2,0),\" \")","v":" "}]
[null,null,null,null,null,null,null,null,null,null,null,null,null,null,null,null,null,null,null,null,{"$f":"IFERROR(VLOOKUP(T1946,Códigos!B:C,2,0),\" \")","v":" "}]
[null,null,null,null,null,null,null,null,null,null,null,null,null,null,null,null,null,null,null,null,{"$f":"IFERROR(VLOOKUP(T1947,Códigos!B:C,2,0),\" \")","v":" "}]
[null,null,null,null,null,null,null,null,null,null,null,null,null,null,null,null,null,null,null,null,{"$f":"IFERROR(VLOOKUP(T1948,Códigos!B:C,2,0),\" \")","v":" "}]
[null,null,null,null,null,null,null,null,null,null,null,null,null,null,null,null,null,null,null,null,{"$f":"IFERROR(VLOOKUP(T1949,Códigos!B:C,2,0),\" \")","v":" "}]
[null,null,null,null,null,null,null,null,null,null,null,null,null,null,null,null,null,null,null,null,{"$f":"IFERROR(VLOOKUP(T1950,Códigos!B:C,2,0),\" \")","v":" "}]
[null,null,null,null,null,null,null,null,null,null,null,null,null,null,null,null,null,null,null,null,{"$f":"IFERROR(VLOOKUP(T1951,Códigos!B:C,2,0),\" \")","v":" "}]
[null,null,null,null,null,null,null,null,null,null,null,null,null,null,null,null,null,null,null,null,{"$f":"IFERROR(VLOOKUP(T1952,Códigos!B:C,2,0),\" \")","v":" "}]
[null,null,null,null,null,null,null,null,null,null,null,null,null,null,null,null,null,null,null,null,{"$f":"IFERROR(VLOOKUP(T1953,Códigos!B:C,2,0),\" \")","v":" "}]
[null,null,null,null,null,null,null,null,null,null,null,null,null,null,null,null,null,null,null,null,{"$f":"IFERROR(VLOOKUP(T1954,Códigos!B:C,2,0),\" \")","v":" "}]
[null,null,null,null,null,null,null,null,null,null,null,null,null,null,null,null,null,null,null,null,{"$f":"IFERROR(VLOOKUP(T1955,Códigos!B:C,2,0),\" \")","v":" "}]
[null,null,null,null,null,null,null,null,null,null,null,null,null,null,null,null,null,null,null,null,{"$f":"IFERROR(VLOOKUP(T1956,Códigos!B:C,2,0),\" \")","v":" "}]
[null,null,null,null,null,null,null,null,null,null,null,null,null,null,null,null,null,null,null,null,{"$f":"IFERROR(VLOOKUP(T1957,Códigos!B:C,2,0),\" \")","v":" "}]
[null,null,null,null,null,null,null,null,null,null,null,null,null,null,null,null,null,null,null,null,{"$f":"IFERROR(VLOOKUP(T1958,Códigos!B:C,2,0),\" \")","v":" "}]
[null,null,null,null,null,null,null,null,null,null,null,null,null,null,null,null,null,null,null,null,{"$f":"IFERROR(VLOOKUP(T1959,Códigos!B:C,2,0),\" \")","v":" "}]
[null,null,null,null,null,null,null,null,null,null,null,null,null,null,null,null,null,null,null,null,{"$f":"IFERROR(VLOOKUP(T1960,Códigos!B:C,2,0),\" \")","v":" "}]
[null,null,null,null,null,null,null,null,null,null,null,null,null,null,null,null,null,null,null,null,{"$f":"IFERROR(VLOOKUP(T1961,Códigos!B:C,2,0),\" \")","v":" "}]
[null,null,null,null,null,null,null,null,null,null,null,null,null,null,null,null,null,null,null,null,{"$f":"IFERROR(VLOOKUP(T1962,Códigos!B:C,2,0),\" \")","v":" "}]
[null,null,null,null,null,null,null,null,null,null,null,null,null,null,null,null,null,null,null,null,{"$f":"IFERROR(VLOOKUP(T1963,Códigos!B:C,2,0),\" \")","v":" "}]
[null,null,null,null,null,null,null,null,null,null,null,null,null,null,null,null,null,null,null,null,{"$f":"IFERROR(VLOOKUP(T1964,Códigos!B:C,2,0),\" \")","v":" "}]
[null,null,null,null,null,null,null,null,null,null,null,null,null,null,null,null,null,null,null,null,{"$f":"IFERROR(VLOOKUP(T1965,Códigos!B:C,2,0),\" \")","v":" "}]
[null,null,null,null,null,null,null,null,null,null,null,null,null,null,null,null,null,null,null,null,{"$f":"IFERROR(VLOOKUP(T1966,Códigos!B:C,2,0),\" \")","v":" "}]
[null,null,null,null,null,null,null,null,null,null,null,null,null,null,null,null,null,null,null,null,{"$f":"IFERROR(VLOOKUP(T1967,Códigos!B:C,2,0),\" \")","v":" "}]
[null,null,null,null,null,null,null,null,null,null,null,null,null,null,null,null,null,null,null,null,{"$f":"IFERROR(VLOOKUP(T1968,Códigos!B:C,2,0),\" \")","v":" "}]
[null,null,null,null,null,null,null,null,null,null,null,null,null,null,null,null,null,null,null,null,{"$f":"IFERROR(VLOOKUP(T1969,Códigos!B:C,2,0),\" \")","v":" "}]
[null,null,null,null,null,null,null,null,null,null,null,null,null,null,null,null,null,null,null,null,{"$f":"IFERROR(VLOOKUP(T1970,Códigos!B:C,2,0),\" \")","v":" "}]
[null,null,null,null,null,null,null,null,null,null,null,null,null,null,null,null,null,null,null,null,{"$f":"IFERROR(VLOOKUP(T1971,Códigos!B:C,2,0),\" \")","v":" "}]
[null,null,null,null,null,null,null,null,null,null,null,null,null,null,null,null,null,null,null,null,{"$f":"IFERROR(VLOOKUP(T1972,Códigos!B:C,2,0),\" \")","v":" "}]
[null,null,null,null,null,null,null,null,null,null,null,null,null,null,null,null,null,null,null,null,{"$f":"IFERROR(VLOOKUP(T1973,Códigos!B:C,2,0),\" \")","v":" "}]
[null,null,null,null,null,null,null,null,null,null,null,null,null,null,null,null,null,null,null,null,{"$f":"IFERROR(VLOOKUP(T1974,Códigos!B:C,2,0),\" \")","v":" "}]
[null,null,null,null,null,null,null,null,null,null,null,null,null,null,null,null,null,null,null,null,{"$f":"IFERROR(VLOOKUP(T1975,Códigos!B:C,2,0),\" \")","v":" "}]
[null,null,null,null,null,null,null,null,null,null,null,null,null,null,null,null,null,null,null,null,{"$f":"IFERROR(VLOOKUP(T1976,Códigos!B:C,2,0),\" \")","v":" "}]
[null,null,null,null,null,null,null,null,null,null,null,null,null,null,null,null,null,null,null,null,{"$f":"IFERROR(VLOOKUP(T1977,Códigos!B:C,2,0),\" \")","v":" "}]
[null,null,null,null,null,null,null,null,null,null,null,null,null,null,null,null,null,null,null,null,{"$f":"IFERROR(VLOOKUP(T1978,Códigos!B:C,2,0),\" \")","v":" "}]
[null,null,null,null,null,null,null,null,null,null,null,null,null,null,null,null,null,null,null,null,{"$f":"IFERROR(VLOOKUP(T1979,Códigos!B:C,2,0),\" \")","v":" "}]
[null,null,null,null,null,null,null,null,null,null,null,null,null,null,null,null,null,null,null,null,{"$f":"IFERROR(VLOOKUP(T1980,Códigos!B:C,2,0),\" \")","v":" "}]
[null,null,null,null,null,null,null,null,null,null,null,null,null,null,null,null,null,null,null,null,{"$f":"IFERROR(VLOOKUP(T1981,Códigos!B:C,2,0),\" \")","v":" "}]
[null,null,null,null,null,null,null,null,null,null,null,null,null,null,null,null,null,null,null,null,{"$f":"IFERROR(VLOOKUP(T1982,Códigos!B:C,2,0),\" \")","v":" "}]
[null,null,null,null,null,null,null,null,null,null,null,null,null,null,null,null,null,null,null,null,{"$f":"IFERROR(VLOOKUP(T1983,Códigos!B:C,2,0),\" \")","v":" "}]
[null,null,null,null,null,null,null,null,null,null,null,null,null,null,null,null,null,null,null,null,{"$f":"IFERROR(VLOOKUP(T1984,Códigos!B:C,2,0),\" \")","v":" "}]
[null,null,null,null,null,null,null,null,null,null,null,null,null,null,null,null,null,null,null,null,{"$f":"IFERROR(VLOOKUP(T1985,Códigos!B:C,2,0),\" \")","v":" "}]
[null,null,null,null,null,null,null,null,null,null,null,null,null,null,null,null,null,null,null,null,{"$f":"IFERROR(VLOOKUP(T1986,Códigos!B:C,2,0),\" \")","v":" "}]
[null,null,null,null,null,null,null,null,null,null,null,null,null,null,null,null,null,null,null,null,{"$f":"IFERROR(VLOOKUP(T1987,Códigos!B:C,2,0),\" \")","v":" "}]
[null,null,null,null,null,null,null,null,null,null,null,null,null,null,null,null,null,null,null,null,{"$f":"IFERROR(VLOOKUP(T1988,Códigos!B:C,2,0),\" \")","v":" "}]
[null,null,null,null,null,null,null,null,null,null,null,null,null,null,null,null,null,null,null,null,{"$f":"IFERROR(VLOOKUP(T1989,Códigos!B:C,2,0),\" \")","v":" "}]
[null,null,null,null,null,null,null,null,null,null,null,null,null,null,null,null,null,null,null,null,{"$f":"IFERROR(VLOOKUP(T1990,Códigos!B:C,2,0),\" \")","v":" "}]
[null,null,null,null,null,null,null,null,null,null,null,null,null,null,null,null,null,null,null,null,{"$f":"IFERROR(VLOOKUP(T1991,Códigos!B:C,2,0),\" \")","v":" "}]
[null,null,null,null,null,null,null,null,null,null,null,null,null,null,null,null,null,null,null,null,{"$f":"IFERROR(VLOOKUP(T1992,Códigos!B:C,2,0),\" \")","v":" "}]
[null,null,null,null,null,null,null,null,null,null,null,null,null,null,null,null,null,null,null,null,{"$f":"IFERROR(VLOOKUP(T1993,Códigos!B:C,2,0),\" \")","v":" "}]
[null,null,null,null,null,null,null,null,null,null,null,null,null,null,null,null,null,null,null,null,{"$f":"IFERROR(VLOOKUP(T1994,Códigos!B:C,2,0),\" \")","v":" "}]
[null,null,null,null,null,null,null,null,null,null,null,null,null,null,null,null,null,null,null,null,{"$f":"IFERROR(VLOOKUP(T1995,Códigos!B:C,2,0),\" \")","v":" "}]
[null,null,null,null,null,null,null,null,null,null,null,null,null,null,null,null,null,null,null,null,{"$f":"IFERROR(VLOOKUP(T1996,Códigos!B:C,2,0),\" \")","v":" "}]
[null,null,null,null,null,null,null,null,null,null,null,null,null,null,null,null,null,null,null,null,{"$f":"IFERROR(VLOOKUP(T1997,Códigos!B:C,2,0),\" \")","v":" "}]
[null,null,null,null,null,null,null,null,null,null,null,null,null,null,null,null,null,null,null,null,{"$f":"IFERROR(VLOOKUP(T1998,Códigos!B:C,2,0),\" \")","v":" "}]
[null,null,null,null,null,null,null,null,null,null,null,null,null,null,null,null,null,null,null,null,{"$f":"IFERROR(VLOOKUP(T1999,Códigos!B:C,2,0),\" \")","v":" "}]
[null,null,null,null,null,null,null,null,null,null,null,null,null,null,null,null,null,null,null,null,{"$f":"IFERROR(VLOOKUP(T2000,Códigos!B:C,2,0),\" \")","v":" "}]
[null,null,null,null,null,null,null,null,null,null,null,null,null,null,null,null,null,null,null,null,{"$f":"IFERROR(VLOOKUP(T2002,Códigos!B:C,2,0),\" \")","v":" "}]
[null,null,null,null,null,null,null,null,null,null,null,null,null,null,null,null,null,null,null,null,{"$f":"IFERROR(VLOOKUP(T2013,Códigos!B:C,2,0),\" \")","v":" "}]
[null,null,null,null,null,null,null,null,null,null,null,null,null,null,null,null,null,null,null,null,{"$f":"IFERROR(VLOOKUP(T2025,Códigos!B:C,2,0),\" \")","v":" "}]
[null,null,null,null,null,null,null,null,null,null,null,null,null,null,null,null,null,null,null,null,{"$f":"IFERROR(VLOOKUP(T2032,Códigos!B:C,2,0),\" \")","v":" "}]
[null,null,null,null,null,null,null,null,null,null,null,null,null,null,null,null,null,null,null,null,{"$f":"IFERROR(VLOOKUP(T2041,Códigos!B:C,2,0),\" \")","v":" "}]
[null,null,null,null,null,null,null,null,null,null,null,null,null,null,null,null,null,null,null,null,{"$f":"IFERROR(VLOOKUP(T2046,Códigos!B:C,2,0),\" \")","v":" "}]
[null,null,null,null,null,null,null,null,null,null,null,null,null,null,null,null,null,null,null,null,{"$f":"IFERROR(VLOOKUP(T2053,Códigos!B:C,2,0),\" \")","v":" "}]
[null,null,null,null,null,null,null,null,null,null,null,null,null,null,null,null,null,null,null,null,{"$f":"IFERROR(VLOOKUP(T2065,Códigos!B:C,2,0),\" \")","v":" "}]
[null,null,null,null,null,null,null,null,null,null,null,null,null,null,null,null,null,null,null,null,{"$f":"IFERROR(VLOOKUP(T2072,Códigos!B:C,2,0),\" \")","v":" "}]
[null,null,null,null,null,null,null,null,null,null,null,null,null,null,null,null,null,null,null,null,{"$f":"IFERROR(VLOOKUP(T2083,Códigos!B:C,2,0),\" \")","v":" "}]
[null,null,null,null,null,null,null,null,null,null,null,null,null,null,null,null,null,null,null,null,{"$f":"IFERROR(VLOOKUP(T2095,Códigos!B:C,2,0),\" \")","v":" "}]
[null,null,null,null,null,null,null,null,null,null,null,null,null,null,null,null,null,null,null,null,{"$f":"IFERROR(VLOOKUP(T2102,Códigos!B:C,2,0),\" \")","v":" "}]
[null,null,null,null,null,null,null,null,null,null,null,null,null,null,null,null,null,null,null,null,{"$f":"IFERROR(VLOOKUP(T2111,Códigos!B:C,2,0),\" \")","v":" "}]
[null,null,null,null,null,null,null,null,null,null,null,null,null,null,null,null,null,null,null,null,{"$f":"IFERROR(VLOOKUP(T2116,Códigos!B:C,2,0),\" \")","v":" "}]
[null,null,null,null,null,null,null,null,null,null,null,null,null,null,null,null,null,null,null,null,{"$f":"IFERROR(VLOOKUP(T2123,Códigos!B:C,2,0),\" \")","v":" "}]
[null,null,null,null,null,null,null,null,null,null,null,null,null,null,null,null,null,null,null,null,{"$f":"IFERROR(VLOOKUP(T2135,Códigos!B:C,2,0),\" \")","v":" "}]
[null,null,null,null,null,null,null,null,null,null,null,null,null,null,null,null,null,null,null,null,{"$f":"IFERROR(VLOOKUP(T2142,Códigos!B:C,2,0),\" \")","v":" "}]
[null,null,null,null,null,null,null,null,null,null,null,null,null,null,null,null,null,null,null,null,{"$f":"IFERROR(VLOOKUP(T2153,Códigos!B:C,2,0),\" \")","v":" "}]
[null,null,null,null,null,null,null,null,null,null,null,null,null,null,null,null,null,null,null,null,{"$f":"IFERROR(VLOOKUP(T2165,Códigos!B:C,2,0),\" \")","v":" "}]
[null,null,null,null,null,null,null,null,null,null,null,null,null,null,null,null,null,null,null,null,{"$f":"IFERROR(VLOOKUP(T2172,Códigos!B:C,2,0),\" \")","v":" "}]
[null,null,null,null,null,null,null,null,null,null,null,null,null,null,null,null,null,null,null,null,{"$f":"IFERROR(VLOOKUP(T2181,Códigos!B:C,2,0),\" \")","v":" "}]
[null,null,null,null,null,null,null,null,null,null,null,null,null,null,null,null,null,null,null,null,{"$f":"IFERROR(VLOOKUP(T2190,Códigos!B:C,2,0),\" \")","v":" "}]
[null,null,null,null,null,null,null,null,null,null,null,null,null,null,null,null,null,null,null,null,{"$f":"IFERROR(VLOOKUP(T2193,Códigos!B:C,2,0),\" \")","v":" "}]
[null,null,null,null,null,null,null,null,null,null,null,null,null,null,null,null,null,null,null,null,{"$f":"IFERROR(VLOOKUP(T2205,Códigos!B:C,2,0),\" \")","v":" "}]
[null,null,null,null,null,null,null,null,null,null,null,null,null,null,null,null,null,null,null,null,{"$f":"IFERROR(VLOOKUP(T2212,Códigos!B:C,2,0),\" \")","v":" "}]
[null,null,null,null,null,null,null,null,null,null,null,null,null,null,null,null,null,null,null,null,{"$f":"IFERROR(VLOOKUP(T2223,Códigos!B:C,2,0),\" \")","v":" "}]
[null,null,null,null,null,null,null,null,null,null,null,null,null,null,null,null,null,null,null,null,{"$f":"IFERROR(VLOOKUP(T2235,Códigos!B:C,2,0),\" \")","v":" "}]
[null,null,null,null,null,null,null,null,null,null,null,null,null,null,null,null,null,null,null,null,{"$f":"IFERROR(VLOOKUP(T2242,Códigos!B:C,2,0),\" \")","v":" "}]
[null,null,null,null,null,null,null,null,null,null,null,null,null,null,null,null,null,null,null,null,{"$f":"IFERROR(VLOOKUP(T2251,Códigos!B:C,2,0),\" \")","v":" "}]
[null,null,null,null,null,null,null,null,null,null,null,null,null,null,null,null,null,null,null,null,{"$f":"IFERROR(VLOOKUP(T2260,Códigos!B:C,2,0),\" \")","v":" "}]
[null,null,null,null,null,null,null,null,null,null,null,null,null,null,null,null,null,null,null,null,{"$f":"IFERROR(VLOOKUP(T2263,Códigos!B:C,2,0),\" \")","v":" "}]
[null,null,null,null,null,null,null,null,null,null,null,null,null,null,null,null,null,null,null,null,{"$f":"IFERROR(VLOOKUP(T2275,Códigos!B:C,2,0),\" \")","v":" "}]
[null,null,null,null,null,null,null,null,null,null,null,null,null,null,null,null,null,null,null,null,{"$f":"IFERROR(VLOOKUP(T2282,Códigos!B:C,2,0),\" \")","v":" "}]
[null,null,null,null,null,null,null,null,null,null,null,null,null,null,null,null,null,null,null,null,{"$f":"IFERROR(VLOOKUP(T2293,Códigos!B:C,2,0),\" \")","v":" "}]
[null,null,null,null,null,null,null,null,null,null,null,null,null,null,null,null,null,null,null,null,{"$f":"IFERROR(VLOOKUP(T2305,Códigos!B:C,2,0),\" \")","v":" "}]
[null,null,null,null,null,null,null,null,null,null,null,null,null,null,null,null,null,null,null,null,{"$f":"IFERROR(VLOOKUP(T2312,Códigos!B:C,2,0),\" \")","v":" "}]
[null,null,null,null,null,null,null,null,null,null,null,null,null,null,null,null,null,null,null,null,{"$f":"IFERROR(VLOOKUP(T2321,Códigos!B:C,2,0),\" \")","v":" "}]
[null,null,null,null,null,null,null,null,null,null,null,null,null,null,null,null,null,null,null,null,{"$f":"IFERROR(VLOOKUP(T2330,Códigos!B:C,2,0),\" \")","v":" "}]
[null,null,null,null,null,null,null,null,null,null,null,null,null,null,null,null,null,null,null,null,{"$f":"IFERROR(VLOOKUP(T2333,Códigos!B:C,2,0),\" \")","v":" "}]
[null,null,null,null,null,null,null,null,null,null,null,null,null,null,null,null,null,null,null,null,{"$f":"IFERROR(VLOOKUP(T2345,Códigos!B:C,2,0),\" \")","v":" "}]
[null,null,null,null,null,null,null,null,null,null,null,null,null,null,null,null,null,null,null,null,{"$f":"IFERROR(VLOOKUP(T2352,Códigos!B:C,2,0),\" \")","v":" "}]
[null,null,null,null,null,null,null,null,null,null,null,null,null,null,null,null,null,null,null,null,{"$f":"IFERROR(VLOOKUP(T2363,Códigos!B:C,2,0),\" \")","v":" "}]
[null,null,null,null,null,null,null,null,null,null,null,null,null,null,null,null,null,null,null,null,{"$f":"IFERROR(VLOOKUP(T2370,Códigos!B:C,2,0),\" \")","v":" "}]
[null,null,null,null,null,null,null,null,null,null,null,null,null,null,null,null,null,null,null,null,{"$f":"IFERROR(VLOOKUP(T2382,Códigos!B:C,2,0),\" \")","v":" "}]
[null,null,null,null,null,null,null,null,null,null,null,null,null,null,null,null,null,null,null,null,{"$f":"IFERROR(VLOOKUP(T2391,Códigos!B:C,2,0),\" \")","v":" "}]
[null,null,null,null,null,null,null,null,null,null,null,null,null,null,null,null,null,null,null,null,{"$f":"IFERROR(VLOOKUP(T2400,Códigos!B:C,2,0),\" \")","v":" "}]
[null,null,null,null,null,null,null,null,null,null,null,null,null,null,null,null,null,null,null,null,{"$f":"IFERROR(VLOOKUP(T2403,Códigos!B:C,2,0),\" \")","v":" "}]
[null,null,null,null,null,null,null,null,null,null,null,null,null,null,null,null,null,null,null,null,{"$f":"IFERROR(VLOOKUP(T2415,Códigos!B:C,2,0),\" \")","v":" "}]
[null,null,null,null,null,null,null,null,null,null,null,null,null,null,null,null,null,null,null,null,{"$f":"IFERROR(VLOOKUP(T2422,Códigos!B:C,2,0),\" \")","v":" "}]
[null,null,null,null,null,null,null,null,null,null,null,null,null,null,null,null,null,null,null,null,{"$f":"IFERROR(VLOOKUP(T2433,Códigos!B:C,2,0),\" \")","v":" "}]
[null,null,null,null,null,null,null,null,null,null,null,null,null,null,null,null,null,null,null,null,{"$f":"IFERROR(VLOOKUP(T2440,Códigos!B:C,2,0),\" \")","v":" "}]
[null,null,null,null,null,null,null,null,null,null,null,null,null,null,null,null,null,null,null,null,{"$f":"IFERROR(VLOOKUP(T2452,Códigos!B:C,2,0),\" \")","v":" "}]
[null,null,null,null,null,null,null,null,null,null,null,null,null,null,null,null,null,null,null,null,{"$f":"IFERROR(VLOOKUP(T2461,Códigos!B:C,2,0),\" \")","v":" "}]
[null,null,null,null,null,null,null,null,null,null,null,null,null,null,null,null,null,null,null,null,{"$f":"IFERROR(VLOOKUP(T2470,Códigos!B:C,2,0),\" \")","v":" "}]
[null,null,null,null,null,null,null,null,null,null,null,null,null,null,null,null,null,null,null,null,{"$f":"IFERROR(VLOOKUP(T2473,Códigos!B:C,2,0),\" \")","v":" "}]
[null,null,null,null,null,null,null,null,null,null,null,null,null,null,null,null,null,null,null,null,{"$f":"IFERROR(VLOOKUP(T2489,Códigos!B:C,2,0),\" \")","v":" "}]
[null,null,null,null,null,null,null,null,null,null,null,null,null,null,null,null,null,null,null,null,{"$f":"IFERROR(VLOOKUP(T2492,Códigos!B:C,2,0),\" \")","v":" "}]
[null,null,null,null,null,null,null,null,null,null,null,null,null,null,null,null,null,null,null,null,{"$f":"IFERROR(VLOOKUP(T2503,Códigos!B:C,2,0),\" \")","v":" "}]
[null,null,null,null,null,null,null,null,null,null,null,null,null,null,null,null,null,null,null,null,{"$f":"IFERROR(VLOOKUP(T2510,Códigos!B:C,2,0),\" \")","v":" "}]
[null,null,null,null,null,null,null,null,null,null,null,null,null,null,null,null,null,null,null,null,{"$f":"IFERROR(VLOOKUP(T2522,Códigos!B:C,2,0),\" \")","v":" "}]
[null,null,null,null,null,null,null,null,null,null,null,null,null,null,null,null,null,null,null,null,{"$f":"IFERROR(VLOOKUP(T2531,Códigos!B:C,2,0),\" \")","v":" "}]
[null,null,null,null,null,null,null,null,null,null,null,null,null,null,null,null,null,null,null,null,{"$f":"IFERROR(VLOOKUP(T2540,Códigos!B:C,2,0),\" \")","v":" "}]
[null,null,null,null,null,null,null,null,null,null,null,null,null,null,null,null,null,null,null,null,{"$f":"IFERROR(VLOOKUP(T2543,Códigos!B:C,2,0),\" \")","v":" "}]
[null,null,null,null,null,null,null,null,null,null,null,null,null,null,null,null,null,null,null,null,{"$f":"IFERROR(VLOOKUP(T2559,Códigos!B:C,2,0),\" \")","v":" "}]
[null,null,null,null,null,null,null,null,null,null,null,null,null,null,null,null,null,null,null,null,{"$f":"IFERROR(VLOOKUP(T2562,Códigos!B:C,2,0),\" \")","v":" "}]
[null,null,null,null,null,null,null,null,null,null,null,null,null,null,null,null,null,null,null,null,{"$f":"IFERROR(VLOOKUP(T2573,Códigos!B:C,2,0),\" \")","v":" "}]
[null,null,null,null,null,null,null,null,null,null,null,null,null,null,null,null,null,null,null,null,{"$f":"IFERROR(VLOOKUP(T2580,Códigos!B:C,2,0),\" \")","v":" "}]
[null,null,null,null,null,null,null,null,null,null,null,null,null,null,null,null,null,null,null,null,{"$f":"IFERROR(VLOOKUP(T2592,Códigos!B:C,2,0),\" \")","v":" "}]
[null,null,null,null,null,null,null,null,null,null,null,null,null,null,null,null,null,null,null,null,{"$f":"IFERROR(VLOOKUP(T2601,Códigos!B:C,2,0),\" \")","v":" "}]
[null,null,null,null,null,null,null,null,null,null,null,null,null,null,null,null,null,null,null,null,{"$f":"IFERROR(VLOOKUP(T2610,Códigos!B:C,2,0),\" \")","v":" "}]
[null,null,null,null,null,null,null,null,null,null,null,null,null,null,null,null,null,null,null,null,{"$f":"IFERROR(VLOOKUP(T2613,Códigos!B:C,2,0),\" \")","v":" "}]
[null,null,null,null,null,null,null,null,null,null,null,null,null,null,null,null,null,null,null,null,{"$f":"IFERROR(VLOOKUP(T2629,Códigos!B:C,2,0),\" \")","v":" "}]
[null,null,null,null,null,null,null,null,null,null,null,null,null,null,null,null,null,null,null,null,{"$f":"IFERROR(VLOOKUP(T2632,Códigos!B:C,2,0),\" \")","v":" "}]
[null,null,null,null,null,null,null,null,null,null,null,null,null,null,null,null,null,null,null,null,{"$f":"IFERROR(VLOOKUP(T2643,Códigos!B:C,2,0),\" \")","v":" "}]
[null,null,null,null,null,null,null,null,null,null,null,null,null,null,null,null,null,null,null,null,{"$f":"IFERROR(VLOOKUP(T2650,Códigos!B:C,2,0),\" \")","v":" "}]
[null,null,null,null,null,null,null,null,null,null,null,null,null,null,null,null,null,null,null,null,{"$f":"IFERROR(VLOOKUP(T2662,Códigos!B:C,2,0),\" \")","v":" "}]
[null,null,null,null,null,null,null,null,null,null,null,null,null,null,null,null,null,null,null,null,{"$f":"IFERROR(VLOOKUP(T2671,Códigos!B:C,2,0),\" \")","v":" "}]
[null,null,null,null,null,null,null,null,null,null,null,null,null,null,null,null,null,null,null,null,{"$f":"IFERROR(VLOOKUP(T2680,Códigos!B:C,2,0),\" \")","v":" "}]
[null,null,null,null,null,null,null,null,null,null,null,null,null,null,null,null,null,null,null,null,{"$f":"IFERROR(VLOOKUP(T2683,Códigos!B:C,2,0),\" \")","v":" "}]
[null,null,null,null,null,null,null,null,null,null,null,null,null,null,null,null,null,null,null,null,{"$f":"IFERROR(VLOOKUP(T2699,Códigos!B:C,2,0),\" \")","v":" "}]
[null,null,null,null,null,null,null,null,null,null,null,null,null,null,null,null,null,null,null,null,{"$f":"IFERROR(VLOOKUP(T2702,Códigos!B:C,2,0),\" \")","v":" "}]
[null,null,null,null,null,null,null,null,null,null,null,null,null,null,null,null,null,null,null,null,{"$f":"IFERROR(VLOOKUP(T2713,Códigos!B:C,2,0),\" \")","v":" "}]
[null,null,null,null,null,null,null,null,null,null,null,null,null,null,null,null,null,null,null,null,{"$f":"IFERROR(VLOOKUP(T2720,Códigos!B:C,2,0),\" \")","v":" "}]
[null,null,null,null,null,null,null,null,null,null,null,null,null,null,null,null,null,null,null,null,{"$f":"IFERROR(VLOOKUP(T2732,Códigos!B:C,2,0),\" \")","v":" "}]
[null,null,null,null,null,null,null,null,null,null,null,null,null,null,null,null,null,null,null,null,{"$f":"IFERROR(VLOOKUP(T2741,Códigos!B:C,2,0),\" \")","v":" "}]
[null,null,null,null,null,null,null,null,null,null,null,null,null,null,null,null,null,null,null,null,{"$f":"IFERROR(VLOOKUP(T2750,Códigos!B:C,2,0),\" \")","v":" "}]
[null,null,null,null,null,null,null,null,null,null,null,null,null,null,null,null,null,null,null,null,{"$f":"IFERROR(VLOOKUP(T2753,Códigos!B:C,2,0),\" \")","v":" "}]
[null,null,null,null,null,null,null,null,null,null,null,null,null,null,null,null,null,null,null,null,{"$f":"IFERROR(VLOOKUP(T2769,Códigos!B:C,2,0),\" \")","v":" "}]
[null,null,null,null,null,null,null,null,null,null,null,null,null,null,null,null,null,null,null,null,{"$f":"IFERROR(VLOOKUP(T2772,Códigos!B:C,2,0),\" \")","v":" "}]
[null,null,null,null,null,null,null,null,null,null,null,null,null,null,null,null,null,null,null,null,{"$f":"IFERROR(VLOOKUP(T2783,Códigos!B:C,2,0),\" \")","v":" "}]
[null,null,null,null,null,null,null,null,null,null,null,null,null,null,null,null,null,null,null,null,{"$f":"IFERROR(VLOOKUP(T2790,Códigos!B:C,2,0),\" \")","v":" "}]
[null,null,null,null,null,null,null,null,null,null,null,null,null,null,null,null,null,null,null,null,{"$f":"IFERROR(VLOOKUP(T2802,Códigos!B:C,2,0),\" \")","v":" "}]
[null,null,null,null,null,null,null,null,null,null,null,null,null,null,null,null,null,null,null,null,{"$f":"IFERROR(VLOOKUP(T2811,Códigos!B:C,2,0),\" \")","v":" "}]
[null,null,null,null,null,null,null,null,null,null,null,null,null,null,null,null,null,null,null,null,{"$f":"IFERROR(VLOOKUP(T2820,Códigos!B:C,2,0),\" \")","v":" "}]
[null,null,null,null,null,null,null,null,null,null,null,null,null,null,null,null,null,null,null,null,{"$f":"IFERROR(VLOOKUP(T2823,Códigos!B:C,2,0),\" \")","v":" "}]
[null,null,null,null,null,null,null,null,null,null,null,null,null,null,null,null,null,null,null,null,{"$f":"IFERROR(VLOOKUP(T2839,Códigos!B:C,2,0),\" \")","v":" "}]
[null,null,null,null,null,null,null,null,null,null,null,null,null,null,null,null,null,null,null,null,{"$f":"IFERROR(VLOOKUP(T2842,Códigos!B:C,2,0),\" \")","v":" "}]
[null,null,null,null,null,null,null,null,null,null,null,null,null,null,null,null,null,null,null,null,{"$f":"IFERROR(VLOOKUP(T2857,Códigos!B:C,2,0),\" \")","v":" "}]
[null,null,null,null,null,null,null,null,null,null,null,null,null,null,null,null,null,null,null,null,{"$f":"IFERROR(VLOOKUP(T2860,Códigos!B:C,2,0),\" \")","v":" "}]
[null,null,null,null,null,null,null,null,null,null,null,null,null,null,null,null,null,null,null,null,{"$f":"IFERROR(VLOOKUP(T2872,Códigos!B:C,2,0),\" \")","v":" "}]
[null,null,null,null,null,null,null,null,null,null,null,null,null,null,null,null,null,null,null,null,{"$f":"IFERROR(VLOOKUP(T2881,Códigos!B:C,2,0),\" \")","v":" "}]
[null,null,null,null,null,null,null,null,null,null,null,null,null,null,null,null,null,null,null,null,{"$f":"IFERROR(VLOOKUP(T2890,Códigos!B:C,2,0),\" \")","v":" "}]
[null,null,null,null,null,null,null,null,null,null,null,null,null,null,null,null,null,null,null,null,{"$f":"IFERROR(VLOOKUP(T2893,Códigos!B:C,2,0),\" \")","v":" "}]
[null,null,null,null,null,null,null,null,null,null,null,null,null,null,null,null,null,null,null,null,{"$f":"IFERROR(VLOOKUP(T2909,Códigos!B:C,2,0),\" \")","v":" "}]
[null,null,null,null,null,null,null,null,null,null,null,null,null,null,null,null,null,null,null,null,{"$f":"IFERROR(VLOOKUP(T2912,Códigos!B:C,2,0),\" \")","v":" "}]
[null,null,null,null,null,null,null,null,null,null,null,null,null,null,null,null,null,null,null,null,{"$f":"IFERROR(VLOOKUP(T2927,Códigos!B:C,2,0),\" \")","v":" "}]
[null,null,null,null,null,null,null,null,null,null,null,null,null,null,null,null,null,null,null,null,{"$f":"IFERROR(VLOOKUP(T2930,Códigos!B:C,2,0),\" \")","v":" "}]
[null,null,null,null,null,null,null,null,null,null,null,null,null,null,null,null,null,null,null,null,{"$f":"IFERROR(VLOOKUP(T2942,Códigos!B:C,2,0),\" \")","v":" "}]
[null,null,null,null,null,null,null,null,null,null,null,null,null,null,null,null,null,null,null,null,{"$f":"IFERROR(VLOOKUP(T2951,Códigos!B:C,2,0),\" \")","v":" "}]
[null,null,null,null,null,null,null,null,null,null,null,null,null,null,null,null,null,null,null,null,{"$f":"IFERROR(VLOOKUP(T2960,Códigos!B:C,2,0),\" \")","v":" "}]
[null,null,null,null,null,null,null,null,null,null,null,null,null,null,null,null,null,null,null,null,{"$f":"IFERROR(VLOOKUP(T2967,Códigos!B:C,2,0),\" \")","v":" "}]
[null,null,null,null,null,null,null,null,null,null,null,null,null,null,null,null,null,null,null,null,{"$f":"IFERROR(VLOOKUP(T2979,Códigos!B:C,2,0),\" \")","v":" "}]
[null,null,null,null,null,null,null,null,null,null,null,null,null,null,null,null,null,null,null,null,{"$f":"IFERROR(VLOOKUP(T2982,Códigos!B:C,2,0),\" \")","v":" "}]
[null,null,null,null,null,null,null,null,null,null,null,null,null,null,null,null,null,null,null,null,{"$f":"IFERROR(VLOOKUP(T2997,Códigos!B:C,2,0),\" \")","v":" "}]
[null,null,null,null,null,null,null,null,null,null,null,null,null,null,null,null,null,null,null,null,{"$f":"IFERROR(VLOOKUP(T3000,Códigos!B:C,2,0),\" \")","v":" "}]
[null,null,null,null,null,null,null,null,null,null,null,null,null,null,null,null,null,null,null,null,{"$f":"IFERROR(VLOOKUP(T3012,Códigos!B:C,2,0),\" \")","v":" "}]
[null,null,null,null,null,null,null,null,null,null,null,null,null,null,null,null,null,null,null,null,{"$f":"IFERROR(VLOOKUP(T3021,Códigos!B:C,2,0),\" \")","v":" "}]
[null,null,null,null,null,null,null,null,null,null,null,null,null,null,null,null,null,null,null,null,{"$f":"IFERROR(VLOOKUP(T3030,Códigos!B:C,2,0),\" \")","v":" "}]
[null,null,null,null,null,null,null,null,null,null,null,null,null,null,null,null,null,null,null,null,{"$f":"IFERROR(VLOOKUP(T3037,Códigos!B:C,2,0),\" \")","v":" "}]
[null,null,null,null,null,null,null,null,null,null,null,null,null,null,null,null,null,null,null,null,{"$f":"IFERROR(VLOOKUP(T3049,Códigos!B:C,2,0),\" \")","v":" "}]
[null,null,null,null,null,null,null,null,null,null,null,null,null,null,null,null,null,null,null,null,{"$f":"IFERROR(VLOOKUP(T3052,Códigos!B:C,2,0),\" \")","v":" "}]
[null,null,null,null,null,null,null,null,null,null,null,null,null,null,null,null,null,null,null,null,{"$f":"IFERROR(VLOOKUP(T3067,Códigos!B:C,2,0),\" \")","v":" "}]
[null,null,null,null,null,null,null,null,null,null,null,null,null,null,null,null,null,null,null,null,{"$f":"IFERROR(VLOOKUP(T3070,Códigos!B:C,2,0),\" \")","v":" "}]
[null,null,null,null,null,null,null,null,null,null,null,null,null,null,null,null,null,null,null,null,{"$f":"IFERROR(VLOOKUP(T3082,Códigos!B:C,2,0),\" \")","v":" "}]
[null,null,null,null,null,null,null,null,null,null,null,null,null,null,null,null,null,null,null,null,{"$f":"IFERROR(VLOOKUP(T3091,Códigos!B:C,2,0),\" \")","v":" "}]
[null,null,null,null,null,null,null,null,null,null,null,null,null,null,null,null,null,null,null,null,{"$f":"IFERROR(VLOOKUP(T3100,Códigos!B:C,2,0),\" \")","v":" "}]
[null,null,null,null,null,null,null,null,null,null,null,null,null,null,null,null,null,null,null,null,{"$f":"IFERROR(VLOOKUP(T3107,Códigos!B:C,2,0),\" \")","v":" "}]
[null,null,null,null,null,null,null,null,null,null,null,null,null,null,null,null,null,null,null,null,{"$f":"IFERROR(VLOOKUP(T3119,Códigos!B:C,2,0),\" \")","v":" "}]
[null,null,null,null,null,null,null,null,null,null,null,null,null,null,null,null,null,null,null,null,{"$f":"IFERROR(VLOOKUP(T3122,Códigos!B:C,2,0),\" \")","v":" "}]
[null,null,null,null,null,null,null,null,null,null,null,null,null,null,null,null,null,null,null,null,{"$f":"IFERROR(VLOOKUP(T3137,Códigos!B:C,2,0),\" \")","v":" "}]
[null,null,null,null,null,null,null,null,null,null,null,null,null,null,null,null,null,null,null,null,{"$f":"IFERROR(VLOOKUP(T3140,Códigos!B:C,2,0),\" \")","v":" "}]
[null,null,null,null,null,null,null,null,null,null,null,null,null,null,null,null,null,null,null,null,{"$f":"IFERROR(VLOOKUP(T3147,Códigos!B:C,2,0),\" \")","v":" "}]
[null,null,null,null,null,null,null,null,null,null,null,null,null,null,null,null,null,null,null,null,{"$f":"IFERROR(VLOOKUP(T3161,Códigos!B:C,2,0),\" \")","v":" "}]
[null,null,null,null,null,null,null,null,null,null,null,null,null,null,null,null,null,null,null,null,{"$f":"IFERROR(VLOOKUP(T3170,Códigos!B:C,2,0),\" \")","v":" "}]
[null,null,null,null,null,null,null,null,null,null,null,null,null,null,null,null,null,null,null,null,{"$f":"IFERROR(VLOOKUP(T3177,Códigos!B:C,2,0),\" \")","v":" "}]
[null,null,null,null,null,null,null,null,null,null,null,null,null,null,null,null,null,null,null,null,{"$f":"IFERROR(VLOOKUP(T3189,Códigos!B:C,2,0),\" \")","v":" "}]
[null,null,null,null,null,null,null,null,null,null,null,null,null,null,null,null,null,null,null,null,{"$f":"IFERROR(VLOOKUP(T3192,Códigos!B:C,2,0),\" \")","v":" "}]
[null,null,null,null,null,null,null,null,null,null,null,null,null,null,null,null,null,null,null,null,{"$f":"IFERROR(VLOOKUP(T3207,Códigos!B:C,2,0),\" \")","v":" "}]
[null,null,null,null,null,null,null,null,null,null,null,null,null,null,null,null,null,null,null,null,{"$f":"IFERROR(VLOOKUP(T3210,Códigos!B:C,2,0),\" \")","v":" "}]
[null,null,null,null,null,null,null,null,null,null,null,null,null,null,null,null,null,null,null,null,{"$f":"IFERROR(VLOOKUP(T3217,Códigos!B:C,2,0),\" \")","v":" "}]
[null,null,null,null,null,null,null,null,null,null,null,null,null,null,null,null,null,null,null,null,{"$f":"IFERROR(VLOOKUP(T3231,Códigos!B:C,2,0),\" \")","v":" "}]
[null,null,null,null,null,null,null,null,null,null,null,null,null,null,null,null,null,null,null,null,{"$f":"IFERROR(VLOOKUP(T3240,Códigos!B:C,2,0),\" \")","v":" "}]
[null,null,null,null,null,null,null,null,null,null,null,null,null,null,null,null,null,null,null,null,{"$f":"IFERROR(VLOOKUP(T3247,Códigos!B:C,2,0),\" \")","v":" "}]
[null,null,null,null,null,null,null,null,null,null,null,null,null,null,null,null,null,null,null,null,{"$f":"IFERROR(VLOOKUP(T3259,Códigos!B:C,2,0),\" \")","v":" "}]
[null,null,null,null,null,null,null,null,null,null,null,null,null,null,null,null,null,null,null,null,{"$f":"IFERROR(VLOOKUP(T3262,Códigos!B:C,2,0),\" \")","v":" "}]
[null,null,null,null,null,null,null,null,null,null,null,null,null,null,null,null,null,null,null,null,{"$f":"IFERROR(VLOOKUP(T3277,Códigos!B:C,2,0),\" \")","v":" "}]
[null,null,null,null,null,null,null,null,null,null,null,null,null,null,null,null,null,null,null,null,{"$f":"IFERROR(VLOOKUP(T3280,Códigos!B:C,2,0),\" \")","v":" "}]
[null,null,null,null,null,null,null,null,null,null,null,null,null,null,null,null,null,null,null,null,{"$f":"IFERROR(VLOOKUP(T3287,Códigos!B:C,2,0),\" \")","v":" "}]
[null,null,null,null,null,null,null,null,null,null,null,null,null,null,null,null,null,null,null,null,{"$f":"IFERROR(VLOOKUP(T3301,Códigos!B:C,2,0),\" \")","v":" "}]
[null,null,null,null,null,null,null,null,null,null,null,null,null,null,null,null,null,null,null,null,{"$f":"IFERROR(VLOOKUP(T3310,Códigos!B:C,2,0),\" \")","v":" "}]
[null,null,null,null,null,null,null,null,null,null,null,null,null,null,null,null,null,null,null,null,{"$f":"IFERROR(VLOOKUP(T3317,Códigos!B:C,2,0),\" \")","v":" "}]
[null,null,null,null,null,null,null,null,null,null,null,null,null,null,null,null,null,null,null,null,{"$f":"IFERROR(VLOOKUP(T3329,Códigos!B:C,2,0),\" \")","v":" "}]
[null,null,null,null,null,null,null,null,null,null,null,null,null,null,null,null,null,null,null,null,{"$f":"IFERROR(VLOOKUP(T3332,Códigos!B:C,2,0),\" \")","v":" "}]
[null,null,null,null,null,null,null,null,null,null,null,null,null,null,null,null,null,null,null,null,{"$f":"IFERROR(VLOOKUP(T3347,Códigos!B:C,2,0),\" \")","v":" "}]
[null,null,null,null,null,null,null,null,null,null,null,null,null,null,null,null,null,null,null,null,{"$f":"IFERROR(VLOOKUP(T3350,Códigos!B:C,2,0),\" \")","v":" "}]
[null,null,null,null,null,null,null,null,null,null,null,null,null,null,null,null,null,null,null,null,{"$f":"IFERROR(VLOOKUP(T3357,Códigos!B:C,2,0),\" \")","v":" "}]
[null,null,null,null,null,null,null,null,null,null,null,null,null,null,null,null,null,null,null,null,{"$f":"IFERROR(VLOOKUP(T3371,Códigos!B:C,2,0),\" \")","v":" "}]
[null,null,null,null,null,null,null,null,null,null,null,null,null,null,null,null,null,null,null,null,{"$f":"IFERROR(VLOOKUP(T3380,Códigos!B:C,2,0),\" \")","v":" "}]
[null,null,null,null,null,null,null,null,null,null,null,null,null,null,null,null,null,null,null,null,{"$f":"IFERROR(VLOOKUP(T3387,Códigos!B:C,2,0),\" \")","v":" "}]
[null,null,null,null,null,null,null,null,null,null,null,null,null,null,null,null,null,null,null,null,{"$f":"IFERROR(VLOOKUP(T3399,Códigos!B:C,2,0),\" \")","v":" "}]
[null,null,null,null,null,null,null,null,null,null,null,null,null,null,null,null,null,null,null,null,{"$f":"IFERROR(VLOOKUP(T3402,Códigos!B:C,2,0),\" \")","v":" "}]
[null,null,null,null,null,null,null,null,null,null,null,null,null,null,null,null,null,null,null,null,{"$f":"IFERROR(VLOOKUP(T3417,Códigos!B:C,2,0),\" \")","v":" "}]
[null,null,null,null,null,null,null,null,null,null,null,null,null,null,null,null,null,null,null,null,{"$f":"IFERROR(VLOOKUP(T3420,Códigos!B:C,2,0),\" \")","v":" "}]
[null,null,null,null,null,null,null,null,null,null,null,null,null,null,null,null,null,null,null,null,{"$f":"IFERROR(VLOOKUP(T3427,Códigos!B:C,2,0),\" \")","v":" "}]
[null,null,null,null,null,null,null,null,null,null,null,null,null,null,null,null,null,null,null,null,{"$f":"IFERROR(VLOOKUP(T3441,Códigos!B:C,2,0),\" \")","v":" "}]
[null,null,null,null,null,null,null,null,null,null,null,null,null,null,null,null,null,null,null,null,{"$f":"IFERROR(VLOOKUP(T3445,Códigos!B:C,2,0),\" \")","v":" "}]
[null,null,null,null,null,null,null,null,null,null,null,null,null,null,null,null,null,null,null,null,{"$f":"IFERROR(VLOOKUP(T3457,Códigos!B:C,2,0),\" \")","v":" "}]
[null,null,null,null,null,null,null,null,null,null,null,null,null,null,null,null,null,null,null,null,{"$f":"IFERROR(VLOOKUP(T3469,Códigos!B:C,2,0),\" \")","v":" "}]
[null,null,null,null,null,null,null,null,null,null,null,null,null,null,null,null,null,null,null,null,{"$f":"IFERROR(VLOOKUP(T3472,Códigos!B:C,2,0),\" \")","v":" "}]
[null,null,null,null,null,null,null,null,null,null,null,null,null,null,null,null,null,null,null,null,{"$f":"IFERROR(VLOOKUP(T3487,Códigos!B:C,2,0),\" \")","v":" "}]
[null,null,null,null,null,null,null,null,null,null,null,null,null,null,null,null,null,null,null,null,{"$f":"IFERROR(VLOOKUP(T3490,Códigos!B:C,2,0),\" \")","v":" "}]
[null,null,null,null,null,null,null,null,null,null,null,null,null,null,null,null,null,null,null,null,{"$f":"IFERROR(VLOOKUP(T3497,Códigos!B:C,2,0),\" \")","v":" "}]
[null,null,null,null,null,null,null,null,null,null,null,null,null,null,null,null,null,null,null,null,{"$f":"IFERROR(VLOOKUP(T3511,Códigos!B:C,2,0),\" \")","v":" "}]
[null,null,null,null,null,null,null,null,null,null,null,null,null,null,null,null,null,null,null,null,{"$f":"IFERROR(VLOOKUP(T3515,Códigos!B:C,2,0),\" \")","v":" "}]
[null,null,null,null,null,null,null,null,null,null,null,null,null,null,null,null,null,null,null,null,{"$f":"IFERROR(VLOOKUP(T3527,Códigos!B:C,2,0),\" \")","v":" "}]
[null,null,null,null,null,null,null,null,null,null,null,null,null,null,null,null,null,null,null,null,{"$f":"IFERROR(VLOOKUP(T3539,Códigos!B:C,2,0),\" \")","v":" "}]
[null,null,null,null,null,null,null,null,null,null,null,null,null,null,null,null,null,null,null,null,{"$f":"IFERROR(VLOOKUP(T3542,Códigos!B:C,2,0),\" \")","v":" "}]
[null,null,null,null,null,null,null,null,null,null,null,null,null,null,null,null,null,null,null,null,{"$f":"IFERROR(VLOOKUP(T3557,Códigos!B:C,2,0),\" \")","v":" "}]
[null,null,null,null,null,null,null,null,null,null,null,null,null,null,null,null,null,null,null,null,{"$f":"IFERROR(VLOOKUP(T3560,Códigos!B:C,2,0),\" \")","v":" "}]
[null,null,null,null,null,null,null,null,null,null,null,null,null,null,null,null,null,null,null,null,{"$f":"IFERROR(VLOOKUP(T3567,Códigos!B:C,2,0),\" \")","v":" "}]
[null,null,null,null,null,null,null,null,null,null,null,null,null,null,null,null,null,null,null,null,{"$f":"IFERROR(VLOOKUP(T3581,Códigos!B:C,2,0),\" \")","v":" "}]
[null,null,null,null,null,null,null,null,null,null,null,null,null,null,null,null,null,null,null,null,{"$f":"IFERROR(VLOOKUP(T3585,Códigos!B:C,2,0),\" \")","v":" "}]
[null,null,null,null,null,null,null,null,null,null,null,null,null,null,null,null,null,null,null,null,{"$f":"IFERROR(VLOOKUP(T3597,Códigos!B:C,2,0),\" \")","v":" "}]
[null,null,null,null,null,null,null,null,null,null,null,null,null,null,null,null,null,null,null,null,{"$f":"IFERROR(VLOOKUP(T3609,Códigos!B:C,2,0),\" \")","v":" "}]
[null,null,null,null,null,null,null,null,null,null,null,null,null,null,null,null,null,null,null,null,{"$f":"IFERROR(VLOOKUP(T3612,Códigos!B:C,2,0),\" \")","v":" "}]
[null,null,null,null,null,null,null,null,null,null,null,null,null,null,null,null,null,null,null,null,{"$f":"IFERROR(VLOOKUP(T3627,Códigos!B:C,2,0),\" \")","v":" "}]
[null,null,null,null,null,null,null,null,null,null,null,null,null,null,null,null,null,null,null,null,{"$f":"IFERROR(VLOOKUP(T3634,Códigos!B:C,2,0),\" \")","v":" "}]
[null,null,null,null,null,null,null,null,null,null,null,null,null,null,null,null,null,null,null,null,{"$f":"IFERROR(VLOOKUP(T3637,Códigos!B:C,2,0),\" \")","v":" "}]
[null,null,null,null,null,null,null,null,null,null,null,null,null,null,null,null,null,null,null,null,{"$f":"IFERROR(VLOOKUP(T3651,Códigos!B:C,2,0),\" \")","v":" "}]
[null,null,null,null,null,null,null,null,null,null,null,null,null,null,null,null,null,null,null,null,{"$f":"IFERROR(VLOOKUP(T3655,Códigos!B:C,2,0),\" \")","v":" "}]
[null,null,null,null,null,null,null,null,null,null,null,null,null,null,null,null,null,null,null,null,{"$f":"IFERROR(VLOOKUP(T3667,Códigos!B:C,2,0),\" \")","v":" "}]
[null,null,null,null,null,null,null,null,null,null,null,null,null,null,null,null,null,null,null,null,{"$f":"IFERROR(VLOOKUP(T3679,Códigos!B:C,2,0),\" \")","v":" "}]
[null,null,null,null,null,null,null,null,null,null,null,null,null,null,null,null,null,null,null,null,{"$f":"IFERROR(VLOOKUP(T3682,Códigos!B:C,2,0),\" \")","v":" "}]
[null,null,null,null,null,null,null,null,null,null,null,null,null,null,null,null,null,null,null,null,{"$f":"IFERROR(VLOOKUP(T3697,Códigos!B:C,2,0),\" \")","v":" "}]
[null,null,null,null,null,null,null,null,null,null,null,null,null,null,null,null,null,null,null,null,{"$f":"IFERROR(VLOOKUP(T3704,Códigos!B:C,2,0),\" \")","v":" "}]
[null,null,null,null,null,null,null,null,null,null,null,null,null,null,null,null,null,null,null,null,{"$f":"IFERROR(VLOOKUP(T3707,Códigos!B:C,2,0),\" \")","v":" "}]
[null,null,null,null,null,null,null,null,null,null,null,null,null,null,null,null,null,null,null,null,{"$f":"IFERROR(VLOOKUP(T3721,Códigos!B:C,2,0),\" \")","v":" "}]
[null,null,null,null,null,null,null,null,null,null,null,null,null,null,null,null,null,null,null,null,{"$f":"IFERROR(VLOOKUP(T3725,Códigos!B:C,2,0),\" \")","v":" "}]
[null,null,null,null,null,null,null,null,null,null,null,null,null,null,null,null,null,null,null,null,{"$f":"IFERROR(VLOOKUP(T3737,Códigos!B:C,2,0),\" \")","v":" "}]
[null,null,null,null,null,null,null,null,null,null,null,null,null,null,null,null,null,null,null,null,{"$f":"IFERROR(VLOOKUP(T3744,Códigos!B:C,2,0),\" \")","v":" "}]
[null,null,null,null,null,null,null,null,null,null,null,null,null,null,null,null,null,null,null,null,{"$f":"IFERROR(VLOOKUP(T3752,Códigos!B:C,2,0),\" \")","v":" "}]
[null,null,null,null,null,null,null,null,null,null,null,null,null,null,null,null,null,null,null,null,{"$f":"IFERROR(VLOOKUP(T3767,Códigos!B:C,2,0),\" \")","v":" "}]
[null,null,null,null,null,null,null,null,null,null,null,null,null,null,null,null,null,null,null,null,{"$f":"IFERROR(VLOOKUP(T3774,Códigos!B:C,2,0),\" \")","v":" "}]
[null,null,null,null,null,null,null,null,null,null,null,null,null,null,null,null,null,null,null,null,{"$f":"IFERROR(VLOOKUP(T3777,Códigos!B:C,2,0),\" \")","v":" "}]
[null,null,null,null,null,null,null,null,null,null,null,null,null,null,null,null,null,null,null,null,{"$f":"IFERROR(VLOOKUP(T3791,Códigos!B:C,2,0),\" \")","v":" "}]
[null,null,null,null,null,null,null,null,null,null,null,null,null,null,null,null,null,null,null,null,{"$f":"IFERROR(VLOOKUP(T3795,Códigos!B:C,2,0),\" \")","v":" "}]
[null,null,null,null,null,null,null,null,null,null,null,null,null,null,null,null,null,null,null,null,{"$f":"IFERROR(VLOOKUP(T3807,Códigos!B:C,2,0),\" \")","v":" "}]
[null,null,null,null,null,null,null,null,null,null,null,null,null,null,null,null,null,null,null,null,{"$f":"IFERROR(VLOOKUP(T3814,Códigos!B:C,2,0),\" \")","v":" "}]
[null,null,null,null,null,null,null,null,null,null,null,null,null,null,null,null,null,null,null,null,{"$f":"IFERROR(VLOOKUP(T3822,Códigos!B:C,2,0),\" \")","v":" "}]
[null,null,null,null,null,null,null,null,null,null,null,null,null,null,null,null,null,null,null,null,{"$f":"IFERROR(VLOOKUP(T3837,Códigos!B:C,2,0),\" \")","v":" "}]
[null,null,null,null,null,null,null,null,null,null,null,null,null,null,null,null,null,null,null,null,{"$f":"IFERROR(VLOOKUP(T3844,Códigos!B:C,2,0),\" \")","v":" "}]
[null,null,null,null,null,null,null,null,null,null,null,null,null,null,null,null,null,null,null,null,{"$f":"IFERROR(VLOOKUP(T3847,Códigos!B:C,2,0),\" \")","v":" "}]
[null,null,null,null,null,null,null,null,null,null,null,null,null,null,null,null,null,null,null,null,{"$f":"IFERROR(VLOOKUP(T3861,Códigos!B:C,2,0),\" \")","v":" "}]
[null,null,null,null,null,null,null,null,null,null,null,null,null,null,null,null,null,null,null,null,{"$f":"IFERROR(VLOOKUP(T3865,Códigos!B:C,2,0),\" \")","v":" "}]
[null,null,null,null,null,null,null,null,null,null,null,null,null,null,null,null,null,null,null,null,{"$f":"IFERROR(VLOOKUP(T3877,Códigos!B:C,2,0),\" \")","v":" "}]
[null,null,null,null,null,null,null,null,null,null,null,null,null,null,null,null,null,null,null,null,{"$f":"IFERROR(VLOOKUP(T3884,Códigos!B:C,2,0),\" \")","v":" "}]
[null,null,null,null,null,null,null,null,null,null,null,null,null,null,null,null,null,null,null,null,{"$f":"IFERROR(VLOOKUP(T3892,Códigos!B:C,2,0),\" \")","v":" "}]
[null,null,null,null,null,null,null,null,null,null,null,null,null,null,null,null,null,null,null,null,{"$f":"IFERROR(VLOOKUP(T3907,Códigos!B:C,2,0),\" \")","v":" "}]
[null,null,null,null,null,null,null,null,null,null,null,null,null,null,null,null,null,null,null,null,{"$f":"IFERROR(VLOOKUP(T3914,Códigos!B:C,2,0),\" \")","v":" "}]
[null,null,null,null,null,null,null,null,null,null,null,null,null,null,null,null,null,null,null,null,{"$f":"IFERROR(VLOOKUP(T3917,Códigos!B:C,2,0),\" \")","v":" "}]
[null,null,null,null,null,null,null,null,null,null,null,null,null,null,null,null,null,null,null,null,{"$f":"IFERROR(VLOOKUP(T3931,Códigos!B:C,2,0),\" \")","v":" "}]
[null,null,null,null,null,null,null,null,null,null,null,null,null,null,null,null,null,null,null,null,{"$f":"IFERROR(VLOOKUP(T3935,Códigos!B:C,2,0),\" \")","v":" "}]
[null,null,null,null,null,null,null,null,null,null,null,null,null,null,null,null,null,null,null,null,{"$f":"IFERROR(VLOOKUP(T3947,Códigos!B:C,2,0),\" \")","v":" "}]
[null,null,null,null,null,null,null,null,null,null,null,null,null,null,null,null,null,null,null,null,{"$f":"IFERROR(VLOOKUP(T3954,Códigos!B:C,2,0),\" \")","v":" "}]
[null,null,null,null,null,null,null,null,null,null,null,null,null,null,null,null,null,null,null,null,{"$f":"IFERROR(VLOOKUP(T3962,Códigos!B:C,2,0),\" \")","v":" "}]
[null,null,null,null,null,null,null,null,null,null,null,null,null,null,null,null,null,null,null,null,{"$f":"IFERROR(VLOOKUP(T3977,Códigos!B:C,2,0),\" \")","v":" "}]
[null,null,null,null,null,null,null,null,null,null,null,null,null,null,null,null,null,null,null,null,{"$f":"IFERROR(VLOOKUP(T3984,Códigos!B:C,2,0),\" \")","v":" "}]
[null,null,null,null,null,null,null,null,null,null,null,null,null,null,null,null,null,null,null,null,{"$f":"IFERROR(VLOOKUP(T3987,Códigos!B:C,2,0),\" \")","v":" "}]
[null,null,null,null,null,null,null,null,null,null,null,null,null,null,null,null,null,null,null,null,{"$f":"IFERROR(VLOOKUP(T4001,Códigos!B:C,2,0),\" \")","v":" "}]
[null,null,null,null,null,null,null,null,null,null,null,null,null,null,null,null,null,null,null,null,{"$f":"IFERROR(VLOOKUP(T4005,Códigos!B:C,2,0),\" \")","v":" "}]
[null,null,null,null,null,null,null,null,null,null,null,null,null,null,null,null,null,null,null,null,{"$f":"IFERROR(VLOOKUP(T4017,Códigos!B:C,2,0),\" \")","v":" "}]
[null,null,null,null,null,null,null,null,null,null,null,null,null,null,null,null,null,null,null,null,{"$f":"IFERROR(VLOOKUP(T4024,Códigos!B:C,2,0),\" \")","v":" "}]
[null,null,null,null,null,null,null,null,null,null,null,null,null,null,null,null,null,null,null,null,{"$f":"IFERROR(VLOOKUP(T4032,Códigos!B:C,2,0),\" \")","v":" "}]
[null,null,null,null,null,null,null,null,null,null,null,null,null,null,null,null,null,null,null,null,{"$f":"IFERROR(VLOOKUP(T4047,Códigos!B:C,2,0),\" \")","v":" "}]
[null,null,null,null,null,null,null,null,null,null,null,null,null,null,null,null,null,null,null,null,{"$f":"IFERROR(VLOOKUP(T4054,Códigos!B:C,2,0),\" \")","v":" "}]
[null,null,null,null,null,null,null,null,null,null,null,null,null,null,null,null,null,null,null,null,{"$f":"IFERROR(VLOOKUP(T4057,Códigos!B:C,2,0),\" \")","v":" "}]
[null,null,null,null,null,null,null,null,null,null,null,null,null,null,null,null,null,null,null,null,{"$f":"IFERROR(VLOOKUP(T4071,Códigos!B:C,2,0),\" \")","v":" "}]
[null,null,null,null,null,null,null,null,null,null,null,null,null,null,null,null,null,null,null,null,{"$f":"IFERROR(VLOOKUP(T4075,Códigos!B:C,2,0),\" \")","v":" "}]
[null,null,null,null,null,null,null,null,null,null,null,null,null,null,null,null,null,null,null,null,{"$f":"IFERROR(VLOOKUP(T4087,Códigos!B:C,2,0),\" \")","v":" "}]
[null,null,null,null,null,null,null,null,null,null,null,null,null,null,null,null,null,null,null,null,{"$f":"IFERROR(VLOOKUP(T4094,Códigos!B:C,2,0),\" \")","v":" "}]
[null,null,null,null,null,null,null,null,null,null,null,null,null,null,null,null,null,null,null,null,{"$f":"IFERROR(VLOOKUP(T4102,Códigos!B:C,2,0),\" \")","v":" "}]
[null,null,null,null,null,null,null,null,null,null,null,null,null,null,null,null,null,null,null,null,{"$f":"IFERROR(VLOOKUP(T4112,Códigos!B:C,2,0),\" \")","v":" "}]
[null,null,null,null,null,null,null,null,null,null,null,null,null,null,null,null,null,null,null,null,{"$f":"IFERROR(VLOOKUP(T4124,Códigos!B:C,2,0),\" \")","v":" "}]
[null,null,null,null,null,null,null,null,null,null,null,null,null,null,null,null,null,null,null,null,{"$f":"IFERROR(VLOOKUP(T4127,Códigos!B:C,2,0),\" \")","v":" "}]
[null,null,null,null,null,null,null,null,null,null,null,null,null,null,null,null,null,null,null,null,{"$f":"IFERROR(VLOOKUP(T4141,Códigos!B:C,2,0),\" \")","v":" "}]
[null,null,null,null,null,null,null,null,null,null,null,null,null,null,null,null,null,null,null,null,{"$f":"IFERROR(VLOOKUP(T4145,Códigos!B:C,2,0),\" \")","v":" "}]
[null,null,null,null,null,null,null,null,null,null,null,null,null,null,null,null,null,null,null,null,{"$f":"IFERROR(VLOOKUP(T4157,Códigos!B:C,2,0),\" \")","v":" "}]
[null,null,null,null,null,null,null,null,null,null,null,null,null,null,null,null,null,null,null,null,{"$f":"IFERROR(VLOOKUP(T4164,Códigos!B:C,2,0),\" \")","v":" "}]
[null,null,null,null,null,null,null,null,null,null,null,null,null,null,null,null,null,null,null,null,{"$f":"IFERROR(VLOOKUP(T4172,Códigos!B:C,2,0),\" \")","v":" "}]
[null,null,null,null,null,null,null,null,null,null,null,null,null,null,null,null,null,null,null,null,{"$f":"IFERROR(VLOOKUP(T4182,Códigos!B:C,2,0),\" \")","v":" "}]
[null,null,null,null,null,null,null,null,null,null,null,null,null,null,null,null,null,null,null,null,{"$f":"IFERROR(VLOOKUP(T4194,Códigos!B:C,2,0),\" \")","v":" "}]
[null,null,null,null,null,null,null,null,null,null,null,null,null,null,null,null,null,null,null,null,{"$f":"IFERROR(VLOOKUP(T4197,Códigos!B:C,2,0),\" \")","v":" "}]
[null,null,null,null,null,null,null,null,null,null,null,null,null,null,null,null,null,null,null,null,{"$f":"IFERROR(VLOOKUP(T4211,Códigos!B:C,2,0),\" \")","v":" "}]
[null,null,null,null,null,null,null,null,null,null,null,null,null,null,null,null,null,null,null,null,{"$f":"IFERROR(VLOOKUP(T4215,Códigos!B:C,2,0),\" \")","v":" "}]
[null,null,null,null,null,null,null,null,null,null,null,null,null,null,null,null,null,null,null,null,{"$f":"IFERROR(VLOOKUP(T4231,Códigos!B:C,2,0),\" \")","v":" "}]
[null,null,null,null,null,null,null,null,null,null,null,null,null,null,null,null,null,null,null,null,{"$f":"IFERROR(VLOOKUP(T4234,Códigos!B:C,2,0),\" \")","v":" "}]
[null,null,null,null,null,null,null,null,null,null,null,null,null,null,null,null,null,null,null,null,{"$f":"IFERROR(VLOOKUP(T4242,Códigos!B:C,2,0),\" \")","v":" "}]
[null,null,null,null,null,null,null,null,null,null,null,null,null,null,null,null,null,null,null,null,{"$f":"IFERROR(VLOOKUP(T4252,Códigos!B:C,2,0),\" \")","v":" "}]
[null,null,null,null,null,null,null,null,null,null,null,null,null,null,null,null,null,null,null,null,{"$f":"IFERROR(VLOOKUP(T4264,Códigos!B:C,2,0),\" \")","v":" "}]
[null,null,null,null,null,null,null,null,null,null,null,null,null,null,null,null,null,null,null,null,{"$f":"IFERROR(VLOOKUP(T4267,Códigos!B:C,2,0),\" \")","v":" "}]
[null,null,null,null,null,null,null,null,null,null,null,null,null,null,null,null,null,null,null,null,{"$f":"IFERROR(VLOOKUP(T4281,Códigos!B:C,2,0),\" \")","v":" "}]
[null,null,null,null,null,null,null,null,null,null,null,null,null,null,null,null,null,null,null,null,{"$f":"IFERROR(VLOOKUP(T4285,Códigos!B:C,2,0),\" \")","v":" "}]
[null,null,null,null,null,null,null,null,null,null,null,null,null,null,null,null,null,null,null,null,{"$f":"IFERROR(VLOOKUP(T4301,Códigos!B:C,2,0),\" \")","v":" "}]
[null,null,null,null,null,null,null,null,null,null,null,null,null,null,null,null,null,null,null,null,{"$f":"IFERROR(VLOOKUP(T4304,Códigos!B:C,2,0),\" \")","v":" "}]
[null,null,null,null,null,null,null,null,null,null,null,null,null,null,null,null,null,null,null,null,{"$f":"IFERROR(VLOOKUP(T4312,Códigos!B:C,2,0),\" \")","v":" "}]
[null,null,null,null,null,null,null,null,null,null,null,null,null,null,null,null,null,null,null,null,{"$f":"IFERROR(VLOOKUP(T4322,Códigos!B:C,2,0),\" \")","v":" "}]
[null,null,null,null,null,null,null,null,null,null,null,null,null,null,null,null,null,null,null,null,{"$f":"IFERROR(VLOOKUP(T4334,Códigos!B:C,2,0),\" \")","v":" "}]
[null,null,null,null,null,null,null,null,null,null,null,null,null,null,null,null,null,null,null,null,{"$f":"IFERROR(VLOOKUP(T4337,Códigos!B:C,2,0),\" \")","v":" "}]
[null,null,null,null,null,null,null,null,null,null,null,null,null,null,null,null,null,null,null,null,{"$f":"IFERROR(VLOOKUP(T4351,Códigos!B:C,2,0),\" \")","v":" "}]
[null,null,null,null,null,null,null,null,null,null,null,null,null,null,null,null,null,null,null,null,{"$f":"IFERROR(VLOOKUP(T4355,Códigos!B:C,2,0),\" \")","v":" "}]
[null,null,null,null,null,null,null,null,null,null,null,null,null,null,null,null,null,null,null,null,{"$f":"IFERROR(VLOOKUP(T4371,Códigos!B:C,2,0),\" \")","v":" "}]
[null,null,null,null,null,null,null,null,null,null,null,null,null,null,null,null,null,null,null,null,{"$f":"IFERROR(VLOOKUP(T4374,Códigos!B:C,2,0),\" \")","v":" "}]
[null,null,null,null,null,null,null,null,null,null,null,null,null,null,null,null,null,null,null,null,{"$f":"IFERROR(VLOOKUP(T4382,Códigos!B:C,2,0),\" \")","v":" "}]
[null,null,null,null,null,null,null,null,null,null,null,null,null,null,null,null,null,null,null,null,{"$f":"IFERROR(VLOOKUP(T4392,Códigos!B:C,2,0),\" \")","v":" "}]
[null,null,null,null,null,null,null,null,null,null,null,null,null,null,null,null,null,null,null,null,{"$f":"IFERROR(VLOOKUP(T4404,Códigos!B:C,2,0),\" \")","v":" "}]
[null,null,null,null,null,null,null,null,null,null,null,null,null,null,null,null,null,null,null,null,{"$f":"IFERROR(VLOOKUP(T4411,Códigos!B:C,2,0),\" \")","v":" "}]
[null,null,null,null,null,null,null,null,null,null,null,null,null,null,null,null,null,null,null,null,{"$f":"IFERROR(VLOOKUP(T4421,Códigos!B:C,2,0),\" \")","v":" "}]
[null,null,null,null,null,null,null,null,null,null,null,null,null,null,null,null,null,null,null,null,{"$f":"IFERROR(VLOOKUP(T4425,Códigos!B:C,2,0),\" \")","v":" "}]
[null,null,null,null,null,null,null,null,null,null,null,null,null,null,null,null,null,null,null,null,{"$f":"IFERROR(VLOOKUP(T4441,Códigos!B:C,2,0),\" \")","v":" "}]
[null,null,null,null,null,null,null,null,null,null,null,null,null,null,null,null,null,null,null,null,{"$f":"IFERROR(VLOOKUP(T4444,Códigos!B:C,2,0),\" \")","v":" "}]
[null,null,null,null,null,null,null,null,null,null,null,null,null,null,null,null,null,null,null,null,{"$f":"IFERROR(VLOOKUP(T4452,Códigos!B:C,2,0),\" \")","v":" "}]
[null,null,null,null,null,null,null,null,null,null,null,null,null,null,null,null,null,null,null,null,{"$f":"IFERROR(VLOOKUP(T4462,Códigos!B:C,2,0),\" \")","v":" "}]
[null,null,null,null,null,null,null,null,null,null,null,null,null,null,null,null,null,null,null,null,{"$f":"IFERROR(VLOOKUP(T4474,Códigos!B:C,2,0),\" \")","v":" "}]
[null,null,null,null,null,null,null,null,null,null,null,null,null,null,null,null,null,null,null,null,{"$f":"IFERROR(VLOOKUP(T4481,Códigos!B:C,2,0),\" \")","v":" "}]
[null,null,null,null,null,null,null,null,null,null,null,null,null,null,null,null,null,null,null,null,{"$f":"IFERROR(VLOOKUP(T4491,Códigos!B:C,2,0),\" \")","v":" "}]
[null,null,null,null,null,null,null,null,null,null,null,null,null,null,null,null,null,null,null,null,{"$f":"IFERROR(VLOOKUP(T4495,Códigos!B:C,2,0),\" \")","v":" "}]
[null,null,null,null,null,null,null,null,null,null,null,null,null,null,null,null,null,null,null,null,{"$f":"IFERROR(VLOOKUP(T4511,Códigos!B:C,2,0),\" \")","v":" "}]
[null,null,null,null,null,null,null,null,null,null,null,null,null,null,null,null,null,null,null,null,{"$f":"IFERROR(VLOOKUP(T4514,Códigos!B:C,2,0),\" \")","v":" "}]
[null,null,null,null,null,null,null,null,null,null,null,null,null,null,null,null,null,null,null,null,{"$f":"IFERROR(VLOOKUP(T4522,Códigos!B:C,2,0),\" \")","v":" "}]
[null,null,null,null,null,null,null,null,null,null,null,null,null,null,null,null,null,null,null,null,{"$f":"IFERROR(VLOOKUP(T4532,Códigos!B:C,2,0),\" \")","v":" "}]
[null,null,null,null,null,null,null,null,null,null,null,null,null,null,null,null,null,null,null,null,{"$f":"IFERROR(VLOOKUP(T4544,Códigos!B:C,2,0),\" \")","v":" "}]
[null,null,null,null,null,null,null,null,null,null,null,null,null,null,null,null,null,null,null,null,{"$f":"IFERROR(VLOOKUP(T4551,Códigos!B:C,2,0),\" \")","v":" "}]
[null,null,null,null,null,null,null,null,null,null,null,null,null,null,null,null,null,null,null,null,{"$f":"IFERROR(VLOOKUP(T4561,Códigos!B:C,2,0),\" \")","v":" "}]
[null,null,null,null,null,null,null,null,null,null,null,null,null,null,null,null,null,null,null,null,{"$f":"IFERROR(VLOOKUP(T4565,Códigos!B:C,2,0),\" \")","v":" "}]
[null,null,null,null,null,null,null,null,null,null,null,null,null,null,null,null,null,null,null,null,{"$f":"IFERROR(VLOOKUP(T4581,Códigos!B:C,2,0),\" \")","v":" "}]
[null,null,null,null,null,null,null,null,null,null,null,null,null,null,null,null,null,null,null,null,{"$f":"IFERROR(VLOOKUP(T4584,Códigos!B:C,2,0),\" \")","v":" "}]
[null,null,null,null,null,null,null,null,null,null,null,null,null,null,null,null,null,null,null,null,{"$f":"IFERROR(VLOOKUP(T4592,Códigos!B:C,2,0),\" \")","v":" "}]
[null,null,null,null,null,null,null,null,null,null,null,null,null,null,null,null,null,null,null,null,{"$f":"IFERROR(VLOOKUP(T4602,Códigos!B:C,2,0),\" \")","v":" "}]
[null,null,null,null,null,null,null,null,null,null,null,null,null,null,null,null,null,null,null,null,{"$f":"IFERROR(VLOOKUP(T4614,Códigos!B:C,2,0),\" \")","v":" "}]
[null,null,null,null,null,null,null,null,null,null,null,null,null,null,null,null,null,null,null,null,{"$f":"IFERROR(VLOOKUP(T4621,Códigos!B:C,2,0),\" \")","v":" "}]
[null,null,null,null,null,null,null,null,null,null,null,null,null,null,null,null,null,null,null,null,{"$f":"IFERROR(VLOOKUP(T4631,Códigos!B:C,2,0),\" \")","v":" "}]
[null,null,null,null,null,null,null,null,null,null,null,null,null,null,null,null,null,null,null,null,{"$f":"IFERROR(VLOOKUP(T4635,Códigos!B:C,2,0),\" \")","v":" "}]
[null,null,null,null,null,null,null,null,null,null,null,null,null,null,null,null,null,null,null,null,{"$f":"IFERROR(VLOOKUP(T4651,Códigos!B:C,2,0),\" \")","v":" "}]
[null,null,null,null,null,null,null,null,null,null,null,null,null,null,null,null,null,null,null,null,{"$f":"IFERROR(VLOOKUP(T4654,Códigos!B:C,2,0),\" \")","v":" "}]
[null,null,null,null,null,null,null,null,null,null,null,null,null,null,null,null,null,null,null,null,{"$f":"IFERROR(VLOOKUP(T4662,Códigos!B:C,2,0),\" \")","v":" "}]
[null,null,null,null,null,null,null,null,null,null,null,null,null,null,null,null,null,null,null,null,{"$f":"IFERROR(VLOOKUP(T4672,Códigos!B:C,2,0),\" \")","v":" "}]
[null,null,null,null,null,null,null,null,null,null,null,null,null,null,null,null,null,null,null,null,{"$f":"IFERROR(VLOOKUP(T4684,Códigos!B:C,2,0),\" \")","v":" "}]
[null,null,null,null,null,null,null,null,null,null,null,null,null,null,null,null,null,null,null,null,{"$f":"IFERROR(VLOOKUP(T4691,Códigos!B:C,2,0),\" \")","v":" "}]
[null,null,null,null,null,null,null,null,null,null,null,null,null,null,null,null,null,null,null,null,{"$f":"IFERROR(VLOOKUP(T4701,Códigos!B:C,2,0),\" \")","v":" "}]
[null,null,null,null,null,null,null,null,null,null,null,null,null,null,null,null,null,null,null,null,{"$f":"IFERROR(VLOOKUP(T4709,Códigos!B:C,2,0),\" \")","v":" "}]
[null,null,null,null,null,null,null,null,null,null,null,null,null,null,null,null,null,null,null,null,{"$f":"IFERROR(VLOOKUP(T4721,Códigos!B:C,2,0),\" \")","v":" "}]
[null,null,null,null,null,null,null,null,null,null,null,null,null,null,null,null,null,null,null,null,{"$f":"IFERROR(VLOOKUP(T4724,Códigos!B:C,2,0),\" \")","v":" "}]
[null,null,null,null,null,null,null,null,null,null,null,null,null,null,null,null,null,null,null,null,{"$f":"IFERROR(VLOOKUP(T4732,Códigos!B:C,2,0),\" \")","v":" "}]
[null,null,null,null,null,null,null,null,null,null,null,null,null,null,null,null,null,null,null,null,{"$f":"IFERROR(VLOOKUP(T4742,Códigos!B:C,2,0),\" \")","v":" "}]
[null,null,null,null,null,null,null,null,null,null,null,null,null,null,null,null,null,null,null,null,{"$f":"IFERROR(VLOOKUP(T4754,Códigos!B:C,2,0),\" \")","v":" "}]
[null,null,null,null,null,null,null,null,null,null,null,null,null,null,null,null,null,null,null,null,{"$f":"IFERROR(VLOOKUP(T4761,Códigos!B:C,2,0),\" \")","v":" "}]
[null,null,null,null,null,null,null,null,null,null,null,null,null,null,null,null,null,null,null,null,{"$f":"IFERROR(VLOOKUP(T4771,Códigos!B:C,2,0),\" \")","v":" "}]
[null,null,null,null,null,null,null,null,null,null,null,null,null,null,null,null,null,null,null,null,{"$f":"IFERROR(VLOOKUP(T4779,Códigos!B:C,2,0),\" \")","v":" "}]
[null,null,null,null,null,null,null,null,null,null,null,null,null,null,null,null,null,null,null,null,{"$f":"IFERROR(VLOOKUP(T4791,Códigos!B:C,2,0),\" \")","v":" "}]
[null,null,null,null,null,null,null,null,null,null,null,null,null,null,null,null,null,null,null,null,{"$f":"IFERROR(VLOOKUP(T4794,Códigos!B:C,2,0),\" \")","v":" "}]
[null,null,null,null,null,null,null,null,null,null,null,null,null,null,null,null,null,null,null,null,{"$f":"IFERROR(VLOOKUP(T4802,Códigos!B:C,2,0),\" \")","v":" "}]
[null,null,null,null,null,null,null,null,null,null,null,null,null,null,null,null,null,null,null,null,{"$f":"IFERROR(VLOOKUP(T4812,Códigos!B:C,2,0),\" \")","v":" "}]
[null,null,null,null,null,null,null,null,null,null,null,null,null,null,null,null,null,null,null,null,{"$f":"IFERROR(VLOOKUP(T4824,Códigos!B:C,2,0),\" \")","v":" "}]
[null,null,null,null,null,null,null,null,null,null,null,null,null,null,null,null,null,null,null,null,{"$f":"IFERROR(VLOOKUP(T4831,Códigos!B:C,2,0),\" \")","v":" "}]
[null,null,null,null,null,null,null,null,null,null,null,null,null,null,null,null,null,null,null,null,{"$f":"IFERROR(VLOOKUP(T4841,Códigos!B:C,2,0),\" \")","v":" "}]
[null,null,null,null,null,null,null,null,null,null,null,null,null,null,null,null,null,null,null,null,{"$f":"IFERROR(VLOOKUP(T4849,Códigos!B:C,2,0),\" \")","v":" "}]
[null,null,null,null,null,null,null,null,null,null,null,null,null,null,null,null,null,null,null,null,{"$f":"IFERROR(VLOOKUP(T4861,Códigos!B:C,2,0),\" \")","v":" "}]
[null,null,null,null,null,null,null,null,null,null,null,null,null,null,null,null,null,null,null,null,{"$f":"IFERROR(VLOOKUP(T4864,Códigos!B:C,2,0),\" \")","v":" "}]
[null,null,null,null,null,null,null,null,null,null,null,null,null,null,null,null,null,null,null,null,{"$f":"IFERROR(VLOOKUP(T4872,Códigos!B:C,2,0),\" \")","v":" "}]
[null,null,null,null,null,null,null,null,null,null,null,null,null,null,null,null,null,null,null,null,{"$f":"IFERROR(VLOOKUP(T4882,Códigos!B:C,2,0),\" \")","v":" "}]
[null,null,null,null,null,null,null,null,null,null,null,null,null,null,null,null,null,null,null,null,{"$f":"IFERROR(VLOOKUP(T4889,Códigos!B:C,2,0),\" \")","v":" "}]
[null,null,null,null,null,null,null,null,null,null,null,null,null,null,null,null,null,null,null,null,{"$f":"IFERROR(VLOOKUP(T4901,Códigos!B:C,2,0),\" \")","v":" "}]
[null,null,null,null,null,null,null,null,null,null,null,null,null,null,null,null,null,null,null,null,{"$f":"IFERROR(VLOOKUP(T4911,Códigos!B:C,2,0),\" \")","v":" "}]
[null,null,null,null,null,null,null,null,null,null,null,null,null,null,null,null,null,null,null,null,{"$f":"IFERROR(VLOOKUP(T4919,Códigos!B:C,2,0),\" \")","v":" "}]
[null,null,null,null,null,null,null,null,null,null,null,null,null,null,null,null,null,null,null,null,{"$f":"IFERROR(VLOOKUP(T4931,Códigos!B:C,2,0),\" \")","v":" "}]
[null,null,null,null,null,null,null,null,null,null,null,null,null,null,null,null,null,null,null,null,{"$f":"IFERROR(VLOOKUP(T4934,Códigos!B:C,2,0),\" \")","v":" "}]
[null,null,null,null,null,null,null,null,null,null,null,null,null,null,null,null,null,null,null,null,{"$f":"IFERROR(VLOOKUP(T4942,Códigos!B:C,2,0),\" \")","v":" "}]
[null,null,null,null,null,null,null,null,null,null,null,null,null,null,null,null,null,null,null,null,{"$f":"IFERROR(VLOOKUP(T4952,Códigos!B:C,2,0),\" \")","v":" "}]
[null,null,null,null,null,null,null,null,null,null,null,null,null,null,null,null,null,null,null,null,{"$f":"IFERROR(VLOOKUP(T4959,Códigos!B:C,2,0),\" \")","v":" "}]
[null,null,null,null,null,null,null,null,null,null,null,null,null,null,null,null,null,null,null,null,{"$f":"IFERROR(VLOOKUP(T4971,Códigos!B:C,2,0),\" \")","v":" "}]
[null,null,null,null,null,null,null,null,null,null,null,null,null,null,null,null,null,null,null,null,{"$f":"IFERROR(VLOOKUP(T4981,Códigos!B:C,2,0),\" \")","v":" "}]
[null,null,null,null,null,null,null,null,null,null,null,null,null,null,null,null,null,null,null,null,{"$f":"IFERROR(VLOOKUP(T4989,Códigos!B:C,2,0),\" \")","v":" "}]
[null,null,null,null,null,null,null,null,null,null,null,null,null,null,null,null,null,null,null,null,{"$f":"IFERROR(VLOOKUP(T5001,Códigos!B:C,2,0),\" \")","v":" "}]
[null,null,null,null,null,null,null,null,null,null,null,null,null,null,null,null,null,null,null,null,{"$f":"IFERROR(VLOOKUP(T5008,Códigos!B:C,2,0),\" \")","v":" "}]
[null,null,null,null,null,null,null,null,null,null,null,null,null,null,null,null,null,null,null,null,{"$f":"IFERROR(VLOOKUP(T5012,Códigos!B:C,2,0),\" \")","v":" "}]
[null,null,null,null,null,null,null,null,null,null,null,null,null,null,null,null,null,null,null,null,{"$f":"IFERROR(VLOOKUP(T5022,Códigos!B:C,2,0),\" \")","v":" "}]
[null,null,null,null,null,null,null,null,null,null,null,null,null,null,null,null,null,null,null,null,{"$f":"IFERROR(VLOOKUP(T5029,Códigos!B:C,2,0),\" \")","v":" "}]
[null,null,null,null,null,null,null,null,null,null,null,null,null,null,null,null,null,null,null,null,{"$f":"IFERROR(VLOOKUP(T5041,Códigos!B:C,2,0),\" \")","v":" "}]
[null,null,null,null,null,null,null,null,null,null,null,null,null,null,null,null,null,null,null,null,{"$f":"IFERROR(VLOOKUP(T5051,Códigos!B:C,2,0),\" \")","v":" "}]
[null,null,null,null,null,null,null,null,null,null,null,null,null,null,null,null,null,null,null,null,{"$f":"IFERROR(VLOOKUP(T5059,Códigos!B:C,2,0),\" \")","v":" "}]
[null,null,null,null,null,null,null,null,null,null,null,null,null,null,null,null,null,null,null,null,{"$f":"IFERROR(VLOOKUP(T5071,Códigos!B:C,2,0),\" \")","v":" "}]
[null,null,null,null,null,null,null,null,null,null,null,null,null,null,null,null,null,null,null,null,{"$f":"IFERROR(VLOOKUP(T5078,Códigos!B:C,2,0),\" \")","v":" "}]
[null,null,null,null,null,null,null,null,null,null,null,null,null,null,null,null,null,null,null,null,{"$f":"IFERROR(VLOOKUP(T5082,Códigos!B:C,2,0),\" \")","v":" "}]
[null,null,null,null,null,null,null,null,null,null,null,null,null,null,null,null,null,null,null,null,{"$f":"IFERROR(VLOOKUP(T5092,Códigos!B:C,2,0),\" \")","v":" "}]
[null,null,null,null,null,null,null,null,null,null,null,null,null,null,null,null,null,null,null,null,{"$f":"IFERROR(VLOOKUP(T5099,Códigos!B:C,2,0),\" \")","v":" "}]
[null,null,null,null,null,null,null,null,null,null,null,null,null,null,null,null,null,null,null,null,{"$f":"IFERROR(VLOOKUP(T5111,Códigos!B:C,2,0),\" \")","v":" "}]
[null,null,null,null,null,null,null,null,null,null,null,null,null,null,null,null,null,null,null,null,{"$f":"IFERROR(VLOOKUP(T5121,Códigos!B:C,2,0),\" \")","v":" "}]
[null,null,null,null,null,null,null,null,null,null,null,null,null,null,null,null,null,null,null,null,{"$f":"IFERROR(VLOOKUP(T5129,Códigos!B:C,2,0),\" \")","v":" "}]
[null,null,null,null,null,null,null,null,null,null,null,null,null,null,null,null,null,null,null,null,{"$f":"IFERROR(VLOOKUP(T5141,Códigos!B:C,2,0),\" \")","v":" "}]
[null,null,null,null,null,null,null,null,null,null,null,null,null,null,null,null,null,null,null,null,{"$f":"IFERROR(VLOOKUP(T5148,Códigos!B:C,2,0),\" \")","v":" "}]
[null,null,null,null,null,null,null,null,null,null,null,null,null,null,null,null,null,null,null,null,{"$f":"IFERROR(VLOOKUP(T5152,Códigos!B:C,2,0),\" \")","v":" "}]
[null,null,null,null,null,null,null,null,null,null,null,null,null,null,null,null,null,null,null,null,{"$f":"IFERROR(VLOOKUP(T5162,Códigos!B:C,2,0),\" \")","v":" "}]
[null,null,null,null,null,null,null,null,null,null,null,null,null,null,null,null,null,null,null,null,{"$f":"IFERROR(VLOOKUP(T5169,Códigos!B:C,2,0),\" \")","v":" "}]
[null,null,null,null,null,null,null,null,null,null,null,null,null,null,null,null,null,null,null,null,{"$f":"IFERROR(VLOOKUP(T5181,Códigos!B:C,2,0),\" \")","v":" "}]
[null,null,null,null,null,null,null,null,null,null,null,null,null,null,null,null,null,null,null,null,{"$f":"IFERROR(VLOOKUP(T5191,Códigos!B:C,2,0),\" \")","v":" "}]
[null,null,null,null,null,null,null,null,null,null,null,null,null,null,null,null,null,null,null,null,{"$f":"IFERROR(VLOOKUP(T5199,Códigos!B:C,2,0),\" \")","v":" "}]
[null,null,null,null,null,null,null,null,null,null,null,null,null,null,null,null,null,null,null,null,{"$f":"IFERROR(VLOOKUP(T5211,Códigos!B:C,2,0),\" \")","v":" "}]
[null,null,null,null,null,null,null,null,null,null,null,null,null,null,null,null,null,null,null,null,{"$f":"IFERROR(VLOOKUP(T5218,Códigos!B:C,2,0),\" \")","v":" "}]
[null,null,null,null,null,null,null,null,null,null,null,null,null,null,null,null,null,null,null,null,{"$f":"IFERROR(VLOOKUP(T5222,Códigos!B:C,2,0),\" \")","v":" "}]
[null,null,null,null,null,null,null,null,null,null,null,null,null,null,null,null,null,null,null,null,{"$f":"IFERROR(VLOOKUP(T5232,Códigos!B:C,2,0),\" \")","v":" "}]
[null,null,null,null,null,null,null,null,null,null,null,null,null,null,null,null,null,null,null,null,{"$f":"IFERROR(VLOOKUP(T5239,Códigos!B:C,2,0),\" \")","v":" "}]
[null,null,null,null,null,null,null,null,null,null,null,null,null,null,null,null,null,null,null,null,{"$f":"IFERROR(VLOOKUP(T5251,Códigos!B:C,2,0),\" \")","v":" "}]
[null,null,null,null,null,null,null,null,null,null,null,null,null,null,null,null,null,null,null,null,{"$f":"IFERROR(VLOOKUP(T5261,Códigos!B:C,2,0),\" \")","v":" "}]
[null,null,null,null,null,null,null,null,null,null,null,null,null,null,null,null,null,null,null,null,{"$f":"IFERROR(VLOOKUP(T5269,Códigos!B:C,2,0),\" \")","v":" "}]
[null,null,null,null,null,null,null,null,null,null,null,null,null,null,null,null,null,null,null,null,{"$f":"IFERROR(VLOOKUP(T5281,Códigos!B:C,2,0),\" \")","v":" "}]
[null,null,null,null,null,null,null,null,null,null,null,null,null,null,null,null,null,null,null,null,{"$f":"IFERROR(VLOOKUP(T5288,Códigos!B:C,2,0),\" \")","v":" "}]
[null,null,null,null,null,null,null,null,null,null,null,null,null,null,null,null,null,null,null,null,{"$f":"IFERROR(VLOOKUP(T5292,Códigos!B:C,2,0),\" \")","v":" "}]
[null,null,null,null,null,null,null,null,null,null,null,null,null,null,null,null,null,null,null,null,{"$f":"IFERROR(VLOOKUP(T5306,Códigos!B:C,2,0),\" \")","v":" "}]
[null,null,null,null,null,null,null,null,null,null,null,null,null,null,null,null,null,null,null,null,{"$f":"IFERROR(VLOOKUP(T5309,Códigos!B:C,2,0),\" \")","v":" "}]
[null,null,null,null,null,null,null,null,null,null,null,null,null,null,null,null,null,null,null,null,{"$f":"IFERROR(VLOOKUP(T5321,Códigos!B:C,2,0),\" \")","v":" "}]
[null,null,null,null,null,null,null,null,null,null,null,null,null,null,null,null,null,null,null,null,{"$f":"IFERROR(VLOOKUP(T5331,Códigos!B:C,2,0),\" \")","v":" "}]
[null,null,null,null,null,null,null,null,null,null,null,null,null,null,null,null,null,null,null,null,{"$f":"IFERROR(VLOOKUP(T5339,Códigos!B:C,2,0),\" \")","v":" "}]
[null,null,null,null,null,null,null,null,null,null,null,null,null,null,null,null,null,null,null,null,{"$f":"IFERROR(VLOOKUP(T5351,Códigos!B:C,2,0),\" \")","v":" "}]
[null,null,null,null,null,null,null,null,null,null,null,null,null,null,null,null,null,null,null,null,{"$f":"IFERROR(VLOOKUP(T5358,Códigos!B:C,2,0),\" \")","v":" "}]
[null,null,null,null,null,null,null,null,null,null,null,null,null,null,null,null,null,null,null,null,{"$f":"IFERROR(VLOOKUP(T5362,Códigos!B:C,2,0),\" \")","v":" "}]
[null,null,null,null,null,null,null,null,null,null,null,null,null,null,null,null,null,null,null,null,{"$f":"IFERROR(VLOOKUP(T5376,Códigos!B:C,2,0),\" \")","v":" "}]
[null,null,null,null,null,null,null,null,null,null,null,null,null,null,null,null,null,null,null,null,{"$f":"IFERROR(VLOOKUP(T5379,Códigos!B:C,2,0),\" \")","v":" "}]
[null,null,null,null,null,null,null,null,null,null,null,null,null,null,null,null,null,null,null,null,{"$f":"IFERROR(VLOOKUP(T5391,Códigos!B:C,2,0),\" \")","v":" "}]
[null,null,null,null,null,null,null,null,null,null,null,null,null,null,null,null,null,null,null,null,{"$f":"IFERROR(VLOOKUP(T5401,Códigos!B:C,2,0),\" \")","v":" "}]
[null,null,null,null,null,null,null,null,null,null,null,null,null,null,null,null,null,null,null,null,{"$f":"IFERROR(VLOOKUP(T5409,Códigos!B:C,2,0),\" \")","v":" "}]
[null,null,null,null,null,null,null,null,null,null,null,null,null,null,null,null,null,null,null,null,{"$f":"IFERROR(VLOOKUP(T5421,Códigos!B:C,2,0),\" \")","v":" "}]
[null,null,null,null,null,null,null,null,null,null,null,null,null,null,null,null,null,null,null,null,{"$f":"IFERROR(VLOOKUP(T5428,Códigos!B:C,2,0),\" \")","v":" "}]
[null,null,null,null,null,null,null,null,null,null,null,null,null,null,null,null,null,null,null,null,{"$f":"IFERROR(VLOOKUP(T5432,Códigos!B:C,2,0),\" \")","v":" "}]
[null,null,null,null,null,null,null,null,null,null,null,null,null,null,null,null,null,null,null,null,{"$f":"IFERROR(VLOOKUP(T5446,Códigos!B:C,2,0),\" \")","v":" "}]
[null,null,null,null,null,null,null,null,null,null,null,null,null,null,null,null,null,null,null,null,{"$f":"IFERROR(VLOOKUP(T5449,Códigos!B:C,2,0),\" \")","v":" "}]
[null,null,null,null,null,null,null,null,null,null,null,null,null,null,null,null,null,null,null,null,{"$f":"IFERROR(VLOOKUP(T5461,Códigos!B:C,2,0),\" \")","v":" "}]
[null,null,null,null,null,null,null,null,null,null,null,null,null,null,null,null,null,null,null,null,{"$f":"IFERROR(VLOOKUP(T5471,Códigos!B:C,2,0),\" \")","v":" "}]
[null,null,null,null,null,null,null,null,null,null,null,null,null,null,null,null,null,null,null,null,{"$f":"IFERROR(VLOOKUP(T5479,Códigos!B:C,2,0),\" \")","v":" "}]
[null,null,null,null,null,null,null,null,null,null,null,null,null,null,null,null,null,null,null,null,{"$f":"IFERROR(VLOOKUP(T5486,Códigos!B:C,2,0),\" \")","v":" "}]
[null,null,null,null,null,null,null,null,null,null,null,null,null,null,null,null,null,null,null,null,{"$f":"IFERROR(VLOOKUP(T5498,Códigos!B:C,2,0),\" \")","v":" "}]
[null,null,null,null,null,null,null,null,null,null,null,null,null,null,null,null,null,null,null,null,{"$f":"IFERROR(VLOOKUP(T5502,Códigos!B:C,2,0),\" \")","v":" "}]
[null,null,null,null,null,null,null,null,null,null,null,null,null,null,null,null,null,null,null,null,{"$f":"IFERROR(VLOOKUP(T5516,Códigos!B:C,2,0),\" \")","v":" "}]
[null,null,null,null,null,null,null,null,null,null,null,null,null,null,null,null,null,null,null,null,{"$f":"IFERROR(VLOOKUP(T5519,Códigos!B:C,2,0),\" \")","v":" "}]
[null,null,null,null,null,null,null,null,null,null,null,null,null,null,null,null,null,null,null,null,{"$f":"IFERROR(VLOOKUP(T5531,Códigos!B:C,2,0),\" \")","v":" "}]
[null,null,null,null,null,null,null,null,null,null,null,null,null,null,null,null,null,null,null,null,{"$f":"IFERROR(VLOOKUP(T5541,Códigos!B:C,2,0),\" \")","v":" "}]
[null,null,null,null,null,null,null,null,null,null,null,null,null,null,null,null,null,null,null,null,{"$f":"IFERROR(VLOOKUP(T5549,Códigos!B:C,2,0),\" \")","v":" "}]
[null,null,null,null,null,null,null,null,null,null,null,null,null,null,null,null,null,null,null,null,{"$f":"IFERROR(VLOOKUP(T5556,Códigos!B:C,2,0),\" \")","v":" "}]
[null,null,null,null,null,null,null,null,null,null,null,null,null,null,null,null,null,null,null,null,{"$f":"IFERROR(VLOOKUP(T5568,Códigos!B:C,2,0),\" \")","v":" "}]
[null,null,null,null,null,null,null,null,null,null,null,null,null,null,null,null,null,null,null,null,{"$f":"IFERROR(VLOOKUP(T5572,Códigos!B:C,2,0),\" \")","v":" "}]
[null,null,null,null,null,null,null,null,null,null,null,null,null,null,null,null,null,null,null,null,{"$f":"IFERROR(VLOOKUP(T5586,Códigos!B:C,2,0),\" \")","v":" "}]
[null,null,null,null,null,null,null,null,null,null,null,null,null,null,null,null,null,null,null,null,{"$f":"IFERROR(VLOOKUP(T5589,Códigos!B:C,2,0),\" \")","v":" "}]
[null,null,null,null,null,null,null,null,null,null,null,null,null,null,null,null,null,null,null,null,{"$f":"IFERROR(VLOOKUP(T5601,Códigos!B:C,2,0),\" \")","v":" "}]
[null,null,null,null,null,null,null,null,null,null,null,null,null,null,null,null,null,null,null,null,{"$f":"IFERROR(VLOOKUP(T5611,Códigos!B:C,2,0),\" \")","v":" "}]
[null,null,null,null,null,null,null,null,null,null,null,null,null,null,null,null,null,null,null,null,{"$f":"IFERROR(VLOOKUP(T5619,Códigos!B:C,2,0),\" \")","v":" "}]
[null,null,null,null,null,null,null,null,null,null,null,null,null,null,null,null,null,null,null,null,{"$f":"IFERROR(VLOOKUP(T5626,Códigos!B:C,2,0),\" \")","v":" "}]
[null,null,null,null,null,null,null,null,null,null,null,null,null,null,null,null,null,null,null,null,{"$f":"IFERROR(VLOOKUP(T5638,Códigos!B:C,2,0),\" \")","v":" "}]
[null,null,null,null,null,null,null,null,null,null,null,null,null,null,null,null,null,null,null,null,{"$f":"IFERROR(VLOOKUP(T5642,Códigos!B:C,2,0),\" \")","v":" "}]
[null,null,null,null,null,null,null,null,null,null,null,null,null,null,null,null,null,null,null,null,{"$f":"IFERROR(VLOOKUP(T5656,Códigos!B:C,2,0),\" \")","v":" "}]
[null,null,null,null,null,null,null,null,null,null,null,null,null,null,null,null,null,null,null,null,{"$f":"IFERROR(VLOOKUP(T5659,Códigos!B:C,2,0),\" \")","v":" "}]
[null,null,null,null,null,null,null,null,null,null,null,null,null,null,null,null,null,null,null,null,{"$f":"IFERROR(VLOOKUP(T5675,Códigos!B:C,2,0),\" \")","v":" "}]
[null,null,null,null,null,null,null,null,null,null,null,null,null,null,null,null,null,null,null,null,{"$f":"IFERROR(VLOOKUP(T5681,Códigos!B:C,2,0),\" \")","v":" "}]
[null,null,null,null,null,null,null,null,null,null,null,null,null,null,null,null,null,null,null,null,{"$f":"IFERROR(VLOOKUP(T5689,Códigos!B:C,2,0),\" \")","v":" "}]
[null,null,null,null,null,null,null,null,null,null,null,null,null,null,null,null,null,null,null,null,{"$f":"IFERROR(VLOOKUP(T5696,Códigos!B:C,2,0),\" \")","v":" "}]
[null,null,null,null,null,null,null,null,null,null,null,null,null,null,null,null,null,null,null,null,{"$f":"IFERROR(VLOOKUP(T5708,Códigos!B:C,2,0),\" \")","v":" "}]
[null,null,null,null,null,null,null,null,null,null,null,null,null,null,null,null,null,null,null,null,{"$f":"IFERROR(VLOOKUP(T5712,Códigos!B:C,2,0),\" \")","v":" "}]
[null,null,null,null,null,null,null,null,null,null,null,null,null,null,null,null,null,null,null,null,{"$f":"IFERROR(VLOOKUP(T5726,Códigos!B:C,2,0),\" \")","v":" "}]
[null,null,null,null,null,null,null,null,null,null,null,null,null,null,null,null,null,null,null,null,{"$f":"IFERROR(VLOOKUP(T5729,Códigos!B:C,2,0),\" \")","v":" "}]
[null,null,null,null,null,null,null,null,null,null,null,null,null,null,null,null,null,null,null,null,{"$f":"IFERROR(VLOOKUP(T5745,Códigos!B:C,2,0),\" \")","v":" "}]
[null,null,null,null,null,null,null,null,null,null,null,null,null,null,null,null,null,null,null,null,{"$f":"IFERROR(VLOOKUP(T5751,Códigos!B:C,2,0),\" \")","v":" "}]
[null,null,null,null,null,null,null,null,null,null,null,null,null,null,null,null,null,null,null,null,{"$f":"IFERROR(VLOOKUP(T5759,Códigos!B:C,2,0),\" \")","v":" "}]
[null,null,null,null,null,null,null,null,null,null,null,null,null,null,null,null,null,null,null,null,{"$f":"IFERROR(VLOOKUP(T5766,Códigos!B:C,2,0),\" \")","v":" "}]
[null,null,null,null,null,null,null,null,null,null,null,null,null,null,null,null,null,null,null,null,{"$f":"IFERROR(VLOOKUP(T5778,Códigos!B:C,2,0),\" \")","v":" "}]
[null,null,null,null,null,null,null,null,null,null,null,null,null,null,null,null,null,null,null,null,{"$f":"IFERROR(VLOOKUP(T5782,Códigos!B:C,2,0),\" \")","v":" "}]
[null,null,null,null,null,null,null,null,null,null,null,null,null,null,null,null,null,null,null,null,{"$f":"IFERROR(VLOOKUP(T5796,Códigos!B:C,2,0),\" \")","v":" "}]
[null,null,null,null,null,null,null,null,null,null,null,null,null,null,null,null,null,null,null,null,{"$f":"IFERROR(VLOOKUP(T5799,Códigos!B:C,2,0),\" \")","v":" "}]
[null,null,null,null,null,null,null,null,null,null,null,null,null,null,null,null,null,null,null,null,{"$f":"IFERROR(VLOOKUP(T5815,Códigos!B:C,2,0),\" \")","v":" "}]
[null,null,null,null,null,null,null,null,null,null,null,null,null,null,null,null,null,null,null,null,{"$f":"IFERROR(VLOOKUP(T5821,Códigos!B:C,2,0),\" \")","v":" "}]
[null,null,null,null,null,null,null,null,null,null,null,null,null,null,null,null,null,null,null,null,{"$f":"IFERROR(VLOOKUP(T5829,Códigos!B:C,2,0),\" \")","v":" "}]
[null,null,null,null,null,null,null,null,null,null,null,null,null,null,null,null,null,null,null,null,{"$f":"IFERROR(VLOOKUP(T5836,Códigos!B:C,2,0),\" \")","v":" "}]
[null,null,null,null,null,null,null,null,null,null,null,null,null,null,null,null,null,null,null,null,{"$f":"IFERROR(VLOOKUP(T5848,Códigos!B:C,2,0),\" \")","v":" "}]
[null,null,null,null,null,null,null,null,null,null,null,null,null,null,null,null,null,null,null,null,{"$f":"IFERROR(VLOOKUP(T5852,Códigos!B:C,2,0),\" \")","v":" "}]
[null,null,null,null,null,null,null,null,null,null,null,null,null,null,null,null,null,null,null,null,{"$f":"IFERROR(VLOOKUP(T5866,Códigos!B:C,2,0),\" \")","v":" "}]
[null,null,null,null,null,null,null,null,null,null,null,null,null,null,null,null,null,null,null,null,{"$f":"IFERROR(VLOOKUP(T5869,Códigos!B:C,2,0),\" \")","v":" "}]
[null,null,null,null,null,null,null,null,null,null,null,null,null,null,null,null,null,null,null,null,{"$f":"IFERROR(VLOOKUP(T5885,Códigos!B:C,2,0),\" \")","v":" "}]
[null,null,null,null,null,null,null,null,null,null,null,null,null,null,null,null,null,null,null,null,{"$f":"IFERROR(VLOOKUP(T5891,Códigos!B:C,2,0),\" \")","v":" "}]
[null,null,null,null,null,null,null,null,null,null,null,null,null,null,null,null,null,null,null,null,{"$f":"IFERROR(VLOOKUP(T5899,Códigos!B:C,2,0),\" \")","v":" "}]
[null,null,null,null,null,null,null,null,null,null,null,null,null,null,null,null,null,null,null,null,{"$f":"IFERROR(VLOOKUP(T5906,Códigos!B:C,2,0),\" \")","v":" "}]
[null,null,null,null,null,null,null,null,null,null,null,null,null,null,null,null,null,null,null,null,{"$f":"IFERROR(VLOOKUP(T5918,Códigos!B:C,2,0),\" \")","v":" "}]
[null,null,null,null,null,null,null,null,null,null,null,null,null,null,null,null,null,null,null,null,{"$f":"IFERROR(VLOOKUP(T5922,Códigos!B:C,2,0),\" \")","v":" "}]
[null,null,null,null,null,null,null,null,null,null,null,null,null,null,null,null,null,null,null,null,{"$f":"IFERROR(VLOOKUP(T5936,Códigos!B:C,2,0),\" \")","v":" "}]
[null,null,null,null,null,null,null,null,null,null,null,null,null,null,null,null,null,null,null,null,{"$f":"IFERROR(VLOOKUP(T5939,Códigos!B:C,2,0),\" \")","v":" "}]
[null,null,null,null,null,null,null,null,null,null,null,null,null,null,null,null,null,null,null,null,{"$f":"IFERROR(VLOOKUP(T5955,Códigos!B:C,2,0),\" \")","v":" "}]
[null,null,null,null,null,null,null,null,null,null,null,null,null,null,null,null,null,null,null,null,{"$f":"IFERROR(VLOOKUP(T5961,Códigos!B:C,2,0),\" \")","v":" "}]
[null,null,null,null,null,null,null,null,null,null,null,null,null,null,null,null,null,null,null,null,{"$f":"IFERROR(VLOOKUP(T5964,Códigos!B:C,2,0),\" \")","v":" "}]
[null,null,null,null,null,null,null,null,null,null,null,null,null,null,null,null,null,null,null,null,{"$f":"IFERROR(VLOOKUP(T5976,Códigos!B:C,2,0),\" \")","v":" "}]
[null,null,null,null,null,null,null,null,null,null,null,null,null,null,null,null,null,null,null,null,{"$f":"IFERROR(VLOOKUP(T5988,Códigos!B:C,2,0),\" \")","v":" "}]
[null,null,null,null,null,null,null,null,null,null,null,null,null,null,null,null,null,null,null,null,{"$f":"IFERROR(VLOOKUP(T5992,Códigos!B:C,2,0),\" \")","v":" "}]
[null,null,null,null,null,null,null,null,null,null,null,null,null,null,null,null,null,null,null,null,{"$f":"IFERROR(VLOOKUP(T6006,Códigos!B:C,2,0),\" \")","v":" "}]
[null,null,null,null,null,null,null,null,null,null,null,null,null,null,null,null,null,null,null,null,{"$f":"IFERROR(VLOOKUP(T6009,Códigos!B:C,2,0),\" \")","v":" "}]
[null,null,null,null,null,null,null,null,null,null,null,null,null,null,null,null,null,null,null,null,{"$f":"IFERROR(VLOOKUP(T6025,Códigos!B:C,2,0),\" \")","v":" "}]
[null,null,null,null,null,null,null,null,null,null,null,null,null,null,null,null,null,null,null,null,{"$f":"IFERROR(VLOOKUP(T6031,Códigos!B:C,2,0),\" \")","v":" "}]
[null,null,null,null,null,null,null,null,null,null,null,null,null,null,null,null,null,null,null,null,{"$f":"IFERROR(VLOOKUP(T6034,Códigos!B:C,2,0),\" \")","v":" "}]
[null,null,null,null,null,null,null,null,null,null,null,null,null,null,null,null,null,null,null,null,{"$f":"IFERROR(VLOOKUP(T6046,Códigos!B:C,2,0),\" \")","v":" "}]
[null,null,null,null,null,null,null,null,null,null,null,null,null,null,null,null,null,null,null,null,{"$f":"IFERROR(VLOOKUP(T6058,Códigos!B:C,2,0),\" \")","v":" "}]
[null,null,null,null,null,null,null,null,null,null,null,null,null,null,null,null,null,null,null,null,{"$f":"IFERROR(VLOOKUP(T6062,Códigos!B:C,2,0),\" \")","v":" "}]
[null,null,null,null,null,null,null,null,null,null,null,null,null,null,null,null,null,null,null,null,{"$f":"IFERROR(VLOOKUP(T6076,Códigos!B:C,2,0),\" \")","v":" "}]
[null,null,null,null,null,null,null,null,null,null,null,null,null,null,null,null,null,null,null,null,{"$f":"IFERROR(VLOOKUP(T6079,Códigos!B:C,2,0),\" \")","v":" "}]
[null,null,null,null,null,null,null,null,null,null,null,null,null,null,null,null,null,null,null,null,{"$f":"IFERROR(VLOOKUP(T6095,Códigos!B:C,2,0),\" \")","v":" "}]
[null,null,null,null,null,null,null,null,null,null,null,null,null,null,null,null,null,null,null,null,{"$f":"IFERROR(VLOOKUP(T6101,Códigos!B:C,2,0),\" \")","v":" "}]
[null,null,null,null,null,null,null,null,null,null,null,null,null,null,null,null,null,null,null,null,{"$f":"IFERROR(VLOOKUP(T6104,Códigos!B:C,2,0),\" \")","v":" "}]
[null,null,null,null,null,null,null,null,null,null,null,null,null,null,null,null,null,null,null,null,{"$f":"IFERROR(VLOOKUP(T6116,Códigos!B:C,2,0),\" \")","v":" "}]
[null,null,null,null,null,null,null,null,null,null,null,null,null,null,null,null,null,null,null,null,{"$f":"IFERROR(VLOOKUP(T6128,Códigos!B:C,2,0),\" \")","v":" "}]
[null,null,null,null,null,null,null,null,null,null,null,null,null,null,null,null,null,null,null,null,{"$f":"IFERROR(VLOOKUP(T6132,Códigos!B:C,2,0),\" \")","v":" "}]
[null,null,null,null,null,null,null,null,null,null,null,null,null,null,null,null,null,null,null,null,{"$f":"IFERROR(VLOOKUP(T6146,Códigos!B:C,2,0),\" \")","v":" "}]
[null,null,null,null,null,null,null,null,null,null,null,null,null,null,null,null,null,null,null,null,{"$f":"IFERROR(VLOOKUP(T6153,Códigos!B:C,2,0),\" \")","v":" "}]
[null,null,null,null,null,null,null,null,null,null,null,null,null,null,null,null,null,null,null,null,{"$f":"IFERROR(VLOOKUP(T6165,Códigos!B:C,2,0),\" \")","v":" "}]
[null,null,null,null,null,null,null,null,null,null,null,null,null,null,null,null,null,null,null,null,{"$f":"IFERROR(VLOOKUP(T6171,Códigos!B:C,2,0),\" \")","v":" "}]
[null,null,null,null,null,null,null,null,null,null,null,null,null,null,null,null,null,null,null,null,{"$f":"IFERROR(VLOOKUP(T6174,Códigos!B:C,2,0),\" \")","v":" "}]
[null,null,null,null,null,null,null,null,null,null,null,null,null,null,null,null,null,null,null,null,{"$f":"IFERROR(VLOOKUP(T6186,Códigos!B:C,2,0),\" \")","v":" "}]
[null,null,null,null,null,null,null,null,null,null,null,null,null,null,null,null,null,null,null,null,{"$f":"IFERROR(VLOOKUP(T6198,Códigos!B:C,2,0),\" \")","v":" "}]
[null,null,null,null,null,null,null,null,null,null,null,null,null,null,null,null,null,null,null,null,{"$f":"IFERROR(VLOOKUP(T6202,Códigos!B:C,2,0),\" \")","v":" "}]
[null,null,null,null,null,null,null,null,null,null,null,null,null,null,null,null,null,null,null,null,{"$f":"IFERROR(VLOOKUP(T6216,Códigos!B:C,2,0),\" \")","v":" "}]
[null,null,null,null,null,null,null,null,null,null,null,null,null,null,null,null,null,null,null,null,{"$f":"IFERROR(VLOOKUP(T6223,Códigos!B:C,2,0),\" \")","v":" "}]
[null,null,null,null,null,null,null,null,null,null,null,null,null,null,null,null,null,null,null,null,{"$f":"IFERROR(VLOOKUP(T6235,Códigos!B:C,2,0),\" \")","v":" "}]
[null,null,null,null,null,null,null,null,null,null,null,null,null,null,null,null,null,null,null,null,{"$f":"IFERROR(VLOOKUP(T6241,Códigos!B:C,2,0),\" \")","v":" "}]
[null,null,null,null,null,null,null,null,null,null,null,null,null,null,null,null,null,null,null,null,{"$f":"IFERROR(VLOOKUP(T6244,Códigos!B:C,2,0),\" \")","v":" "}]
[null,null,null,null,null,null,null,null,null,null,null,null,null,null,null,null,null,null,null,null,{"$f":"IFERROR(VLOOKUP(T6256,Códigos!B:C,2,0),\" \")","v":" "}]
[null,null,null,null,null,null,null,null,null,null,null,null,null,null,null,null,null,null,null,null,{"$f":"IFERROR(VLOOKUP(T6263,Códigos!B:C,2,0),\" \")","v":" "}]
[null,null,null,null,null,null,null,null,null,null,null,null,null,null,null,null,null,null,null,null,{"$f":"IFERROR(VLOOKUP(T6272,Códigos!B:C,2,0),\" \")","v":" "}]
[null,null,null,null,null,null,null,null,null,null,null,null,null,null,null,null,null,null,null,null,{"$f":"IFERROR(VLOOKUP(T6286,Códigos!B:C,2,0),\" \")","v":" "}]
[null,null,null,null,null,null,null,null,null,null,null,null,null,null,null,null,null,null,null,null,{"$f":"IFERROR(VLOOKUP(T6293,Códigos!B:C,2,0),\" \")","v":" "}]
[null,null,null,null,null,null,null,null,null,null,null,null,null,null,null,null,null,null,null,null,{"$f":"IFERROR(VLOOKUP(T6305,Códigos!B:C,2,0),\" \")","v":" "}]
[null,null,null,null,null,null,null,null,null,null,null,null,null,null,null,null,null,null,null,null,{"$f":"IFERROR(VLOOKUP(T6311,Códigos!B:C,2,0),\" \")","v":" "}]
[null,null,null,null,null,null,null,null,null,null,null,null,null,null,null,null,null,null,null,null,{"$f":"IFERROR(VLOOKUP(T6314,Códigos!B:C,2,0),\" \")","v":" "}]
[null,null,null,null,null,null,null,null,null,null,null,null,null,null,null,null,null,null,null,null,{"$f":"IFERROR(VLOOKUP(T6326,Códigos!B:C,2,0),\" \")","v":" "}]
[null,null,null,null,null,null,null,null,null,null,null,null,null,null,null,null,null,null,null,null,{"$f":"IFERROR(VLOOKUP(T6333,Códigos!B:C,2,0),\" \")","v":" "}]
[null,null,null,null,null,null,null,null,null,null,null,null,null,null,null,null,null,null,null,null,{"$f":"IFERROR(VLOOKUP(T6342,Códigos!B:C,2,0),\" \")","v":" "}]
[null,null,null,null,null,null,null,null,null,null,null,null,null,null,null,null,null,null,null,null,{"$f":"IFERROR(VLOOKUP(T6356,Códigos!B:C,2,0),\" \")","v":" "}]
[null,null,null,null,null,null,null,null,null,null,null,null,null,null,null,null,null,null,null,null,{"$f":"IFERROR(VLOOKUP(T6363,Códigos!B:C,2,0),\" \")","v":" "}]
[null,null,null,null,null,null,null,null,null,null,null,null,null,null,null,null,null,null,null,null,{"$f":"IFERROR(VLOOKUP(T6375,Códigos!B:C,2,0),\" \")","v":" "}]
[null,null,null,null,null,null,null,null,null,null,null,null,null,null,null,null,null,null,null,null,{"$f":"IFERROR(VLOOKUP(T6381,Códigos!B:C,2,0),\" \")","v":" "}]
[null,null,null,null,null,null,null,null,null,null,null,null,null,null,null,null,null,null,null,null,{"$f":"IFERROR(VLOOKUP(T6384,Códigos!B:C,2,0),\" \")","v":" "}]
[null,null,null,null,null,null,null,null,null,null,null,null,null,null,null,null,null,null,null,null,{"$f":"IFERROR(VLOOKUP(T6396,Códigos!B:C,2,0),\" \")","v":" "}]
[null,null,null,null,null,null,null,null,null,null,null,null,null,null,null,null,null,null,null,null,{"$f":"IFERROR(VLOOKUP(T6403,Códigos!B:C,2,0),\" \")","v":" "}]
[null,null,null,null,null,null,null,null,null,null,null,null,null,null,null,null,null,null,null,null,{"$f":"IFERROR(VLOOKUP(T6412,Códigos!B:C,2,0),\" \")","v":" "}]
[null,null,null,null,null,null,null,null,null,null,null,null,null,null,null,null,null,null,null,null,{"$f":"IFERROR(VLOOKUP(T6426,Códigos!B:C,2,0),\" \")","v":" "}]
[null,null,null,null,null,null,null,null,null,null,null,null,null,null,null,null,null,null,null,null,{"$f":"IFERROR(VLOOKUP(T6433,Códigos!B:C,2,0),\" \")","v":" "}]
[null,null,null,null,null,null,null,null,null,null,null,null,null,null,null,null,null,null,null,null,{"$f":"IFERROR(VLOOKUP(T6445,Códigos!B:C,2,0),\" \")","v":" "}]
[null,null,null,null,null,null,null,null,null,null,null,null,null,null,null,null,null,null,null,null,{"$f":"IFERROR(VLOOKUP(T6451,Códigos!B:C,2,0),\" \")","v":" "}]
[null,null,null,null,null,null,null,null,null,null,null,null,null,null,null,null,null,null,null,null,{"$f":"IFERROR(VLOOKUP(T6454,Códigos!B:C,2,0),\" \")","v":" "}]
[null,null,null,null,null,null,null,null,null,null,null,null,null,null,null,null,null,null,null,null,{"$f":"IFERROR(VLOOKUP(T6466,Códigos!B:C,2,0),\" \")","v":" "}]
[null,null,null,null,null,null,null,null,null,null,null,null,null,null,null,null,null,null,null,null,{"$f":"IFERROR(VLOOKUP(T6473,Códigos!B:C,2,0),\" \")","v":" "}]
[null,null,null,null,null,null,null,null,null,null,null,null,null,null,null,null,null,null,null,null,{"$f":"IFERROR(VLOOKUP(T6482,Códigos!B:C,2,0),\" \")","v":" "}]
[null,null,null,null,null,null,null,null,null,null,null,null,null,null,null,null,null,null,null,null,{"$f":"IFERROR(VLOOKUP(T6496,Códigos!B:C,2,0),\" \")","v":" "}]
[null,null,null,null,null,null,null,null,null,null,null,null,null,null,null,null,null,null,null,null,{"$f":"IFERROR(VLOOKUP(T6503,Códigos!B:C,2,0),\" \")","v":" "}]
[null,null,null,null,null,null,null,null,null,null,null,null,null,null,null,null,null,null,null,null,{"$f":"IFERROR(VLOOKUP(T6515,Códigos!B:C,2,0),\" \")","v":" "}]
[null,null,null,null,null,null,null,null,null,null,null,null,null,null,null,null,null,null,null,null,{"$f":"IFERROR(VLOOKUP(T6521,Códigos!B:C,2,0),\" \")","v":" "}]
[null,null,null,null,null,null,null,null,null,null,null,null,null,null,null,null,null,null,null,null,{"$f":"IFERROR(VLOOKUP(T6524,Códigos!B:C,2,0),\" \")","v":" "}]
[null,null,null,null,null,null,null,null,null,null,null,null,null,null,null,null,null,null,null,null,{"$f":"IFERROR(VLOOKUP(T6536,Códigos!B:C,2,0),\" \")","v":" "}]
[null,null,null,null,null,null,null,null,null,null,null,null,null,null,null,null,null,null,null,null,{"$f":"IFERROR(VLOOKUP(T6543,Códigos!B:C,2,0),\" \")","v":" "}]
[null,null,null,null,null,null,null,null,null,null,null,null,null,null,null,null,null,null,null,null,{"$f":"IFERROR(VLOOKUP(T6552,Códigos!B:C,2,0),\" \")","v":" "}]
[null,null,null,null,null,null,null,null,null,null,null,null,null,null,null,null,null,null,null,null,{"$f":"IFERROR(VLOOKUP(T6561,Códigos!B:C,2,0),\" \")","v":" "}]
[null,null,null,null,null,null,null,null,null,null,null,null,null,null,null,null,null,null,null,null,{"$f":"IFERROR(VLOOKUP(T6573,Códigos!B:C,2,0),\" \")","v":" "}]
[null,null,null,null,null,null,null,null,null,null,null,null,null,null,null,null,null,null,null,null,{"$f":"IFERROR(VLOOKUP(T6585,Códigos!B:C,2,0),\" \")","v":" "}]
[null,null,null,null,null,null,null,null,null,null,null,null,null,null,null,null,null,null,null,null,{"$f":"IFERROR(VLOOKUP(T6591,Códigos!B:C,2,0),\" \")","v":" "}]
[null,null,null,null,null,null,null,null,null,null,null,null,null,null,null,null,null,null,null,null,{"$f":"IFERROR(VLOOKUP(T6594,Códigos!B:C,2,0),\" \")","v":" "}]
[null,null,null,null,null,null,null,null,null,null,null,null,null,null,null,null,null,null,null,null,{"$f":"IFERROR(VLOOKUP(T6606,Códigos!B:C,2,0),\" \")","v":" "}]
[null,null,null,null,null,null,null,null,null,null,null,null,null,null,null,null,null,null,null,null,{"$f":"IFERROR(VLOOKUP(T6613,Códigos!B:C,2,0),\" \")","v":" "}]
[null,null,null,null,null,null,null,null,null,null,null,null,null,null,null,null,null,null,null,null,{"$f":"IFERROR(VLOOKUP(T6622,Códigos!B:C,2,0),\" \")","v":" "}]
[null,null,null,null,null,null,null,null,null,null,null,null,null,null,null,null,null,null,null,null,{"$f":"IFERROR(VLOOKUP(T6631,Códigos!B:C,2,0),\" \")","v":" "}]
[null,null,null,null,null,null,null,null,null,null,null,null,null,null,null,null,null,null,null,null,{"$f":"IFERROR(VLOOKUP(T6643,Códigos!B:C,2,0),\" \")","v":" "}]
[null,null,null,null,null,null,null,null,null,null,null,null,null,null,null,null,null,null,null,null,{"$f":"IFERROR(VLOOKUP(T6655,Códigos!B:C,2,0),\" \")","v":" "}]
[null,null,null,null,null,null,null,null,null,null,null,null,null,null,null,null,null,null,null,null,{"$f":"IFERROR(VLOOKUP(T6661,Códigos!B:C,2,0),\" \")","v":" "}]
[null,null,null,null,null,null,null,null,null,null,null,null,null,null,null,null,null,null,null,null,{"$f":"IFERROR(VLOOKUP(T6664,Códigos!B:C,2,0),\" \")","v":" "}]
[null,null,null,null,null,null,null,null,null,null,null,null,null,null,null,null,null,null,null,null,{"$f":"IFERROR(VLOOKUP(T6676,Códigos!B:C,2,0),\" \")","v":" "}]
[null,null,null,null,null,null,null,null,null,null,null,null,null,null,null,null,null,null,null,null,{"$f":"IFERROR(VLOOKUP(T6683,Códigos!B:C,2,0),\" \")","v":" "}]
[null,null,null,null,null,null,null,null,null,null,null,null,null,null,null,null,null,null,null,null,{"$f":"IFERROR(VLOOKUP(T6692,Códigos!B:C,2,0),\" \")","v":" "}]
[null,null,null,null,null,null,null,null,null,null,null,null,null,null,null,null,null,null,null,null,{"$f":"IFERROR(VLOOKUP(T6701,Códigos!B:C,2,0),\" \")","v":" "}]
[null,null,null,null,null,null,null,null,null,null,null,null,null,null,null,null,null,null,null,null,{"$f":"IFERROR(VLOOKUP(T6713,Códigos!B:C,2,0),\" \")","v":" "}]
[null,null,null,null,null,null,null,null,null,null,null,null,null,null,null,null,null,null,null,null,{"$f":"IFERROR(VLOOKUP(T6725,Códigos!B:C,2,0),\" \")","v":" "}]
[null,null,null,null,null,null,null,null,null,null,null,null,null,null,null,null,null,null,null,null,{"$f":"IFERROR(VLOOKUP(T6731,Códigos!B:C,2,0),\" \")","v":" "}]
[null,null,null,null,null,null,null,null,null,null,null,null,null,null,null,null,null,null,null,null,{"$f":"IFERROR(VLOOKUP(T6734,Códigos!B:C,2,0),\" \")","v":" "}]
[null,null,null,null,null,null,null,null,null,null,null,null,null,null,null,null,null,null,null,null,{"$f":"IFERROR(VLOOKUP(T6750,Códigos!B:C,2,0),\" \")","v":" "}]
[null,null,null,null,null,null,null,null,null,null,null,null,null,null,null,null,null,null,null,null,{"$f":"IFERROR(VLOOKUP(T6753,Códigos!B:C,2,0),\" \")","v":" "}]
[null,null,null,null,null,null,null,null,null,null,null,null,null,null,null,null,null,null,null,null,{"$f":"IFERROR(VLOOKUP(T6762,Códigos!B:C,2,0),\" \")","v":" "}]
[null,null,null,null,null,null,null,null,null,null,null,null,null,null,null,null,null,null,null,null,{"$f":"IFERROR(VLOOKUP(T6771,Códigos!B:C,2,0),\" \")","v":" "}]
[null,null,null,null,null,null,null,null,null,null,null,null,null,null,null,null,null,null,null,null,{"$f":"IFERROR(VLOOKUP(T6783,Códigos!B:C,2,0),\" \")","v":" "}]
[null,null,null,null,null,null,null,null,null,null,null,null,null,null,null,null,null,null,null,null,{"$f":"IFERROR(VLOOKUP(T6795,Códigos!B:C,2,0),\" \")","v":" "}]
[null,null,null,null,null,null,null,null,null,null,null,null,null,null,null,null,null,null,null,null,{"$f":"IFERROR(VLOOKUP(T6801,Códigos!B:C,2,0),\" \")","v":" "}]
[null,null,null,null,null,null,null,null,null,null,null,null,null,null,null,null,null,null,null,null,{"$f":"IFERROR(VLOOKUP(T6804,Códigos!B:C,2,0),\" \")","v":" "}]
[null,null,null,null,null,null,null,null,null,null,null,null,null,null,null,null,null,null,null,null,{"$f":"IFERROR(VLOOKUP(T6820,Códigos!B:C,2,0),\" \")","v":" "}]
[null,null,null,null,null,null,null,null,null,null,null,null,null,null,null,null,null,null,null,null,{"$f":"IFERROR(VLOOKUP(T6823,Códigos!B:C,2,0),\" \")","v":" "}]
[null,null,null,null,null,null,null,null,null,null,null,null,null,null,null,null,null,null,null,null,{"$f":"IFERROR(VLOOKUP(T6832,Códigos!B:C,2,0),\" \")","v":" "}]
[null,null,null,null,null,null,null,null,null,null,null,null,null,null,null,null,null,null,null,null,{"$f":"IFERROR(VLOOKUP(T6841,Códigos!B:C,2,0),\" \")","v":" "}]
[null,null,null,null,null,null,null,null,null,null,null,null,null,null,null,null,null,null,null,null,{"$f":"IFERROR(VLOOKUP(T6853,Códigos!B:C,2,0),\" \")","v":" "}]
[null,null,null,null,null,null,null,null,null,null,null,null,null,null,null,null,null,null,null,null,{"$f":"IFERROR(VLOOKUP(T6865,Códigos!B:C,2,0),\" \")","v":" "}]
[null,null,null,null,null,null,null,null,null,null,null,null,null,null,null,null,null,null,null,null,{"$f":"IFERROR(VLOOKUP(T6871,Códigos!B:C,2,0),\" \")","v":" "}]
[null,null,null,null,null,null,null,null,null,null,null,null,null,null,null,null,null,null,null,null,{"$f":"IFERROR(VLOOKUP(T6874,Códigos!B:C,2,0),\" \")","v":" "}]
[null,null,null,null,null,null,null,null,null,null,null,null,null,null,null,null,null,null,null,null,{"$f":"IFERROR(VLOOKUP(T6890,Códigos!B:C,2,0),\" \")","v":" "}]
[null,null,null,null,null,null,null,null,null,null,null,null,null,null,null,null,null,null,null,null,{"$f":"IFERROR(VLOOKUP(T6893,Códigos!B:C,2,0),\" \")","v":" "}]
[null,null,null,null,null,null,null,null,null,null,null,null,null,null,null,null,null,null,null,null,{"$f":"IFERROR(VLOOKUP(T6902,Códigos!B:C,2,0),\" \")","v":" "}]
[null,null,null,null,null,null,null,null,null,null,null,null,null,null,null,null,null,null,null,null,{"$f":"IFERROR(VLOOKUP(T6911,Códigos!B:C,2,0),\" \")","v":" "}]
[null,null,null,null,null,null,null,null,null,null,null,null,null,null,null,null,null,null,null,null,{"$f":"IFERROR(VLOOKUP(T6923,Códigos!B:C,2,0),\" \")","v":" "}]
[null,null,null,null,null,null,null,null,null,null,null,null,null,null,null,null,null,null,null,null,{"$f":"IFERROR(VLOOKUP(T6930,Códigos!B:C,2,0),\" \")","v":" "}]
[null,null,null,null,null,null,null,null,null,null,null,null,null,null,null,null,null,null,null,null,{"$f":"IFERROR(VLOOKUP(T6941,Códigos!B:C,2,0),\" \")","v":" "}]
[null,null,null,null,null,null,null,null,null,null,null,null,null,null,null,null,null,null,null,null,{"$f":"IFERROR(VLOOKUP(T6944,Códigos!B:C,2,0),\" \")","v":" "}]
[null,null,null,null,null,null,null,null,null,null,null,null,null,null,null,null,null,null,null,null,{"$f":"IFERROR(VLOOKUP(T6960,Códigos!B:C,2,0),\" \")","v":" "}]
[null,null,null,null,null,null,null,null,null,null,null,null,null,null,null,null,null,null,null,null,{"$f":"IFERROR(VLOOKUP(T6963,Códigos!B:C,2,0),\" \")","v":" "}]
[null,null,null,null,null,null,null,null,null,null,null,null,null,null,null,null,null,null,null,null,{"$f":"IFERROR(VLOOKUP(T6972,Códigos!B:C,2,0),\" \")","v":" "}]
[null,null,null,null,null,null,null,null,null,null,null,null,null,null,null,null,null,null,null,null,{"$f":"IFERROR(VLOOKUP(T6981,Códigos!B:C,2,0),\" \")","v":" "}]
[null,null,null,null,null,null,null,null,null,null,null,null,null,null,null,null,null,null,null,null,{"$f":"IFERROR(VLOOKUP(T6993,Códigos!B:C,2,0),\" \")","v":" "}]
[null,null,null,null,null,null,null,null,null,null,null,null,null,null,null,null,null,null,null,null,{"$f":"IFERROR(VLOOKUP(T7000,Códigos!B:C,2,0),\" \")","v":" "}]
[null,null,null,null,null,null,null,null,null,null,null,null,null,null,null,null,null,null,null,null,{"$f":"IFERROR(VLOOKUP(T7011,Códigos!B:C,2,0),\" \")","v":" "}]
[null,null,null,null,null,null,null,null,null,null,null,null,null,null,null,null,null,null,null,null,{"$f":"IFERROR(VLOOKUP(T7014,Códigos!B:C,2,0),\" \")","v":" "}]
[null,null,null,null,null,null,null,null,null,null,null,null,null,null,null,null,null,null,null,null,{"$f":"IFERROR(VLOOKUP(T7030,Códigos!B:C,2,0),\" \")","v":" "}]
[null,null,null,null,null,null,null,null,null,null,null,null,null,null,null,null,null,null,null,null,{"$f":"IFERROR(VLOOKUP(T7033,Códigos!B:C,2,0),\" \")","v":" "}]
[null,null,null,null,null,null,null,null,null,null,null,null,null,null,null,null,null,null,null,null,{"$f":"IFERROR(VLOOKUP(T7042,Códigos!B:C,2,0),\" \")","v":" "}]
[null,null,null,null,null,null,null,null,null,null,null,null,null,null,null,null,null,null,null,null,{"$f":"IFERROR(VLOOKUP(T7051,Códigos!B:C,2,0),\" \")","v":" "}]
[null,null,null,null,null,null,null,null,null,null,null,null,null,null,null,null,null,null,null,null,{"$f":"IFERROR(VLOOKUP(T7063,Códigos!B:C,2,0),\" \")","v":" "}]
[null,null,null,null,null,null,null,null,null,null,null,null,null,null,null,null,null,null,null,null,{"$f":"IFERROR(VLOOKUP(T7070,Códigos!B:C,2,0),\" \")","v":" "}]
[null,null,null,null,null,null,null,null,null,null,null,null,null,null,null,null,null,null,null,null,{"$f":"IFERROR(VLOOKUP(T7081,Códigos!B:C,2,0),\" \")","v":" "}]
[null,null,null,null,null,null,null,null,null,null,null,null,null,null,null,null,null,null,null,null,{"$f":"IFERROR(VLOOKUP(T7084,Códigos!B:C,2,0),\" \")","v":" "}]
[null,null,null,null,null,null,null,null,null,null,null,null,null,null,null,null,null,null,null,null,{"$f":"IFERROR(VLOOKUP(T7100,Códigos!B:C,2,0),\" \")","v":" "}]
[null,null,null,null,null,null,null,null,null,null,null,null,null,null,null,null,null,null,null,null,{"$f":"IFERROR(VLOOKUP(T7103,Códigos!B:C,2,0),\" \")","v":" "}]
[null,null,null,null,null,null,null,null,null,null,null,null,null,null,null,null,null,null,null,null,{"$f":"IFERROR(VLOOKUP(T7112,Códigos!B:C,2,0),\" \")","v":" "}]
[null,null,null,null,null,null,null,null,null,null,null,null,null,null,null,null,null,null,null,null,{"$f":"IFERROR(VLOOKUP(T7121,Códigos!B:C,2,0),\" \")","v":" "}]
[null,null,null,null,null,null,null,null,null,null,null,null,null,null,null,null,null,null,null,null,{"$f":"IFERROR(VLOOKUP(T7133,Códigos!B:C,2,0),\" \")","v":" "}]
[null,null,null,null,null,null,null,null,null,null,null,null,null,null,null,null,null,null,null,null,{"$f":"IFERROR(VLOOKUP(T7140,Códigos!B:C,2,0),\" \")","v":" "}]
[null,null,null,null,null,null,null,null,null,null,null,null,null,null,null,null,null,null,null,null,{"$f":"IFERROR(VLOOKUP(T7151,Códigos!B:C,2,0),\" \")","v":" "}]
[null,null,null,null,null,null,null,null,null,null,null,null,null,null,null,null,null,null,null,null,{"$f":"IFERROR(VLOOKUP(T7154,Códigos!B:C,2,0),\" \")","v":" "}]
[null,null,null,null,null,null,null,null,null,null,null,null,null,null,null,null,null,null,null,null,{"$f":"IFERROR(VLOOKUP(T7170,Códigos!B:C,2,0),\" \")","v":" "}]
[null,null,null,null,null,null,null,null,null,null,null,null,null,null,null,null,null,null,null,null,{"$f":"IFERROR(VLOOKUP(T7173,Códigos!B:C,2,0),\" \")","v":" "}]
[null,null,null,null,null,null,null,null,null,null,null,null,null,null,null,null,null,null,null,null,{"$f":"IFERROR(VLOOKUP(T7182,Códigos!B:C,2,0),\" \")","v":" "}]
[null,null,null,null,null,null,null,null,null,null,null,null,null,null,null,null,null,null,null,null,{"$f":"IFERROR(VLOOKUP(T7191,Códigos!B:C,2,0),\" \")","v":" "}]
[null,null,null,null,null,null,null,null,null,null,null,null,null,null,null,null,null,null,null,null,{"$f":"IFERROR(VLOOKUP(T7203,Códigos!B:C,2,0),\" \")","v":" "}]
[null,null,null,null,null,null,null,null,null,null,null,null,null,null,null,null,null,null,null,null,{"$f":"IFERROR(VLOOKUP(T7210,Códigos!B:C,2,0),\" \")","v":" "}]
[null,null,null,null,null,null,null,null,null,null,null,null,null,null,null,null,null,null,null,null,{"$f":"IFERROR(VLOOKUP(T7221,Códigos!B:C,2,0),\" \")","v":" "}]
[null,null,null,null,null,null,null,null,null,null,null,null,null,null,null,null,null,null,null,null,{"$f":"IFERROR(VLOOKUP(T7228,Códigos!B:C,2,0),\" \")","v":" "}]
[null,null,null,null,null,null,null,null,null,null,null,null,null,null,null,null,null,null,null,null,{"$f":"IFERROR(VLOOKUP(T7240,Códigos!B:C,2,0),\" \")","v":" "}]
[null,null,null,null,null,null,null,null,null,null,null,null,null,null,null,null,null,null,null,null,{"$f":"IFERROR(VLOOKUP(T7243,Códigos!B:C,2,0),\" \")","v":" "}]
[null,null,null,null,null,null,null,null,null,null,null,null,null,null,null,null,null,null,null,null,{"$f":"IFERROR(VLOOKUP(T7252,Códigos!B:C,2,0),\" \")","v":" "}]
[null,null,null,null,null,null,null,null,null,null,null,null,null,null,null,null,null,null,null,null,{"$f":"IFERROR(VLOOKUP(T7261,Códigos!B:C,2,0),\" \")","v":" "}]
[null,null,null,null,null,null,null,null,null,null,null,null,null,null,null,null,null,null,null,null,{"$f":"IFERROR(VLOOKUP(T7273,Códigos!B:C,2,0),\" \")","v":" "}]
[null,null,null,null,null,null,null,null,null,null,null,null,null,null,null,null,null,null,null,null,{"$f":"IFERROR(VLOOKUP(T7280,Códigos!B:C,2,0),\" \")","v":" "}]
[null,null,null,null,null,null,null,null,null,null,null,null,null,null,null,null,null,null,null,null,{"$f":"IFERROR(VLOOKUP(T7291,Códigos!B:C,2,0),\" \")","v":" "}]
[null,null,null,null,null,null,null,null,null,null,null,null,null,null,null,null,null,null,null,null,{"$f":"IFERROR(VLOOKUP(T7298,Códigos!B:C,2,0),\" \")","v":" "}]
[null,null,null,null,null,null,null,null,null,null,null,null,null,null,null,null,null,null,null,null,{"$f":"IFERROR(VLOOKUP(T7310,Códigos!B:C,2,0),\" \")","v":" "}]
[null,null,null,null,null,null,null,null,null,null,null,null,null,null,null,null,null,null,null,null,{"$f":"IFERROR(VLOOKUP(T7313,Códigos!B:C,2,0),\" \")","v":" "}]
[null,null,null,null,null,null,null,null,null,null,null,null,null,null,null,null,null,null,null,null,{"$f":"IFERROR(VLOOKUP(T7322,Códigos!B:C,2,0),\" \")","v":" "}]
[null,null,null,null,null,null,null,null,null,null,null,null,null,null,null,null,null,null,null,null,{"$f":"IFERROR(VLOOKUP(T7331,Códigos!B:C,2,0),\" \")","v":" "}]
[null,null,null,null,null,null,null,null,null,null,null,null,null,null,null,null,null,null,null,null,{"$f":"IFERROR(VLOOKUP(T7343,Códigos!B:C,2,0),\" \")","v":" "}]
[null,null,null,null,null,null,null,null,null,null,null,null,null,null,null,null,null,null,null,null,{"$f":"IFERROR(VLOOKUP(T7350,Códigos!B:C,2,0),\" \")","v":" "}]
[null,null,null,null,null,null,null,null,null,null,null,null,null,null,null,null,null,null,null,null,{"$f":"IFERROR(VLOOKUP(T7361,Códigos!B:C,2,0),\" \")","v":" "}]
[null,null,null,null,null,null,null,null,null,null,null,null,null,null,null,null,null,null,null,null,{"$f":"IFERROR(VLOOKUP(T7368,Códigos!B:C,2,0),\" \")","v":" "}]
[null,null,null,null,null,null,null,null,null,null,null,null,null,null,null,null,null,null,null,null,{"$f":"IFERROR(VLOOKUP(T7380,Códigos!B:C,2,0),\" \")","v":" "}]
[null,null,null,null,null,null,null,null,null,null,null,null,null,null,null,null,null,null,null,null,{"$f":"IFERROR(VLOOKUP(T7383,Códigos!B:C,2,0),\" \")","v":" "}]
[null,null,null,null,null,null,null,null,null,null,null,null,null,null,null,null,null,null,null,null,{"$f":"IFERROR(VLOOKUP(T7392,Códigos!B:C,2,0),\" \")","v":" "}]
[null,null,null,null,null,null,null,null,null,null,null,null,null,null,null,null,null,null,null,null,{"$f":"IFERROR(VLOOKUP(T7401,Códigos!B:C,2,0),\" \")","v":" "}]
[null,null,null,null,null,null,null,null,null,null,null,null,null,null,null,null,null,null,null,null,{"$f":"IFERROR(VLOOKUP(T7408,Códigos!B:C,2,0),\" \")","v":" "}]
[null,null,null,null,null,null,null,null,null,null,null,null,null,null,null,null,null,null,null,null,{"$f":"IFERROR(VLOOKUP(T7420,Códigos!B:C,2,0),\" \")","v":" "}]
[null,null,null,null,null,null,null,null,null,null,null,null,null,null,null,null,null,null,null,null,{"$f":"IFERROR(VLOOKUP(T7431,Códigos!B:C,2,0),\" \")","v":" "}]
[null,null,null,null,null,null,null,null,null,null,null,null,null,null,null,null,null,null,null,null,{"$f":"IFERROR(VLOOKUP(T7438,Códigos!B:C,2,0),\" \")","v":" "}]
[null,null,null,null,null,null,null,null,null,null,null,null,null,null,null,null,null,null,null,null,{"$f":"IFERROR(VLOOKUP(T7450,Códigos!B:C,2,0),\" \")","v":" "}]
[null,null,null,null,null,null,null,null,null,null,null,null,null,null,null,null,null,null,null,null,{"$f":"IFERROR(VLOOKUP(T7453,Códigos!B:C,2,0),\" \")","v":" "}]
[null,null,null,null,null,null,null,null,null,null,null,null,null,null,null,null,null,null,null,null,{"$f":"IFERROR(VLOOKUP(T7462,Códigos!B:C,2,0),\" \")","v":" "}]
[null,null,null,null,null,null,null,null,null,null,null,null,null,null,null,null,null,null,null,null,{"$f":"IFERROR(VLOOKUP(T7471,Códigos!B:C,2,0),\" \")","v":" "}]
[null,null,null,null,null,null,null,null,null,null,null,null,null,null,null,null,null,null,null,null,{"$f":"IFERROR(VLOOKUP(T7478,Códigos!B:C,2,0),\" \")","v":" "}]
[null,null,null,null,null,null,null,null,null,null,null,null,null,null,null,null,null,null,null,null,{"$f":"IFERROR(VLOOKUP(T7490,Códigos!B:C,2,0),\" \")","v":" "}]
[null,null,null,null,null,null,null,null,null,null,null,null,null,null,null,null,null,null,null,null,{"$f":"IFERROR(VLOOKUP(T7501,Códigos!B:C,2,0),\" \")","v":" "}]
[null,null,null,null,null,null,null,null,null,null,null,null,null,null,null,null,null,null,null,null,{"$f":"IFERROR(VLOOKUP(T7508,Códigos!B:C,2,0),\" \")","v":" "}]
[null,null,null,null,null,null,null,null,null,null,null,null,null,null,null,null,null,null,null,null,{"$f":"IFERROR(VLOOKUP(T7520,Códigos!B:C,2,0),\" \")","v":" "}]
[null,null,null,null,null,null,null,null,null,null,null,null,null,null,null,null,null,null,null,null,{"$f":"IFERROR(VLOOKUP(T7527,Códigos!B:C,2,0),\" \")","v":" "}]
[null,null,null,null,null,null,null,null,null,null,null,null,null,null,null,null,null,null,null,null,{"$f":"IFERROR(VLOOKUP(T7532,Códigos!B:C,2,0),\" \")","v":" "}]
[null,null,null,null,null,null,null,null,null,null,null,null,null,null,null,null,null,null,null,null,{"$f":"IFERROR(VLOOKUP(T7541,Códigos!B:C,2,0),\" \")","v":" "}]
[null,null,null,null,null,null,null,null,null,null,null,null,null,null,null,null,null,null,null,null,{"$f":"IFERROR(VLOOKUP(T7548,Códigos!B:C,2,0),\" \")","v":" "}]
[null,null,null,null,null,null,null,null,null,null,null,null,null,null,null,null,null,null,null,null,{"$f":"IFERROR(VLOOKUP(T7560,Códigos!B:C,2,0),\" \")","v":" "}]
[null,null,null,null,null,null,null,null,null,null,null,null,null,null,null,null,null,null,null,null,{"$f":"IFERROR(VLOOKUP(T7571,Códigos!B:C,2,0),\" \")","v":" "}]
[null,null,null,null,null,null,null,null,null,null,null,null,null,null,null,null,null,null,null,null,{"$f":"IFERROR(VLOOKUP(T7578,Códigos!B:C,2,0),\" \")","v":" "}]
[null,null,null,null,null,null,null,null,null,null,null,null,null,null,null,null,null,null,null,null,{"$f":"IFERROR(VLOOKUP(T7590,Códigos!B:C,2,0),\" \")","v":" "}]
[null,null,null,null,null,null,null,null,null,null,null,null,null,null,null,null,null,null,null,null,{"$f":"IFERROR(VLOOKUP(T7597,Códigos!B:C,2,0),\" \")","v":" "}]
[null,null,null,null,null,null,null,null,null,null,null,null,null,null,null,null,null,null,null,null,{"$f":"IFERROR(VLOOKUP(T7602,Códigos!B:C,2,0),\" \")","v":" "}]
[null,null,null,null,null,null,null,null,null,null,null,null,null,null,null,null,null,null,null,null,{"$f":"IFERROR(VLOOKUP(T7611,Códigos!B:C,2,0),\" \")","v":" "}]
[null,null,null,null,null,null,null,null,null,null,null,null,null,null,null,null,null,null,null,null,{"$f":"IFERROR(VLOOKUP(T7618,Códigos!B:C,2,0),\" \")","v":" "}]
[null,null,null,null,null,null,null,null,null,null,null,null,null,null,null,null,null,null,null,null,{"$f":"IFERROR(VLOOKUP(T7630,Códigos!B:C,2,0),\" \")","v":" "}]
[null,null,null,null,null,null,null,null,null,null,null,null,null,null,null,null,null,null,null,null,{"$f":"IFERROR(VLOOKUP(T7641,Códigos!B:C,2,0),\" \")","v":" "}]
[null,null,null,null,null,null,null,null,null,null,null,null,null,null,null,null,null,null,null,null,{"$f":"IFERROR(VLOOKUP(T7648,Códigos!B:C,2,0),\" \")","v":" "}]
[null,null,null,null,null,null,null,null,null,null,null,null,null,null,null,null,null,null,null,null,{"$f":"IFERROR(VLOOKUP(T7660,Códigos!B:C,2,0),\" \")","v":" "}]
[null,null,null,null,null,null,null,null,null,null,null,null,null,null,null,null,null,null,null,null,{"$f":"IFERROR(VLOOKUP(T7667,Códigos!B:C,2,0),\" \")","v":" "}]
[null,null,null,null,null,null,null,null,null,null,null,null,null,null,null,null,null,null,null,null,{"$f":"IFERROR(VLOOKUP(T7672,Códigos!B:C,2,0),\" \")","v":" "}]
[null,null,null,null,null,null,null,null,null,null,null,null,null,null,null,null,null,null,null,null,{"$f":"IFERROR(VLOOKUP(T7681,Códigos!B:C,2,0),\" \")","v":" "}]
[null,null,null,null,null,null,null,null,null,null,null,null,null,null,null,null,null,null,null,null,{"$f":"IFERROR(VLOOKUP(T7688,Códigos!B:C,2,0),\" \")","v":" "}]
[null,null,null,null,null,null,null,null,null,null,null,null,null,null,null,null,null,null,null,null,{"$f":"IFERROR(VLOOKUP(T7700,Códigos!B:C,2,0),\" \")","v":" "}]
[null,null,null,null,null,null,null,null,null,null,null,null,null,null,null,null,null,null,null,null,{"$f":"IFERROR(VLOOKUP(T7711,Códigos!B:C,2,0),\" \")","v":" "}]
[null,null,null,null,null,null,null,null,null,null,null,null,null,null,null,null,null,null,null,null,{"$f":"IFERROR(VLOOKUP(T7718,Códigos!B:C,2,0),\" \")","v":" "}]
[null,null,null,null,null,null,null,null,null,null,null,null,null,null,null,null,null,null,null,null,{"$f":"IFERROR(VLOOKUP(T7730,Códigos!B:C,2,0),\" \")","v":" "}]
[null,null,null,null,null,null,null,null,null,null,null,null,null,null,null,null,null,null,null,null,{"$f":"IFERROR(VLOOKUP(T7737,Códigos!B:C,2,0),\" \")","v":" "}]
[null,null,null,null,null,null,null,null,null,null,null,null,null,null,null,null,null,null,null,null,{"$f":"IFERROR(VLOOKUP(T7742,Códigos!B:C,2,0),\" \")","v":" "}]
[null,null,null,null,null,null,null,null,null,null,null,null,null,null,null,null,null,null,null,null,{"$f":"IFERROR(VLOOKUP(T7751,Códigos!B:C,2,0),\" \")","v":" "}]
[null,null,null,null,null,null,null,null,null,null,null,null,null,null,null,null,null,null,null,null,{"$f":"IFERROR(VLOOKUP(T7758,Códigos!B:C,2,0),\" \")","v":" "}]
[null,null,null,null,null,null,null,null,null,null,null,null,null,null,null,null,null,null,null,null,{"$f":"IFERROR(VLOOKUP(T7770,Códigos!B:C,2,0),\" \")","v":" "}]
[null,null,null,null,null,null,null,null,null,null,null,null,null,null,null,null,null,null,null,null,{"$f":"IFERROR(VLOOKUP(T7781,Códigos!B:C,2,0),\" \")","v":" "}]
[null,null,null,null,null,null,null,null,null,null,null,null,null,null,null,null,null,null,null,null,{"$f":"IFERROR(VLOOKUP(T7788,Códigos!B:C,2,0),\" \")","v":" "}]
[null,null,null,null,null,null,null,null,null,null,null,null,null,null,null,null,null,null,null,null,{"$f":"IFERROR(VLOOKUP(T7800,Códigos!B:C,2,0),\" \")","v":" "}]
[null,null,null,null,null,null,null,null,null,null,null,null,null,null,null,null,null,null,null,null,{"$f":"IFERROR(VLOOKUP(T7807,Códigos!B:C,2,0),\" \")","v":" "}]
[null,null,null,null,null,null,null,null,null,null,null,null,null,null,null,null,null,null,null,null,{"$f":"IFERROR(VLOOKUP(T7812,Códigos!B:C,2,0),\" \")","v":" "}]
[null,null,null,null,null,null,null,null,null,null,null,null,null,null,null,null,null,null,null,null,{"$f":"IFERROR(VLOOKUP(T7825,Códigos!B:C,2,0),\" \")","v":" "}]
[null,null,null,null,null,null,null,null,null,null,null,null,null,null,null,null,null,null,null,null,{"$f":"IFERROR(VLOOKUP(T7828,Códigos!B:C,2,0),\" \")","v":" "}]
[null,null,null,null,null,null,null,null,null,null,null,null,null,null,null,null,null,null,null,null,{"$f":"IFERROR(VLOOKUP(T7840,Códigos!B:C,2,0),\" \")","v":" "}]
[null,null,null,null,null,null,null,null,null,null,null,null,null,null,null,null,null,null,null,null,{"$f":"IFERROR(VLOOKUP(T7851,Códigos!B:C,2,0),\" \")","v":" "}]
[null,null,null,null,null,null,null,null,null,null,null,null,null,null,null,null,null,null,null,null,{"$f":"IFERROR(VLOOKUP(T7858,Códigos!B:C,2,0),\" \")","v":" "}]
[null,null,null,null,null,null,null,null,null,null,null,null,null,null,null,null,null,null,null,null,{"$f":"IFERROR(VLOOKUP(T7870,Códigos!B:C,2,0),\" \")","v":" "}]
[null,null,null,null,null,null,null,null,null,null,null,null,null,null,null,null,null,null,null,null,{"$f":"IFERROR(VLOOKUP(T7877,Códigos!B:C,2,0),\" \")","v":" "}]
[null,null,null,null,null,null,null,null,null,null,null,null,null,null,null,null,null,null,null,null,{"$f":"IFERROR(VLOOKUP(T7882,Códigos!B:C,2,0),\" \")","v":" "}]
[null,null,null,null,null,null,null,null,null,null,null,null,null,null,null,null,null,null,null,null,{"$f":"IFERROR(VLOOKUP(T7895,Códigos!B:C,2,0),\" \")","v":" "}]
[null,null,null,null,null,null,null,null,null,null,null,null,null,null,null,null,null,null,null,null,{"$f":"IFERROR(VLOOKUP(T7898,Códigos!B:C,2,0),\" \")","v":" "}]
[null,null,null,null,null,null,null,null,null,null,null,null,null,null,null,null,null,null,null,null,{"$f":"IFERROR(VLOOKUP(T7910,Códigos!B:C,2,0),\" \")","v":" "}]
[null,null,null,null,null,null,null,null,null,null,null,null,null,null,null,null,null,null,null,null,{"$f":"IFERROR(VLOOKUP(T7921,Códigos!B:C,2,0),\" \")","v":" "}]
[null,null,null,null,null,null,null,null,null,null,null,null,null,null,null,null,null,null,null,null,{"$f":"IFERROR(VLOOKUP(T7928,Códigos!B:C,2,0),\" \")","v":" "}]
[null,null,null,null,null,null,null,null,null,null,null,null,null,null,null,null,null,null,null,null,{"$f":"IFERROR(VLOOKUP(T7940,Códigos!B:C,2,0),\" \")","v":" "}]
[null,null,null,null,null,null,null,null,null,null,null,null,null,null,null,null,null,null,null,null,{"$f":"IFERROR(VLOOKUP(T7947,Códigos!B:C,2,0),\" \")","v":" "}]
[null,null,null,null,null,null,null,null,null,null,null,null,null,null,null,null,null,null,null,null,{"$f":"IFERROR(VLOOKUP(T7952,Códigos!B:C,2,0),\" \")","v":" "}]
[null,null,null,null,null,null,null,null,null,null,null,null,null,null,null,null,null,null,null,null,{"$f":"IFERROR(VLOOKUP(T7965,Códigos!B:C,2,0),\" \")","v":" "}]
[null,null,null,null,null,null,null,null,null,null,null,null,null,null,null,null,null,null,null,null,{"$f":"IFERROR(VLOOKUP(T7968,Códigos!B:C,2,0),\" \")","v":" "}]
[null,null,null,null,null,null,null,null,null,null,null,null,null,null,null,null,null,null,null,null,{"$f":"IFERROR(VLOOKUP(T7980,Códigos!B:C,2,0),\" \")","v":" "}]
[null,null,null,null,null,null,null,null,null,null,null,null,null,null,null,null,null,null,null,null,{"$f":"IFERROR(VLOOKUP(T7991,Códigos!B:C,2,0),\" \")","v":" "}]
[null,null,null,null,null,null,null,null,null,null,null,null,null,null,null,null,null,null,null,null,{"$f":"IFERROR(VLOOKUP(T7998,Códigos!B:C,2,0),\" \")","v":" "}]
[null,null,null,null,null,null,null,null,null,null,null,null,null,null,null,null,null,null,null,null,{"$f":"IFERROR(VLOOKUP(T8005,Códigos!B:C,2,0),\" \")","v":" "}]
[null,null,null,null,null,null,null,null,null,null,null,null,null,null,null,null,null,null,null,null,{"$f":"IFERROR(VLOOKUP(T8017,Códigos!B:C,2,0),\" \")","v":" "}]
[null,null,null,null,null,null,null,null,null,null,null,null,null,null,null,null,null,null,null,null,{"$f":"IFERROR(VLOOKUP(T8022,Códigos!B:C,2,0),\" \")","v":" "}]
[null,null,null,null,null,null,null,null,null,null,null,null,null,null,null,null,null,null,null,null,{"$f":"IFERROR(VLOOKUP(T8035,Códigos!B:C,2,0),\" \")","v":" "}]
[null,null,null,null,null,null,null,null,null,null,null,null,null,null,null,null,null,null,null,null,{"$f":"IFERROR(VLOOKUP(T8038,Códigos!B:C,2,0),\" \")","v":" "}]
[null,null,null,null,null,null,null,null,null,null,null,null,null,null,null,null,null,null,null,null,{"$f":"IFERROR(VLOOKUP(T8050,Códigos!B:C,2,0),\" \")","v":" "}]
[null,null,null,null,null,null,null,null,null,null,null,null,null,null,null,null,null,null,null,null,{"$f":"IFERROR(VLOOKUP(T8061,Códigos!B:C,2,0),\" \")","v":" "}]
[null,null,null,null,null,null,null,null,null,null,null,null,null,null,null,null,null,null,null,null,{"$f":"IFERROR(VLOOKUP(T8068,Códigos!B:C,2,0),\" \")","v":" "}]
[null,null,null,null,null,null,null,null,null,null,null,null,null,null,null,null,null,null,null,null,{"$f":"IFERROR(VLOOKUP(T8075,Códigos!B:C,2,0),\" \")","v":" "}]
[null,null,null,null,null,null,null,null,null,null,null,null,null,null,null,null,null,null,null,null,{"$f":"IFERROR(VLOOKUP(T8087,Códigos!B:C,2,0),\" \")","v":" "}]
[null,null,null,null,null,null,null,null,null,null,null,null,null,null,null,null,null,null,null,null,{"$f":"IFERROR(VLOOKUP(T8092,Códigos!B:C,2,0),\" \")","v":" "}]
[null,null,null,null,null,null,null,null,null,null,null,null,null,null,null,null,null,null,null,null,{"$f":"IFERROR(VLOOKUP(T8105,Códigos!B:C,2,0),\" \")","v":" "}]
[null,null,null,null,null,null,null,null,null,null,null,null,null,null,null,null,null,null,null,null,{"$f":"IFERROR(VLOOKUP(T8108,Códigos!B:C,2,0),\" \")","v":" "}]
[null,null,null,null,null,null,null,null,null,null,null,null,null,null,null,null,null,null,null,null,{"$f":"IFERROR(VLOOKUP(T8120,Códigos!B:C,2,0),\" \")","v":" "}]
[null,null,null,null,null,null,null,null,null,null,null,null,null,null,null,null,null,null,null,null,{"$f":"IFERROR(VLOOKUP(T8131,Códigos!B:C,2,0),\" \")","v":" "}]
[null,null,null,null,null,null,null,null,null,null,null,null,null,null,null,null,null,null,null,null,{"$f":"IFERROR(VLOOKUP(T8138,Códigos!B:C,2,0),\" \")","v":" "}]
[null,null,null,null,null,null,null,null,null,null,null,null,null,null,null,null,null,null,null,null,{"$f":"IFERROR(VLOOKUP(T8145,Códigos!B:C,2,0),\" \")","v":" "}]
[null,null,null,null,null,null,null,null,null,null,null,null,null,null,null,null,null,null,null,null,{"$f":"IFERROR(VLOOKUP(T8157,Códigos!B:C,2,0),\" \")","v":" "}]
[null,null,null,null,null,null,null,null,null,null,null,null,null,null,null,null,null,null,null,null,{"$f":"IFERROR(VLOOKUP(T8162,Códigos!B:C,2,0),\" \")","v":" "}]
[null,null,null,null,null,null,null,null,null,null,null,null,null,null,null,null,null,null,null,null,{"$f":"IFERROR(VLOOKUP(T8175,Códigos!B:C,2,0),\" \")","v":" "}]
[null,null,null,null,null,null,null,null,null,null,null,null,null,null,null,null,null,null,null,null,{"$f":"IFERROR(VLOOKUP(T8178,Códigos!B:C,2,0),\" \")","v":" "}]
[null,null,null,null,null,null,null,null,null,null,null,null,null,null,null,null,null,null,null,null,{"$f":"IFERROR(VLOOKUP(T8194,Códigos!B:C,2,0),\" \")","v":" "}]
[null,null,null,null,null,null,null,null,null,null,null,null,null,null,null,null,null,null,null,null,{"$f":"IFERROR(VLOOKUP(T8201,Códigos!B:C,2,0),\" \")","v":" "}]
[null,null,null,null,null,null,null,null,null,null,null,null,null,null,null,null,null,null,null,null,{"$f":"IFERROR(VLOOKUP(T8208,Códigos!B:C,2,0),\" \")","v":" "}]
[null,null,null,null,null,null,null,null,null,null,null,null,null,null,null,null,null,null,null,null,{"$f":"IFERROR(VLOOKUP(T8215,Códigos!B:C,2,0),\" \")","v":" "}]
[null,null,null,null,null,null,null,null,null,null,null,null,null,null,null,null,null,null,null,null,{"$f":"IFERROR(VLOOKUP(T8227,Códigos!B:C,2,0),\" \")","v":" "}]
[null,null,null,null,null,null,null,null,null,null,null,null,null,null,null,null,null,null,null,null,{"$f":"IFERROR(VLOOKUP(T8232,Códigos!B:C,2,0),\" \")","v":" "}]
[null,null,null,null,null,null,null,null,null,null,null,null,null,null,null,null,null,null,null,null,{"$f":"IFERROR(VLOOKUP(T8245,Códigos!B:C,2,0),\" \")","v":" "}]
[null,null,null,null,null,null,null,null,null,null,null,null,null,null,null,null,null,null,null,null,{"$f":"IFERROR(VLOOKUP(T8248,Códigos!B:C,2,0),\" \")","v":" "}]
[null,null,null,null,null,null,null,null,null,null,null,null,null,null,null,null,null,null,null,null,{"$f":"IFERROR(VLOOKUP(T8264,Códigos!B:C,2,0),\" \")","v":" "}]
[null,null,null,null,null,null,null,null,null,null,null,null,null,null,null,null,null,null,null,null,{"$f":"IFERROR(VLOOKUP(T8271,Códigos!B:C,2,0),\" \")","v":" "}]
[null,null,null,null,null,null,null,null,null,null,null,null,null,null,null,null,null,null,null,null,{"$f":"IFERROR(VLOOKUP(T8278,Códigos!B:C,2,0),\" \")","v":" "}]
[null,null,null,null,null,null,null,null,null,null,null,null,null,null,null,null,null,null,null,null,{"$f":"IFERROR(VLOOKUP(T8285,Códigos!B:C,2,0),\" \")","v":" "}]
[null,null,null,null,null,null,null,null,null,null,null,null,null,null,null,null,null,null,null,null,{"$f":"IFERROR(VLOOKUP(T8297,Códigos!B:C,2,0),\" \")","v":" "}]
[null,null,null,null,null,null,null,null,null,null,null,null,null,null,null,null,null,null,null,null,{"$f":"IFERROR(VLOOKUP(T8302,Códigos!B:C,2,0),\" \")","v":" "}]
[null,null,null,null,null,null,null,null,null,null,null,null,null,null,null,null,null,null,null,null,{"$f":"IFERROR(VLOOKUP(T8315,Códigos!B:C,2,0),\" \")","v":" "}]
[null,null,null,null,null,null,null,null,null,null,null,null,null,null,null,null,null,null,null,null,{"$f":"IFERROR(VLOOKUP(T8318,Códigos!B:C,2,0),\" \")","v":" "}]
[null,null,null,null,null,null,null,null,null,null,null,null,null,null,null,null,null,null,null,null,{"$f":"IFERROR(VLOOKUP(T8334,Códigos!B:C,2,0),\" \")","v":" "}]
[null,null,null,null,null,null,null,null,null,null,null,null,null,null,null,null,null,null,null,null,{"$f":"IFERROR(VLOOKUP(T8341,Códigos!B:C,2,0),\" \")","v":" "}]
[null,null,null,null,null,null,null,null,null,null,null,null,null,null,null,null,null,null,null,null,{"$f":"IFERROR(VLOOKUP(T8348,Códigos!B:C,2,0),\" \")","v":" "}]
[null,null,null,null,null,null,null,null,null,null,null,null,null,null,null,null,null,null,null,null,{"$f":"IFERROR(VLOOKUP(T8355,Códigos!B:C,2,0),\" \")","v":" "}]
[null,null,null,null,null,null,null,null,null,null,null,null,null,null,null,null,null,null,null,null,{"$f":"IFERROR(VLOOKUP(T8367,Códigos!B:C,2,0),\" \")","v":" "}]
[null,null,null,null,null,null,null,null,null,null,null,null,null,null,null,null,null,null,null,null,{"$f":"IFERROR(VLOOKUP(T8372,Códigos!B:C,2,0),\" \")","v":" "}]
[null,null,null,null,null,null,null,null,null,null,null,null,null,null,null,null,null,null,null,null,{"$f":"IFERROR(VLOOKUP(T8385,Códigos!B:C,2,0),\" \")","v":" "}]
[null,null,null,null,null,null,null,null,null,null,null,null,null,null,null,null,null,null,null,null,{"$f":"IFERROR(VLOOKUP(T8388,Códigos!B:C,2,0),\" \")","v":" "}]
[null,null,null,null,null,null,null,null,null,null,null,null,null,null,null,null,null,null,null,null,{"$f":"IFERROR(VLOOKUP(T8404,Códigos!B:C,2,0),\" \")","v":" "}]
[null,null,null,null,null,null,null,null,null,null,null,null,null,null,null,null,null,null,null,null,{"$f":"IFERROR(VLOOKUP(T8411,Códigos!B:C,2,0),\" \")","v":" "}]
[null,null,null,null,null,null,null,null,null,null,null,null,null,null,null,null,null,null,null,null,{"$f":"IFERROR(VLOOKUP(T8418,Códigos!B:C,2,0),\" \")","v":" "}]
[null,null,null,null,null,null,null,null,null,null,null,null,null,null,null,null,null,null,null,null,{"$f":"IFERROR(VLOOKUP(T8425,Códigos!B:C,2,0),\" \")","v":" "}]
[null,null,null,null,null,null,null,null,null,null,null,null,null,null,null,null,null,null,null,null,{"$f":"IFERROR(VLOOKUP(T8437,Códigos!B:C,2,0),\" \")","v":" "}]
[null,null,null,null,null,null,null,null,null,null,null,null,null,null,null,null,null,null,null,null,{"$f":"IFERROR(VLOOKUP(T8442,Códigos!B:C,2,0),\" \")","v":" "}]
[null,null,null,null,null,null,null,null,null,null,null,null,null,null,null,null,null,null,null,null,{"$f":"IFERROR(VLOOKUP(T8455,Códigos!B:C,2,0),\" \")","v":" "}]
[null,null,null,null,null,null,null,null,null,null,null,null,null,null,null,null,null,null,null,null,{"$f":"IFERROR(VLOOKUP(T8458,Códigos!B:C,2,0),\" \")","v":" "}]
[null,null,null,null,null,null,null,null,null,null,null,null,null,null,null,null,null,null,null,null,{"$f":"IFERROR(VLOOKUP(T8474,Códigos!B:C,2,0),\" \")","v":" "}]
[null,null,null,null,null,null,null,null,null,null,null,null,null,null,null,null,null,null,null,null,{"$f":"IFERROR(VLOOKUP(T8481,Códigos!B:C,2,0),\" \")","v":" "}]
[null,null,null,null,null,null,null,null,null,null,null,null,null,null,null,null,null,null,null,null,{"$f":"IFERROR(VLOOKUP(T8492,Códigos!B:C,2,0),\" \")","v":" "}]
[null,null,null,null,null,null,null,null,null,null,null,null,null,null,null,null,null,null,null,null,{"$f":"IFERROR(VLOOKUP(T8495,Códigos!B:C,2,0),\" \")","v":" "}]
[null,null,null,null,null,null,null,null,null,null,null,null,null,null,null,null,null,null,null,null,{"$f":"IFERROR(VLOOKUP(T8507,Códigos!B:C,2,0),\" \")","v":" "}]
[null,null,null,null,null,null,null,null,null,null,null,null,null,null,null,null,null,null,null,null,{"$f":"IFERROR(VLOOKUP(T8512,Códigos!B:C,2,0),\" \")","v":" "}]
[null,null,null,null,null,null,null,null,null,null,null,null,null,null,null,null,null,null,null,null,{"$f":"IFERROR(VLOOKUP(T8525,Códigos!B:C,2,0),\" \")","v":" "}]
[null,null,null,null,null,null,null,null,null,null,null,null,null,null,null,null,null,null,null,null,{"$f":"IFERROR(VLOOKUP(T8528,Códigos!B:C,2,0),\" \")","v":" "}]
[null,null,null,null,null,null,null,null,null,null,null,null,null,null,null,null,null,null,null,null,{"$f":"IFERROR(VLOOKUP(T8544,Códigos!B:C,2,0),\" \")","v":" "}]
[null,null,null,null,null,null,null,null,null,null,null,null,null,null,null,null,null,null,null,null,{"$f":"IFERROR(VLOOKUP(T8551,Códigos!B:C,2,0),\" \")","v":" "}]
[null,null,null,null,null,null,null,null,null,null,null,null,null,null,null,null,null,null,null,null,{"$f":"IFERROR(VLOOKUP(T8562,Códigos!B:C,2,0),\" \")","v":" "}]
[null,null,null,null,null,null,null,null,null,null,null,null,null,null,null,null,null,null,null,null,{"$f":"IFERROR(VLOOKUP(T8565,Códigos!B:C,2,0),\" \")","v":" "}]
[null,null,null,null,null,null,null,null,null,null,null,null,null,null,null,null,null,null,null,null,{"$f":"IFERROR(VLOOKUP(T8577,Códigos!B:C,2,0),\" \")","v":" "}]
[null,null,null,null,null,null,null,null,null,null,null,null,null,null,null,null,null,null,null,null,{"$f":"IFERROR(VLOOKUP(T8582,Códigos!B:C,2,0),\" \")","v":" "}]
[null,null,null,null,null,null,null,null,null,null,null,null,null,null,null,null,null,null,null,null,{"$f":"IFERROR(VLOOKUP(T8595,Códigos!B:C,2,0),\" \")","v":" "}]
[null,null,null,null,null,null,null,null,null,null,null,null,null,null,null,null,null,null,null,null,{"$f":"IFERROR(VLOOKUP(T8602,Códigos!B:C,2,0),\" \")","v":" "}]
[null,null,null,null,null,null,null,null,null,null,null,null,null,null,null,null,null,null,null,null,{"$f":"IFERROR(VLOOKUP(T8614,Códigos!B:C,2,0),\" \")","v":" "}]
[null,null,null,null,null,null,null,null,null,null,null,null,null,null,null,null,null,null,null,null,{"$f":"IFERROR(VLOOKUP(T8621,Códigos!B:C,2,0),\" \")","v":" "}]
[null,null,null,null,null,null,null,null,null,null,null,null,null,null,null,null,null,null,null,null,{"$f":"IFERROR(VLOOKUP(T8632,Códigos!B:C,2,0),\" \")","v":" "}]
[null,null,null,null,null,null,null,null,null,null,null,null,null,null,null,null,null,null,null,null,{"$f":"IFERROR(VLOOKUP(T8635,Códigos!B:C,2,0),\" \")","v":" "}]
[null,null,null,null,null,null,null,null,null,null,null,null,null,null,null,null,null,null,null,null,{"$f":"IFERROR(VLOOKUP(T8647,Códigos!B:C,2,0),\" \")","v":" "}]
[null,null,null,null,null,null,null,null,null,null,null,null,null,null,null,null,null,null,null,null,{"$f":"IFERROR(VLOOKUP(T8652,Códigos!B:C,2,0),\" \")","v":" "}]
[null,null,null,null,null,null,null,null,null,null,null,null,null,null,null,null,null,null,null,null,{"$f":"IFERROR(VLOOKUP(T8665,Códigos!B:C,2,0),\" \")","v":" "}]
[null,null,null,null,null,null,null,null,null,null,null,null,null,null,null,null,null,null,null,null,{"$f":"IFERROR(VLOOKUP(T8672,Códigos!B:C,2,0),\" \")","v":" "}]
[null,null,null,null,null,null,null,null,null,null,null,null,null,null,null,null,null,null,null,null,{"$f":"IFERROR(VLOOKUP(T8684,Códigos!B:C,2,0),\" \")","v":" "}]
[null,null,null,null,null,null,null,null,null,null,null,null,null,null,null,null,null,null,null,null,{"$f":"IFERROR(VLOOKUP(T8691,Códigos!B:C,2,0),\" \")","v":" "}]
[null,null,null,null,null,null,null,null,null,null,null,null,null,null,null,null,null,null,null,null,{"$f":"IFERROR(VLOOKUP(T8702,Códigos!B:C,2,0),\" \")","v":" "}]
[null,null,null,null,null,null,null,null,null,null,null,null,null,null,null,null,null,null,null,null,{"$f":"IFERROR(VLOOKUP(T8705,Códigos!B:C,2,0),\" \")","v":" "}]
[null,null,null,null,null,null,null,null,null,null,null,null,null,null,null,null,null,null,null,null,{"$f":"IFERROR(VLOOKUP(T8717,Códigos!B:C,2,0),\" \")","v":" "}]
[null,null,null,null,null,null,null,null,null,null,null,null,null,null,null,null,null,null,null,null,{"$f":"IFERROR(VLOOKUP(T8722,Códigos!B:C,2,0),\" \")","v":" "}]
[null,null,null,null,null,null,null,null,null,null,null,null,null,null,null,null,null,null,null,null,{"$f":"IFERROR(VLOOKUP(T8735,Códigos!B:C,2,0),\" \")","v":" "}]
[null,null,null,null,null,null,null,null,null,null,null,null,null,null,null,null,null,null,null,null,{"$f":"IFERROR(VLOOKUP(T8742,Códigos!B:C,2,0),\" \")","v":" "}]
[null,null,null,null,null,null,null,null,null,null,null,null,null,null,null,null,null,null,null,null,{"$f":"IFERROR(VLOOKUP(T8754,Códigos!B:C,2,0),\" \")","v":" "}]
[null,null,null,null,null,null,null,null,null,null,null,null,null,null,null,null,null,null,null,null,{"$f":"IFERROR(VLOOKUP(T8761,Códigos!B:C,2,0),\" \")","v":" "}]
[null,null,null,null,null,null,null,null,null,null,null,null,null,null,null,null,null,null,null,null,{"$f":"IFERROR(VLOOKUP(T8772,Códigos!B:C,2,0),\" \")","v":" "}]
[null,null,null,null,null,null,null,null,null,null,null,null,null,null,null,null,null,null,null,null,{"$f":"IFERROR(VLOOKUP(T8775,Códigos!B:C,2,0),\" \")","v":" "}]
[null,null,null,null,null,null,null,null,null,null,null,null,null,null,null,null,null,null,null,null,{"$f":"IFERROR(VLOOKUP(T8782,Códigos!B:C,2,0),\" \")","v":" "}]
[null,null,null,null,null,null,null,null,null,null,null,null,null,null,null,null,null,null,null,null,{"$f":"IFERROR(VLOOKUP(T8792,Códigos!B:C,2,0),\" \")","v":" "}]
[null,null,null,null,null,null,null,null,null,null,null,null,null,null,null,null,null,null,null,null,{"$f":"IFERROR(VLOOKUP(T8805,Códigos!B:C,2,0),\" \")","v":" "}]
[null,null,null,null,null,null,null,null,null,null,null,null,null,null,null,null,null,null,null,null,{"$f":"IFERROR(VLOOKUP(T8812,Códigos!B:C,2,0),\" \")","v":" "}]
[null,null,null,null,null,null,null,null,null,null,null,null,null,null,null,null,null,null,null,null,{"$f":"IFERROR(VLOOKUP(T8824,Códigos!B:C,2,0),\" \")","v":" "}]
[null,null,null,null,null,null,null,null,null,null,null,null,null,null,null,null,null,null,null,null,{"$f":"IFERROR(VLOOKUP(T8831,Códigos!B:C,2,0),\" \")","v":" "}]
[null,null,null,null,null,null,null,null,null,null,null,null,null,null,null,null,null,null,null,null,{"$f":"IFERROR(VLOOKUP(T8842,Códigos!B:C,2,0),\" \")","v":" "}]
[null,null,null,null,null,null,null,null,null,null,null,null,null,null,null,null,null,null,null,null,{"$f":"IFERROR(VLOOKUP(T8845,Códigos!B:C,2,0),\" \")","v":" "}]
[null,null,null,null,null,null,null,null,null,null,null,null,null,null,null,null,null,null,null,null,{"$f":"IFERROR(VLOOKUP(T8852,Códigos!B:C,2,0),\" \")","v":" "}]
[null,null,null,null,null,null,null,null,null,null,null,null,null,null,null,null,null,null,null,null,{"$f":"IFERROR(VLOOKUP(T8862,Códigos!B:C,2,0),\" \")","v":" "}]
[null,null,null,null,null,null,null,null,null,null,null,null,null,null,null,null,null,null,null,null,{"$f":"IFERROR(VLOOKUP(T8875,Códigos!B:C,2,0),\" \")","v":" "}]
[null,null,null,null,null,null,null,null,null,null,null,null,null,null,null,null,null,null,null,null,{"$f":"IFERROR(VLOOKUP(T8882,Códigos!B:C,2,0),\" \")","v":" "}]
[null,null,null,null,null,null,null,null,null,null,null,null,null,null,null,null,null,null,null,null,{"$f":"IFERROR(VLOOKUP(T8894,Códigos!B:C,2,0),\" \")","v":" "}]
[null,null,null,null,null,null,null,null,null,null,null,null,null,null,null,null,null,null,null,null,{"$f":"IFERROR(VLOOKUP(T8901,Códigos!B:C,2,0),\" \")","v":" "}]
[null,null,null,null,null,null,null,null,null,null,null,null,null,null,null,null,null,null,null,null,{"$f":"IFERROR(VLOOKUP(T8912,Códigos!B:C,2,0),\" \")","v":" "}]
[null,null,null,null,null,null,null,null,null,null,null,null,null,null,null,null,null,null,null,null,{"$f":"IFERROR(VLOOKUP(T8915,Códigos!B:C,2,0),\" \")","v":" "}]
[null,null,null,null,null,null,null,null,null,null,null,null,null,null,null,null,null,null,null,null,{"$f":"IFERROR(VLOOKUP(T8922,Códigos!B:C,2,0),\" \")","v":" "}]
[null,null,null,null,null,null,null,null,null,null,null,null,null,null,null,null,null,null,null,null,{"$f":"IFERROR(VLOOKUP(T8932,Códigos!B:C,2,0),\" \")","v":" "}]
[null,null,null,null,null,null,null,null,null,null,null,null,null,null,null,null,null,null,null,null,{"$f":"IFERROR(VLOOKUP(T8945,Códigos!B:C,2,0),\" \")","v":" "}]
[null,null,null,null,null,null,null,null,null,null,null,null,null,null,null,null,null,null,null,null,{"$f":"IFERROR(VLOOKUP(T8952,Códigos!B:C,2,0),\" \")","v":" "}]
[null,null,null,null,null,null,null,null,null,null,null,null,null,null,null,null,null,null,null,null,{"$f":"IFERROR(VLOOKUP(T8964,Códigos!B:C,2,0),\" \")","v":" "}]
[null,null,null,null,null,null,null,null,null,null,null,null,null,null,null,null,null,null,null,null,{"$f":"IFERROR(VLOOKUP(T8971,Códigos!B:C,2,0),\" \")","v":" "}]
[null,null,null,null,null,null,null,null,null,null,null,null,null,null,null,null,null,null,null,null,{"$f":"IFERROR(VLOOKUP(T8982,Códigos!B:C,2,0),\" \")","v":" "}]
[null,null,null,null,null,null,null,null,null,null,null,null,null,null,null,null,null,null,null,null,{"$f":"IFERROR(VLOOKUP(T8985,Códigos!B:C,2,0),\" \")","v":" "}]
[null,null,null,null,null,null,null,null,null,null,null,null,null,null,null,null,null,null,null,null,{"$f":"IFERROR(VLOOKUP(T8992,Códigos!B:C,2,0),\" \")","v":" "}]
[null,null,null,null,null,null,null,null,null,null,null,null,null,null,null,null,null,null,null,null,{"$f":"IFERROR(VLOOKUP(T9002,Códigos!B:C,2,0),\" \")","v":" "}]
[null,null,null,null,null,null,null,null,null,null,null,null,null,null,null,null,null,null,null,null,{"$f":"IFERROR(VLOOKUP(T9015,Códigos!B:C,2,0),\" \")","v":" "}]
[null,null,null,null,null,null,null,null,null,null,null,null,null,null,null,null,null,null,null,null,{"$f":"IFERROR(VLOOKUP(T9022,Códigos!B:C,2,0),\" \")","v":" "}]
[null,null,null,null,null,null,null,null,null,null,null,null,null,null,null,null,null,null,null,null,{"$f":"IFERROR(VLOOKUP(T9034,Códigos!B:C,2,0),\" \")","v":" "}]
[null,null,null,null,null,null,null,null,null,null,null,null,null,null,null,null,null,null,null,null,{"$f":"IFERROR(VLOOKUP(T9041,Códigos!B:C,2,0),\" \")","v":" "}]
[null,null,null,null,null,null,null,null,null,null,null,null,null,null,null,null,null,null,null,null,{"$f":"IFERROR(VLOOKUP(T9052,Códigos!B:C,2,0),\" \")","v":" "}]
[null,null,null,null,null,null,null,null,null,null,null,null,null,null,null,null,null,null,null,null,{"$f":"IFERROR(VLOOKUP(T9055,Códigos!B:C,2,0),\" \")","v":" "}]
[null,null,null,null,null,null,null,null,null,null,null,null,null,null,null,null,null,null,null,null,{"$f":"IFERROR(VLOOKUP(T9062,Códigos!B:C,2,0),\" \")","v":" "}]
[null,null,null,null,null,null,null,null,null,null,null,null,null,null,null,null,null,null,null,null,{"$f":"IFERROR(VLOOKUP(T9072,Códigos!B:C,2,0),\" \")","v":" "}]
[null,null,null,null,null,null,null,null,null,null,null,null,null,null,null,null,null,null,null,null,{"$f":"IFERROR(VLOOKUP(T9080,Códigos!B:C,2,0),\" \")","v":" "}]
[null,null,null,null,null,null,null,null,null,null,null,null,null,null,null,null,null,null,null,null,{"$f":"IFERROR(VLOOKUP(T9092,Códigos!B:C,2,0),\" \")","v":" "}]
[null,null,null,null,null,null,null,null,null,null,null,null,null,null,null,null,null,null,null,null,{"$f":"IFERROR(VLOOKUP(T9104,Códigos!B:C,2,0),\" \")","v":" "}]
[null,null,null,null,null,null,null,null,null,null,null,null,null,null,null,null,null,null,null,null,{"$f":"IFERROR(VLOOKUP(T9111,Códigos!B:C,2,0),\" \")","v":" "}]
[null,null,null,null,null,null,null,null,null,null,null,null,null,null,null,null,null,null,null,null,{"$f":"IFERROR(VLOOKUP(T9122,Códigos!B:C,2,0),\" \")","v":" "}]
[null,null,null,null,null,null,null,null,null,null,null,null,null,null,null,null,null,null,null,null,{"$f":"IFERROR(VLOOKUP(T9125,Códigos!B:C,2,0),\" \")","v":" "}]
[null,null,null,null,null,null,null,null,null,null,null,null,null,null,null,null,null,null,null,null,{"$f":"IFERROR(VLOOKUP(T9132,Códigos!B:C,2,0),\" \")","v":" "}]
[null,null,null,null,null,null,null,null,null,null,null,null,null,null,null,null,null,null,null,null,{"$f":"IFERROR(VLOOKUP(T9142,Códigos!B:C,2,0),\" \")","v":" "}]
[null,null,null,null,null,null,null,null,null,null,null,null,null,null,null,null,null,null,null,null,{"$f":"IFERROR(VLOOKUP(T9150,Códigos!B:C,2,0),\" \")","v":" "}]
[null,null,null,null,null,null,null,null,null,null,null,null,null,null,null,null,null,null,null,null,{"$f":"IFERROR(VLOOKUP(T9162,Códigos!B:C,2,0),\" \")","v":" "}]
[null,null,null,null,null,null,null,null,null,null,null,null,null,null,null,null,null,null,null,null,{"$f":"IFERROR(VLOOKUP(T9174,Códigos!B:C,2,0),\" \")","v":" "}]
[null,null,null,null,null,null,null,null,null,null,null,null,null,null,null,null,null,null,null,null,{"$f":"IFERROR(VLOOKUP(T9181,Códigos!B:C,2,0),\" \")","v":" "}]
[null,null,null,null,null,null,null,null,null,null,null,null,null,null,null,null,null,null,null,null,{"$f":"IFERROR(VLOOKUP(T9192,Códigos!B:C,2,0),\" \")","v":" "}]
[null,null,null,null,null,null,null,null,null,null,null,null,null,null,null,null,null,null,null,null,{"$f":"IFERROR(VLOOKUP(T9195,Códigos!B:C,2,0),\" \")","v":" "}]
[null,null,null,null,null,null,null,null,null,null,null,null,null,null,null,null,null,null,null,null,{"$f":"IFERROR(VLOOKUP(T9202,Códigos!B:C,2,0),\" \")","v":" "}]
[null,null,null,null,null,null,null,null,null,null,null,null,null,null,null,null,null,null,null,null,{"$f":"IFERROR(VLOOKUP(T9212,Códigos!B:C,2,0),\" \")","v":" "}]
[null,null,null,null,null,null,null,null,null,null,null,null,null,null,null,null,null,null,null,null,{"$f":"IFERROR(VLOOKUP(T9220,Códigos!B:C,2,0),\" \")","v":" "}]
[null,null,null,null,null,null,null,null,null,null,null,null,null,null,null,null,null,null,null,null,{"$f":"IFERROR(VLOOKUP(T9232,Códigos!B:C,2,0),\" \")","v":" "}]
[null,null,null,null,null,null,null,null,null,null,null,null,null,null,null,null,null,null,null,null,{"$f":"IFERROR(VLOOKUP(T9244,Códigos!B:C,2,0),\" \")","v":" "}]
[null,null,null,null,null,null,null,null,null,null,null,null,null,null,null,null,null,null,null,null,{"$f":"IFERROR(VLOOKUP(T9251,Códigos!B:C,2,0),\" \")","v":" "}]
[null,null,null,null,null,null,null,null,null,null,null,null,null,null,null,null,null,null,null,null,{"$f":"IFERROR(VLOOKUP(T9262,Códigos!B:C,2,0),\" \")","v":" "}]
[null,null,null,null,null,null,null,null,null,null,null,null,null,null,null,null,null,null,null,null,{"$f":"IFERROR(VLOOKUP(T9269,Códigos!B:C,2,0),\" \")","v":" "}]
[null,null,null,null,null,null,null,null,null,null,null,null,null,null,null,null,null,null,null,null,{"$f":"IFERROR(VLOOKUP(T9272,Códigos!B:C,2,0),\" \")","v":" "}]
[null,null,null,null,null,null,null,null,null,null,null,null,null,null,null,null,null,null,null,null,{"$f":"IFERROR(VLOOKUP(T9282,Códigos!B:C,2,0),\" \")","v":" "}]
[null,null,null,null,null,null,null,null,null,null,null,null,null,null,null,null,null,null,null,null,{"$f":"IFERROR(VLOOKUP(T9290,Códigos!B:C,2,0),\" \")","v":" "}]
[null,null,null,null,null,null,null,null,null,null,null,null,null,null,null,null,null,null,null,null,{"$f":"IFERROR(VLOOKUP(T9302,Códigos!B:C,2,0),\" \")","v":" "}]
[null,null,null,null,null,null,null,null,null,null,null,null,null,null,null,null,null,null,null,null,{"$f":"IFERROR(VLOOKUP(T9314,Códigos!B:C,2,0),\" \")","v":" "}]
[null,null,null,null,null,null,null,null,null,null,null,null,null,null,null,null,null,null,null,null,{"$f":"IFERROR(VLOOKUP(T9321,Códigos!B:C,2,0),\" \")","v":" "}]
[null,null,null,null,null,null,null,null,null,null,null,null,null,null,null,null,null,null,null,null,{"$f":"IFERROR(VLOOKUP(T9332,Códigos!B:C,2,0),\" \")","v":" "}]
[null,null,null,null,null,null,null,null,null,null,null,null,null,null,null,null,null,null,null,null,{"$f":"IFERROR(VLOOKUP(T9339,Códigos!B:C,2,0),\" \")","v":" "}]
[null,null,null,null,null,null,null,null,null,null,null,null,null,null,null,null,null,null,null,null,{"$f":"IFERROR(VLOOKUP(T9342,Códigos!B:C,2,0),\" \")","v":" "}]
[null,null,null,null,null,null,null,null,null,null,null,null,null,null,null,null,null,null,null,null,{"$f":"IFERROR(VLOOKUP(T9352,Códigos!B:C,2,0),\" \")","v":" "}]
[null,null,null,null,null,null,null,null,null,null,null,null,null,null,null,null,null,null,null,null,{"$f":"IFERROR(VLOOKUP(T9360,Códigos!B:C,2,0),\" \")","v":" "}]
[null,null,null,null,null,null,null,null,null,null,null,null,null,null,null,null,null,null,null,null,{"$f":"IFERROR(VLOOKUP(T9372,Códigos!B:C,2,0),\" \")","v":" "}]
[null,null,null,null,null,null,null,null,null,null,null,null,null,null,null,null,null,null,null,null,{"$f":"IFERROR(VLOOKUP(T9384,Códigos!B:C,2,0),\" \")","v":" "}]
[null,null,null,null,null,null,null,null,null,null,null,null,null,null,null,null,null,null,null,null,{"$f":"IFERROR(VLOOKUP(T9391,Códigos!B:C,2,0),\" \")","v":" "}]
[null,null,null,null,null,null,null,null,null,null,null,null,null,null,null,null,null,null,null,null,{"$f":"IFERROR(VLOOKUP(T9402,Códigos!B:C,2,0),\" \")","v":" "}]
[null,null,null,null,null,null,null,null,null,null,null,null,null,null,null,null,null,null,null,null,{"$f":"IFERROR(VLOOKUP(T9409,Códigos!B:C,2,0),\" \")","v":" "}]
[null,null,null,null,null,null,null,null,null,null,null,null,null,null,null,null,null,null,null,null,{"$f":"IFERROR(VLOOKUP(T9412,Códigos!B:C,2,0),\" \")","v":" "}]
[null,null,null,null,null,null,null,null,null,null,null,null,null,null,null,null,null,null,null,null,{"$f":"IFERROR(VLOOKUP(T9422,Códigos!B:C,2,0),\" \")","v":" "}]
[null,null,null,null,null,null,null,null,null,null,null,null,null,null,null,null,null,null,null,null,{"$f":"IFERROR(VLOOKUP(T9430,Códigos!B:C,2,0),\" \")","v":" "}]
[null,null,null,null,null,null,null,null,null,null,null,null,null,null,null,null,null,null,null,null,{"$f":"IFERROR(VLOOKUP(T9442,Códigos!B:C,2,0),\" \")","v":" "}]
[null,null,null,null,null,null,null,null,null,null,null,null,null,null,null,null,null,null,null,null,{"$f":"IFERROR(VLOOKUP(T9449,Códigos!B:C,2,0),\" \")","v":" "}]
[null,null,null,null,null,null,null,null,null,null,null,null,null,null,null,null,null,null,null,null,{"$f":"IFERROR(VLOOKUP(T9461,Códigos!B:C,2,0),\" \")","v":" "}]
[null,null,null,null,null,null,null,null,null,null,null,null,null,null,null,null,null,null,null,null,{"$f":"IFERROR(VLOOKUP(T9472,Códigos!B:C,2,0),\" \")","v":" "}]
[null,null,null,null,null,null,null,null,null,null,null,null,null,null,null,null,null,null,null,null,{"$f":"IFERROR(VLOOKUP(T9479,Códigos!B:C,2,0),\" \")","v":" "}]
[null,null,null,null,null,null,null,null,null,null,null,null,null,null,null,null,null,null,null,null,{"$f":"IFERROR(VLOOKUP(T9482,Códigos!B:C,2,0),\" \")","v":" "}]
[null,null,null,null,null,null,null,null,null,null,null,null,null,null,null,null,null,null,null,null,{"$f":"IFERROR(VLOOKUP(T9492,Códigos!B:C,2,0),\" \")","v":" "}]
[null,null,null,null,null,null,null,null,null,null,null,null,null,null,null,null,null,null,null,null,{"$f":"IFERROR(VLOOKUP(T9500,Códigos!B:C,2,0),\" \")","v":" "}]
[null,null,null,null,null,null,null,null,null,null,null,null,null,null,null,null,null,null,null,null,{"$f":"IFERROR(VLOOKUP(T9512,Códigos!B:C,2,0),\" \")","v":" "}]
[null,null,null,null,null,null,null,null,null,null,null,null,null,null,null,null,null,null,null,null,{"$f":"IFERROR(VLOOKUP(T9519,Códigos!B:C,2,0),\" \")","v":" "}]
[null,null,null,null,null,null,null,null,null,null,null,null,null,null,null,null,null,null,null,null,{"$f":"IFERROR(VLOOKUP(T9531,Códigos!B:C,2,0),\" \")","v":" "}]
[null,null,null,null,null,null,null,null,null,null,null,null,null,null,null,null,null,null,null,null,{"$f":"IFERROR(VLOOKUP(T9542,Códigos!B:C,2,0),\" \")","v":" "}]
[null,null,null,null,null,null,null,null,null,null,null,null,null,null,null,null,null,null,null,null,{"$f":"IFERROR(VLOOKUP(T9549,Códigos!B:C,2,0),\" \")","v":" "}]
[null,null,null,null,null,null,null,null,null,null,null,null,null,null,null,null,null,null,null,null,{"$f":"IFERROR(VLOOKUP(T9552,Códigos!B:C,2,0),\" \")","v":" "}]
[null,null,null,null,null,null,null,null,null,null,null,null,null,null,null,null,null,null,null,null,{"$f":"IFERROR(VLOOKUP(T9562,Códigos!B:C,2,0),\" \")","v":" "}]
[null,null,null,null,null,null,null,null,null,null,null,null,null,null,null,null,null,null,null,null,{"$f":"IFERROR(VLOOKUP(T9570,Códigos!B:C,2,0),\" \")","v":" "}]
[null,null,null,null,null,null,null,null,null,null,null,null,null,null,null,null,null,null,null,null,{"$f":"IFERROR(VLOOKUP(T9582,Códigos!B:C,2,0),\" \")","v":" "}]
[null,null,null,null,null,null,null,null,null,null,null,null,null,null,null,null,null,null,null,null,{"$f":"IFERROR(VLOOKUP(T9589,Códigos!B:C,2,0),\" \")","v":" "}]
[null,null,null,null,null,null,null,null,null,null,null,null,null,null,null,null,null,null,null,null,{"$f":"IFERROR(VLOOKUP(T9601,Códigos!B:C,2,0),\" \")","v":" "}]
[null,null,null,null,null,null,null,null,null,null,null,null,null,null,null,null,null,null,null,null,{"$f":"IFERROR(VLOOKUP(T9612,Códigos!B:C,2,0),\" \")","v":" "}]
[null,null,null,null,null,null,null,null,null,null,null,null,null,null,null,null,null,null,null,null,{"$f":"IFERROR(VLOOKUP(T9619,Códigos!B:C,2,0),\" \")","v":" "}]
[null,null,null,null,null,null,null,null,null,null,null,null,null,null,null,null,null,null,null,null,{"$f":"IFERROR(VLOOKUP(T9622,Códigos!B:C,2,0),\" \")","v":" "}]
[null,null,null,null,null,null,null,null,null,null,null,null,null,null,null,null,null,null,null,null,{"$f":"IFERROR(VLOOKUP(T9632,Códigos!B:C,2,0),\" \")","v":" "}]
[null,null,null,null,null,null,null,null,null,null,null,null,null,null,null,null,null,null,null,null,{"$f":"IFERROR(VLOOKUP(T9640,Códigos!B:C,2,0),\" \")","v":" "}]
[null,null,null,null,null,null,null,null,null,null,null,null,null,null,null,null,null,null,null,null,{"$f":"IFERROR(VLOOKUP(T9652,Códigos!B:C,2,0),\" \")","v":" "}]
[null,null,null,null,null,null,null,null,null,null,null,null,null,null,null,null,null,null,null,null,{"$f":"IFERROR(VLOOKUP(T9659,Códigos!B:C,2,0),\" \")","v":" "}]
[null,null,null,null,null,null,null,null,null,null,null,null,null,null,null,null,null,null,null,null,{"$f":"IFERROR(VLOOKUP(T9671,Códigos!B:C,2,0),\" \")","v":" "}]
[null,null,null,null,null,null,null,null,null,null,null,null,null,null,null,null,null,null,null,null,{"$f":"IFERROR(VLOOKUP(T9682,Códigos!B:C,2,0),\" \")","v":" "}]
[null,null,null,null,null,null,null,null,null,null,null,null,null,null,null,null,null,null,null,null,{"$f":"IFERROR(VLOOKUP(T9689,Códigos!B:C,2,0),\" \")","v":" "}]
[null,null,null,null,null,null,null,null,null,null,null,null,null,null,null,null,null,null,null,null,{"$f":"IFERROR(VLOOKUP(T9692,Códigos!B:C,2,0),\" \")","v":" "}]
[null,null,null,null,null,null,null,null,null,null,null,null,null,null,null,null,null,null,null,null,{"$f":"IFERROR(VLOOKUP(T9702,Códigos!B:C,2,0),\" \")","v":" "}]
[null,null,null,null,null,null,null,null,null,null,null,null,null,null,null,null,null,null,null,null,{"$f":"IFERROR(VLOOKUP(T9710,Códigos!B:C,2,0),\" \")","v":" "}]
[null,null,null,null,null,null,null,null,null,null,null,null,null,null,null,null,null,null,null,null,{"$f":"IFERROR(VLOOKUP(T9722,Códigos!B:C,2,0),\" \")","v":" "}]
[null,null,null,null,null,null,null,null,null,null,null,null,null,null,null,null,null,null,null,null,{"$f":"IFERROR(VLOOKUP(T9729,Códigos!B:C,2,0),\" \")","v":" "}]
[null,null,null,null,null,null,null,null,null,null,null,null,null,null,null,null,null,null,null,null,{"$f":"IFERROR(VLOOKUP(T9741,Códigos!B:C,2,0),\" \")","v":" "}]
[null,null,null,null,null,null,null,null,null,null,null,null,null,null,null,null,null,null,null,null,{"$f":"IFERROR(VLOOKUP(T9747,Códigos!B:C,2,0),\" \")","v":" "}]
[null,null,null,null,null,null,null,null,null,null,null,null,null,null,null,null,null,null,null,null,{"$f":"IFERROR(VLOOKUP(T9759,Códigos!B:C,2,0),\" \")","v":" "}]
[null,null,null,null,null,null,null,null,null,null,null,null,null,null,null,null,null,null,null,null,{"$f":"IFERROR(VLOOKUP(T9762,Códigos!B:C,2,0),\" \")","v":" "}]
[null,null,null,null,null,null,null,null,null,null,null,null,null,null,null,null,null,null,null,null,{"$f":"IFERROR(VLOOKUP(T9772,Códigos!B:C,2,0),\" \")","v":" "}]
[null,null,null,null,null,null,null,null,null,null,null,null,null,null,null,null,null,null,null,null,{"$f":"IFERROR(VLOOKUP(T9780,Códigos!B:C,2,0),\" \")","v":" "}]
[null,null,null,null,null,null,null,null,null,null,null,null,null,null,null,null,null,null,null,null,{"$f":"IFERROR(VLOOKUP(T9792,Códigos!B:C,2,0),\" \")","v":" "}]
[null,null,null,null,null,null,null,null,null,null,null,null,null,null,null,null,null,null,null,null,{"$f":"IFERROR(VLOOKUP(T9799,Códigos!B:C,2,0),\" \")","v":" "}]
[null,null,null,null,null,null,null,null,null,null,null,null,null,null,null,null,null,null,null,null,{"$f":"IFERROR(VLOOKUP(T9811,Códigos!B:C,2,0),\" \")","v":" "}]
[null,null,null,null,null,null,null,null,null,null,null,null,null,null,null,null,null,null,null,null,{"$f":"IFERROR(VLOOKUP(T9817,Códigos!B:C,2,0),\" \")","v":" "}]
[null,null,null,null,null,null,null,null,null,null,null,null,null,null,null,null,null,null,null,null,{"$f":"IFERROR(VLOOKUP(T9829,Códigos!B:C,2,0),\" \")","v":" "}]
[null,null,null,null,null,null,null,null,null,null,null,null,null,null,null,null,null,null,null,null,{"$f":"IFERROR(VLOOKUP(T9832,Códigos!B:C,2,0),\" \")","v":" "}]
[null,null,null,null,null,null,null,null,null,null,null,null,null,null,null,null,null,null,null,null,{"$f":"IFERROR(VLOOKUP(T9842,Códigos!B:C,2,0),\" \")","v":" "}]
[null,null,null,null,null,null,null,null,null,null,null,null,null,null,null,null,null,null,null,null,{"$f":"IFERROR(VLOOKUP(T9850,Códigos!B:C,2,0),\" \")","v":" "}]
[null,null,null,null,null,null,null,null,null,null,null,null,null,null,null,null,null,null,null,null,{"$f":"IFERROR(VLOOKUP(T9866,Códigos!B:C,2,0),\" \")","v":" "}]
[null,null,null,null,null,null,null,null,null,null,null,null,null,null,null,null,null,null,null,null,{"$f":"IFERROR(VLOOKUP(T9869,Códigos!B:C,2,0),\" \")","v":" "}]
[null,null,null,null,null,null,null,null,null,null,null,null,null,null,null,null,null,null,null,null,{"$f":"IFERROR(VLOOKUP(T9881,Códigos!B:C,2,0),\" \")","v":" "}]
[null,null,null,null,null,null,null,null,null,null,null,null,null,null,null,null,null,null,null,null,{"$f":"IFERROR(VLOOKUP(T9887,Códigos!B:C,2,0),\" \")","v":" "}]
[null,null,null,null,null,null,null,null,null,null,null,null,null,null,null,null,null,null,null,null,{"$f":"IFERROR(VLOOKUP(T9899,Códigos!B:C,2,0),\" \")","v":" "}]
[null,null,null,null,null,null,null,null,null,null,null,null,null,null,null,null,null,null,null,null,{"$f":"IFERROR(VLOOKUP(T9902,Códigos!B:C,2,0),\" \")","v":" "}]
[null,null,null,null,null,null,null,null,null,null,null,null,null,null,null,null,null,null,null,null,{"$f":"IFERROR(VLOOKUP(T9912,Códigos!B:C,2,0),\" \")","v":" "}]
[null,null,null,null,null,null,null,null,null,null,null,null,null,null,null,null,null,null,null,null,{"$f":"IFERROR(VLOOKUP(T9920,Códigos!B:C,2,0),\" \")","v":" "}]
[null,null,null,null,null,null,null,null,null,null,null,null,null,null,null,null,null,null,null,null,{"$f":"IFERROR(VLOOKUP(T9936,Códigos!B:C,2,0),\" \")","v":" "}]
[null,null,null,null,null,null,null,null,null,null,null,null,null,null,null,null,null,null,null,null,{"$f":"IFERROR(VLOOKUP(T9939,Códigos!B:C,2,0),\" \")","v":" "}]
[null,null,null,null,null,null,null,null,null,null,null,null,null,null,null,null,null,null,null,null,{"$f":"IFERROR(VLOOKUP(T9951,Códigos!B:C,2,0),\" \")","v":" "}]
[null,null,null,null,null,null,null,null,null,null,null,null,null,null,null,null,null,null,null,null,{"$f":"IFERROR(VLOOKUP(T9957,Códigos!B:C,2,0),\" \")","v":" "}]
[null,null,null,null,null,null,null,null,null,null,null,null,null,null,null,null,null,null,null,null,{"$f":"IFERROR(VLOOKUP(T9969,Códigos!B:C,2,0),\" \")","v":" "}]
[null,null,null,null,null,null,null,null,null,null,null,null,null,null,null,null,null,null,null,null,{"$f":"IFERROR(VLOOKUP(T9972,Códigos!B:C,2,0),\" \")","v":" "}]
[null,null,null,null,null,null,null,null,null,null,null,null,null,null,null,null,null,null,null,null,{"$f":"IFERROR(VLOOKUP(T9982,Códigos!B:C,2,0),\" \")","v":" "}]
[null,null,null,null,null,null,null,null,null,null,null,null,null,null,null,null,null,null,null,null,{"$f":"IFERROR(VLOOKUP(T9990,Códigos!B:C,2,0),\" \")","v":" "}]
[null,null,null,null,null,null,null,null,null,null,null,null,null,null,null,null,null,null,null,null,{"$f":"IFERROR(VLOOKUP(T10006,Códigos!B:C,2,0),\" \")","v":" "}]
[null,null,null,null,null,null,null,null,null,null,null,null,null,null,null,null,null,null,null,null,{"$f":"IFERROR(VLOOKUP(T10009,Códigos!B:C,2,0),\" \")","v":" "}]
[null,null,null,null,null,null,null,null,null,null,null,null,null,null,null,null,null,null,null,null,{"$f":"IFERROR(VLOOKUP(T10021,Códigos!B:C,2,0),\" \")","v":" "}]
[null,null,null,null,null,null,null,null,null,null,null,null,null,null,null,null,null,null,null,null,{"$f":"IFERROR(VLOOKUP(T10027,Códigos!B:C,2,0),\" \")","v":" "}]
[null,null,null,null,null,null,null,null,null,null,null,null,null,null,null,null,null,null,null,null,{"$f":"IFERROR(VLOOKUP(T10039,Códigos!B:C,2,0),\" \")","v":" "}]
[null,null,null,null,null,null,null,null,null,null,null,null,null,null,null,null,null,null,null,null,{"$f":"IFERROR(VLOOKUP(T10046,Códigos!B:C,2,0),\" \")","v":" "}]
[null,null,null,null,null,null,null,null,null,null,null,null,null,null,null,null,null,null,null,null,{"$f":"IFERROR(VLOOKUP(T10052,Códigos!B:C,2,0),\" \")","v":" "}]
[null,null,null,null,null,null,null,null,null,null,null,null,null,null,null,null,null,null,null,null,{"$f":"IFERROR(VLOOKUP(T10060,Códigos!B:C,2,0),\" \")","v":" "}]
[null,null,null,null,null,null,null,null,null,null,null,null,null,null,null,null,null,null,null,null,{"$f":"IFERROR(VLOOKUP(T10076,Códigos!B:C,2,0),\" \")","v":" "}]
[null,null,null,null,null,null,null,null,null,null,null,null,null,null,null,null,null,null,null,null,{"$f":"IFERROR(VLOOKUP(T10079,Códigos!B:C,2,0),\" \")","v":" "}]
[null,null,null,null,null,null,null,null,null,null,null,null,null,null,null,null,null,null,null,null,{"$f":"IFERROR(VLOOKUP(T10091,Códigos!B:C,2,0),\" \")","v":" "}]
[null,null,null,null,null,null,null,null,null,null,null,null,null,null,null,null,null,null,null,null,{"$f":"IFERROR(VLOOKUP(T10097,Códigos!B:C,2,0),\" \")","v":" "}]
[null,null,null,null,null,null,null,null,null,null,null,null,null,null,null,null,null,null,null,null,{"$f":"IFERROR(VLOOKUP(T10109,Códigos!B:C,2,0),\" \")","v":" "}]
[null,null,null,null,null,null,null,null,null,null,null,null,null,null,null,null,null,null,null,null,{"$f":"IFERROR(VLOOKUP(T10116,Códigos!B:C,2,0),\" \")","v":" "}]
[null,null,null,null,null,null,null,null,null,null,null,null,null,null,null,null,null,null,null,null,{"$f":"IFERROR(VLOOKUP(T10122,Códigos!B:C,2,0),\" \")","v":" "}]
[null,null,null,null,null,null,null,null,null,null,null,null,null,null,null,null,null,null,null,null,{"$f":"IFERROR(VLOOKUP(T10130,Códigos!B:C,2,0),\" \")","v":" "}]
[null,null,null,null,null,null,null,null,null,null,null,null,null,null,null,null,null,null,null,null,{"$f":"IFERROR(VLOOKUP(T10146,Códigos!B:C,2,0),\" \")","v":" "}]
[null,null,null,null,null,null,null,null,null,null,null,null,null,null,null,null,null,null,null,null,{"$f":"IFERROR(VLOOKUP(T10149,Códigos!B:C,2,0),\" \")","v":" "}]
[null,null,null,null,null,null,null,null,null,null,null,null,null,null,null,null,null,null,null,null,{"$f":"IFERROR(VLOOKUP(T10161,Códigos!B:C,2,0),\" \")","v":" "}]
[null,null,null,null,null,null,null,null,null,null,null,null,null,null,null,null,null,null,null,null,{"$f":"IFERROR(VLOOKUP(T10167,Códigos!B:C,2,0),\" \")","v":" "}]
[null,null,null,null,null,null,null,null,null,null,null,null,null,null,null,null,null,null,null,null,{"$f":"IFERROR(VLOOKUP(T10179,Códigos!B:C,2,0),\" \")","v":" "}]
[null,null,null,null,null,null,null,null,null,null,null,null,null,null,null,null,null,null,null,null,{"$f":"IFERROR(VLOOKUP(T10186,Códigos!B:C,2,0),\" \")","v":" "}]
[null,null,null,null,null,null,null,null,null,null,null,null,null,null,null,null,null,null,null,null,{"$f":"IFERROR(VLOOKUP(T10192,Códigos!B:C,2,0),\" \")","v":" "}]
[null,null,null,null,null,null,null,null,null,null,null,null,null,null,null,null,null,null,null,null,{"$f":"IFERROR(VLOOKUP(T10200,Códigos!B:C,2,0),\" \")","v":" "}]
[null,null,null,null,null,null,null,null,null,null,null,null,null,null,null,null,null,null,null,null,{"$f":"IFERROR(VLOOKUP(T10216,Códigos!B:C,2,0),\" \")","v":" "}]
[null,null,null,null,null,null,null,null,null,null,null,null,null,null,null,null,null,null,null,null,{"$f":"IFERROR(VLOOKUP(T10219,Códigos!B:C,2,0),\" \")","v":" "}]
[null,null,null,null,null,null,null,null,null,null,null,null,null,null,null,null,null,null,null,null,{"$f":"IFERROR(VLOOKUP(T10231,Códigos!B:C,2,0),\" \")","v":" "}]
[null,null,null,null,null,null,null,null,null,null,null,null,null,null,null,null,null,null,null,null,{"$f":"IFERROR(VLOOKUP(T10237,Códigos!B:C,2,0),\" \")","v":" "}]
[null,null,null,null,null,null,null,null,null,null,null,null,null,null,null,null,null,null,null,null,{"$f":"IFERROR(VLOOKUP(T10249,Códigos!B:C,2,0),\" \")","v":" "}]
[null,null,null,null,null,null,null,null,null,null,null,null,null,null,null,null,null,null,null,null,{"$f":"IFERROR(VLOOKUP(T10256,Códigos!B:C,2,0),\" \")","v":" "}]
[null,null,null,null,null,null,null,null,null,null,null,null,null,null,null,null,null,null,null,null,{"$f":"IFERROR(VLOOKUP(T10262,Códigos!B:C,2,0),\" \")","v":" "}]
[null,null,null,null,null,null,null,null,null,null,null,null,null,null,null,null,null,null,null,null,{"$f":"IFERROR(VLOOKUP(T10270,Códigos!B:C,2,0),\" \")","v":" "}]
[null,null,null,null,null,null,null,null,null,null,null,null,null,null,null,null,null,null,null,null,{"$f":"IFERROR(VLOOKUP(T10286,Códigos!B:C,2,0),\" \")","v":" "}]
[null,null,null,null,null,null,null,null,null,null,null,null,null,null,null,null,null,null,null,null,{"$f":"IFERROR(VLOOKUP(T10289,Códigos!B:C,2,0),\" \")","v":" "}]
[null,null,null,null,null,null,null,null,null,null,null,null,null,null,null,null,null,null,null,null,{"$f":"IFERROR(VLOOKUP(T10301,Códigos!B:C,2,0),\" \")","v":" "}]
[null,null,null,null,null,null,null,null,null,null,null,null,null,null,null,null,null,null,null,null,{"$f":"IFERROR(VLOOKUP(T10307,Códigos!B:C,2,0),\" \")","v":" "}]
[null,null,null,null,null,null,null,null,null,null,null,null,null,null,null,null,null,null,null,null,{"$f":"IFERROR(VLOOKUP(T10319,Códigos!B:C,2,0),\" \")","v":" "}]
[null,null,null,null,null,null,null,null,null,null,null,null,null,null,null,null,null,null,null,null,{"$f":"IFERROR(VLOOKUP(T10326,Códigos!B:C,2,0),\" \")","v":" "}]
[null,null,null,null,null,null,null,null,null,null,null,null,null,null,null,null,null,null,null,null,{"$f":"IFERROR(VLOOKUP(T10332,Códigos!B:C,2,0),\" \")","v":" "}]
[null,null,null,null,null,null,null,null,null,null,null,null,null,null,null,null,null,null,null,null,{"$f":"IFERROR(VLOOKUP(T10344,Códigos!B:C,2,0),\" \")","v":" "}]
[null,null,null,null,null,null,null,null,null,null,null,null,null,null,null,null,null,null,null,null,{"$f":"IFERROR(VLOOKUP(T10356,Códigos!B:C,2,0),\" \")","v":" "}]
[null,null,null,null,null,null,null,null,null,null,null,null,null,null,null,null,null,null,null,null,{"$f":"IFERROR(VLOOKUP(T10359,Códigos!B:C,2,0),\" \")","v":" "}]
[null,null,null,null,null,null,null,null,null,null,null,null,null,null,null,null,null,null,null,null,{"$f":"IFERROR(VLOOKUP(T10371,Códigos!B:C,2,0),\" \")","v":" "}]
[null,null,null,null,null,null,null,null,null,null,null,null,null,null,null,null,null,null,null,null,{"$f":"IFERROR(VLOOKUP(T10377,Códigos!B:C,2,0),\" \")","v":" "}]
[null,null,null,null,null,null,null,null,null,null,null,null,null,null,null,null,null,null,null,null,{"$f":"IFERROR(VLOOKUP(T10389,Códigos!B:C,2,0),\" \")","v":" "}]
[null,null,null,null,null,null,null,null,null,null,null,null,null,null,null,null,null,null,null,null,{"$f":"IFERROR(VLOOKUP(T10396,Códigos!B:C,2,0),\" \")","v":" "}]
[null,null,null,null,null,null,null,null,null,null,null,null,null,null,null,null,null,null,null,null,{"$f":"IFERROR(VLOOKUP(T10402,Códigos!B:C,2,0),\" \")","v":" "}]
[null,null,null,null,null,null,null,null,null,null,null,null,null,null,null,null,null,null,null,null,{"$f":"IFERROR(VLOOKUP(T10414,Códigos!B:C,2,0),\" \")","v":" "}]
[null,null,null,null,null,null,null,null,null,null,null,null,null,null,null,null,null,null,null,null,{"$f":"IFERROR(VLOOKUP(T10426,Códigos!B:C,2,0),\" \")","v":" "}]
[null,null,null,null,null,null,null,null,null,null,null,null,null,null,null,null,null,null,null,null,{"$f":"IFERROR(VLOOKUP(T10429,Códigos!B:C,2,0),\" \")","v":" "}]
[null,null,null,null,null,null,null,null,null,null,null,null,null,null,null,null,null,null,null,null,{"$f":"IFERROR(VLOOKUP(T10441,Códigos!B:C,2,0),\" \")","v":" "}]
[null,null,null,null,null,null,null,null,null,null,null,null,null,null,null,null,null,null,null,null,{"$f":"IFERROR(VLOOKUP(T10447,Códigos!B:C,2,0),\" \")","v":" "}]
[null,null,null,null,null,null,null,null,null,null,null,null,null,null,null,null,null,null,null,null,{"$f":"IFERROR(VLOOKUP(T10459,Códigos!B:C,2,0),\" \")","v":" "}]
[null,null,null,null,null,null,null,null,null,null,null,null,null,null,null,null,null,null,null,null,{"$f":"IFERROR(VLOOKUP(T10466,Códigos!B:C,2,0),\" \")","v":" "}]
[null,null,null,null,null,null,null,null,null,null,null,null,null,null,null,null,null,null,null,null,{"$f":"IFERROR(VLOOKUP(T10472,Códigos!B:C,2,0),\" \")","v":" "}]
[null,null,null,null,null,null,null,null,null,null,null,null,null,null,null,null,null,null,null,null,{"$f":"IFERROR(VLOOKUP(T10484,Códigos!B:C,2,0),\" \")","v":" "}]
[null,null,null,null,null,null,null,null,null,null,null,null,null,null,null,null,null,null,null,null,{"$f":"IFERROR(VLOOKUP(T10496,Códigos!B:C,2,0),\" \")","v":" "}]
[null,null,null,null,null,null,null,null,null,null,null,null,null,null,null,null,null,null,null,null,{"$f":"IFERROR(VLOOKUP(T10499,Códigos!B:C,2,0),\" \")","v":" "}]
[null,null,null,null,null,null,null,null,null,null,null,null,null,null,null,null,null,null,null,null,{"$f":"IFERROR(VLOOKUP(T10511,Códigos!B:C,2,0),\" \")","v":" "}]
[null,null,null,null,null,null,null,null,null,null,null,null,null,null,null,null,null,null,null,null,{"$f":"IFERROR(VLOOKUP(T10517,Códigos!B:C,2,0),\" \")","v":" "}]
[null,null,null,null,null,null,null,null,null,null,null,null,null,null,null,null,null,null,null,null,{"$f":"IFERROR(VLOOKUP(T10524,Códigos!B:C,2,0),\" \")","v":" "}]
[null,null,null,null,null,null,null,null,null,null,null,null,null,null,null,null,null,null,null,null,{"$f":"IFERROR(VLOOKUP(T10536,Códigos!B:C,2,0),\" \")","v":" "}]
[null,null,null,null,null,null,null,null,null,null,null,null,null,null,null,null,null,null,null,null,{"$f":"IFERROR(VLOOKUP(T10542,Códigos!B:C,2,0),\" \")","v":" "}]
[null,null,null,null,null,null,null,null,null,null,null,null,null,null,null,null,null,null,null,null,{"$f":"IFERROR(VLOOKUP(T10554,Códigos!B:C,2,0),\" \")","v":" "}]
[null,null,null,null,null,null,null,null,null,null,null,null,null,null,null,null,null,null,null,null,{"$f":"IFERROR(VLOOKUP(T10566,Códigos!B:C,2,0),\" \")","v":" "}]
[null,null,null,null,null,null,null,null,null,null,null,null,null,null,null,null,null,null,null,null,{"$f":"IFERROR(VLOOKUP(T10569,Códigos!B:C,2,0),\" \")","v":" "}]
[null,null,null,null,null,null,null,null,null,null,null,null,null,null,null,null,null,null,null,null,{"$f":"IFERROR(VLOOKUP(T10581,Códigos!B:C,2,0),\" \")","v":" "}]
[null,null,null,null,null,null,null,null,null,null,null,null,null,null,null,null,null,null,null,null,{"$f":"IFERROR(VLOOKUP(T10587,Códigos!B:C,2,0),\" \")","v":" "}]
[null,null,null,null,null,null,null,null,null,null,null,null,null,null,null,null,null,null,null,null,{"$f":"IFERROR(VLOOKUP(T10594,Códigos!B:C,2,0),\" \")","v":" "}]
[null,null,null,null,null,null,null,null,null,null,null,null,null,null,null,null,null,null,null,null,{"$f":"IFERROR(VLOOKUP(T10606,Códigos!B:C,2,0),\" \")","v":" "}]
[null,null,null,null,null,null,null,null,null,null,null,null,null,null,null,null,null,null,null,null,{"$f":"IFERROR(VLOOKUP(T10612,Códigos!B:C,2,0),\" \")","v":" "}]
[null,null,null,null,null,null,null,null,null,null,null,null,null,null,null,null,null,null,null,null,{"$f":"IFERROR(VLOOKUP(T10624,Códigos!B:C,2,0),\" \")","v":" "}]
[null,null,null,null,null,null,null,null,null,null,null,null,null,null,null,null,null,null,null,null,{"$f":"IFERROR(VLOOKUP(T10636,Códigos!B:C,2,0),\" \")","v":" "}]
[null,null,null,null,null,null,null,null,null,null,null,null,null,null,null,null,null,null,null,null,{"$f":"IFERROR(VLOOKUP(T10643,Códigos!B:C,2,0),\" \")","v":" "}]
[null,null,null,null,null,null,null,null,null,null,null,null,null,null,null,null,null,null,null,null,{"$f":"IFERROR(VLOOKUP(T10651,Códigos!B:C,2,0),\" \")","v":" "}]
[null,null,null,null,null,null,null,null,null,null,null,null,null,null,null,null,null,null,null,null,{"$f":"IFERROR(VLOOKUP(T10657,Códigos!B:C,2,0),\" \")","v":" "}]
[null,null,null,null,null,null,null,null,null,null,null,null,null,null,null,null,null,null,null,null,{"$f":"IFERROR(VLOOKUP(T10664,Códigos!B:C,2,0),\" \")","v":" "}]
[null,null,null,null,null,null,null,null,null,null,null,null,null,null,null,null,null,null,null,null,{"$f":"IFERROR(VLOOKUP(T10676,Códigos!B:C,2,0),\" \")","v":" "}]
[null,null,null,null,null,null,null,null,null,null,null,null,null,null,null,null,null,null,null,null,{"$f":"IFERROR(VLOOKUP(T10682,Códigos!B:C,2,0),\" \")","v":" "}]
[null,null,null,null,null,null,null,null,null,null,null,null,null,null,null,null,null,null,null,null,{"$f":"IFERROR(VLOOKUP(T10694,Códigos!B:C,2,0),\" \")","v":" "}]
[null,null,null,null,null,null,null,null,null,null,null,null,null,null,null,null,null,null,null,null,{"$f":"IFERROR(VLOOKUP(T10706,Códigos!B:C,2,0),\" \")","v":" "}]
[null,null,null,null,null,null,null,null,null,null,null,null,null,null,null,null,null,null,null,null,{"$f":"IFERROR(VLOOKUP(T10713,Códigos!B:C,2,0),\" \")","v":" "}]
[null,null,null,null,null,null,null,null,null,null,null,null,null,null,null,null,null,null,null,null,{"$f":"IFERROR(VLOOKUP(T10721,Códigos!B:C,2,0),\" \")","v":" "}]
[null,null,null,null,null,null,null,null,null,null,null,null,null,null,null,null,null,null,null,null,{"$f":"IFERROR(VLOOKUP(T10727,Códigos!B:C,2,0),\" \")","v":" "}]
[null,null,null,null,null,null,null,null,null,null,null,null,null,null,null,null,null,null,null,null,{"$f":"IFERROR(VLOOKUP(T10734,Códigos!B:C,2,0),\" \")","v":" "}]
[null,null,null,null,null,null,null,null,null,null,null,null,null,null,null,null,null,null,null,null,{"$f":"IFERROR(VLOOKUP(T10746,Códigos!B:C,2,0),\" \")","v":" "}]
[null,null,null,null,null,null,null,null,null,null,null,null,null,null,null,null,null,null,null,null,{"$f":"IFERROR(VLOOKUP(T10752,Códigos!B:C,2,0),\" \")","v":" "}]
[null,null,null,null,null,null,null,null,null,null,null,null,null,null,null,null,null,null,null,null,{"$f":"IFERROR(VLOOKUP(T10764,Códigos!B:C,2,0),\" \")","v":" "}]
[null,null,null,null,null,null,null,null,null,null,null,null,null,null,null,null,null,null,null,null,{"$f":"IFERROR(VLOOKUP(T10776,Códigos!B:C,2,0),\" \")","v":" "}]
[null,null,null,null,null,null,null,null,null,null,null,null,null,null,null,null,null,null,null,null,{"$f":"IFERROR(VLOOKUP(T10783,Códigos!B:C,2,0),\" \")","v":" "}]
[null,null,null,null,null,null,null,null,null,null,null,null,null,null,null,null,null,null,null,null,{"$f":"IFERROR(VLOOKUP(T10791,Códigos!B:C,2,0),\" \")","v":" "}]
[null,null,null,null,null,null,null,null,null,null,null,null,null,null,null,null,null,null,null,null,{"$f":"IFERROR(VLOOKUP(T10797,Códigos!B:C,2,0),\" \")","v":" "}]
[null,null,null,null,null,null,null,null,null,null,null,null,null,null,null,null,null,null,null,null,{"$f":"IFERROR(VLOOKUP(T10804,Códigos!B:C,2,0),\" \")","v":" "}]
[null,null,null,null,null,null,null,null,null,null,null,null,null,null,null,null,null,null,null,null,{"$f":"IFERROR(VLOOKUP(T10816,Códigos!B:C,2,0),\" \")","v":" "}]
[null,null,null,null,null,null,null,null,null,null,null,null,null,null,null,null,null,null,null,null,{"$f":"IFERROR(VLOOKUP(T10822,Códigos!B:C,2,0),\" \")","v":" "}]
[null,null,null,null,null,null,null,null,null,null,null,null,null,null,null,null,null,null,null,null,{"$f":"IFERROR(VLOOKUP(T10834,Códigos!B:C,2,0),\" \")","v":" "}]
[null,null,null,null,null,null,null,null,null,null,null,null,null,null,null,null,null,null,null,null,{"$f":"IFERROR(VLOOKUP(T10846,Códigos!B:C,2,0),\" \")","v":" "}]
[null,null,null,null,null,null,null,null,null,null,null,null,null,null,null,null,null,null,null,null,{"$f":"IFERROR(VLOOKUP(T10853,Códigos!B:C,2,0),\" \")","v":" "}]
[null,null,null,null,null,null,null,null,null,null,null,null,null,null,null,null,null,null,null,null,{"$f":"IFERROR(VLOOKUP(T10861,Códigos!B:C,2,0),\" \")","v":" "}]
[null,null,null,null,null,null,null,null,null,null,null,null,null,null,null,null,null,null,null,null,{"$f":"IFERROR(VLOOKUP(T10867,Códigos!B:C,2,0),\" \")","v":" "}]
[null,null,null,null,null,null,null,null,null,null,null,null,null,null,null,null,null,null,null,null,{"$f":"IFERROR(VLOOKUP(T10874,Códigos!B:C,2,0),\" \")","v":" "}]
[null,null,null,null,null,null,null,null,null,null,null,null,null,null,null,null,null,null,null,null,{"$f":"IFERROR(VLOOKUP(T10886,Códigos!B:C,2,0),\" \")","v":" "}]
[null,null,null,null,null,null,null,null,null,null,null,null,null,null,null,null,null,null,null,null,{"$f":"IFERROR(VLOOKUP(T10892,Códigos!B:C,2,0),\" \")","v":" "}]
[null,null,null,null,null,null,null,null,null,null,null,null,null,null,null,null,null,null,null,null,{"$f":"IFERROR(VLOOKUP(T10904,Códigos!B:C,2,0),\" \")","v":" "}]
[null,null,null,null,null,null,null,null,null,null,null,null,null,null,null,null,null,null,null,null,{"$f":"IFERROR(VLOOKUP(T10916,Códigos!B:C,2,0),\" \")","v":" "}]
[null,null,null,null,null,null,null,null,null,null,null,null,null,null,null,null,null,null,null,null,{"$f":"IFERROR(VLOOKUP(T10923,Códigos!B:C,2,0),\" \")","v":" "}]
[null,null,null,null,null,null,null,null,null,null,null,null,null,null,null,null,null,null,null,null,{"$f":"IFERROR(VLOOKUP(T10931,Códigos!B:C,2,0),\" \")","v":" "}]
[null,null,null,null,null,null,null,null,null,null,null,null,null,null,null,null,null,null,null,null,{"$f":"IFERROR(VLOOKUP(T10937,Códigos!B:C,2,0),\" \")","v":" "}]
[null,null,null,null,null,null,null,null,null,null,null,null,null,null,null,null,null,null,null,null,{"$f":"IFERROR(VLOOKUP(T10944,Códigos!B:C,2,0),\" \")","v":" "}]
[null,null,null,null,null,null,null,null,null,null,null,null,null,null,null,null,null,null,null,null,{"$f":"IFERROR(VLOOKUP(T10956,Códigos!B:C,2,0),\" \")","v":" "}]
[null,null,null,null,null,null,null,null,null,null,null,null,null,null,null,null,null,null,null,null,{"$f":"IFERROR(VLOOKUP(T10962,Códigos!B:C,2,0),\" \")","v":" "}]
[null,null,null,null,null,null,null,null,null,null,null,null,null,null,null,null,null,null,null,null,{"$f":"IFERROR(VLOOKUP(T10974,Códigos!B:C,2,0),\" \")","v":" "}]
[null,null,null,null,null,null,null,null,null,null,null,null,null,null,null,null,null,null,null,null,{"$f":"IFERROR(VLOOKUP(T10986,Códigos!B:C,2,0),\" \")","v":" "}]
[null,null,null,null,null,null,null,null,null,null,null,null,null,null,null,null,null,null,null,null,{"$f":"IFERROR(VLOOKUP(T10993,Códigos!B:C,2,0),\" \")","v":" "}]
[null,null,null,null,null,null,null,null,null,null,null,null,null,null,null,null,null,null,null,null,{"$f":"IFERROR(VLOOKUP(T11001,Códigos!B:C,2,0),\" \")","v":" "}]
[null,null,null,null,null,null,null,null,null,null,null,null,null,null,null,null,null,null,null,null,{"$f":"IFERROR(VLOOKUP(T11011,Códigos!B:C,2,0),\" \")","v":" "}]
[null,null,null,null,null,null,null,null,null,null,null,null,null,null,null,null,null,null,null,null,{"$f":"IFERROR(VLOOKUP(T11014,Códigos!B:C,2,0),\" \")","v":" "}]
[null,null,null,null,null,null,null,null,null,null,null,null,null,null,null,null,null,null,null,null,{"$f":"IFERROR(VLOOKUP(T11026,Códigos!B:C,2,0),\" \")","v":" "}]
[null,null,null,null,null,null,null,null,null,null,null,null,null,null,null,null,null,null,null,null,{"$f":"IFERROR(VLOOKUP(T11032,Códigos!B:C,2,0),\" \")","v":" "}]
[null,null,null,null,null,null,null,null,null,null,null,null,null,null,null,null,null,null,null,null,{"$f":"IFERROR(VLOOKUP(T11044,Códigos!B:C,2,0),\" \")","v":" "}]
[null,null,null,null,null,null,null,null,null,null,null,null,null,null,null,null,null,null,null,null,{"$f":"IFERROR(VLOOKUP(T11056,Códigos!B:C,2,0),\" \")","v":" "}]
[null,null,null,null,null,null,null,null,null,null,null,null,null,null,null,null,null,null,null,null,{"$f":"IFERROR(VLOOKUP(T11063,Códigos!B:C,2,0),\" \")","v":" "}]
[null,null,null,null,null,null,null,null,null,null,null,null,null,null,null,null,null,null,null,null,{"$f":"IFERROR(VLOOKUP(T11071,Códigos!B:C,2,0),\" \")","v":" "}]
[null,null,null,null,null,null,null,null,null,null,null,null,null,null,null,null,null,null,null,null,{"$f":"IFERROR(VLOOKUP(T11081,Códigos!B:C,2,0),\" \")","v":" "}]
[null,null,null,null,null,null,null,null,null,null,null,null,null,null,null,null,null,null,null,null,{"$f":"IFERROR(VLOOKUP(T11084,Códigos!B:C,2,0),\" \")","v":" "}]
[null,null,null,null,null,null,null,null,null,null,null,null,null,null,null,null,null,null,null,null,{"$f":"IFERROR(VLOOKUP(T11096,Códigos!B:C,2,0),\" \")","v":" "}]
[null,null,null,null,null,null,null,null,null,null,null,null,null,null,null,null,null,null,null,null,{"$f":"IFERROR(VLOOKUP(T11102,Códigos!B:C,2,0),\" \")","v":" "}]
[null,null,null,null,null,null,null,null,null,null,null,null,null,null,null,null,null,null,null,null,{"$f":"IFERROR(VLOOKUP(T11114,Códigos!B:C,2,0),\" \")","v":" "}]
[null,null,null,null,null,null,null,null,null,null,null,null,null,null,null,null,null,null,null,null,{"$f":"IFERROR(VLOOKUP(T11121,Códigos!B:C,2,0),\" \")","v":" "}]
[null,null,null,null,null,null,null,null,null,null,null,null,null,null,null,null,null,null,null,null,{"$f":"IFERROR(VLOOKUP(T11133,Códigos!B:C,2,0),\" \")","v":" "}]
[null,null,null,null,null,null,null,null,null,null,null,null,null,null,null,null,null,null,null,null,{"$f":"IFERROR(VLOOKUP(T11141,Códigos!B:C,2,0),\" \")","v":" "}]
[null,null,null,null,null,null,null,null,null,null,null,null,null,null,null,null,null,null,null,null,{"$f":"IFERROR(VLOOKUP(T11151,Códigos!B:C,2,0),\" \")","v":" "}]
[null,null,null,null,null,null,null,null,null,null,null,null,null,null,null,null,null,null,null,null,{"$f":"IFERROR(VLOOKUP(T11154,Códigos!B:C,2,0),\" \")","v":" "}]
[null,null,null,null,null,null,null,null,null,null,null,null,null,null,null,null,null,null,null,null,{"$f":"IFERROR(VLOOKUP(T11166,Códigos!B:C,2,0),\" \")","v":" "}]
[null,null,null,null,null,null,null,null,null,null,null,null,null,null,null,null,null,null,null,null,{"$f":"IFERROR(VLOOKUP(T11172,Códigos!B:C,2,0),\" \")","v":" "}]
[null,null,null,null,null,null,null,null,null,null,null,null,null,null,null,null,null,null,null,null,{"$f":"IFERROR(VLOOKUP(T11184,Códigos!B:C,2,0),\" \")","v":" "}]
[null,null,null,null,null,null,null,null,null,null,null,null,null,null,null,null,null,null,null,null,{"$f":"IFERROR(VLOOKUP(T11191,Códigos!B:C,2,0),\" \")","v":" "}]
[null,null,null,null,null,null,null,null,null,null,null,null,null,null,null,null,null,null,null,null,{"$f":"IFERROR(VLOOKUP(T11203,Códigos!B:C,2,0),\" \")","v":" "}]
[null,null,null,null,null,null,null,null,null,null,null,null,null,null,null,null,null,null,null,null,{"$f":"IFERROR(VLOOKUP(T11211,Códigos!B:C,2,0),\" \")","v":" "}]
[null,null,null,null,null,null,null,null,null,null,null,null,null,null,null,null,null,null,null,null,{"$f":"IFERROR(VLOOKUP(T11221,Códigos!B:C,2,0),\" \")","v":" "}]
[null,null,null,null,null,null,null,null,null,null,null,null,null,null,null,null,null,null,null,null,{"$f":"IFERROR(VLOOKUP(T11224,Códigos!B:C,2,0),\" \")","v":" "}]
[null,null,null,null,null,null,null,null,null,null,null,null,null,null,null,null,null,null,null,null,{"$f":"IFERROR(VLOOKUP(T11236,Códigos!B:C,2,0),\" \")","v":" "}]
[null,null,null,null,null,null,null,null,null,null,null,null,null,null,null,null,null,null,null,null,{"$f":"IFERROR(VLOOKUP(T11242,Códigos!B:C,2,0),\" \")","v":" "}]
[null,null,null,null,null,null,null,null,null,null,null,null,null,null,null,null,null,null,null,null,{"$f":"IFERROR(VLOOKUP(T11254,Códigos!B:C,2,0),\" \")","v":" "}]
[null,null,null,null,null,null,null,null,null,null,null,null,null,null,null,null,null,null,null,null,{"$f":"IFERROR(VLOOKUP(T11261,Códigos!B:C,2,0),\" \")","v":" "}]
[null,null,null,null,null,null,null,null,null,null,null,null,null,null,null,null,null,null,null,null,{"$f":"IFERROR(VLOOKUP(T11273,Códigos!B:C,2,0),\" \")","v":" "}]
[null,null,null,null,null,null,null,null,null,null,null,null,null,null,null,null,null,null,null,null,{"$f":"IFERROR(VLOOKUP(T11281,Códigos!B:C,2,0),\" \")","v":" "}]
[null,null,null,null,null,null,null,null,null,null,null,null,null,null,null,null,null,null,null,null,{"$f":"IFERROR(VLOOKUP(T11291,Códigos!B:C,2,0),\" \")","v":" "}]
[null,null,null,null,null,null,null,null,null,null,null,null,null,null,null,null,null,null,null,null,{"$f":"IFERROR(VLOOKUP(T11294,Códigos!B:C,2,0),\" \")","v":" "}]
[null,null,null,null,null,null,null,null,null,null,null,null,null,null,null,null,null,null,null,null,{"$f":"IFERROR(VLOOKUP(T11310,Códigos!B:C,2,0),\" \")","v":" "}]
[null,null,null,null,null,null,null,null,null,null,null,null,null,null,null,null,null,null,null,null,{"$f":"IFERROR(VLOOKUP(T11312,Códigos!B:C,2,0),\" \")","v":" "}]
[null,null,null,null,null,null,null,null,null,null,null,null,null,null,null,null,null,null,null,null,{"$f":"IFERROR(VLOOKUP(T11324,Códigos!B:C,2,0),\" \")","v":" "}]
[null,null,null,null,null,null,null,null,null,null,null,null,null,null,null,null,null,null,null,null,{"$f":"IFERROR(VLOOKUP(T11331,Códigos!B:C,2,0),\" \")","v":" "}]
[null,null,null,null,null,null,null,null,null,null,null,null,null,null,null,null,null,null,null,null,{"$f":"IFERROR(VLOOKUP(T11343,Códigos!B:C,2,0),\" \")","v":" "}]
[null,null,null,null,null,null,null,null,null,null,null,null,null,null,null,null,null,null,null,null,{"$f":"IFERROR(VLOOKUP(T11351,Códigos!B:C,2,0),\" \")","v":" "}]
[null,null,null,null,null,null,null,null,null,null,null,null,null,null,null,null,null,null,null,null,{"$f":"IFERROR(VLOOKUP(T11361,Códigos!B:C,2,0),\" \")","v":" "}]
[null,null,null,null,null,null,null,null,null,null,null,null,null,null,null,null,null,null,null,null,{"$f":"IFERROR(VLOOKUP(T11364,Códigos!B:C,2,0),\" \")","v":" "}]
[null,null,null,null,null,null,null,null,null,null,null,null,null,null,null,null,null,null,null,null,{"$f":"IFERROR(VLOOKUP(T11380,Códigos!B:C,2,0),\" \")","v":" "}]
[null,null,null,null,null,null,null,null,null,null,null,null,null,null,null,null,null,null,null,null,{"$f":"IFERROR(VLOOKUP(T11382,Códigos!B:C,2,0),\" \")","v":" "}]
[null,null,null,null,null,null,null,null,null,null,null,null,null,null,null,null,null,null,null,null,{"$f":"IFERROR(VLOOKUP(T11394,Códigos!B:C,2,0),\" \")","v":" "}]
[null,null,null,null,null,null,null,null,null,null,null,null,null,null,null,null,null,null,null,null,{"$f":"IFERROR(VLOOKUP(T11401,Códigos!B:C,2,0),\" \")","v":" "}]
[null,null,null,null,null,null,null,null,null,null,null,null,null,null,null,null,null,null,null,null,{"$f":"IFERROR(VLOOKUP(T11413,Códigos!B:C,2,0),\" \")","v":" "}]
[null,null,null,null,null,null,null,null,null,null,null,null,null,null,null,null,null,null,null,null,{"$f":"IFERROR(VLOOKUP(T11421,Códigos!B:C,2,0),\" \")","v":" "}]
[null,null,null,null,null,null,null,null,null,null,null,null,null,null,null,null,null,null,null,null,{"$f":"IFERROR(VLOOKUP(T11431,Códigos!B:C,2,0),\" \")","v":" "}]
[null,null,null,null,null,null,null,null,null,null,null,null,null,null,null,null,null,null,null,null,{"$f":"IFERROR(VLOOKUP(T11434,Códigos!B:C,2,0),\" \")","v":" "}]
[null,null,null,null,null,null,null,null,null,null,null,null,null,null,null,null,null,null,null,null,{"$f":"IFERROR(VLOOKUP(T11450,Códigos!B:C,2,0),\" \")","v":" "}]
[null,null,null,null,null,null,null,null,null,null,null,null,null,null,null,null,null,null,null,null,{"$f":"IFERROR(VLOOKUP(T11452,Códigos!B:C,2,0),\" \")","v":" "}]
[null,null,null,null,null,null,null,null,null,null,null,null,null,null,null,null,null,null,null,null,{"$f":"IFERROR(VLOOKUP(T11464,Códigos!B:C,2,0),\" \")","v":" "}]
[null,null,null,null,null,null,null,null,null,null,null,null,null,null,null,null,null,null,null,null,{"$f":"IFERROR(VLOOKUP(T11471,Códigos!B:C,2,0),\" \")","v":" "}]
[null,null,null,null,null,null,null,null,null,null,null,null,null,null,null,null,null,null,null,null,{"$f":"IFERROR(VLOOKUP(T11483,Códigos!B:C,2,0),\" \")","v":" "}]
[null,null,null,null,null,null,null,null,null,null,null,null,null,null,null,null,null,null,null,null,{"$f":"IFERROR(VLOOKUP(T11491,Códigos!B:C,2,0),\" \")","v":" "}]
[null,null,null,null,null,null,null,null,null,null,null,null,null,null,null,null,null,null,null,null,{"$f":"IFERROR(VLOOKUP(T11501,Códigos!B:C,2,0),\" \")","v":" "}]
[null,null,null,null,null,null,null,null,null,null,null,null,null,null,null,null,null,null,null,null,{"$f":"IFERROR(VLOOKUP(T11504,Códigos!B:C,2,0),\" \")","v":" "}]
[null,null,null,null,null,null,null,null,null,null,null,null,null,null,null,null,null,null,null,null,{"$f":"IFERROR(VLOOKUP(T11520,Códigos!B:C,2,0),\" \")","v":" "}]
[null,null,null,null,null,null,null,null,null,null,null,null,null,null,null,null,null,null,null,null,{"$f":"IFERROR(VLOOKUP(T11522,Códigos!B:C,2,0),\" \")","v":" "}]
[null,null,null,null,null,null,null,null,null,null,null,null,null,null,null,null,null,null,null,null,{"$f":"IFERROR(VLOOKUP(T11534,Códigos!B:C,2,0),\" \")","v":" "}]
[null,null,null,null,null,null,null,null,null,null,null,null,null,null,null,null,null,null,null,null,{"$f":"IFERROR(VLOOKUP(T11541,Códigos!B:C,2,0),\" \")","v":" "}]
[null,null,null,null,null,null,null,null,null,null,null,null,null,null,null,null,null,null,null,null,{"$f":"IFERROR(VLOOKUP(T11553,Códigos!B:C,2,0),\" \")","v":" "}]
[null,null,null,null,null,null,null,null,null,null,null,null,null,null,null,null,null,null,null,null,{"$f":"IFERROR(VLOOKUP(T11561,Códigos!B:C,2,0),\" \")","v":" "}]
[null,null,null,null,null,null,null,null,null,null,null,null,null,null,null,null,null,null,null,null,{"$f":"IFERROR(VLOOKUP(T11571,Códigos!B:C,2,0),\" \")","v":" "}]
[null,null,null,null,null,null,null,null,null,null,null,null,null,null,null,null,null,null,null,null,{"$f":"IFERROR(VLOOKUP(T11574,Códigos!B:C,2,0),\" \")","v":" "}]
[null,null,null,null,null,null,null,null,null,null,null,null,null,null,null,null,null,null,null,null,{"$f":"IFERROR(VLOOKUP(T11590,Códigos!B:C,2,0),\" \")","v":" "}]
[null,null,null,null,null,null,null,null,null,null,null,null,null,null,null,null,null,null,null,null,{"$f":"IFERROR(VLOOKUP(T11592,Códigos!B:C,2,0),\" \")","v":" "}]
[null,null,null,null,null,null,null,null,null,null,null,null,null,null,null,null,null,null,null,null,{"$f":"IFERROR(VLOOKUP(T11599,Códigos!B:C,2,0),\" \")","v":" "}]
[null,null,null,null,null,null,null,null,null,null,null,null,null,null,null,null,null,null,null,null,{"$f":"IFERROR(VLOOKUP(T11611,Códigos!B:C,2,0),\" \")","v":" "}]
[null,null,null,null,null,null,null,null,null,null,null,null,null,null,null,null,null,null,null,null,{"$f":"IFERROR(VLOOKUP(T11623,Códigos!B:C,2,0),\" \")","v":" "}]
[null,null,null,null,null,null,null,null,null,null,null,null,null,null,null,null,null,null,null,null,{"$f":"IFERROR(VLOOKUP(T11631,Códigos!B:C,2,0),\" \")","v":" "}]
[null,null,null,null,null,null,null,null,null,null,null,null,null,null,null,null,null,null,null,null,{"$f":"IFERROR(VLOOKUP(T11641,Códigos!B:C,2,0),\" \")","v":" "}]
[null,null,null,null,null,null,null,null,null,null,null,null,null,null,null,null,null,null,null,null,{"$f":"IFERROR(VLOOKUP(T11644,Códigos!B:C,2,0),\" \")","v":" "}]
[null,null,null,null,null,null,null,null,null,null,null,null,null,null,null,null,null,null,null,null,{"$f":"IFERROR(VLOOKUP(T11660,Códigos!B:C,2,0),\" \")","v":" "}]
[null,null,null,null,null,null,null,null,null,null,null,null,null,null,null,null,null,null,null,null,{"$f":"IFERROR(VLOOKUP(T11662,Códigos!B:C,2,0),\" \")","v":" "}]
[null,null,null,null,null,null,null,null,null,null,null,null,null,null,null,null,null,null,null,null,{"$f":"IFERROR(VLOOKUP(T11669,Códigos!B:C,2,0),\" \")","v":" "}]
[null,null,null,null,null,null,null,null,null,null,null,null,null,null,null,null,null,null,null,null,{"$f":"IFERROR(VLOOKUP(T11681,Códigos!B:C,2,0),\" \")","v":" "}]
[null,null,null,null,null,null,null,null,null,null,null,null,null,null,null,null,null,null,null,null,{"$f":"IFERROR(VLOOKUP(T11693,Códigos!B:C,2,0),\" \")","v":" "}]
[null,null,null,null,null,null,null,null,null,null,null,null,null,null,null,null,null,null,null,null,{"$f":"IFERROR(VLOOKUP(T11701,Códigos!B:C,2,0),\" \")","v":" "}]
[null,null,null,null,null,null,null,null,null,null,null,null,null,null,null,null,null,null,null,null,{"$f":"IFERROR(VLOOKUP(T11711,Códigos!B:C,2,0),\" \")","v":" "}]
[null,null,null,null,null,null,null,null,null,null,null,null,null,null,null,null,null,null,null,null,{"$f":"IFERROR(VLOOKUP(T11714,Códigos!B:C,2,0),\" \")","v":" "}]
[null,null,null,null,null,null,null,null,null,null,null,null,null,null,null,null,null,null,null,null,{"$f":"IFERROR(VLOOKUP(T11730,Códigos!B:C,2,0),\" \")","v":" "}]
[null,null,null,null,null,null,null,null,null,null,null,null,null,null,null,null,null,null,null,null,{"$f":"IFERROR(VLOOKUP(T11732,Códigos!B:C,2,0),\" \")","v":" "}]
[null,null,null,null,null,null,null,null,null,null,null,null,null,null,null,null,null,null,null,null,{"$f":"IFERROR(VLOOKUP(T11739,Códigos!B:C,2,0),\" \")","v":" "}]
[null,null,null,null,null,null,null,null,null,null,null,null,null,null,null,null,null,null,null,null,{"$f":"IFERROR(VLOOKUP(T11751,Códigos!B:C,2,0),\" \")","v":" "}]
[null,null,null,null,null,null,null,null,null,null,null,null,null,null,null,null,null,null,null,null,{"$f":"IFERROR(VLOOKUP(T11763,Códigos!B:C,2,0),\" \")","v":" "}]
[null,null,null,null,null,null,null,null,null,null,null,null,null,null,null,null,null,null,null,null,{"$f":"IFERROR(VLOOKUP(T11771,Códigos!B:C,2,0),\" \")","v":" "}]
[null,null,null,null,null,null,null,null,null,null,null,null,null,null,null,null,null,null,null,null,{"$f":"IFERROR(VLOOKUP(T11781,Códigos!B:C,2,0),\" \")","v":" "}]
[null,null,null,null,null,null,null,null,null,null,null,null,null,null,null,null,null,null,null,null,{"$f":"IFERROR(VLOOKUP(T11788,Códigos!B:C,2,0),\" \")","v":" "}]
[null,null,null,null,null,null,null,null,null,null,null,null,null,null,null,null,null,null,null,null,{"$f":"IFERROR(VLOOKUP(T11800,Códigos!B:C,2,0),\" \")","v":" "}]
[null,null,null,null,null,null,null,null,null,null,null,null,null,null,null,null,null,null,null,null,{"$f":"IFERROR(VLOOKUP(T11802,Códigos!B:C,2,0),\" \")","v":" "}]
[null,null,null,null,null,null,null,null,null,null,null,null,null,null,null,null,null,null,null,null,{"$f":"IFERROR(VLOOKUP(T11809,Códigos!B:C,2,0),\" \")","v":" "}]
[null,null,null,null,null,null,null,null,null,null,null,null,null,null,null,null,null,null,null,null,{"$f":"IFERROR(VLOOKUP(T11821,Códigos!B:C,2,0),\" \")","v":" "}]
[null,null,null,null,null,null,null,null,null,null,null,null,null,null,null,null,null,null,null,null,{"$f":"IFERROR(VLOOKUP(T11833,Códigos!B:C,2,0),\" \")","v":" "}]
[null,null,null,null,null,null,null,null,null,null,null,null,null,null,null,null,null,null,null,null,{"$f":"IFERROR(VLOOKUP(T11841,Códigos!B:C,2,0),\" \")","v":" "}]
[null,null,null,null,null,null,null,null,null,null,null,null,null,null,null,null,null,null,null,null,{"$f":"IFERROR(VLOOKUP(T11851,Códigos!B:C,2,0),\" \")","v":" "}]
[null,null,null,null,null,null,null,null,null,null,null,null,null,null,null,null,null,null,null,null,{"$f":"IFERROR(VLOOKUP(T11858,Códigos!B:C,2,0),\" \")","v":" "}]
[null,null,null,null,null,null,null,null,null,null,null,null,null,null,null,null,null,null,null,null,{"$f":"IFERROR(VLOOKUP(T11870,Códigos!B:C,2,0),\" \")","v":" "}]
[null,null,null,null,null,null,null,null,null,null,null,null,null,null,null,null,null,null,null,null,{"$f":"IFERROR(VLOOKUP(T11872,Códigos!B:C,2,0),\" \")","v":" "}]
[null,null,null,null,null,null,null,null,null,null,null,null,null,null,null,null,null,null,null,null,{"$f":"IFERROR(VLOOKUP(T11879,Códigos!B:C,2,0),\" \")","v":" "}]
[null,null,null,null,null,null,null,null,null,null,null,null,null,null,null,null,null,null,null,null,{"$f":"IFERROR(VLOOKUP(T11891,Códigos!B:C,2,0),\" \")","v":" "}]
[null,null,null,null,null,null,null,null,null,null,null,null,null,null,null,null,null,null,null,null,{"$f":"IFERROR(VLOOKUP(T11898,Códigos!B:C,2,0),\" \")","v":" "}]
[null,null,null,null,null,null,null,null,null,null,null,null,null,null,null,null,null,null,null,null,{"$f":"IFERROR(VLOOKUP(T11911,Códigos!B:C,2,0),\" \")","v":" "}]
[null,null,null,null,null,null,null,null,null,null,null,null,null,null,null,null,null,null,null,null,{"$f":"IFERROR(VLOOKUP(T11921,Códigos!B:C,2,0),\" \")","v":" "}]
[null,null,null,null,null,null,null,null,null,null,null,null,null,null,null,null,null,null,null,null,{"$f":"IFERROR(VLOOKUP(T11928,Códigos!B:C,2,0),\" \")","v":" "}]
[null,null,null,null,null,null,null,null,null,null,null,null,null,null,null,null,null,null,null,null,{"$f":"IFERROR(VLOOKUP(T11940,Códigos!B:C,2,0),\" \")","v":" "}]
[null,null,null,null,null,null,null,null,null,null,null,null,null,null,null,null,null,null,null,null,{"$f":"IFERROR(VLOOKUP(T11942,Códigos!B:C,2,0),\" \")","v":" "}]
[null,null,null,null,null,null,null,null,null,null,null,null,null,null,null,null,null,null,null,null,{"$f":"IFERROR(VLOOKUP(T11949,Códigos!B:C,2,0),\" \")","v":" "}]
[null,null,null,null,null,null,null,null,null,null,null,null,null,null,null,null,null,null,null,null,{"$f":"IFERROR(VLOOKUP(T11961,Códigos!B:C,2,0),\" \")","v":" "}]
[null,null,null,null,null,null,null,null,null,null,null,null,null,null,null,null,null,null,null,null,{"$f":"IFERROR(VLOOKUP(T11968,Códigos!B:C,2,0),\" \")","v":" "}]
[null,null,null,null,null,null,null,null,null,null,null,null,null,null,null,null,null,null,null,null,{"$f":"IFERROR(VLOOKUP(T11981,Códigos!B:C,2,0),\" \")","v":" "}]
[null,null,null,null,null,null,null,null,null,null,null,null,null,null,null,null,null,null,null,null,{"$f":"IFERROR(VLOOKUP(T11991,Códigos!B:C,2,0),\" \")","v":" "}]
[null,null,null,null,null,null,null,null,null,null,null,null,null,null,null,null,null,null,null,null,{"$f":"IFERROR(VLOOKUP(T11998,Códigos!B:C,2,0),\" \")","v":" "}]
[null,null,null,null,null,null,null,null,null,null,null,null,null,null,null,null,null,null,null,null,{"$f":"IFERROR(VLOOKUP(T12010,Códigos!B:C,2,0),\" \")","v":" "}]
[null,null,null,null,null,null,null,null,null,null,null,null,null,null,null,null,null,null,null,null,{"$f":"IFERROR(VLOOKUP(T12012,Códigos!B:C,2,0),\" \")","v":" "}]
[null,null,null,null,null,null,null,null,null,null,null,null,null,null,null,null,null,null,null,null,{"$f":"IFERROR(VLOOKUP(T12019,Códigos!B:C,2,0),\" \")","v":" "}]
[null,null,null,null,null,null,null,null,null,null,null,null,null,null,null,null,null,null,null,null,{"$f":"IFERROR(VLOOKUP(T12031,Códigos!B:C,2,0),\" \")","v":" "}]
[null,null,null,null,null,null,null,null,null,null,null,null,null,null,null,null,null,null,null,null,{"$f":"IFERROR(VLOOKUP(T12038,Códigos!B:C,2,0),\" \")","v":" "}]
[null,null,null,null,null,null,null,null,null,null,null,null,null,null,null,null,null,null,null,null,{"$f":"IFERROR(VLOOKUP(T12051,Códigos!B:C,2,0),\" \")","v":" "}]
[null,null,null,null,null,null,null,null,null,null,null,null,null,null,null,null,null,null,null,null,{"$f":"IFERROR(VLOOKUP(T12061,Códigos!B:C,2,0),\" \")","v":" "}]
[null,null,null,null,null,null,null,null,null,null,null,null,null,null,null,null,null,null,null,null,{"$f":"IFERROR(VLOOKUP(T12068,Códigos!B:C,2,0),\" \")","v":" "}]
[null,null,null,null,null,null,null,null,null,null,null,null,null,null,null,null,null,null,null,null,{"$f":"IFERROR(VLOOKUP(T12080,Códigos!B:C,2,0),\" \")","v":" "}]
[null,null,null,null,null,null,null,null,null,null,null,null,null,null,null,null,null,null,null,null,{"$f":"IFERROR(VLOOKUP(T12082,Códigos!B:C,2,0),\" \")","v":" "}]
[null,null,null,null,null,null,null,null,null,null,null,null,null,null,null,null,null,null,null,null,{"$f":"IFERROR(VLOOKUP(T12089,Códigos!B:C,2,0),\" \")","v":" "}]
[null,null,null,null,null,null,null,null,null,null,null,null,null,null,null,null,null,null,null,null,{"$f":"IFERROR(VLOOKUP(T12101,Códigos!B:C,2,0),\" \")","v":" "}]
[null,null,null,null,null,null,null,null,null,null,null,null,null,null,null,null,null,null,null,null,{"$f":"IFERROR(VLOOKUP(T12108,Códigos!B:C,2,0),\" \")","v":" "}]
[null,null,null,null,null,null,null,null,null,null,null,null,null,null,null,null,null,null,null,null,{"$f":"IFERROR(VLOOKUP(T12121,Códigos!B:C,2,0),\" \")","v":" "}]
[null,null,null,null,null,null,null,null,null,null,null,null,null,null,null,null,null,null,null,null,{"$f":"IFERROR(VLOOKUP(T12131,Códigos!B:C,2,0),\" \")","v":" "}]
[null,null,null,null,null,null,null,null,null,null,null,null,null,null,null,null,null,null,null,null,{"$f":"IFERROR(VLOOKUP(T12138,Códigos!B:C,2,0),\" \")","v":" "}]
[null,null,null,null,null,null,null,null,null,null,null,null,null,null,null,null,null,null,null,null,{"$f":"IFERROR(VLOOKUP(T12150,Códigos!B:C,2,0),\" \")","v":" "}]
[null,null,null,null,null,null,null,null,null,null,null,null,null,null,null,null,null,null,null,null,{"$f":"IFERROR(VLOOKUP(T12152,Códigos!B:C,2,0),\" \")","v":" "}]
[null,null,null,null,null,null,null,null,null,null,null,null,null,null,null,null,null,null,null,null,{"$f":"IFERROR(VLOOKUP(T12159,Códigos!B:C,2,0),\" \")","v":" "}]
[null,null,null,null,null,null,null,null,null,null,null,null,null,null,null,null,null,null,null,null,{"$f":"IFERROR(VLOOKUP(T12171,Códigos!B:C,2,0),\" \")","v":" "}]
[null,null,null,null,null,null,null,null,null,null,null,null,null,null,null,null,null,null,null,null,{"$f":"IFERROR(VLOOKUP(T12178,Códigos!B:C,2,0),\" \")","v":" "}]
[null,null,null,null,null,null,null,null,null,null,null,null,null,null,null,null,null,null,null,null,{"$f":"IFERROR(VLOOKUP(T12191,Códigos!B:C,2,0),\" \")","v":" "}]
[null,null,null,null,null,null,null,null,null,null,null,null,null,null,null,null,null,null,null,null,{"$f":"IFERROR(VLOOKUP(T12201,Códigos!B:C,2,0),\" \")","v":" "}]
[null,null,null,null,null,null,null,null,null,null,null,null,null,null,null,null,null,null,null,null,{"$f":"IFERROR(VLOOKUP(T12208,Códigos!B:C,2,0),\" \")","v":" "}]
[null,null,null,null,null,null,null,null,null,null,null,null,null,null,null,null,null,null,null,null,{"$f":"IFERROR(VLOOKUP(T12220,Códigos!B:C,2,0),\" \")","v":" "}]
[null,null,null,null,null,null,null,null,null,null,null,null,null,null,null,null,null,null,null,null,{"$f":"IFERROR(VLOOKUP(T12222,Códigos!B:C,2,0),\" \")","v":" "}]
[null,null,null,null,null,null,null,null,null,null,null,null,null,null,null,null,null,null,null,null,{"$f":"IFERROR(VLOOKUP(T12229,Códigos!B:C,2,0),\" \")","v":" "}]
[null,null,null,null,null,null,null,null,null,null,null,null,null,null,null,null,null,null,null,null,{"$f":"IFERROR(VLOOKUP(T12241,Códigos!B:C,2,0),\" \")","v":" "}]
[null,null,null,null,null,null,null,null,null,null,null,null,null,null,null,null,null,null,null,null,{"$f":"IFERROR(VLOOKUP(T12248,Códigos!B:C,2,0),\" \")","v":" "}]
[null,null,null,null,null,null,null,null,null,null,null,null,null,null,null,null,null,null,null,null,{"$f":"IFERROR(VLOOKUP(T12261,Códigos!B:C,2,0),\" \")","v":" "}]
[null,null,null,null,null,null,null,null,null,null,null,null,null,null,null,null,null,null,null,null,{"$f":"IFERROR(VLOOKUP(T12266,Códigos!B:C,2,0),\" \")","v":" "}]
[null,null,null,null,null,null,null,null,null,null,null,null,null,null,null,null,null,null,null,null,{"$f":"IFERROR(VLOOKUP(T12278,Códigos!B:C,2,0),\" \")","v":" "}]
[null,null,null,null,null,null,null,null,null,null,null,null,null,null,null,null,null,null,null,null,{"$f":"IFERROR(VLOOKUP(T12290,Códigos!B:C,2,0),\" \")","v":" "}]
[null,null,null,null,null,null,null,null,null,null,null,null,null,null,null,null,null,null,null,null,{"$f":"IFERROR(VLOOKUP(T12292,Códigos!B:C,2,0),\" \")","v":" "}]
[null,null,null,null,null,null,null,null,null,null,null,null,null,null,null,null,null,null,null,null,{"$f":"IFERROR(VLOOKUP(T12299,Códigos!B:C,2,0),\" \")","v":" "}]
[null,null,null,null,null,null,null,null,null,null,null,null,null,null,null,null,null,null,null,null,{"$f":"IFERROR(VLOOKUP(T12311,Códigos!B:C,2,0),\" \")","v":" "}]
[null,null,null,null,null,null,null,null,null,null,null,null,null,null,null,null,null,null,null,null,{"$f":"IFERROR(VLOOKUP(T12318,Códigos!B:C,2,0),\" \")","v":" "}]
[null,null,null,null,null,null,null,null,null,null,null,null,null,null,null,null,null,null,null,null,{"$f":"IFERROR(VLOOKUP(T12331,Códigos!B:C,2,0),\" \")","v":" "}]
[null,null,null,null,null,null,null,null,null,null,null,null,null,null,null,null,null,null,null,null,{"$f":"IFERROR(VLOOKUP(T12336,Códigos!B:C,2,0),\" \")","v":" "}]
[null,null,null,null,null,null,null,null,null,null,null,null,null,null,null,null,null,null,null,null,{"$f":"IFERROR(VLOOKUP(T12348,Códigos!B:C,2,0),\" \")","v":" "}]
[null,null,null,null,null,null,null,null,null,null,null,null,null,null,null,null,null,null,null,null,{"$f":"IFERROR(VLOOKUP(T12360,Códigos!B:C,2,0),\" \")","v":" "}]
[null,null,null,null,null,null,null,null,null,null,null,null,null,null,null,null,null,null,null,null,{"$f":"IFERROR(VLOOKUP(T12362,Códigos!B:C,2,0),\" \")","v":" "}]
[null,null,null,null,null,null,null,null,null,null,null,null,null,null,null,null,null,null,null,null,{"$f":"IFERROR(VLOOKUP(T12369,Códigos!B:C,2,0),\" \")","v":" "}]
[null,null,null,null,null,null,null,null,null,null,null,null,null,null,null,null,null,null,null,null,{"$f":"IFERROR(VLOOKUP(T12385,Códigos!B:C,2,0),\" \")","v":" "}]
[null,null,null,null,null,null,null,null,null,null,null,null,null,null,null,null,null,null,null,null,{"$f":"IFERROR(VLOOKUP(T12388,Códigos!B:C,2,0),\" \")","v":" "}]
[null,null,null,null,null,null,null,null,null,null,null,null,null,null,null,null,null,null,null,null,{"$f":"IFERROR(VLOOKUP(T12401,Códigos!B:C,2,0),\" \")","v":" "}]
[null,null,null,null,null,null,null,null,null,null,null,null,null,null,null,null,null,null,null,null,{"$f":"IFERROR(VLOOKUP(T12406,Códigos!B:C,2,0),\" \")","v":" "}]
[null,null,null,null,null,null,null,null,null,null,null,null,null,null,null,null,null,null,null,null,{"$f":"IFERROR(VLOOKUP(T12418,Códigos!B:C,2,0),\" \")","v":" "}]
[null,null,null,null,null,null,null,null,null,null,null,null,null,null,null,null,null,null,null,null,{"$f":"IFERROR(VLOOKUP(T12430,Códigos!B:C,2,0),\" \")","v":" "}]
[null,null,null,null,null,null,null,null,null,null,null,null,null,null,null,null,null,null,null,null,{"$f":"IFERROR(VLOOKUP(T12432,Códigos!B:C,2,0),\" \")","v":" "}]
[null,null,null,null,null,null,null,null,null,null,null,null,null,null,null,null,null,null,null,null,{"$f":"IFERROR(VLOOKUP(T12439,Códigos!B:C,2,0),\" \")","v":" "}]
[null,null,null,null,null,null,null,null,null,null,null,null,null,null,null,null,null,null,null,null,{"$f":"IFERROR(VLOOKUP(T12455,Códigos!B:C,2,0),\" \")","v":" "}]
[null,null,null,null,null,null,null,null,null,null,null,null,null,null,null,null,null,null,null,null,{"$f":"IFERROR(VLOOKUP(T12458,Códigos!B:C,2,0),\" \")","v":" "}]
[null,null,null,null,null,null,null,null,null,null,null,null,null,null,null,null,null,null,null,null,{"$f":"IFERROR(VLOOKUP(T12471,Códigos!B:C,2,0),\" \")","v":" "}]
[null,null,null,null,null,null,null,null,null,null,null,null,null,null,null,null,null,null,null,null,{"$f":"IFERROR(VLOOKUP(T12476,Códigos!B:C,2,0),\" \")","v":" "}]
[null,null,null,null,null,null,null,null,null,null,null,null,null,null,null,null,null,null,null,null,{"$f":"IFERROR(VLOOKUP(T12488,Códigos!B:C,2,0),\" \")","v":" "}]
[null,null,null,null,null,null,null,null,null,null,null,null,null,null,null,null,null,null,null,null,{"$f":"IFERROR(VLOOKUP(T12500,Códigos!B:C,2,0),\" \")","v":" "}]
[null,null,null,null,null,null,null,null,null,null,null,null,null,null,null,null,null,null,null,null,{"$f":"IFERROR(VLOOKUP(T12502,Códigos!B:C,2,0),\" \")","v":" "}]
[null,null,null,null,null,null,null,null,null,null,null,null,null,null,null,null,null,null,null,null,{"$f":"IFERROR(VLOOKUP(T12509,Códigos!B:C,2,0),\" \")","v":" "}]
[null,null,null,null,null,null,null,null,null,null,null,null,null,null,null,null,null,null,null,null,{"$f":"IFERROR(VLOOKUP(T12525,Códigos!B:C,2,0),\" \")","v":" "}]
[null,null,null,null,null,null,null,null,null,null,null,null,null,null,null,null,null,null,null,null,{"$f":"IFERROR(VLOOKUP(T12528,Códigos!B:C,2,0),\" \")","v":" "}]
[null,null,null,null,null,null,null,null,null,null,null,null,null,null,null,null,null,null,null,null,{"$f":"IFERROR(VLOOKUP(T12541,Códigos!B:C,2,0),\" \")","v":" "}]
[null,null,null,null,null,null,null,null,null,null,null,null,null,null,null,null,null,null,null,null,{"$f":"IFERROR(VLOOKUP(T12546,Códigos!B:C,2,0),\" \")","v":" "}]
[null,null,null,null,null,null,null,null,null,null,null,null,null,null,null,null,null,null,null,null,{"$f":"IFERROR(VLOOKUP(T12558,Códigos!B:C,2,0),\" \")","v":" "}]
[null,null,null,null,null,null,null,null,null,null,null,null,null,null,null,null,null,null,null,null,{"$f":"IFERROR(VLOOKUP(T12565,Códigos!B:C,2,0),\" \")","v":" "}]
[null,null,null,null,null,null,null,null,null,null,null,null,null,null,null,null,null,null,null,null,{"$f":"IFERROR(VLOOKUP(T12572,Códigos!B:C,2,0),\" \")","v":" "}]
[null,null,null,null,null,null,null,null,null,null,null,null,null,null,null,null,null,null,null,null,{"$f":"IFERROR(VLOOKUP(T12579,Códigos!B:C,2,0),\" \")","v":" "}]
[null,null,null,null,null,null,null,null,null,null,null,null,null,null,null,null,null,null,null,null,{"$f":"IFERROR(VLOOKUP(T12595,Códigos!B:C,2,0),\" \")","v":" "}]
[null,null,null,null,null,null,null,null,null,null,null,null,null,null,null,null,null,null,null,null,{"$f":"IFERROR(VLOOKUP(T12598,Códigos!B:C,2,0),\" \")","v":" "}]
[null,null,null,null,null,null,null,null,null,null,null,null,null,null,null,null,null,null,null,null,{"$f":"IFERROR(VLOOKUP(T12611,Códigos!B:C,2,0),\" \")","v":" "}]
[null,null,null,null,null,null,null,null,null,null,null,null,null,null,null,null,null,null,null,null,{"$f":"IFERROR(VLOOKUP(T12616,Códigos!B:C,2,0),\" \")","v":" "}]
[null,null,null,null,null,null,null,null,null,null,null,null,null,null,null,null,null,null,null,null,{"$f":"IFERROR(VLOOKUP(T12628,Códigos!B:C,2,0),\" \")","v":" "}]
[null,null,null,null,null,null,null,null,null,null,null,null,null,null,null,null,null,null,null,null,{"$f":"IFERROR(VLOOKUP(T12635,Códigos!B:C,2,0),\" \")","v":" "}]
[null,null,null,null,null,null,null,null,null,null,null,null,null,null,null,null,null,null,null,null,{"$f":"IFERROR(VLOOKUP(T12642,Códigos!B:C,2,0),\" \")","v":" "}]
[null,null,null,null,null,null,null,null,null,null,null,null,null,null,null,null,null,null,null,null,{"$f":"IFERROR(VLOOKUP(T12649,Códigos!B:C,2,0),\" \")","v":" "}]
[null,null,null,null,null,null,null,null,null,null,null,null,null,null,null,null,null,null,null,null,{"$f":"IFERROR(VLOOKUP(T12665,Códigos!B:C,2,0),\" \")","v":" "}]
[null,null,null,null,null,null,null,null,null,null,null,null,null,null,null,null,null,null,null,null,{"$f":"IFERROR(VLOOKUP(T12668,Códigos!B:C,2,0),\" \")","v":" "}]
[null,null,null,null,null,null,null,null,null,null,null,null,null,null,null,null,null,null,null,null,{"$f":"IFERROR(VLOOKUP(T12681,Códigos!B:C,2,0),\" \")","v":" "}]
[null,null,null,null,null,null,null,null,null,null,null,null,null,null,null,null,null,null,null,null,{"$f":"IFERROR(VLOOKUP(T12686,Códigos!B:C,2,0),\" \")","v":" "}]
[null,null,null,null,null,null,null,null,null,null,null,null,null,null,null,null,null,null,null,null,{"$f":"IFERROR(VLOOKUP(T12698,Códigos!B:C,2,0),\" \")","v":" "}]
[null,null,null,null,null,null,null,null,null,null,null,null,null,null,null,null,null,null,null,null,{"$f":"IFERROR(VLOOKUP(T12705,Códigos!B:C,2,0),\" \")","v":" "}]
[null,null,null,null,null,null,null,null,null,null,null,null,null,null,null,null,null,null,null,null,{"$f":"IFERROR(VLOOKUP(T12712,Códigos!B:C,2,0),\" \")","v":" "}]
[null,null,null,null,null,null,null,null,null,null,null,null,null,null,null,null,null,null,null,null,{"$f":"IFERROR(VLOOKUP(T12719,Códigos!B:C,2,0),\" \")","v":" "}]
[null,null,null,null,null,null,null,null,null,null,null,null,null,null,null,null,null,null,null,null,{"$f":"IFERROR(VLOOKUP(T12735,Códigos!B:C,2,0),\" \")","v":" "}]
[null,null,null,null,null,null,null,null,null,null,null,null,null,null,null,null,null,null,null,null,{"$f":"IFERROR(VLOOKUP(T12738,Códigos!B:C,2,0),\" \")","v":" "}]
[null,null,null,null,null,null,null,null,null,null,null,null,null,null,null,null,null,null,null,null,{"$f":"IFERROR(VLOOKUP(T12751,Códigos!B:C,2,0),\" \")","v":" "}]
[null,null,null,null,null,null,null,null,null,null,null,null,null,null,null,null,null,null,null,null,{"$f":"IFERROR(VLOOKUP(T12756,Códigos!B:C,2,0),\" \")","v":" "}]
[null,null,null,null,null,null,null,null,null,null,null,null,null,null,null,null,null,null,null,null,{"$f":"IFERROR(VLOOKUP(T12768,Códigos!B:C,2,0),\" \")","v":" "}]
[null,null,null,null,null,null,null,null,null,null,null,null,null,null,null,null,null,null,null,null,{"$f":"IFERROR(VLOOKUP(T12775,Códigos!B:C,2,0),\" \")","v":" "}]
[null,null,null,null,null,null,null,null,null,null,null,null,null,null,null,null,null,null,null,null,{"$f":"IFERROR(VLOOKUP(T12782,Códigos!B:C,2,0),\" \")","v":" "}]
[null,null,null,null,null,null,null,null,null,null,null,null,null,null,null,null,null,null,null,null,{"$f":"IFERROR(VLOOKUP(T12789,Códigos!B:C,2,0),\" \")","v":" "}]
[null,null,null,null,null,null,null,null,null,null,null,null,null,null,null,null,null,null,null,null,{"$f":"IFERROR(VLOOKUP(T12805,Códigos!B:C,2,0),\" \")","v":" "}]
[null,null,null,null,null,null,null,null,null,null,null,null,null,null,null,null,null,null,null,null,{"$f":"IFERROR(VLOOKUP(T12808,Códigos!B:C,2,0),\" \")","v":" "}]
[null,null,null,null,null,null,null,null,null,null,null,null,null,null,null,null,null,null,null,null,{"$f":"IFERROR(VLOOKUP(T12821,Códigos!B:C,2,0),\" \")","v":" "}]
[null,null,null,null,null,null,null,null,null,null,null,null,null,null,null,null,null,null,null,null,{"$f":"IFERROR(VLOOKUP(T12826,Códigos!B:C,2,0),\" \")","v":" "}]
[null,null,null,null,null,null,null,null,null,null,null,null,null,null,null,null,null,null,null,null,{"$f":"IFERROR(VLOOKUP(T12838,Códigos!B:C,2,0),\" \")","v":" "}]
[null,null,null,null,null,null,null,null,null,null,null,null,null,null,null,null,null,null,null,null,{"$f":"IFERROR(VLOOKUP(T12845,Códigos!B:C,2,0),\" \")","v":" "}]
[null,null,null,null,null,null,null,null,null,null,null,null,null,null,null,null,null,null,null,null,{"$f":"IFERROR(VLOOKUP(T12852,Códigos!B:C,2,0),\" \")","v":" "}]
[null,null,null,null,null,null,null,null,null,null,null,null,null,null,null,null,null,null,null,null,{"$f":"IFERROR(VLOOKUP(T12863,Códigos!B:C,2,0),\" \")","v":" "}]
[null,null,null,null,null,null,null,null,null,null,null,null,null,null,null,null,null,null,null,null,{"$f":"IFERROR(VLOOKUP(T12875,Códigos!B:C,2,0),\" \")","v":" "}]
[null,null,null,null,null,null,null,null,null,null,null,null,null,null,null,null,null,null,null,null,{"$f":"IFERROR(VLOOKUP(T12878,Códigos!B:C,2,0),\" \")","v":" "}]
[null,null,null,null,null,null,null,null,null,null,null,null,null,null,null,null,null,null,null,null,{"$f":"IFERROR(VLOOKUP(T12891,Códigos!B:C,2,0),\" \")","v":" "}]
[null,null,null,null,null,null,null,null,null,null,null,null,null,null,null,null,null,null,null,null,{"$f":"IFERROR(VLOOKUP(T12896,Códigos!B:C,2,0),\" \")","v":" "}]
[null,null,null,null,null,null,null,null,null,null,null,null,null,null,null,null,null,null,null,null,{"$f":"IFERROR(VLOOKUP(T12908,Códigos!B:C,2,0),\" \")","v":" "}]
[null,null,null,null,null,null,null,null,null,null,null,null,null,null,null,null,null,null,null,null,{"$f":"IFERROR(VLOOKUP(T12915,Códigos!B:C,2,0),\" \")","v":" "}]
[null,null,null,null,null,null,null,null,null,null,null,null,null,null,null,null,null,null,null,null,{"$f":"IFERROR(VLOOKUP(T12922,Códigos!B:C,2,0),\" \")","v":" "}]
[null,null,null,null,null,null,null,null,null,null,null,null,null,null,null,null,null,null,null,null,{"$f":"IFERROR(VLOOKUP(T12933,Códigos!B:C,2,0),\" \")","v":" "}]
[null,null,null,null,null,null,null,null,null,null,null,null,null,null,null,null,null,null,null,null,{"$f":"IFERROR(VLOOKUP(T12945,Códigos!B:C,2,0),\" \")","v":" "}]
[null,null,null,null,null,null,null,null,null,null,null,null,null,null,null,null,null,null,null,null,{"$f":"IFERROR(VLOOKUP(T12948,Códigos!B:C,2,0),\" \")","v":" "}]
[null,null,null,null,null,null,null,null,null,null,null,null,null,null,null,null,null,null,null,null,{"$f":"IFERROR(VLOOKUP(T12961,Códigos!B:C,2,0),\" \")","v":" "}]
[null,null,null,null,null,null,null,null,null,null,null,null,null,null,null,null,null,null,null,null,{"$f":"IFERROR(VLOOKUP(T12966,Códigos!B:C,2,0),\" \")","v":" "}]
[null,null,null,null,null,null,null,null,null,null,null,null,null,null,null,null,null,null,null,null,{"$f":"IFERROR(VLOOKUP(T12978,Códigos!B:C,2,0),\" \")","v":" "}]
[null,null,null,null,null,null,null,null,null,null,null,null,null,null,null,null,null,null,null,null,{"$f":"IFERROR(VLOOKUP(T12985,Códigos!B:C,2,0),\" \")","v":" "}]
[null,null,null,null,null,null,null,null,null,null,null,null,null,null,null,null,null,null,null,null,{"$f":"IFERROR(VLOOKUP(T12992,Códigos!B:C,2,0),\" \")","v":" "}]
[null,null,null,null,null,null,null,null,null,null,null,null,null,null,null,null,null,null,null,null,{"$f":"IFERROR(VLOOKUP(T13003,Códigos!B:C,2,0),\" \")","v":" "}]
[null,null,null,null,null,null,null,null,null,null,null,null,null,null,null,null,null,null,null,null,{"$f":"IFERROR(VLOOKUP(T13015,Códigos!B:C,2,0),\" \")","v":" "}]
[null,null,null,null,null,null,null,null,null,null,null,null,null,null,null,null,null,null,null,null,{"$f":"IFERROR(VLOOKUP(T13018,Códigos!B:C,2,0),\" \")","v":" "}]
[null,null,null,null,null,null,null,null,null,null,null,null,null,null,null,null,null,null,null,null,{"$f":"IFERROR(VLOOKUP(T13031,Códigos!B:C,2,0),\" \")","v":" "}]
[null,null,null,null,null,null,null,null,null,null,null,null,null,null,null,null,null,null,null,null,{"$f":"IFERROR(VLOOKUP(T13036,Códigos!B:C,2,0),\" \")","v":" "}]
[null,null,null,null,null,null,null,null,null,null,null,null,null,null,null,null,null,null,null,null,{"$f":"IFERROR(VLOOKUP(T13043,Códigos!B:C,2,0),\" \")","v":" "}]
[null,null,null,null,null,null,null,null,null,null,null,null,null,null,null,null,null,null,null,null,{"$f":"IFERROR(VLOOKUP(T13055,Códigos!B:C,2,0),\" \")","v":" "}]
[null,null,null,null,null,null,null,null,null,null,null,null,null,null,null,null,null,null,null,null,{"$f":"IFERROR(VLOOKUP(T13062,Códigos!B:C,2,0),\" \")","v":" "}]
[null,null,null,null,null,null,null,null,null,null,null,null,null,null,null,null,null,null,null,null,{"$f":"IFERROR(VLOOKUP(T13073,Códigos!B:C,2,0),\" \")","v":" "}]
[null,null,null,null,null,null,null,null,null,null,null,null,null,null,null,null,null,null,null,null,{"$f":"IFERROR(VLOOKUP(T13085,Códigos!B:C,2,0),\" \")","v":" "}]
[null,null,null,null,null,null,null,null,null,null,null,null,null,null,null,null,null,null,null,null,{"$f":"IFERROR(VLOOKUP(T13088,Códigos!B:C,2,0),\" \")","v":" "}]
[null,null,null,null,null,null,null,null,null,null,null,null,null,null,null,null,null,null,null,null,{"$f":"IFERROR(VLOOKUP(T13101,Códigos!B:C,2,0),\" \")","v":" "}]
[null,null,null,null,null,null,null,null,null,null,null,null,null,null,null,null,null,null,null,null,{"$f":"IFERROR(VLOOKUP(T13106,Códigos!B:C,2,0),\" \")","v":" "}]
[null,null,null,null,null,null,null,null,null,null,null,null,null,null,null,null,null,null,null,null,{"$f":"IFERROR(VLOOKUP(T13113,Códigos!B:C,2,0),\" \")","v":" "}]
[null,null,null,null,null,null,null,null,null,null,null,null,null,null,null,null,null,null,null,null,{"$f":"IFERROR(VLOOKUP(T13125,Códigos!B:C,2,0),\" \")","v":" "}]
[null,null,null,null,null,null,null,null,null,null,null,null,null,null,null,null,null,null,null,null,{"$f":"IFERROR(VLOOKUP(T13132,Códigos!B:C,2,0),\" \")","v":" "}]
[null,null,null,null,null,null,null,null,null,null,null,null,null,null,null,null,null,null,null,null,{"$f":"IFERROR(VLOOKUP(T13143,Códigos!B:C,2,0),\" \")","v":" "}]
[null,null,null,null,null,null,null,null,null,null,null,null,null,null,null,null,null,null,null,null,{"$f":"IFERROR(VLOOKUP(T13155,Códigos!B:C,2,0),\" \")","v":" "}]
[null,null,null,null,null,null,null,null,null,null,null,null,null,null,null,null,null,null,null,null,{"$f":"IFERROR(VLOOKUP(T13162,Códigos!B:C,2,0),\" \")","v":" "}]
[null,null,null,null,null,null,null,null,null,null,null,null,null,null,null,null,null,null,null,null,{"$f":"IFERROR(VLOOKUP(T13171,Códigos!B:C,2,0),\" \")","v":" "}]
[null,null,null,null,null,null,null,null,null,null,null,null,null,null,null,null,null,null,null,null,{"$f":"IFERROR(VLOOKUP(T13176,Códigos!B:C,2,0),\" \")","v":" "}]
[null,null,null,null,null,null,null,null,null,null,null,null,null,null,null,null,null,null,null,null,{"$f":"IFERROR(VLOOKUP(T13183,Códigos!B:C,2,0),\" \")","v":" "}]
[null,null,null,null,null,null,null,null,null,null,null,null,null,null,null,null,null,null,null,null,{"$f":"IFERROR(VLOOKUP(T13195,Códigos!B:C,2,0),\" \")","v":" "}]
[null,null,null,null,null,null,null,null,null,null,null,null,null,null,null,null,null,null,null,null,{"$f":"IFERROR(VLOOKUP(T13202,Códigos!B:C,2,0),\" \")","v":" "}]
[null,null,null,null,null,null,null,null,null,null,null,null,null,null,null,null,null,null,null,null,{"$f":"IFERROR(VLOOKUP(T13213,Códigos!B:C,2,0),\" \")","v":" "}]
[null,null,null,null,null,null,null,null,null,null,null,null,null,null,null,null,null,null,null,null,{"$f":"IFERROR(VLOOKUP(T13225,Códigos!B:C,2,0),\" \")","v":" "}]
[null,null,null,null,null,null,null,null,null,null,null,null,null,null,null,null,null,null,null,null,{"$f":"IFERROR(VLOOKUP(T13232,Códigos!B:C,2,0),\" \")","v":" "}]
[null,null,null,null,null,null,null,null,null,null,null,null,null,null,null,null,null,null,null,null,{"$f":"IFERROR(VLOOKUP(T13241,Códigos!B:C,2,0),\" \")","v":" "}]
[null,null,null,null,null,null,null,null,null,null,null,null,null,null,null,null,null,null,null,null,{"$f":"IFERROR(VLOOKUP(T13246,Códigos!B:C,2,0),\" \")","v":" "}]
[null,null,null,null,null,null,null,null,null,null,null,null,null,null,null,null,null,null,null,null,{"$f":"IFERROR(VLOOKUP(T13253,Códigos!B:C,2,0),\" \")","v":" "}]
[null,null,null,null,null,null,null,null,null,null,null,null,null,null,null,null,null,null,null,null,{"$f":"IFERROR(VLOOKUP(T13265,Códigos!B:C,2,0),\" \")","v":" "}]
[null,null,null,null,null,null,null,null,null,null,null,null,null,null,null,null,null,null,null,null,{"$f":"IFERROR(VLOOKUP(T13272,Códigos!B:C,2,0),\" \")","v":" "}]
[null,null,null,null,null,null,null,null,null,null,null,null,null,null,null,null,null,null,null,null,{"$f":"IFERROR(VLOOKUP(T13283,Códigos!B:C,2,0),\" \")","v":" "}]
[null,null,null,null,null,null,null,null,null,null,null,null,null,null,null,null,null,null,null,null,{"$f":"IFERROR(VLOOKUP(T13295,Códigos!B:C,2,0),\" \")","v":" "}]
[null,null,null,null,null,null,null,null,null,null,null,null,null,null,null,null,null,null,null,null,{"$f":"IFERROR(VLOOKUP(T13302,Códigos!B:C,2,0),\" \")","v":" "}]
[null,null,null,null,null,null,null,null,null,null,null,null,null,null,null,null,null,null,null,null,{"$f":"IFERROR(VLOOKUP(T13311,Códigos!B:C,2,0),\" \")","v":" "}]
[null,null,null,null,null,null,null,null,null,null,null,null,null,null,null,null,null,null,null,null,{"$f":"IFERROR(VLOOKUP(T13316,Códigos!B:C,2,0),\" \")","v":" "}]
[null,null,null,null,null,null,null,null,null,null,null,null,null,null,null,null,null,null,null,null,{"$f":"IFERROR(VLOOKUP(T13323,Códigos!B:C,2,0),\" \")","v":" "}]
[null,null,null,null,null,null,null,null,null,null,null,null,null,null,null,null,null,null,null,null,{"$f":"IFERROR(VLOOKUP(T13335,Códigos!B:C,2,0),\" \")","v":" "}]
[null,null,null,null,null,null,null,null,null,null,null,null,null,null,null,null,null,null,null,null,{"$f":"IFERROR(VLOOKUP(T13342,Códigos!B:C,2,0),\" \")","v":" "}]
[null,null,null,null,null,null,null,null,null,null,null,null,null,null,null,null,null,null,null,null,{"$f":"IFERROR(VLOOKUP(T13353,Códigos!B:C,2,0),\" \")","v":" "}]
[null,null,null,null,null,null,null,null,null,null,null,null,null,null,null,null,null,null,null,null,{"$f":"IFERROR(VLOOKUP(T13365,Códigos!B:C,2,0),\" \")","v":" "}]
[null,null,null,null,null,null,null,null,null,null,null,null,null,null,null,null,null,null,null,null,{"$f":"IFERROR(VLOOKUP(T13372,Códigos!B:C,2,0),\" \")","v":" "}]
[null,null,null,null,null,null,null,null,null,null,null,null,null,null,null,null,null,null,null,null,{"$f":"IFERROR(VLOOKUP(T13381,Códigos!B:C,2,0),\" \")","v":" "}]
[null,null,null,null,null,null,null,null,null,null,null,null,null,null,null,null,null,null,null,null,{"$f":"IFERROR(VLOOKUP(T13386,Códigos!B:C,2,0),\" \")","v":" "}]
[null,null,null,null,null,null,null,null,null,null,null,null,null,null,null,null,null,null,null,null,{"$f":"IFERROR(VLOOKUP(T13393,Códigos!B:C,2,0),\" \")","v":" "}]
[null,null,null,null,null,null,null,null,null,null,null,null,null,null,null,null,null,null,null,null,{"$f":"IFERROR(VLOOKUP(T13405,Códigos!B:C,2,0),\" \")","v":" "}]
[null,null,null,null,null,null,null,null,null,null,null,null,null,null,null,null,null,null,null,null,{"$f":"IFERROR(VLOOKUP(T13412,Códigos!B:C,2,0),\" \")","v":" "}]
[null,null,null,null,null,null,null,null,null,null,null,null,null,null,null,null,null,null,null,null,{"$f":"IFERROR(VLOOKUP(T13423,Códigos!B:C,2,0),\" \")","v":" "}]
[null,null,null,null,null,null,null,null,null,null,null,null,null,null,null,null,null,null,null,null,{"$f":"IFERROR(VLOOKUP(T13435,Códigos!B:C,2,0),\" \")","v":" "}]
[null,null,null,null,null,null,null,null,null,null,null,null,null,null,null,null,null,null,null,null,{"$f":"IFERROR(VLOOKUP(T13442,Códigos!B:C,2,0),\" \")","v":" "}]
[null,null,null,null,null,null,null,null,null,null,null,null,null,null,null,null,null,null,null,null,{"$f":"IFERROR(VLOOKUP(T13451,Códigos!B:C,2,0),\" \")","v":" "}]
[null,null,null,null,null,null,null,null,null,null,null,null,null,null,null,null,null,null,null,null,{"$f":"IFERROR(VLOOKUP(T13456,Códigos!B:C,2,0),\" \")","v":" "}]
[null,null,null,null,null,null,null,null,null,null,null,null,null,null,null,null,null,null,null,null,{"$f":"IFERROR(VLOOKUP(T13463,Códigos!B:C,2,0),\" \")","v":" "}]
[null,null,null,null,null,null,null,null,null,null,null,null,null,null,null,null,null,null,null,null,{"$f":"IFERROR(VLOOKUP(T13475,Códigos!B:C,2,0),\" \")","v":" "}]
[null,null,null,null,null,null,null,null,null,null,null,null,null,null,null,null,null,null,null,null,{"$f":"IFERROR(VLOOKUP(T13482,Códigos!B:C,2,0),\" \")","v":" "}]
[null,null,null,null,null,null,null,null,null,null,null,null,null,null,null,null,null,null,null,null,{"$f":"IFERROR(VLOOKUP(T13493,Códigos!B:C,2,0),\" \")","v":" "}]
[null,null,null,null,null,null,null,null,null,null,null,null,null,null,null,null,null,null,null,null,{"$f":"IFERROR(VLOOKUP(T13505,Códigos!B:C,2,0),\" \")","v":" "}]
[null,null,null,null,null,null,null,null,null,null,null,null,null,null,null,null,null,null,null,null,{"$f":"IFERROR(VLOOKUP(T13512,Códigos!B:C,2,0),\" \")","v":" "}]
[null,null,null,null,null,null,null,null,null,null,null,null,null,null,null,null,null,null,null,null,{"$f":"IFERROR(VLOOKUP(T13521,Códigos!B:C,2,0),\" \")","v":" "}]
[null,null,null,null,null,null,null,null,null,null,null,null,null,null,null,null,null,null,null,null,{"$f":"IFERROR(VLOOKUP(T13530,Códigos!B:C,2,0),\" \")","v":" "}]
[null,null,null,null,null,null,null,null,null,null,null,null,null,null,null,null,null,null,null,null,{"$f":"IFERROR(VLOOKUP(T13533,Códigos!B:C,2,0),\" \")","v":" "}]
[null,null,null,null,null,null,null,null,null,null,null,null,null,null,null,null,null,null,null,null,{"$f":"IFERROR(VLOOKUP(T13545,Códigos!B:C,2,0),\" \")","v":" "}]
[null,null,null,null,null,null,null,null,null,null,null,null,null,null,null,null,null,null,null,null,{"$f":"IFERROR(VLOOKUP(T13552,Códigos!B:C,2,0),\" \")","v":" "}]
[null,null,null,null,null,null,null,null,null,null,null,null,null,null,null,null,null,null,null,null,{"$f":"IFERROR(VLOOKUP(T13563,Códigos!B:C,2,0),\" \")","v":" "}]
[null,null,null,null,null,null,null,null,null,null,null,null,null,null,null,null,null,null,null,null,{"$f":"IFERROR(VLOOKUP(T13575,Códigos!B:C,2,0),\" \")","v":" "}]
[null,null,null,null,null,null,null,null,null,null,null,null,null,null,null,null,null,null,null,null,{"$f":"IFERROR(VLOOKUP(T13582,Códigos!B:C,2,0),\" \")","v":" "}]
[null,null,null,null,null,null,null,null,null,null,null,null,null,null,null,null,null,null,null,null,{"$f":"IFERROR(VLOOKUP(T13591,Códigos!B:C,2,0),\" \")","v":" "}]
[null,null,null,null,null,null,null,null,null,null,null,null,null,null,null,null,null,null,null,null,{"$f":"IFERROR(VLOOKUP(T13600,Códigos!B:C,2,0),\" \")","v":" "}]
[null,null,null,null,null,null,null,null,null,null,null,null,null,null,null,null,null,null,null,null,{"$f":"IFERROR(VLOOKUP(T13603,Códigos!B:C,2,0),\" \")","v":" "}]
[null,null,null,null,null,null,null,null,null,null,null,null,null,null,null,null,null,null,null,null,{"$f":"IFERROR(VLOOKUP(T13615,Códigos!B:C,2,0),\" \")","v":" "}]
[null,null,null,null,null,null,null,null,null,null,null,null,null,null,null,null,null,null,null,null,{"$f":"IFERROR(VLOOKUP(T13622,Códigos!B:C,2,0),\" \")","v":" "}]
[null,null,null,null,null,null,null,null,null,null,null,null,null,null,null,null,null,null,null,null,{"$f":"IFERROR(VLOOKUP(T13633,Códigos!B:C,2,0),\" \")","v":" "}]
[null,null,null,null,null,null,null,null,null,null,null,null,null,null,null,null,null,null,null,null,{"$f":"IFERROR(VLOOKUP(T13640,Códigos!B:C,2,0),\" \")","v":" "}]
[null,null,null,null,null,null,null,null,null,null,null,null,null,null,null,null,null,null,null,null,{"$f":"IFERROR(VLOOKUP(T13652,Códigos!B:C,2,0),\" \")","v":" "}]
[null,null,null,null,null,null,null,null,null,null,null,null,null,null,null,null,null,null,null,null,{"$f":"IFERROR(VLOOKUP(T13661,Códigos!B:C,2,0),\" \")","v":" "}]
[null,null,null,null,null,null,null,null,null,null,null,null,null,null,null,null,null,null,null,null,{"$f":"IFERROR(VLOOKUP(T13670,Códigos!B:C,2,0),\" \")","v":" "}]
[null,null,null,null,null,null,null,null,null,null,null,null,null,null,null,null,null,null,null,null,{"$f":"IFERROR(VLOOKUP(T13673,Códigos!B:C,2,0),\" \")","v":" "}]
[null,null,null,null,null,null,null,null,null,null,null,null,null,null,null,null,null,null,null,null,{"$f":"IFERROR(VLOOKUP(T13685,Códigos!B:C,2,0),\" \")","v":" "}]
[null,null,null,null,null,null,null,null,null,null,null,null,null,null,null,null,null,null,null,null,{"$f":"IFERROR(VLOOKUP(T13692,Códigos!B:C,2,0),\" \")","v":" "}]
[null,null,null,null,null,null,null,null,null,null,null,null,null,null,null,null,null,null,null,null,{"$f":"IFERROR(VLOOKUP(T13703,Códigos!B:C,2,0),\" \")","v":" "}]
[null,null,null,null,null,null,null,null,null,null,null,null,null,null,null,null,null,null,null,null,{"$f":"IFERROR(VLOOKUP(T13710,Códigos!B:C,2,0),\" \")","v":" "}]
[null,null,null,null,null,null,null,null,null,null,null,null,null,null,null,null,null,null,null,null,{"$f":"IFERROR(VLOOKUP(T13722,Códigos!B:C,2,0),\" \")","v":" "}]
[null,null,null,null,null,null,null,null,null,null,null,null,null,null,null,null,null,null,null,null,{"$f":"IFERROR(VLOOKUP(T13731,Códigos!B:C,2,0),\" \")","v":" "}]
[null,null,null,null,null,null,null,null,null,null,null,null,null,null,null,null,null,null,null,null,{"$f":"IFERROR(VLOOKUP(T13740,Códigos!B:C,2,0),\" \")","v":" "}]
[null,null,null,null,null,null,null,null,null,null,null,null,null,null,null,null,null,null,null,null,{"$f":"IFERROR(VLOOKUP(T13743,Códigos!B:C,2,0),\" \")","v":" "}]
[null,null,null,null,null,null,null,null,null,null,null,null,null,null,null,null,null,null,null,null,{"$f":"IFERROR(VLOOKUP(T13755,Códigos!B:C,2,0),\" \")","v":" "}]
[null,null,null,null,null,null,null,null,null,null,null,null,null,null,null,null,null,null,null,null,{"$f":"IFERROR(VLOOKUP(T13762,Códigos!B:C,2,0),\" \")","v":" "}]
[null,null,null,null,null,null,null,null,null,null,null,null,null,null,null,null,null,null,null,null,{"$f":"IFERROR(VLOOKUP(T13773,Códigos!B:C,2,0),\" \")","v":" "}]
[null,null,null,null,null,null,null,null,null,null,null,null,null,null,null,null,null,null,null,null,{"$f":"IFERROR(VLOOKUP(T13780,Códigos!B:C,2,0),\" \")","v":" "}]
[null,null,null,null,null,null,null,null,null,null,null,null,null,null,null,null,null,null,null,null,{"$f":"IFERROR(VLOOKUP(T13792,Códigos!B:C,2,0),\" \")","v":" "}]
[null,null,null,null,null,null,null,null,null,null,null,null,null,null,null,null,null,null,null,null,{"$f":"IFERROR(VLOOKUP(T13801,Códigos!B:C,2,0),\" \")","v":" "}]
[null,null,null,null,null,null,null,null,null,null,null,null,null,null,null,null,null,null,null,null,{"$f":"IFERROR(VLOOKUP(T13810,Códigos!B:C,2,0),\" \")","v":" "}]
[null,null,null,null,null,null,null,null,null,null,null,null,null,null,null,null,null,null,null,null,{"$f":"IFERROR(VLOOKUP(T13813,Códigos!B:C,2,0),\" \")","v":" "}]
[null,null,null,null,null,null,null,null,null,null,null,null,null,null,null,null,null,null,null,null,{"$f":"IFERROR(VLOOKUP(T13829,Códigos!B:C,2,0),\" \")","v":" "}]
[null,null,null,null,null,null,null,null,null,null,null,null,null,null,null,null,null,null,null,null,{"$f":"IFERROR(VLOOKUP(T13832,Códigos!B:C,2,0),\" \")","v":" "}]
[null,null,null,null,null,null,null,null,null,null,null,null,null,null,null,null,null,null,null,null,{"$f":"IFERROR(VLOOKUP(T13843,Códigos!B:C,2,0),\" \")","v":" "}]
[null,null,null,null,null,null,null,null,null,null,null,null,null,null,null,null,null,null,null,null,{"$f":"IFERROR(VLOOKUP(T13850,Códigos!B:C,2,0),\" \")","v":" "}]
[null,null,null,null,null,null,null,null,null,null,null,null,null,null,null,null,null,null,null,null,{"$f":"IFERROR(VLOOKUP(T13862,Códigos!B:C,2,0),\" \")","v":" "}]
[null,null,null,null,null,null,null,null,null,null,null,null,null,null,null,null,null,null,null,null,{"$f":"IFERROR(VLOOKUP(T13871,Códigos!B:C,2,0),\" \")","v":" "}]
[null,null,null,null,null,null,null,null,null,null,null,null,null,null,null,null,null,null,null,null,{"$f":"IFERROR(VLOOKUP(T13880,Códigos!B:C,2,0),\" \")","v":" "}]
[null,null,null,null,null,null,null,null,null,null,null,null,null,null,null,null,null,null,null,null,{"$f":"IFERROR(VLOOKUP(T13883,Códigos!B:C,2,0),\" \")","v":" "}]
[null,null,null,null,null,null,null,null,null,null,null,null,null,null,null,null,null,null,null,null,{"$f":"IFERROR(VLOOKUP(T13899,Códigos!B:C,2,0),\" \")","v":" "}]
[null,null,null,null,null,null,null,null,null,null,null,null,null,null,null,null,null,null,null,null,{"$f":"IFERROR(VLOOKUP(T13902,Códigos!B:C,2,0),\" \")","v":" "}]
[null,null,null,null,null,null,null,null,null,null,null,null,null,null,null,null,null,null,null,null,{"$f":"IFERROR(VLOOKUP(T13913,Códigos!B:C,2,0),\" \")","v":" "}]
[null,null,null,null,null,null,null,null,null,null,null,null,null,null,null,null,null,null,null,null,{"$f":"IFERROR(VLOOKUP(T13920,Códigos!B:C,2,0),\" \")","v":" "}]
[null,null,null,null,null,null,null,null,null,null,null,null,null,null,null,null,null,null,null,null,{"$f":"IFERROR(VLOOKUP(T13932,Códigos!B:C,2,0),\" \")","v":" "}]
[null,null,null,null,null,null,null,null,null,null,null,null,null,null,null,null,null,null,null,null,{"$f":"IFERROR(VLOOKUP(T13941,Códigos!B:C,2,0),\" \")","v":" "}]
[null,null,null,null,null,null,null,null,null,null,null,null,null,null,null,null,null,null,null,null,{"$f":"IFERROR(VLOOKUP(T13950,Códigos!B:C,2,0),\" \")","v":" "}]
[null,null,null,null,null,null,null,null,null,null,null,null,null,null,null,null,null,null,null,null,{"$f":"IFERROR(VLOOKUP(T13953,Códigos!B:C,2,0),\" \")","v":" "}]
[null,null,null,null,null,null,null,null,null,null,null,null,null,null,null,null,null,null,null,null,{"$f":"IFERROR(VLOOKUP(T13969,Códigos!B:C,2,0),\" \")","v":" "}]
[null,null,null,null,null,null,null,null,null,null,null,null,null,null,null,null,null,null,null,null,{"$f":"IFERROR(VLOOKUP(T13972,Códigos!B:C,2,0),\" \")","v":" "}]
[null,null,null,null,null,null,null,null,null,null,null,null,null,null,null,null,null,null,null,null,{"$f":"IFERROR(VLOOKUP(T13983,Códigos!B:C,2,0),\" \")","v":" "}]
[null,null,null,null,null,null,null,null,null,null,null,null,null,null,null,null,null,null,null,null,{"$f":"IFERROR(VLOOKUP(T13990,Códigos!B:C,2,0),\" \")","v":" "}]
[null,null,null,null,null,null,null,null,null,null,null,null,null,null,null,null,null,null,null,null,{"$f":"IFERROR(VLOOKUP(T14002,Códigos!B:C,2,0),\" \")","v":" "}]
[null,null,null,null,null,null,null,null,null,null,null,null,null,null,null,null,null,null,null,null,{"$f":"IFERROR(VLOOKUP(T14011,Códigos!B:C,2,0),\" \")","v":" "}]
[null,null,null,null,null,null,null,null,null,null,null,null,null,null,null,null,null,null,null,null,{"$f":"IFERROR(VLOOKUP(T14020,Códigos!B:C,2,0),\" \")","v":" "}]
[null,null,null,null,null,null,null,null,null,null,null,null,null,null,null,null,null,null,null,null,{"$f":"IFERROR(VLOOKUP(T14023,Códigos!B:C,2,0),\" \")","v":" "}]
[null,null,null,null,null,null,null,null,null,null,null,null,null,null,null,null,null,null,null,null,{"$f":"IFERROR(VLOOKUP(T14039,Códigos!B:C,2,0),\" \")","v":" "}]
[null,null,null,null,null,null,null,null,null,null,null,null,null,null,null,null,null,null,null,null,{"$f":"IFERROR(VLOOKUP(T14042,Códigos!B:C,2,0),\" \")","v":" "}]
[null,null,null,null,null,null,null,null,null,null,null,null,null,null,null,null,null,null,null,null,{"$f":"IFERROR(VLOOKUP(T14053,Códigos!B:C,2,0),\" \")","v":" "}]
[null,null,null,null,null,null,null,null,null,null,null,null,null,null,null,null,null,null,null,null,{"$f":"IFERROR(VLOOKUP(T14060,Códigos!B:C,2,0),\" \")","v":" "}]
[null,null,null,null,null,null,null,null,null,null,null,null,null,null,null,null,null,null,null,null,{"$f":"IFERROR(VLOOKUP(T14072,Códigos!B:C,2,0),\" \")","v":" "}]
[null,null,null,null,null,null,null,null,null,null,null,null,null,null,null,null,null,null,null,null,{"$f":"IFERROR(VLOOKUP(T14081,Códigos!B:C,2,0),\" \")","v":" "}]
[null,null,null,null,null,null,null,null,null,null,null,null,null,null,null,null,null,null,null,null,{"$f":"IFERROR(VLOOKUP(T14090,Códigos!B:C,2,0),\" \")","v":" "}]
[null,null,null,null,null,null,null,null,null,null,null,null,null,null,null,null,null,null,null,null,{"$f":"IFERROR(VLOOKUP(T14093,Códigos!B:C,2,0),\" \")","v":" "}]
[null,null,null,null,null,null,null,null,null,null,null,null,null,null,null,null,null,null,null,null,{"$f":"IFERROR(VLOOKUP(T14109,Códigos!B:C,2,0),\" \")","v":" "}]
[null,null,null,null,null,null,null,null,null,null,null,null,null,null,null,null,null,null,null,null,{"$f":"IFERROR(VLOOKUP(T14112,Códigos!B:C,2,0),\" \")","v":" "}]
[null,null,null,null,null,null,null,null,null,null,null,null,null,null,null,null,null,null,null,null,{"$f":"IFERROR(VLOOKUP(T14127,Códigos!B:C,2,0),\" \")","v":" "}]
[null,null,null,null,null,null,null,null,null,null,null,null,null,null,null,null,null,null,null,null,{"$f":"IFERROR(VLOOKUP(T14130,Códigos!B:C,2,0),\" \")","v":" "}]
[null,null,null,null,null,null,null,null,null,null,null,null,null,null,null,null,null,null,null,null,{"$f":"IFERROR(VLOOKUP(T14142,Códigos!B:C,2,0),\" \")","v":" "}]
[null,null,null,null,null,null,null,null,null,null,null,null,null,null,null,null,null,null,null,null,{"$f":"IFERROR(VLOOKUP(T14151,Códigos!B:C,2,0),\" \")","v":" "}]
[null,null,null,null,null,null,null,null,null,null,null,null,null,null,null,null,null,null,null,null,{"$f":"IFERROR(VLOOKUP(T14160,Códigos!B:C,2,0),\" \")","v":" "}]
[null,null,null,null,null,null,null,null,null,null,null,null,null,null,null,null,null,null,null,null,{"$f":"IFERROR(VLOOKUP(T14163,Códigos!B:C,2,0),\" \")","v":" "}]
[null,null,null,null,null,null,null,null,null,null,null,null,null,null,null,null,null,null,null,null,{"$f":"IFERROR(VLOOKUP(T14179,Códigos!B:C,2,0),\" \")","v":" "}]
[null,null,null,null,null,null,null,null,null,null,null,null,null,null,null,null,null,null,null,null,{"$f":"IFERROR(VLOOKUP(T14182,Códigos!B:C,2,0),\" \")","v":" "}]
[null,null,null,null,null,null,null,null,null,null,null,null,null,null,null,null,null,null,null,null,{"$f":"IFERROR(VLOOKUP(T14197,Códigos!B:C,2,0),\" \")","v":" "}]
[null,null,null,null,null,null,null,null,null,null,null,null,null,null,null,null,null,null,null,null,{"$f":"IFERROR(VLOOKUP(T14200,Códigos!B:C,2,0),\" \")","v":" "}]
[null,null,null,null,null,null,null,null,null,null,null,null,null,null,null,null,null,null,null,null,{"$f":"IFERROR(VLOOKUP(T14212,Códigos!B:C,2,0),\" \")","v":" "}]
[null,null,null,null,null,null,null,null,null,null,null,null,null,null,null,null,null,null,null,null,{"$f":"IFERROR(VLOOKUP(T14221,Códigos!B:C,2,0),\" \")","v":" "}]
[null,null,null,null,null,null,null,null,null,null,null,null,null,null,null,null,null,null,null,null,{"$f":"IFERROR(VLOOKUP(T14230,Códigos!B:C,2,0),\" \")","v":" "}]
[null,null,null,null,null,null,null,null,null,null,null,null,null,null,null,null,null,null,null,null,{"$f":"IFERROR(VLOOKUP(T14233,Códigos!B:C,2,0),\" \")","v":" "}]
[null,null,null,null,null,null,null,null,null,null,null,null,null,null,null,null,null,null,null,null,{"$f":"IFERROR(VLOOKUP(T14249,Códigos!B:C,2,0),\" \")","v":" "}]
[null,null,null,null,null,null,null,null,null,null,null,null,null,null,null,null,null,null,null,null,{"$f":"IFERROR(VLOOKUP(T14252,Códigos!B:C,2,0),\" \")","v":" "}]
[null,null,null,null,null,null,null,null,null,null,null,null,null,null,null,null,null,null,null,null,{"$f":"IFERROR(VLOOKUP(T14267,Códigos!B:C,2,0),\" \")","v":" "}]
[null,null,null,null,null,null,null,null,null,null,null,null,null,null,null,null,null,null,null,null,{"$f":"IFERROR(VLOOKUP(T14270,Códigos!B:C,2,0),\" \")","v":" "}]
[null,null,null,null,null,null,null,null,null,null,null,null,null,null,null,null,null,null,null,null,{"$f":"IFERROR(VLOOKUP(T14282,Códigos!B:C,2,0),\" \")","v":" "}]
[null,null,null,null,null,null,null,null,null,null,null,null,null,null,null,null,null,null,null,null,{"$f":"IFERROR(VLOOKUP(T14291,Códigos!B:C,2,0),\" \")","v":" "}]
[null,null,null,null,null,null,null,null,null,null,null,null,null,null,null,null,null,null,null,null,{"$f":"IFERROR(VLOOKUP(T14300,Códigos!B:C,2,0),\" \")","v":" "}]
[null,null,null,null,null,null,null,null,null,null,null,null,null,null,null,null,null,null,null,null,{"$f":"IFERROR(VLOOKUP(T14307,Códigos!B:C,2,0),\" \")","v":" "}]
[null,null,null,null,null,null,null,null,null,null,null,null,null,null,null,null,null,null,null,null,{"$f":"IFERROR(VLOOKUP(T14319,Códigos!B:C,2,0),\" \")","v":" "}]
[null,null,null,null,null,null,null,null,null,null,null,null,null,null,null,null,null,null,null,null,{"$f":"IFERROR(VLOOKUP(T14322,Códigos!B:C,2,0),\" \")","v":" "}]
[null,null,null,null,null,null,null,null,null,null,null,null,null,null,null,null,null,null,null,null,{"$f":"IFERROR(VLOOKUP(T14337,Códigos!B:C,2,0),\" \")","v":" "}]
[null,null,null,null,null,null,null,null,null,null,null,null,null,null,null,null,null,null,null,null,{"$f":"IFERROR(VLOOKUP(T14340,Códigos!B:C,2,0),\" \")","v":" "}]
[null,null,null,null,null,null,null,null,null,null,null,null,null,null,null,null,null,null,null,null,{"$f":"IFERROR(VLOOKUP(T14352,Códigos!B:C,2,0),\" \")","v":" "}]
[null,null,null,null,null,null,null,null,null,null,null,null,null,null,null,null,null,null,null,null,{"$f":"IFERROR(VLOOKUP(T14361,Códigos!B:C,2,0),\" \")","v":" "}]
[null,null,null,null,null,null,null,null,null,null,null,null,null,null,null,null,null,null,null,null,{"$f":"IFERROR(VLOOKUP(T14370,Códigos!B:C,2,0),\" \")","v":" "}]
[null,null,null,null,null,null,null,null,null,null,null,null,null,null,null,null,null,null,null,null,{"$f":"IFERROR(VLOOKUP(T14377,Códigos!B:C,2,0),\" \")","v":" "}]
[null,null,null,null,null,null,null,null,null,null,null,null,null,null,null,null,null,null,null,null,{"$f":"IFERROR(VLOOKUP(T14389,Códigos!B:C,2,0),\" \")","v":" "}]
[null,null,null,null,null,null,null,null,null,null,null,null,null,null,null,null,null,null,null,null,{"$f":"IFERROR(VLOOKUP(T14392,Códigos!B:C,2,0),\" \")","v":" "}]
[null,null,null,null,null,null,null,null,null,null,null,null,null,null,null,null,null,null,null,null,{"$f":"IFERROR(VLOOKUP(T14407,Códigos!B:C,2,0),\" \")","v":" "}]
[null,null,null,null,null,null,null,null,null,null,null,null,null,null,null,null,null,null,null,null,{"$f":"IFERROR(VLOOKUP(T14410,Códigos!B:C,2,0),\" \")","v":" "}]
[null,null,null,null,null,null,null,null,null,null,null,null,null,null,null,null,null,null,null,null,{"$f":"IFERROR(VLOOKUP(T14417,Códigos!B:C,2,0),\" \")","v":" "}]
[null,null,null,null,null,null,null,null,null,null,null,null,null,null,null,null,null,null,null,null,{"$f":"IFERROR(VLOOKUP(T14431,Códigos!B:C,2,0),\" \")","v":" "}]
[null,null,null,null,null,null,null,null,null,null,null,null,null,null,null,null,null,null,null,null,{"$f":"IFERROR(VLOOKUP(T14440,Códigos!B:C,2,0),\" \")","v":" "}]
[null,null,null,null,null,null,null,null,null,null,null,null,null,null,null,null,null,null,null,null,{"$f":"IFERROR(VLOOKUP(T14447,Códigos!B:C,2,0),\" \")","v":" "}]
[null,null,null,null,null,null,null,null,null,null,null,null,null,null,null,null,null,null,null,null,{"$f":"IFERROR(VLOOKUP(T14459,Códigos!B:C,2,0),\" \")","v":" "}]
[null,null,null,null,null,null,null,null,null,null,null,null,null,null,null,null,null,null,null,null,{"$f":"IFERROR(VLOOKUP(T14462,Códigos!B:C,2,0),\" \")","v":" "}]
[null,null,null,null,null,null,null,null,null,null,null,null,null,null,null,null,null,null,null,null,{"$f":"IFERROR(VLOOKUP(T14477,Códigos!B:C,2,0),\" \")","v":" "}]
[null,null,null,null,null,null,null,null,null,null,null,null,null,null,null,null,null,null,null,null,{"$f":"IFERROR(VLOOKUP(T14480,Códigos!B:C,2,0),\" \")","v":" "}]
[null,null,null,null,null,null,null,null,null,null,null,null,null,null,null,null,null,null,null,null,{"$f":"IFERROR(VLOOKUP(T14487,Códigos!B:C,2,0),\" \")","v":" "}]
[null,null,null,null,null,null,null,null,null,null,null,null,null,null,null,null,null,null,null,null,{"$f":"IFERROR(VLOOKUP(T14501,Códigos!B:C,2,0),\" \")","v":" "}]
[null,null,null,null,null,null,null,null,null,null,null,null,null,null,null,null,null,null,null,null,{"$f":"IFERROR(VLOOKUP(T14510,Códigos!B:C,2,0),\" \")","v":" "}]
[null,null,null,null,null,null,null,null,null,null,null,null,null,null,null,null,null,null,null,null,{"$f":"IFERROR(VLOOKUP(T14517,Códigos!B:C,2,0),\" \")","v":" "}]
[null,null,null,null,null,null,null,null,null,null,null,null,null,null,null,null,null,null,null,null,{"$f":"IFERROR(VLOOKUP(T14529,Códigos!B:C,2,0),\" \")","v":" "}]
[null,null,null,null,null,null,null,null,null,null,null,null,null,null,null,null,null,null,null,null,{"$f":"IFERROR(VLOOKUP(T14532,Códigos!B:C,2,0),\" \")","v":" "}]
[null,null,null,null,null,null,null,null,null,null,null,null,null,null,null,null,null,null,null,null,{"$f":"IFERROR(VLOOKUP(T14547,Códigos!B:C,2,0),\" \")","v":" "}]
[null,null,null,null,null,null,null,null,null,null,null,null,null,null,null,null,null,null,null,null,{"$f":"IFERROR(VLOOKUP(T14550,Códigos!B:C,2,0),\" \")","v":" "}]
[null,null,null,null,null,null,null,null,null,null,null,null,null,null,null,null,null,null,null,null,{"$f":"IFERROR(VLOOKUP(T14557,Códigos!B:C,2,0),\" \")","v":" "}]
[null,null,null,null,null,null,null,null,null,null,null,null,null,null,null,null,null,null,null,null,{"$f":"IFERROR(VLOOKUP(T14571,Códigos!B:C,2,0),\" \")","v":" "}]
[null,null,null,null,null,null,null,null,null,null,null,null,null,null,null,null,null,null,null,null,{"$f":"IFERROR(VLOOKUP(T14580,Códigos!B:C,2,0),\" \")","v":" "}]
[null,null,null,null,null,null,null,null,null,null,null,null,null,null,null,null,null,null,null,null,{"$f":"IFERROR(VLOOKUP(T14587,Códigos!B:C,2,0),\" \")","v":" "}]
[null,null,null,null,null,null,null,null,null,null,null,null,null,null,null,null,null,null,null,null,{"$f":"IFERROR(VLOOKUP(T14599,Códigos!B:C,2,0),\" \")","v":" "}]
[null,null,null,null,null,null,null,null,null,null,null,null,null,null,null,null,null,null,null,null,{"$f":"IFERROR(VLOOKUP(T14602,Códigos!B:C,2,0),\" \")","v":" "}]
[null,null,null,null,null,null,null,null,null,null,null,null,null,null,null,null,null,null,null,null,{"$f":"IFERROR(VLOOKUP(T14617,Códigos!B:C,2,0),\" \")","v":" "}]
[null,null,null,null,null,null,null,null,null,null,null,null,null,null,null,null,null,null,null,null,{"$f":"IFERROR(VLOOKUP(T14620,Códigos!B:C,2,0),\" \")","v":" "}]
[null,null,null,null,null,null,null,null,null,null,null,null,null,null,null,null,null,null,null,null,{"$f":"IFERROR(VLOOKUP(T14627,Códigos!B:C,2,0),\" \")","v":" "}]
[null,null,null,null,null,null,null,null,null,null,null,null,null,null,null,null,null,null,null,null,{"$f":"IFERROR(VLOOKUP(T14641,Códigos!B:C,2,0),\" \")","v":" "}]
[null,null,null,null,null,null,null,null,null,null,null,null,null,null,null,null,null,null,null,null,{"$f":"IFERROR(VLOOKUP(T14650,Códigos!B:C,2,0),\" \")","v":" "}]
[null,null,null,null,null,null,null,null,null,null,null,null,null,null,null,null,null,null,null,null,{"$f":"IFERROR(VLOOKUP(T14657,Códigos!B:C,2,0),\" \")","v":" "}]
[null,null,null,null,null,null,null,null,null,null,null,null,null,null,null,null,null,null,null,null,{"$f":"IFERROR(VLOOKUP(T14669,Códigos!B:C,2,0),\" \")","v":" "}]
[null,null,null,null,null,null,null,null,null,null,null,null,null,null,null,null,null,null,null,null,{"$f":"IFERROR(VLOOKUP(T14672,Códigos!B:C,2,0),\" \")","v":" "}]
[null,null,null,null,null,null,null,null,null,null,null,null,null,null,null,null,null,null,null,null,{"$f":"IFERROR(VLOOKUP(T14687,Códigos!B:C,2,0),\" \")","v":" "}]
[null,null,null,null,null,null,null,null,null,null,null,null,null,null,null,null,null,null,null,null,{"$f":"IFERROR(VLOOKUP(T14690,Códigos!B:C,2,0),\" \")","v":" "}]
[null,null,null,null,null,null,null,null,null,null,null,null,null,null,null,null,null,null,null,null,{"$f":"IFERROR(VLOOKUP(T14697,Códigos!B:C,2,0),\" \")","v":" "}]
[null,null,null,null,null,null,null,null,null,null,null,null,null,null,null,null,null,null,null,null,{"$f":"IFERROR(VLOOKUP(T14711,Códigos!B:C,2,0),\" \")","v":" "}]
[null,null,null,null,null,null,null,null,null,null,null,null,null,null,null,null,null,null,null,null,{"$f":"IFERROR(VLOOKUP(T14720,Códigos!B:C,2,0),\" \")","v":" "}]
[null,null,null,null,null,null,null,null,null,null,null,null,null,null,null,null,null,null,null,null,{"$f":"IFERROR(VLOOKUP(T14727,Códigos!B:C,2,0),\" \")","v":" "}]
[null,null,null,null,null,null,null,null,null,null,null,null,null,null,null,null,null,null,null,null,{"$f":"IFERROR(VLOOKUP(T14739,Códigos!B:C,2,0),\" \")","v":" "}]
[null,null,null,null,null,null,null,null,null,null,null,null,null,null,null,null,null,null,null,null,{"$f":"IFERROR(VLOOKUP(T14742,Códigos!B:C,2,0),\" \")","v":" "}]
[null,null,null,null,null,null,null,null,null,null,null,null,null,null,null,null,null,null,null,null,{"$f":"IFERROR(VLOOKUP(T14757,Códigos!B:C,2,0),\" \")","v":" "}]
[null,null,null,null,null,null,null,null,null,null,null,null,null,null,null,null,null,null,null,null,{"$f":"IFERROR(VLOOKUP(T14760,Códigos!B:C,2,0),\" \")","v":" "}]
[null,null,null,null,null,null,null,null,null,null,null,null,null,null,null,null,null,null,null,null,{"$f":"IFERROR(VLOOKUP(T14767,Códigos!B:C,2,0),\" \")","v":" "}]
[null,null,null,null,null,null,null,null,null,null,null,null,null,null,null,null,null,null,null,null,{"$f":"IFERROR(VLOOKUP(T14781,Códigos!B:C,2,0),\" \")","v":" "}]
[null,null,null,null,null,null,null,null,null,null,null,null,null,null,null,null,null,null,null,null,{"$f":"IFERROR(VLOOKUP(T14785,Códigos!B:C,2,0),\" \")","v":" "}]
[null,null,null,null,null,null,null,null,null,null,null,null,null,null,null,null,null,null,null,null,{"$f":"IFERROR(VLOOKUP(T14797,Códigos!B:C,2,0),\" \")","v":" "}]
[null,null,null,null,null,null,null,null,null,null,null,null,null,null,null,null,null,null,null,null,{"$f":"IFERROR(VLOOKUP(T14809,Códigos!B:C,2,0),\" \")","v":" "}]
[null,null,null,null,null,null,null,null,null,null,null,null,null,null,null,null,null,null,null,null,{"$f":"IFERROR(VLOOKUP(T14812,Códigos!B:C,2,0),\" \")","v":" "}]
[null,null,null,null,null,null,null,null,null,null,null,null,null,null,null,null,null,null,null,null,{"$f":"IFERROR(VLOOKUP(T14827,Códigos!B:C,2,0),\" \")","v":" "}]
[null,null,null,null,null,null,null,null,null,null,null,null,null,null,null,null,null,null,null,null,{"$f":"IFERROR(VLOOKUP(T14830,Códigos!B:C,2,0),\" \")","v":" "}]
[null,null,null,null,null,null,null,null,null,null,null,null,null,null,null,null,null,null,null,null,{"$f":"IFERROR(VLOOKUP(T14837,Códigos!B:C,2,0),\" \")","v":" "}]
[null,null,null,null,null,null,null,null,null,null,null,null,null,null,null,null,null,null,null,null,{"$f":"IFERROR(VLOOKUP(T14851,Códigos!B:C,2,0),\" \")","v":" "}]
[null,null,null,null,null,null,null,null,null,null,null,null,null,null,null,null,null,null,null,null,{"$f":"IFERROR(VLOOKUP(T14855,Códigos!B:C,2,0),\" \")","v":" "}]
[null,null,null,null,null,null,null,null,null,null,null,null,null,null,null,null,null,null,null,null,{"$f":"IFERROR(VLOOKUP(T14867,Códigos!B:C,2,0),\" \")","v":" "}]
[null,null,null,null,null,null,null,null,null,null,null,null,null,null,null,null,null,null,null,null,{"$f":"IFERROR(VLOOKUP(T14879,Códigos!B:C,2,0),\" \")","v":" "}]
[null,null,null,null,null,null,null,null,null,null,null,null,null,null,null,null,null,null,null,null,{"$f":"IFERROR(VLOOKUP(T14882,Códigos!B:C,2,0),\" \")","v":" "}]
[null,null,null,null,null,null,null,null,null,null,null,null,null,null,null,null,null,null,null,null,{"$f":"IFERROR(VLOOKUP(T14897,Códigos!B:C,2,0),\" \")","v":" "}]
[null,null,null,null,null,null,null,null,null,null,null,null,null,null,null,null,null,null,null,null,{"$f":"IFERROR(VLOOKUP(T14904,Códigos!B:C,2,0),\" \")","v":" "}]
[null,null,null,null,null,null,null,null,null,null,null,null,null,null,null,null,null,null,null,null,{"$f":"IFERROR(VLOOKUP(T14907,Códigos!B:C,2,0),\" \")","v":" "}]
[null,null,null,null,null,null,null,null,null,null,null,null,null,null,null,null,null,null,null,null,{"$f":"IFERROR(VLOOKUP(T14921,Códigos!B:C,2,0),\" \")","v":" "}]
[null,null,null,null,null,null,null,null,null,null,null,null,null,null,null,null,null,null,null,null,{"$f":"IFERROR(VLOOKUP(T14925,Códigos!B:C,2,0),\" \")","v":" "}]
[null,null,null,null,null,null,null,null,null,null,null,null,null,null,null,null,null,null,null,null,{"$f":"IFERROR(VLOOKUP(T14937,Códigos!B:C,2,0),\" \")","v":" "}]
[null,null,null,null,null,null,null,null,null,null,null,null,null,null,null,null,null,null,null,null,{"$f":"IFERROR(VLOOKUP(T14949,Códigos!B:C,2,0),\" \")","v":" "}]
[null,null,null,null,null,null,null,null,null,null,null,null,null,null,null,null,null,null,null,null,{"$f":"IFERROR(VLOOKUP(T14952,Códigos!B:C,2,0),\" \")","v":" "}]
[null,null,null,null,null,null,null,null,null,null,null,null,null,null,null,null,null,null,null,null,{"$f":"IFERROR(VLOOKUP(T14967,Códigos!B:C,2,0),\" \")","v":" "}]
[null,null,null,null,null,null,null,null,null,null,null,null,null,null,null,null,null,null,null,null,{"$f":"IFERROR(VLOOKUP(T14974,Códigos!B:C,2,0),\" \")","v":" "}]
[null,null,null,null,null,null,null,null,null,null,null,null,null,null,null,null,null,null,null,null,{"$f":"IFERROR(VLOOKUP(T14977,Códigos!B:C,2,0),\" \")","v":" "}]
[null,null,null,null,null,null,null,null,null,null,null,null,null,null,null,null,null,null,null,null,{"$f":"IFERROR(VLOOKUP(T14991,Códigos!B:C,2,0),\" \")","v":" "}]
[null,null,null,null,null,null,null,null,null,null,null,null,null,null,null,null,null,null,null,null,{"$f":"IFERROR(VLOOKUP(T14995,Códigos!B:C,2,0),\" \")","v":" "}]
[null,null,null,null,null,null,null,null,null,null,null,null,null,null,null,null,null,null,null,null,{"$f":"IFERROR(VLOOKUP(T15007,Códigos!B:C,2,0),\" \")","v":" "}]
[null,null,null,null,null,null,null,null,null,null,null,null,null,null,null,null,null,null,null,null,{"$f":"IFERROR(VLOOKUP(T15019,Códigos!B:C,2,0),\" \")","v":" "}]
[null,null,null,null,null,null,null,null,null,null,null,null,null,null,null,null,null,null,null,null,{"$f":"IFERROR(VLOOKUP(T15022,Códigos!B:C,2,0),\" \")","v":" "}]
[null,null,null,null,null,null,null,null,null,null,null,null,null,null,null,null,null,null,null,null,{"$f":"IFERROR(VLOOKUP(T15037,Códigos!B:C,2,0),\" \")","v":" "}]
[null,null,null,null,null,null,null,null,null,null,null,null,null,null,null,null,null,null,null,null,{"$f":"IFERROR(VLOOKUP(T15044,Códigos!B:C,2,0),\" \")","v":" "}]
[null,null,null,null,null,null,null,null,null,null,null,null,null,null,null,null,null,null,null,null,{"$f":"IFERROR(VLOOKUP(T15047,Códigos!B:C,2,0),\" \")","v":" "}]
[null,null,null,null,null,null,null,null,null,null,null,null,null,null,null,null,null,null,null,null,{"$f":"IFERROR(VLOOKUP(T15061,Códigos!B:C,2,0),\" \")","v":" "}]
[null,null,null,null,null,null,null,null,null,null,null,null,null,null,null,null,null,null,null,null,{"$f":"IFERROR(VLOOKUP(T15065,Códigos!B:C,2,0),\" \")","v":" "}]
[null,null,null,null,null,null,null,null,null,null,null,null,null,null,null,null,null,null,null,null,{"$f":"IFERROR(VLOOKUP(T15077,Códigos!B:C,2,0),\" \")","v":" "}]
[null,null,null,null,null,null,null,null,null,null,null,null,null,null,null,null,null,null,null,null,{"$f":"IFERROR(VLOOKUP(T15084,Códigos!B:C,2,0),\" \")","v":" "}]
[null,null,null,null,null,null,null,null,null,null,null,null,null,null,null,null,null,null,null,null,{"$f":"IFERROR(VLOOKUP(T15092,Códigos!B:C,2,0),\" \")","v":" "}]
[null,null,null,null,null,null,null,null,null,null,null,null,null,null,null,null,null,null,null,null,{"$f":"IFERROR(VLOOKUP(T15107,Códigos!B:C,2,0),\" \")","v":" "}]
[null,null,null,null,null,null,null,null,null,null,null,null,null,null,null,null,null,null,null,null,{"$f":"IFERROR(VLOOKUP(T15114,Códigos!B:C,2,0),\" \")","v":" "}]
[null,null,null,null,null,null,null,null,null,null,null,null,null,null,null,null,null,null,null,null,{"$f":"IFERROR(VLOOKUP(T15117,Códigos!B:C,2,0),\" \")","v":" "}]
[null,null,null,null,null,null,null,null,null,null,null,null,null,null,null,null,null,null,null,null,{"$f":"IFERROR(VLOOKUP(T15131,Códigos!B:C,2,0),\" \")","v":" "}]
[null,null,null,null,null,null,null,null,null,null,null,null,null,null,null,null,null,null,null,null,{"$f":"IFERROR(VLOOKUP(T15135,Códigos!B:C,2,0),\" \")","v":" "}]
[null,null,null,null,null,null,null,null,null,null,null,null,null,null,null,null,null,null,null,null,{"$f":"IFERROR(VLOOKUP(T15147,Códigos!B:C,2,0),\" \")","v":" "}]
[null,null,null,null,null,null,null,null,null,null,null,null,null,null,null,null,null,null,null,null,{"$f":"IFERROR(VLOOKUP(T15154,Códigos!B:C,2,0),\" \")","v":" "}]
[null,null,null,null,null,null,null,null,null,null,null,null,null,null,null,null,null,null,null,null,{"$f":"IFERROR(VLOOKUP(T15162,Códigos!B:C,2,0),\" \")","v":" "}]
[null,null,null,null,null,null,null,null,null,null,null,null,null,null,null,null,null,null,null,null,{"$f":"IFERROR(VLOOKUP(T15177,Códigos!B:C,2,0),\" \")","v":" "}]
[null,null,null,null,null,null,null,null,null,null,null,null,null,null,null,null,null,null,null,null,{"$f":"IFERROR(VLOOKUP(T15184,Códigos!B:C,2,0),\" \")","v":" "}]
[null,null,null,null,null,null,null,null,null,null,null,null,null,null,null,null,null,null,null,null,{"$f":"IFERROR(VLOOKUP(T15187,Códigos!B:C,2,0),\" \")","v":" "}]
[null,null,null,null,null,null,null,null,null,null,null,null,null,null,null,null,null,null,null,null,{"$f":"IFERROR(VLOOKUP(T15201,Códigos!B:C,2,0),\" \")","v":" "}]
[null,null,null,null,null,null,null,null,null,null,null,null,null,null,null,null,null,null,null,null,{"$f":"IFERROR(VLOOKUP(T15205,Códigos!B:C,2,0),\" \")","v":" "}]
[null,null,null,null,null,null,null,null,null,null,null,null,null,null,null,null,null,null,null,null,{"$f":"IFERROR(VLOOKUP(T15217,Códigos!B:C,2,0),\" \")","v":" "}]
[null,null,null,null,null,null,null,null,null,null,null,null,null,null,null,null,null,null,null,null,{"$f":"IFERROR(VLOOKUP(T15224,Códigos!B:C,2,0),\" \")","v":" "}]
[null,null,null,null,null,null,null,null,null,null,null,null,null,null,null,null,null,null,null,null,{"$f":"IFERROR(VLOOKUP(T15232,Códigos!B:C,2,0),\" \")","v":" "}]
[null,null,null,null,null,null,null,null,null,null,null,null,null,null,null,null,null,null,null,null,{"$f":"IFERROR(VLOOKUP(T15247,Códigos!B:C,2,0),\" \")","v":" "}]
[null,null,null,null,null,null,null,null,null,null,null,null,null,null,null,null,null,null,null,null,{"$f":"IFERROR(VLOOKUP(T15254,Códigos!B:C,2,0),\" \")","v":" "}]
[null,null,null,null,null,null,null,null,null,null,null,null,null,null,null,null,null,null,null,null,{"$f":"IFERROR(VLOOKUP(T15257,Códigos!B:C,2,0),\" \")","v":" "}]
[null,null,null,null,null,null,null,null,null,null,null,null,null,null,null,null,null,null,null,null,{"$f":"IFERROR(VLOOKUP(T15271,Códigos!B:C,2,0),\" \")","v":" "}]
[null,null,null,null,null,null,null,null,null,null,null,null,null,null,null,null,null,null,null,null,{"$f":"IFERROR(VLOOKUP(T15275,Códigos!B:C,2,0),\" \")","v":" "}]
[null,null,null,null,null,null,null,null,null,null,null,null,null,null,null,null,null,null,null,null,{"$f":"IFERROR(VLOOKUP(T15287,Códigos!B:C,2,0),\" \")","v":" "}]
[null,null,null,null,null,null,null,null,null,null,null,null,null,null,null,null,null,null,null,null,{"$f":"IFERROR(VLOOKUP(T15294,Códigos!B:C,2,0),\" \")","v":" "}]
[null,null,null,null,null,null,null,null,null,null,null,null,null,null,null,null,null,null,null,null,{"$f":"IFERROR(VLOOKUP(T15302,Códigos!B:C,2,0),\" \")","v":" "}]
[null,null,null,null,null,null,null,null,null,null,null,null,null,null,null,null,null,null,null,null,{"$f":"IFERROR(VLOOKUP(T15317,Códigos!B:C,2,0),\" \")","v":" "}]
[null,null,null,null,null,null,null,null,null,null,null,null,null,null,null,null,null,null,null,null,{"$f":"IFERROR(VLOOKUP(T15324,Códigos!B:C,2,0),\" \")","v":" "}]
[null,null,null,null,null,null,null,null,null,null,null,null,null,null,null,null,null,null,null,null,{"$f":"IFERROR(VLOOKUP(T15327,Códigos!B:C,2,0),\" \")","v":" "}]
[null,null,null,null,null,null,null,null,null,null,null,null,null,null,null,null,null,null,null,null,{"$f":"IFERROR(VLOOKUP(T15341,Códigos!B:C,2,0),\" \")","v":" "}]
[null,null,null,null,null,null,null,null,null,null,null,null,null,null,null,null,null,null,null,null,{"$f":"IFERROR(VLOOKUP(T15345,Códigos!B:C,2,0),\" \")","v":" "}]
[null,null,null,null,null,null,null,null,null,null,null,null,null,null,null,null,null,null,null,null,{"$f":"IFERROR(VLOOKUP(T15357,Códigos!B:C,2,0),\" \")","v":" "}]
[null,null,null,null,null,null,null,null,null,null,null,null,null,null,null,null,null,null,null,null,{"$f":"IFERROR(VLOOKUP(T15364,Códigos!B:C,2,0),\" \")","v":" "}]
[null,null,null,null,null,null,null,null,null,null,null,null,null,null,null,null,null,null,null,null,{"$f":"IFERROR(VLOOKUP(T15372,Códigos!B:C,2,0),\" \")","v":" "}]
[null,null,null,null,null,null,null,null,null,null,null,null,null,null,null,null,null,null,null,null,{"$f":"IFERROR(VLOOKUP(T15382,Códigos!B:C,2,0),\" \")","v":" "}]
[null,null,null,null,null,null,null,null,null,null,null,null,null,null,null,null,null,null,null,null,{"$f":"IFERROR(VLOOKUP(T15394,Códigos!B:C,2,0),\" \")","v":" "}]
[null,null,null,null,null,null,null,null,null,null,null,null,null,null,null,null,null,null,null,null,{"$f":"IFERROR(VLOOKUP(T15397,Códigos!B:C,2,0),\" \")","v":" "}]
[null,null,null,null,null,null,null,null,null,null,null,null,null,null,null,null,null,null,null,null,{"$f":"IFERROR(VLOOKUP(T15411,Códigos!B:C,2,0),\" \")","v":" "}]
[null,null,null,null,null,null,null,null,null,null,null,null,null,null,null,null,null,null,null,null,{"$f":"IFERROR(VLOOKUP(T15415,Códigos!B:C,2,0),\" \")","v":" "}]
[null,null,null,null,null,null,null,null,null,null,null,null,null,null,null,null,null,null,null,null,{"$f":"IFERROR(VLOOKUP(T15427,Códigos!B:C,2,0),\" \")","v":" "}]
[null,null,null,null,null,null,null,null,null,null,null,null,null,null,null,null,null,null,null,null,{"$f":"IFERROR(VLOOKUP(T15434,Códigos!B:C,2,0),\" \")","v":" "}]
[null,null,null,null,null,null,null,null,null,null,null,null,null,null,null,null,null,null,null,null,{"$f":"IFERROR(VLOOKUP(T15442,Códigos!B:C,2,0),\" \")","v":" "}]
[null,null,null,null,null,null,null,null,null,null,null,null,null,null,null,null,null,null,null,null,{"$f":"IFERROR(VLOOKUP(T15452,Códigos!B:C,2,0),\" \")","v":" "}]
[null,null,null,null,null,null,null,null,null,null,null,null,null,null,null,null,null,null,null,null,{"$f":"IFERROR(VLOOKUP(T15464,Códigos!B:C,2,0),\" \")","v":" "}]
[null,null,null,null,null,null,null,null,null,null,null,null,null,null,null,null,null,null,null,null,{"$f":"IFERROR(VLOOKUP(T15467,Códigos!B:C,2,0),\" \")","v":" "}]
[null,null,null,null,null,null,null,null,null,null,null,null,null,null,null,null,null,null,null,null,{"$f":"IFERROR(VLOOKUP(T15481,Códigos!B:C,2,0),\" \")","v":" "}]
[null,null,null,null,null,null,null,null,null,null,null,null,null,null,null,null,null,null,null,null,{"$f":"IFERROR(VLOOKUP(T15485,Códigos!B:C,2,0),\" \")","v":" "}]
[null,null,null,null,null,null,null,null,null,null,null,null,null,null,null,null,null,null,null,null,{"$f":"IFERROR(VLOOKUP(T15497,Códigos!B:C,2,0),\" \")","v":" "}]
[null,null,null,null,null,null,null,null,null,null,null,null,null,null,null,null,null,null,null,null,{"$f":"IFERROR(VLOOKUP(T15504,Códigos!B:C,2,0),\" \")","v":" "}]
[null,null,null,null,null,null,null,null,null,null,null,null,null,null,null,null,null,null,null,null,{"$f":"IFERROR(VLOOKUP(T15512,Códigos!B:C,2,0),\" \")","v":" "}]
[null,null,null,null,null,null,null,null,null,null,null,null,null,null,null,null,null,null,null,null,{"$f":"IFERROR(VLOOKUP(T15522,Códigos!B:C,2,0),\" \")","v":" "}]
[null,null,null,null,null,null,null,null,null,null,null,null,null,null,null,null,null,null,null,null,{"$f":"IFERROR(VLOOKUP(T15534,Códigos!B:C,2,0),\" \")","v":" "}]
[null,null,null,null,null,null,null,null,null,null,null,null,null,null,null,null,null,null,null,null,{"$f":"IFERROR(VLOOKUP(T15537,Códigos!B:C,2,0),\" \")","v":" "}]
[null,null,null,null,null,null,null,null,null,null,null,null,null,null,null,null,null,null,null,null,{"$f":"IFERROR(VLOOKUP(T15551,Códigos!B:C,2,0),\" \")","v":" "}]
[null,null,null,null,null,null,null,null,null,null,null,null,null,null,null,null,null,null,null,null,{"$f":"IFERROR(VLOOKUP(T15555,Códigos!B:C,2,0),\" \")","v":" "}]
[null,null,null,null,null,null,null,null,null,null,null,null,null,null,null,null,null,null,null,null,{"$f":"IFERROR(VLOOKUP(T15571,Códigos!B:C,2,0),\" \")","v":" "}]
[null,null,null,null,null,null,null,null,null,null,null,null,null,null,null,null,null,null,null,null,{"$f":"IFERROR(VLOOKUP(T15574,Códigos!B:C,2,0),\" \")","v":" "}]
[null,null,null,null,null,null,null,null,null,null,null,null,null,null,null,null,null,null,null,null,{"$f":"IFERROR(VLOOKUP(T15582,Códigos!B:C,2,0),\" \")","v":" "}]
[null,null,null,null,null,null,null,null,null,null,null,null,null,null,null,null,null,null,null,null,{"$f":"IFERROR(VLOOKUP(T15592,Códigos!B:C,2,0),\" \")","v":" "}]
[null,null,null,null,null,null,null,null,null,null,null,null,null,null,null,null,null,null,null,null,{"$f":"IFERROR(VLOOKUP(T15604,Códigos!B:C,2,0),\" \")","v":" "}]
[null,null,null,null,null,null,null,null,null,null,null,null,null,null,null,null,null,null,null,null,{"$f":"IFERROR(VLOOKUP(T15607,Códigos!B:C,2,0),\" \")","v":" "}]
[null,null,null,null,null,null,null,null,null,null,null,null,null,null,null,null,null,null,null,null,{"$f":"IFERROR(VLOOKUP(T15621,Códigos!B:C,2,0),\" \")","v":" "}]
[null,null,null,null,null,null,null,null,null,null,null,null,null,null,null,null,null,null,null,null,{"$f":"IFERROR(VLOOKUP(T15625,Códigos!B:C,2,0),\" \")","v":" "}]
[null,null,null,null,null,null,null,null,null,null,null,null,null,null,null,null,null,null,null,null,{"$f":"IFERROR(VLOOKUP(T15641,Códigos!B:C,2,0),\" \")","v":" "}]
[null,null,null,null,null,null,null,null,null,null,null,null,null,null,null,null,null,null,null,null,{"$f":"IFERROR(VLOOKUP(T15644,Códigos!B:C,2,0),\" \")","v":" "}]
[null,null,null,null,null,null,null,null,null,null,null,null,null,null,null,null,null,null,null,null,{"$f":"IFERROR(VLOOKUP(T15652,Códigos!B:C,2,0),\" \")","v":" "}]
[null,null,null,null,null,null,null,null,null,null,null,null,null,null,null,null,null,null,null,null,{"$f":"IFERROR(VLOOKUP(T15662,Códigos!B:C,2,0),\" \")","v":" "}]
[null,null,null,null,null,null,null,null,null,null,null,null,null,null,null,null,null,null,null,null,{"$f":"IFERROR(VLOOKUP(T15674,Códigos!B:C,2,0),\" \")","v":" "}]
[null,null,null,null,null,null,null,null,null,null,null,null,null,null,null,null,null,null,null,null,{"$f":"IFERROR(VLOOKUP(T15681,Códigos!B:C,2,0),\" \")","v":" "}]
[null,null,null,null,null,null,null,null,null,null,null,null,null,null,null,null,null,null,null,null,{"$f":"IFERROR(VLOOKUP(T15691,Códigos!B:C,2,0),\" \")","v":" "}]
[null,null,null,null,null,null,null,null,null,null,null,null,null,null,null,null,null,null,null,null,{"$f":"IFERROR(VLOOKUP(T15695,Códigos!B:C,2,0),\" \")","v":" "}]
[null,null,null,null,null,null,null,null,null,null,null,null,null,null,null,null,null,null,null,null,{"$f":"IFERROR(VLOOKUP(T15711,Códigos!B:C,2,0),\" \")","v":" "}]
[null,null,null,null,null,null,null,null,null,null,null,null,null,null,null,null,null,null,null,null,{"$f":"IFERROR(VLOOKUP(T15714,Códigos!B:C,2,0),\" \")","v":" "}]
[null,null,null,null,null,null,null,null,null,null,null,null,null,null,null,null,null,null,null,null,{"$f":"IFERROR(VLOOKUP(T15722,Códigos!B:C,2,0),\" \")","v":" "}]
[null,null,null,null,null,null,null,null,null,null,null,null,null,null,null,null,null,null,null,null,{"$f":"IFERROR(VLOOKUP(T15732,Códigos!B:C,2,0),\" \")","v":" "}]
[null,null,null,null,null,null,null,null,null,null,null,null,null,null,null,null,null,null,null,null,{"$f":"IFERROR(VLOOKUP(T15744,Códigos!B:C,2,0),\" \")","v":" "}]
[null,null,null,null,null,null,null,null,null,null,null,null,null,null,null,null,null,null,null,null,{"$f":"IFERROR(VLOOKUP(T15751,Códigos!B:C,2,0),\" \")","v":" "}]
[null,null,null,null,null,null,null,null,null,null,null,null,null,null,null,null,null,null,null,null,{"$f":"IFERROR(VLOOKUP(T15761,Códigos!B:C,2,0),\" \")","v":" "}]
[null,null,null,null,null,null,null,null,null,null,null,null,null,null,null,null,null,null,null,null,{"$f":"IFERROR(VLOOKUP(T15765,Códigos!B:C,2,0),\" \")","v":" "}]
[null,null,null,null,null,null,null,null,null,null,null,null,null,null,null,null,null,null,null,null,{"$f":"IFERROR(VLOOKUP(T15781,Códigos!B:C,2,0),\" \")","v":" "}]
[null,null,null,null,null,null,null,null,null,null,null,null,null,null,null,null,null,null,null,null,{"$f":"IFERROR(VLOOKUP(T15784,Códigos!B:C,2,0),\" \")","v":" "}]
[null,null,null,null,null,null,null,null,null,null,null,null,null,null,null,null,null,null,null,null,{"$f":"IFERROR(VLOOKUP(T15792,Códigos!B:C,2,0),\" \")","v":" "}]
[null,null,null,null,null,null,null,null,null,null,null,null,null,null,null,null,null,null,null,null,{"$f":"IFERROR(VLOOKUP(T15802,Códigos!B:C,2,0),\" \")","v":" "}]
[null,null,null,null,null,null,null,null,null,null,null,null,null,null,null,null,null,null,null,null,{"$f":"IFERROR(VLOOKUP(T15814,Códigos!B:C,2,0),\" \")","v":" "}]
[null,null,null,null,null,null,null,null,null,null,null,null,null,null,null,null,null,null,null,null,{"$f":"IFERROR(VLOOKUP(T15821,Códigos!B:C,2,0),\" \")","v":" "}]
[null,null,null,null,null,null,null,null,null,null,null,null,null,null,null,null,null,null,null,null,{"$f":"IFERROR(VLOOKUP(T15831,Códigos!B:C,2,0),\" \")","v":" "}]
[null,null,null,null,null,null,null,null,null,null,null,null,null,null,null,null,null,null,null,null,{"$f":"IFERROR(VLOOKUP(T15835,Códigos!B:C,2,0),\" \")","v":" "}]
[null,null,null,null,null,null,null,null,null,null,null,null,null,null,null,null,null,null,null,null,{"$f":"IFERROR(VLOOKUP(T15851,Códigos!B:C,2,0),\" \")","v":" "}]
[null,null,null,null,null,null,null,null,null,null,null,null,null,null,null,null,null,null,null,null,{"$f":"IFERROR(VLOOKUP(T15854,Códigos!B:C,2,0),\" \")","v":" "}]
[null,null,null,null,null,null,null,null,null,null,null,null,null,null,null,null,null,null,null,null,{"$f":"IFERROR(VLOOKUP(T15862,Códigos!B:C,2,0),\" \")","v":" "}]
[null,null,null,null,null,null,null,null,null,null,null,null,null,null,null,null,null,null,null,null,{"$f":"IFERROR(VLOOKUP(T15872,Códigos!B:C,2,0),\" \")","v":" "}]
[null,null,null,null,null,null,null,null,null,null,null,null,null,null,null,null,null,null,null,null,{"$f":"IFERROR(VLOOKUP(T15884,Códigos!B:C,2,0),\" \")","v":" "}]
[null,null,null,null,null,null,null,null,null,null,null,null,null,null,null,null,null,null,null,null,{"$f":"IFERROR(VLOOKUP(T15891,Códigos!B:C,2,0),\" \")","v":" "}]
[null,null,null,null,null,null,null,null,null,null,null,null,null,null,null,null,null,null,null,null,{"$f":"IFERROR(VLOOKUP(T15901,Códigos!B:C,2,0),\" \")","v":" "}]
[null,null,null,null,null,null,null,null,null,null,null,null,null,null,null,null,null,null,null,null,{"$f":"IFERROR(VLOOKUP(T15905,Códigos!B:C,2,0),\" \")","v":" "}]
[null,null,null,null,null,null,null,null,null,null,null,null,null,null,null,null,null,null,null,null,{"$f":"IFERROR(VLOOKUP(T15921,Códigos!B:C,2,0),\" \")","v":" "}]
[null,null,null,null,null,null,null,null,null,null,null,null,null,null,null,null,null,null,null,null,{"$f":"IFERROR(VLOOKUP(T15924,Códigos!B:C,2,0),\" \")","v":" "}]
[null,null,null,null,null,null,null,null,null,null,null,null,null,null,null,null,null,null,null,null,{"$f":"IFERROR(VLOOKUP(T15932,Códigos!B:C,2,0),\" \")","v":" "}]
[null,null,null,null,null,null,null,null,null,null,null,null,null,null,null,null,null,null,null,null,{"$f":"IFERROR(VLOOKUP(T15942,Códigos!B:C,2,0),\" \")","v":" "}]
[null,null,null,null,null,null,null,null,null,null,null,null,null,null,null,null,null,null,null,null,{"$f":"IFERROR(VLOOKUP(T15954,Códigos!B:C,2,0),\" \")","v":" "}]
[null,null,null,null,null,null,null,null,null,null,null,null,null,null,null,null,null,null,null,null,{"$f":"IFERROR(VLOOKUP(T15961,Códigos!B:C,2,0),\" \")","v":" "}]
[null,null,null,null,null,null,null,null,null,null,null,null,null,null,null,null,null,null,null,null,{"$f":"IFERROR(VLOOKUP(T15971,Códigos!B:C,2,0),\" \")","v":" "}]
[null,null,null,null,null,null,null,null,null,null,null,null,null,null,null,null,null,null,null,null,{"$f":"IFERROR(VLOOKUP(T15975,Códigos!B:C,2,0),\" \")","v":" "}]
[null,null,null,null,null,null,null,null,null,null,null,null,null,null,null,null,null,null,null,null,{"$f":"IFERROR(VLOOKUP(T15991,Códigos!B:C,2,0),\" \")","v":" "}]
[null,null,null,null,null,null,null,null,null,null,null,null,null,null,null,null,null,null,null,null,{"$f":"IFERROR(VLOOKUP(T15994,Códigos!B:C,2,0),\" \")","v":" "}]
[null,null,null,null,null,null,null,null,null,null,null,null,null,null,null,null,null,null,null,null,{"$f":"IFERROR(VLOOKUP(T16002,Códigos!B:C,2,0),\" \")","v":" "}]
[null,null,null,null,null,null,null,null,null,null,null,null,null,null,null,null,null,null,null,null,{"$f":"IFERROR(VLOOKUP(T16012,Códigos!B:C,2,0),\" \")","v":" "}]
[null,null,null,null,null,null,null,null,null,null,null,null,null,null,null,null,null,null,null,null,{"$f":"IFERROR(VLOOKUP(T16024,Códigos!B:C,2,0),\" \")","v":" "}]
[null,null,null,null,null,null,null,null,null,null,null,null,null,null,null,null,null,null,null,null,{"$f":"IFERROR(VLOOKUP(T16031,Códigos!B:C,2,0),\" \")","v":" "}]
[null,null,null,null,null,null,null,null,null,null,null,null,null,null,null,null,null,null,null,null,{"$f":"IFERROR(VLOOKUP(T16041,Códigos!B:C,2,0),\" \")","v":" "}]
[null,null,null,null,null,null,null,null,null,null,null,null,null,null,null,null,null,null,null,null,{"$f":"IFERROR(VLOOKUP(T16049,Códigos!B:C,2,0),\" \")","v":" "}]
[null,null,null,null,null,null,null,null,null,null,null,null,null,null,null,null,null,null,null,null,{"$f":"IFERROR(VLOOKUP(T16061,Códigos!B:C,2,0),\" \")","v":" "}]
[null,null,null,null,null,null,null,null,null,null,null,null,null,null,null,null,null,null,null,null,{"$f":"IFERROR(VLOOKUP(T16064,Códigos!B:C,2,0),\" \")","v":" "}]
[null,null,null,null,null,null,null,null,null,null,null,null,null,null,null,null,null,null,null,null,{"$f":"IFERROR(VLOOKUP(T16072,Códigos!B:C,2,0),\" \")","v":" "}]
[null,null,null,null,null,null,null,null,null,null,null,null,null,null,null,null,null,null,null,null,{"$f":"IFERROR(VLOOKUP(T16082,Códigos!B:C,2,0),\" \")","v":" "}]
[null,null,null,null,null,null,null,null,null,null,null,null,null,null,null,null,null,null,null,null,{"$f":"IFERROR(VLOOKUP(T16094,Códigos!B:C,2,0),\" \")","v":" "}]
[null,null,null,null,null,null,null,null,null,null,null,null,null,null,null,null,null,null,null,null,{"$f":"IFERROR(VLOOKUP(T16101,Códigos!B:C,2,0),\" \")","v":" "}]
[null,null,null,null,null,null,null,null,null,null,null,null,null,null,null,null,null,null,null,null,{"$f":"IFERROR(VLOOKUP(T16111,Códigos!B:C,2,0),\" \")","v":" "}]
[null,null,null,null,null,null,null,null,null,null,null,null,null,null,null,null,null,null,null,null,{"$f":"IFERROR(VLOOKUP(T16119,Códigos!B:C,2,0),\" \")","v":" "}]
[null,null,null,null,null,null,null,null,null,null,null,null,null,null,null,null,null,null,null,null,{"$f":"IFERROR(VLOOKUP(T16131,Códigos!B:C,2,0),\" \")","v":" "}]
[null,null,null,null,null,null,null,null,null,null,null,null,null,null,null,null,null,null,null,null,{"$f":"IFERROR(VLOOKUP(T16134,Códigos!B:C,2,0),\" \")","v":" "}]
[null,null,null,null,null,null,null,null,null,null,null,null,null,null,null,null,null,null,null,null,{"$f":"IFERROR(VLOOKUP(T16142,Códigos!B:C,2,0),\" \")","v":" "}]
[null,null,null,null,null,null,null,null,null,null,null,null,null,null,null,null,null,null,null,null,{"$f":"IFERROR(VLOOKUP(T16152,Códigos!B:C,2,0),\" \")","v":" "}]
[null,null,null,null,null,null,null,null,null,null,null,null,null,null,null,null,null,null,null,null,{"$f":"IFERROR(VLOOKUP(T16159,Códigos!B:C,2,0),\" \")","v":" "}]
[null,null,null,null,null,null,null,null,null,null,null,null,null,null,null,null,null,null,null,null,{"$f":"IFERROR(VLOOKUP(T16171,Códigos!B:C,2,0),\" \")","v":" "}]
[null,null,null,null,null,null,null,null,null,null,null,null,null,null,null,null,null,null,null,null,{"$f":"IFERROR(VLOOKUP(T16181,Códigos!B:C,2,0),\" \")","v":" "}]
[null,null,null,null,null,null,null,null,null,null,null,null,null,null,null,null,null,null,null,null,{"$f":"IFERROR(VLOOKUP(T16189,Códigos!B:C,2,0),\" \")","v":" "}]
[null,null,null,null,null,null,null,null,null,null,null,null,null,null,null,null,null,null,null,null,{"$f":"IFERROR(VLOOKUP(T16201,Códigos!B:C,2,0),\" \")","v":" "}]
[null,null,null,null,null,null,null,null,null,null,null,null,null,null,null,null,null,null,null,null,{"$f":"IFERROR(VLOOKUP(T16204,Códigos!B:C,2,0),\" \")","v":" "}]
[null,null,null,null,null,null,null,null,null,null,null,null,null,null,null,null,null,null,null,null,{"$f":"IFERROR(VLOOKUP(T16212,Códigos!B:C,2,0),\" \")","v":" "}]
[null,null,null,null,null,null,null,null,null,null,null,null,null,null,null,null,null,null,null,null,{"$f":"IFERROR(VLOOKUP(T16222,Códigos!B:C,2,0),\" \")","v":" "}]
[null,null,null,null,null,null,null,null,null,null,null,null,null,null,null,null,null,null,null,null,{"$f":"IFERROR(VLOOKUP(T16229,Códigos!B:C,2,0),\" \")","v":" "}]
[null,null,null,null,null,null,null,null,null,null,null,null,null,null,null,null,null,null,null,null,{"$f":"IFERROR(VLOOKUP(T16241,Códigos!B:C,2,0),\" \")","v":" "}]
[null,null,null,null,null,null,null,null,null,null,null,null,null,null,null,null,null,null,null,null,{"$f":"IFERROR(VLOOKUP(T16251,Códigos!B:C,2,0),\" \")","v":" "}]
[null,null,null,null,null,null,null,null,null,null,null,null,null,null,null,null,null,null,null,null,{"$f":"IFERROR(VLOOKUP(T16259,Códigos!B:C,2,0),\" \")","v":" "}]
[null,null,null,null,null,null,null,null,null,null,null,null,null,null,null,null,null,null,null,null,{"$f":"IFERROR(VLOOKUP(T16271,Códigos!B:C,2,0),\" \")","v":" "}]
[null,null,null,null,null,null,null,null,null,null,null,null,null,null,null,null,null,null,null,null,{"$f":"IFERROR(VLOOKUP(T16274,Códigos!B:C,2,0),\" \")","v":" "}]
[null,null,null,null,null,null,null,null,null,null,null,null,null,null,null,null,null,null,null,null,{"$f":"IFERROR(VLOOKUP(T16282,Códigos!B:C,2,0),\" \")","v":" "}]
[null,null,null,null,null,null,null,null,null,null,null,null,null,null,null,null,null,null,null,null,{"$f":"IFERROR(VLOOKUP(T16292,Códigos!B:C,2,0),\" \")","v":" "}]
[null,null,null,null,null,null,null,null,null,null,null,null,null,null,null,null,null,null,null,null,{"$f":"IFERROR(VLOOKUP(T16299,Códigos!B:C,2,0),\" \")","v":" "}]
[null,null,null,null,null,null,null,null,null,null,null,null,null,null,null,null,null,null,null,null,{"$f":"IFERROR(VLOOKUP(T16311,Códigos!B:C,2,0),\" \")","v":" "}]
[null,null,null,null,null,null,null,null,null,null,null,null,null,null,null,null,null,null,null,null,{"$f":"IFERROR(VLOOKUP(T16321,Códigos!B:C,2,0),\" \")","v":" "}]
[null,null,null,null,null,null,null,null,null,null,null,null,null,null,null,null,null,null,null,null,{"$f":"IFERROR(VLOOKUP(T16329,Códigos!B:C,2,0),\" \")","v":" "}]
[null,null,null,null,null,null,null,null,null,null,null,null,null,null,null,null,null,null,null,null,{"$f":"IFERROR(VLOOKUP(T16341,Códigos!B:C,2,0),\" \")","v":" "}]
[null,null,null,null,null,null,null,null,null,null,null,null,null,null,null,null,null,null,null,null,{"$f":"IFERROR(VLOOKUP(T16348,Códigos!B:C,2,0),\" \")","v":" "}]
[null,null,null,null,null,null,null,null,null,null,null,null,null,null,null,null,null,null,null,null,{"$f":"IFERROR(VLOOKUP(T16352,Códigos!B:C,2,0),\" \")","v":" "}]
[null,null,null,null,null,null,null,null,null,null,null,null,null,null,null,null,null,null,null,null,{"$f":"IFERROR(VLOOKUP(T16362,Códigos!B:C,2,0),\" \")","v":" "}]
[null,null,null,null,null,null,null,null,null,null,null,null,null,null,null,null,null,null,null,null,{"$f":"IFERROR(VLOOKUP(T16369,Códigos!B:C,2,0),\" \")","v":" "}]
[null,null,null,null,null,null,null,null,null,null,null,null,null,null,null,null,null,null,null,null,{"$f":"IFERROR(VLOOKUP(T16381,Códigos!B:C,2,0),\" \")","v":" "}]
[null,null,null,null,null,null,null,null,null,null,null,null,null,null,null,null,null,null,null,null,{"$f":"IFERROR(VLOOKUP(T16391,Códigos!B:C,2,0),\" \")","v":" "}]
[null,null,null,null,null,null,null,null,null,null,null,null,null,null,null,null,null,null,null,null,{"$f":"IFERROR(VLOOKUP(T16399,Códigos!B:C,2,0),\" \")","v":" "}]
[null,null,null,null,null,null,null,null,null,null,null,null,null,null,null,null,null,null,null,null,{"$f":"IFERROR(VLOOKUP(T16411,Códigos!B:C,2,0),\" \")","v":" "}]
[null,null,null,null,null,null,null,null,null,null,null,null,null,null,null,null,null,null,null,null,{"$f":"IFERROR(VLOOKUP(T16418,Códigos!B:C,2,0),\" \")","v":" "}]
[null,null,null,null,null,null,null,null,null,null,null,null,null,null,null,null,null,null,null,null,{"$f":"IFERROR(VLOOKUP(T16422,Códigos!B:C,2,0),\" \")","v":" "}]
[null,null,null,null,null,null,null,null,null,null,null,null,null,null,null,null,null,null,null,null,{"$f":"IFERROR(VLOOKUP(T16432,Códigos!B:C,2,0),\" \")","v":" "}]
[null,null,null,null,null,null,null,null,null,null,null,null,null,null,null,null,null,null,null,null,{"$f":"IFERROR(VLOOKUP(T16439,Códigos!B:C,2,0),\" \")","v":" "}]
[null,null,null,null,null,null,null,null,null,null,null,null,null,null,null,null,null,null,null,null,{"$f":"IFERROR(VLOOKUP(T16451,Códigos!B:C,2,0),\" \")","v":" "}]
[null,null,null,null,null,null,null,null,null,null,null,null,null,null,null,null,null,null,null,null,{"$f":"IFERROR(VLOOKUP(T16461,Códigos!B:C,2,0),\" \")","v":" "}]
[null,null,null,null,null,null,null,null,null,null,null,null,null,null,null,null,null,null,null,null,{"$f":"IFERROR(VLOOKUP(T16469,Códigos!B:C,2,0),\" \")","v":" "}]
[null,null,null,null,null,null,null,null,null,null,null,null,null,null,null,null,null,null,null,null,{"$f":"IFERROR(VLOOKUP(T16481,Códigos!B:C,2,0),\" \")","v":" "}]
[null,null,null,null,null,null,null,null,null,null,null,null,null,null,null,null,null,null,null,null,{"$f":"IFERROR(VLOOKUP(T16488,Códigos!B:C,2,0),\" \")","v":" "}]
[null,null,null,null,null,null,null,null,null,null,null,null,null,null,null,null,null,null,null,null,{"$f":"IFERROR(VLOOKUP(T16492,Códigos!B:C,2,0),\" \")","v":" "}]
[null,null,null,null,null,null,null,null,null,null,null,null,null,null,null,null,null,null,null,null,{"$f":"IFERROR(VLOOKUP(T16502,Códigos!B:C,2,0),\" \")","v":" "}]
[null,null,null,null,null,null,null,null,null,null,null,null,null,null,null,null,null,null,null,null,{"$f":"IFERROR(VLOOKUP(T16509,Códigos!B:C,2,0),\" \")","v":" "}]
[null,null,null,null,null,null,null,null,null,null,null,null,null,null,null,null,null,null,null,null,{"$f":"IFERROR(VLOOKUP(T16521,Códigos!B:C,2,0),\" \")","v":" "}]
[null,null,null,null,null,null,null,null,null,null,null,null,null,null,null,null,null,null,null,null,{"$f":"IFERROR(VLOOKUP(T16531,Códigos!B:C,2,0),\" \")","v":" "}]
[null,null,null,null,null,null,null,null,null,null,null,null,null,null,null,null,null,null,null,null,{"$f":"IFERROR(VLOOKUP(T16539,Códigos!B:C,2,0),\" \")","v":" "}]
[null,null,null,null,null,null,null,null,null,null,null,null,null,null,null,null,null,null,null,null,{"$f":"IFERROR(VLOOKUP(T16551,Códigos!B:C,2,0),\" \")","v":" "}]
[null,null,null,null,null,null,null,null,null,null,null,null,null,null,null,null,null,null,null,null,{"$f":"IFERROR(VLOOKUP(T16558,Códigos!B:C,2,0),\" \")","v":" "}]
[null,null,null,null,null,null,null,null,null,null,null,null,null,null,null,null,null,null,null,null,{"$f":"IFERROR(VLOOKUP(T16562,Códigos!B:C,2,0),\" \")","v":" "}]
[null,null,null,null,null,null,null,null,null,null,null,null,null,null,null,null,null,null,null,null,{"$f":"IFERROR(VLOOKUP(T16572,Códigos!B:C,2,0),\" \")","v":" "}]
[null,null,null,null,null,null,null,null,null,null,null,null,null,null,null,null,null,null,null,null,{"$f":"IFERROR(VLOOKUP(T16579,Códigos!B:C,2,0),\" \")","v":" "}]
[null,null,null,null,null,null,null,null,null,null,null,null,null,null,null,null,null,null,null,null,{"$f":"IFERROR(VLOOKUP(T16591,Códigos!B:C,2,0),\" \")","v":" "}]
[null,null,null,null,null,null,null,null,null,null,null,null,null,null,null,null,null,null,null,null,{"$f":"IFERROR(VLOOKUP(T16601,Códigos!B:C,2,0),\" \")","v":" "}]
[null,null,null,null,null,null,null,null,null,null,null,null,null,null,null,null,null,null,null,null,{"$f":"IFERROR(VLOOKUP(T16609,Códigos!B:C,2,0),\" \")","v":" "}]
[null,null,null,null,null,null,null,null,null,null,null,null,null,null,null,null,null,null,null,null,{"$f":"IFERROR(VLOOKUP(T16621,Códigos!B:C,2,0),\" \")","v":" "}]
[null,null,null,null,null,null,null,null,null,null,null,null,null,null,null,null,null,null,null,null,{"$f":"IFERROR(VLOOKUP(T16628,Códigos!B:C,2,0),\" \")","v":" "}]
[null,null,null,null,null,null,null,null,null,null,null,null,null,null,null,null,null,null,null,null,{"$f":"IFERROR(VLOOKUP(T16632,Códigos!B:C,2,0),\" \")","v":" "}]
[null,null,null,null,null,null,null,null,null,null,null,null,null,null,null,null,null,null,null,null,{"$f":"IFERROR(VLOOKUP(T16646,Códigos!B:C,2,0),\" \")","v":" "}]
[null,null,null,null,null,null,null,null,null,null,null,null,null,null,null,null,null,null,null,null,{"$f":"IFERROR(VLOOKUP(T16649,Códigos!B:C,2,0),\" \")","v":" "}]
[null,null,null,null,null,null,null,null,null,null,null,null,null,null,null,null,null,null,null,null,{"$f":"IFERROR(VLOOKUP(T16661,Códigos!B:C,2,0),\" \")","v":" "}]
[null,null,null,null,null,null,null,null,null,null,null,null,null,null,null,null,null,null,null,null,{"$f":"IFERROR(VLOOKUP(T16671,Códigos!B:C,2,0),\" \")","v":" "}]
[null,null,null,null,null,null,null,null,null,null,null,null,null,null,null,null,null,null,null,null,{"$f":"IFERROR(VLOOKUP(T16679,Códigos!B:C,2,0),\" \")","v":" "}]
[null,null,null,null,null,null,null,null,null,null,null,null,null,null,null,null,null,null,null,null,{"$f":"IFERROR(VLOOKUP(T16691,Códigos!B:C,2,0),\" \")","v":" "}]
[null,null,null,null,null,null,null,null,null,null,null,null,null,null,null,null,null,null,null,null,{"$f":"IFERROR(VLOOKUP(T16698,Códigos!B:C,2,0),\" \")","v":" "}]
[null,null,null,null,null,null,null,null,null,null,null,null,null,null,null,null,null,null,null,null,{"$f":"IFERROR(VLOOKUP(T16702,Códigos!B:C,2,0),\" \")","v":" "}]
[null,null,null,null,null,null,null,null,null,null,null,null,null,null,null,null,null,null,null,null,{"$f":"IFERROR(VLOOKUP(T16716,Códigos!B:C,2,0),\" \")","v":" "}]
[null,null,null,null,null,null,null,null,null,null,null,null,null,null,null,null,null,null,null,null,{"$f":"IFERROR(VLOOKUP(T16719,Códigos!B:C,2,0),\" \")","v":" "}]
[null,null,null,null,null,null,null,null,null,null,null,null,null,null,null,null,null,null,null,null,{"$f":"IFERROR(VLOOKUP(T16731,Códigos!B:C,2,0),\" \")","v":" "}]
[null,null,null,null,null,null,null,null,null,null,null,null,null,null,null,null,null,null,null,null,{"$f":"IFERROR(VLOOKUP(T16741,Códigos!B:C,2,0),\" \")","v":" "}]
[null,null,null,null,null,null,null,null,null,null,null,null,null,null,null,null,null,null,null,null,{"$f":"IFERROR(VLOOKUP(T16749,Códigos!B:C,2,0),\" \")","v":" "}]
[null,null,null,null,null,null,null,null,null,null,null,null,null,null,null,null,null,null,null,null,{"$f":"IFERROR(VLOOKUP(T16761,Códigos!B:C,2,0),\" \")","v":" "}]
[null,null,null,null,null,null,null,null,null,null,null,null,null,null,null,null,null,null,null,null,{"$f":"IFERROR(VLOOKUP(T16768,Códigos!B:C,2,0),\" \")","v":" "}]
[null,null,null,null,null,null,null,null,null,null,null,null,null,null,null,null,null,null,null,null,{"$f":"IFERROR(VLOOKUP(T16772,Códigos!B:C,2,0),\" \")","v":" "}]
[null,null,null,null,null,null,null,null,null,null,null,null,null,null,null,null,null,null,null,null,{"$f":"IFERROR(VLOOKUP(T16786,Códigos!B:C,2,0),\" \")","v":" "}]
[null,null,null,null,null,null,null,null,null,null,null,null,null,null,null,null,null,null,null,null,{"$f":"IFERROR(VLOOKUP(T16789,Códigos!B:C,2,0),\" \")","v":" "}]
[null,null,null,null,null,null,null,null,null,null,null,null,null,null,null,null,null,null,null,null,{"$f":"IFERROR(VLOOKUP(T16801,Códigos!B:C,2,0),\" \")","v":" "}]
[null,null,null,null,null,null,null,null,null,null,null,null,null,null,null,null,null,null,null,null,{"$f":"IFERROR(VLOOKUP(T16811,Códigos!B:C,2,0),\" \")","v":" "}]
[null,null,null,null,null,null,null,null,null,null,null,null,null,null,null,null,null,null,null,null,{"$f":"IFERROR(VLOOKUP(T16819,Códigos!B:C,2,0),\" \")","v":" "}]
[null,null,null,null,null,null,null,null,null,null,null,null,null,null,null,null,null,null,null,null,{"$f":"IFERROR(VLOOKUP(T16826,Códigos!B:C,2,0),\" \")","v":" "}]
[null,null,null,null,null,null,null,null,null,null,null,null,null,null,null,null,null,null,null,null,{"$f":"IFERROR(VLOOKUP(T16838,Códigos!B:C,2,0),\" \")","v":" "}]
[null,null,null,null,null,null,null,null,null,null,null,null,null,null,null,null,null,null,null,null,{"$f":"IFERROR(VLOOKUP(T16842,Códigos!B:C,2,0),\" \")","v":" "}]
[null,null,null,null,null,null,null,null,null,null,null,null,null,null,null,null,null,null,null,null,{"$f":"IFERROR(VLOOKUP(T16856,Códigos!B:C,2,0),\" \")","v":" "}]
[null,null,null,null,null,null,null,null,null,null,null,null,null,null,null,null,null,null,null,null,{"$f":"IFERROR(VLOOKUP(T16859,Códigos!B:C,2,0),\" \")","v":" "}]
[null,null,null,null,null,null,null,null,null,null,null,null,null,null,null,null,null,null,null,null,{"$f":"IFERROR(VLOOKUP(T16871,Códigos!B:C,2,0),\" \")","v":" "}]
[null,null,null,null,null,null,null,null,null,null,null,null,null,null,null,null,null,null,null,null,{"$f":"IFERROR(VLOOKUP(T16881,Códigos!B:C,2,0),\" \")","v":" "}]
[null,null,null,null,null,null,null,null,null,null,null,null,null,null,null,null,null,null,null,null,{"$f":"IFERROR(VLOOKUP(T16889,Códigos!B:C,2,0),\" \")","v":" "}]
[null,null,null,null,null,null,null,null,null,null,null,null,null,null,null,null,null,null,null,null,{"$f":"IFERROR(VLOOKUP(T16896,Códigos!B:C,2,0),\" \")","v":" "}]
[null,null,null,null,null,null,null,null,null,null,null,null,null,null,null,null,null,null,null,null,{"$f":"IFERROR(VLOOKUP(T16908,Códigos!B:C,2,0),\" \")","v":" "}]
[null,null,null,null,null,null,null,null,null,null,null,null,null,null,null,null,null,null,null,null,{"$f":"IFERROR(VLOOKUP(T16912,Códigos!B:C,2,0),\" \")","v":" "}]
[null,null,null,null,null,null,null,null,null,null,null,null,null,null,null,null,null,null,null,null,{"$f":"IFERROR(VLOOKUP(T16926,Códigos!B:C,2,0),\" \")","v":" "}]
[null,null,null,null,null,null,null,null,null,null,null,null,null,null,null,null,null,null,null,null,{"$f":"IFERROR(VLOOKUP(T16929,Códigos!B:C,2,0),\" \")","v":" "}]
[null,null,null,null,null,null,null,null,null,null,null,null,null,null,null,null,null,null,null,null,{"$f":"IFERROR(VLOOKUP(T16945,Códigos!B:C,2,0),\" \")","v":" "}]
[null,null,null,null,null,null,null,null,null,null,null,null,null,null,null,null,null,null,null,null,{"$f":"IFERROR(VLOOKUP(T16951,Códigos!B:C,2,0),\" \")","v":" "}]
[null,null,null,null,null,null,null,null,null,null,null,null,null,null,null,null,null,null,null,null,{"$f":"IFERROR(VLOOKUP(T16959,Códigos!B:C,2,0),\" \")","v":" "}]
[null,null,null,null,null,null,null,null,null,null,null,null,null,null,null,null,null,null,null,null,{"$f":"IFERROR(VLOOKUP(T16966,Códigos!B:C,2,0),\" \")","v":" "}]
[null,null,null,null,null,null,null,null,null,null,null,null,null,null,null,null,null,null,null,null,{"$f":"IFERROR(VLOOKUP(T16978,Códigos!B:C,2,0),\" \")","v":" "}]
[null,null,null,null,null,null,null,null,null,null,null,null,null,null,null,null,null,null,null,null,{"$f":"IFERROR(VLOOKUP(T16982,Códigos!B:C,2,0),\" \")","v":" "}]
[null,null,null,null,null,null,null,null,null,null,null,null,null,null,null,null,null,null,null,null,{"$f":"IFERROR(VLOOKUP(T16996,Códigos!B:C,2,0),\" \")","v":" "}]
[null,null,null,null,null,null,null,null,null,null,null,null,null,null,null,null,null,null,null,null,{"$f":"IFERROR(VLOOKUP(T16999,Códigos!B:C,2,0),\" \")","v":" "}]
[null,null,null,null,null,null,null,null,null,null,null,null,null,null,null,null,null,null,null,null,{"$f":"IFERROR(VLOOKUP(T17015,Códigos!B:C,2,0),\" \")","v":" "}]
[null,null,null,null,null,null,null,null,null,null,null,null,null,null,null,null,null,null,null,null,{"$f":"IFERROR(VLOOKUP(T17021,Códigos!B:C,2,0),\" \")","v":" "}]
[null,null,null,null,null,null,null,null,null,null,null,null,null,null,null,null,null,null,null,null,{"$f":"IFERROR(VLOOKUP(T17029,Códigos!B:C,2,0),\" \")","v":" "}]
[null,null,null,null,null,null,null,null,null,null,null,null,null,null,null,null,null,null,null,null,{"$f":"IFERROR(VLOOKUP(T17036,Códigos!B:C,2,0),\" \")","v":" "}]
[null,null,null,null,null,null,null,null,null,null,null,null,null,null,null,null,null,null,null,null,{"$f":"IFERROR(VLOOKUP(T17048,Códigos!B:C,2,0),\" \")","v":" "}]
[null,null,null,null,null,null,null,null,null,null,null,null,null,null,null,null,null,null,null,null,{"$f":"IFERROR(VLOOKUP(T17052,Códigos!B:C,2,0),\" \")","v":" "}]
[null,null,null,null,null,null,null,null,null,null,null,null,null,null,null,null,null,null,null,null,{"$f":"IFERROR(VLOOKUP(T17066,Códigos!B:C,2,0),\" \")","v":" "}]
[null,null,null,null,null,null,null,null,null,null,null,null,null,null,null,null,null,null,null,null,{"$f":"IFERROR(VLOOKUP(T17069,Códigos!B:C,2,0),\" \")","v":" "}]
[null,null,null,null,null,null,null,null,null,null,null,null,null,null,null,null,null,null,null,null,{"$f":"IFERROR(VLOOKUP(T17085,Códigos!B:C,2,0),\" \")","v":" "}]
[null,null,null,null,null,null,null,null,null,null,null,null,null,null,null,null,null,null,null,null,{"$f":"IFERROR(VLOOKUP(T17091,Códigos!B:C,2,0),\" \")","v":" "}]
[null,null,null,null,null,null,null,null,null,null,null,null,null,null,null,null,null,null,null,null,{"$f":"IFERROR(VLOOKUP(T17099,Códigos!B:C,2,0),\" \")","v":" "}]
[null,null,null,null,null,null,null,null,null,null,null,null,null,null,null,null,null,null,null,null,{"$f":"IFERROR(VLOOKUP(T17106,Códigos!B:C,2,0),\" \")","v":" "}]
[null,null,null,null,null,null,null,null,null,null,null,null,null,null,null,null,null,null,null,null,{"$f":"IFERROR(VLOOKUP(T17118,Códigos!B:C,2,0),\" \")","v":" "}]
[null,null,null,null,null,null,null,null,null,null,null,null,null,null,null,null,null,null,null,null,{"$f":"IFERROR(VLOOKUP(T17122,Códigos!B:C,2,0),\" \")","v":" "}]
[null,null,null,null,null,null,null,null,null,null,null,null,null,null,null,null,null,null,null,null,{"$f":"IFERROR(VLOOKUP(T17136,Códigos!B:C,2,0),\" \")","v":" "}]
[null,null,null,null,null,null,null,null,null,null,null,null,null,null,null,null,null,null,null,null,{"$f":"IFERROR(VLOOKUP(T17139,Códigos!B:C,2,0),\" \")","v":" "}]
[null,null,null,null,null,null,null,null,null,null,null,null,null,null,null,null,null,null,null,null,{"$f":"IFERROR(VLOOKUP(T17155,Códigos!B:C,2,0),\" \")","v":" "}]
[null,null,null,null,null,null,null,null,null,null,null,null,null,null,null,null,null,null,null,null,{"$f":"IFERROR(VLOOKUP(T17161,Códigos!B:C,2,0),\" \")","v":" "}]
[null,null,null,null,null,null,null,null,null,null,null,null,null,null,null,null,null,null,null,null,{"$f":"IFERROR(VLOOKUP(T17169,Códigos!B:C,2,0),\" \")","v":" "}]
[null,null,null,null,null,null,null,null,null,null,null,null,null,null,null,null,null,null,null,null,{"$f":"IFERROR(VLOOKUP(T17176,Códigos!B:C,2,0),\" \")","v":" "}]
[null,null,null,null,null,null,null,null,null,null,null,null,null,null,null,null,null,null,null,null,{"$f":"IFERROR(VLOOKUP(T17188,Códigos!B:C,2,0),\" \")","v":" "}]
[null,null,null,null,null,null,null,null,null,null,null,null,null,null,null,null,null,null,null,null,{"$f":"IFERROR(VLOOKUP(T17192,Códigos!B:C,2,0),\" \")","v":" "}]
[null,null,null,null,null,null,null,null,null,null,null,null,null,null,null,null,null,null,null,null,{"$f":"IFERROR(VLOOKUP(T17206,Códigos!B:C,2,0),\" \")","v":" "}]
[null,null,null,null,null,null,null,null,null,null,null,null,null,null,null,null,null,null,null,null,{"$f":"IFERROR(VLOOKUP(T17209,Códigos!B:C,2,0),\" \")","v":" "}]
[null,null,null,null,null,null,null,null,null,null,null,null,null,null,null,null,null,null,null,null,{"$f":"IFERROR(VLOOKUP(T17225,Códigos!B:C,2,0),\" \")","v":" "}]
[null,null,null,null,null,null,null,null,null,null,null,null,null,null,null,null,null,null,null,null,{"$f":"IFERROR(VLOOKUP(T17231,Códigos!B:C,2,0),\" \")","v":" "}]
[null,null,null,null,null,null,null,null,null,null,null,null,null,null,null,null,null,null,null,null,{"$f":"IFERROR(VLOOKUP(T17234,Códigos!B:C,2,0),\" \")","v":" "}]
[null,null,null,null,null,null,null,null,null,null,null,null,null,null,null,null,null,null,null,null,{"$f":"IFERROR(VLOOKUP(T17246,Códigos!B:C,2,0),\" \")","v":" "}]
[null,null,null,null,null,null,null,null,null,null,null,null,null,null,null,null,null,null,null,null,{"$f":"IFERROR(VLOOKUP(T17258,Códigos!B:C,2,0),\" \")","v":" "}]
[null,null,null,null,null,null,null,null,null,null,null,null,null,null,null,null,null,null,null,null,{"$f":"IFERROR(VLOOKUP(T17262,Códigos!B:C,2,0),\" \")","v":" "}]
[null,null,null,null,null,null,null,null,null,null,null,null,null,null,null,null,null,null,null,null,{"$f":"IFERROR(VLOOKUP(T17276,Códigos!B:C,2,0),\" \")","v":" "}]
[null,null,null,null,null,null,null,null,null,null,null,null,null,null,null,null,null,null,null,null,{"$f":"IFERROR(VLOOKUP(T17279,Códigos!B:C,2,0),\" \")","v":" "}]
[null,null,null,null,null,null,null,null,null,null,null,null,null,null,null,null,null,null,null,null,{"$f":"IFERROR(VLOOKUP(T17295,Códigos!B:C,2,0),\" \")","v":" "}]
[null,null,null,null,null,null,null,null,null,null,null,null,null,null,null,null,null,null,null,null,{"$f":"IFERROR(VLOOKUP(T17301,Códigos!B:C,2,0),\" \")","v":" "}]
[null,null,null,null,null,null,null,null,null,null,null,null,null,null,null,null,null,null,null,null,{"$f":"IFERROR(VLOOKUP(T17304,Códigos!B:C,2,0),\" \")","v":" "}]
[null,null,null,null,null,null,null,null,null,null,null,null,null,null,null,null,null,null,null,null,{"$f":"IFERROR(VLOOKUP(T17316,Códigos!B:C,2,0),\" \")","v":" "}]
[null,null,null,null,null,null,null,null,null,null,null,null,null,null,null,null,null,null,null,null,{"$f":"IFERROR(VLOOKUP(T17328,Códigos!B:C,2,0),\" \")","v":" "}]
[null,null,null,null,null,null,null,null,null,null,null,null,null,null,null,null,null,null,null,null,{"$f":"IFERROR(VLOOKUP(T17332,Códigos!B:C,2,0),\" \")","v":" "}]
[null,null,null,null,null,null,null,null,null,null,null,null,null,null,null,null,null,null,null,null,{"$f":"IFERROR(VLOOKUP(T17346,Códigos!B:C,2,0),\" \")","v":" "}]
[null,null,null,null,null,null,null,null,null,null,null,null,null,null,null,null,null,null,null,null,{"$f":"IFERROR(VLOOKUP(T17349,Códigos!B:C,2,0),\" \")","v":" "}]
[null,null,null,null,null,null,null,null,null,null,null,null,null,null,null,null,null,null,null,null,{"$f":"IFERROR(VLOOKUP(T17365,Códigos!B:C,2,0),\" \")","v":" "}]
[null,null,null,null,null,null,null,null,null,null,null,null,null,null,null,null,null,null,null,null,{"$f":"IFERROR(VLOOKUP(T17371,Códigos!B:C,2,0),\" \")","v":" "}]
[null,null,null,null,null,null,null,null,null,null,null,null,null,null,null,null,null,null,null,null,{"$f":"IFERROR(VLOOKUP(T17374,Códigos!B:C,2,0),\" \")","v":" "}]
[null,null,null,null,null,null,null,null,null,null,null,null,null,null,null,null,null,null,null,null,{"$f":"IFERROR(VLOOKUP(T17386,Códigos!B:C,2,0),\" \")","v":" "}]
[null,null,null,null,null,null,null,null,null,null,null,null,null,null,null,null,null,null,null,null,{"$f":"IFERROR(VLOOKUP(T17398,Códigos!B:C,2,0),\" \")","v":" "}]
[null,null,null,null,null,null,null,null,null,null,null,null,null,null,null,null,null,null,null,null,{"$f":"IFERROR(VLOOKUP(T17402,Códigos!B:C,2,0),\" \")","v":" "}]
[null,null,null,null,null,null,null,null,null,null,null,null,null,null,null,null,null,null,null,null,{"$f":"IFERROR(VLOOKUP(T17416,Códigos!B:C,2,0),\" \")","v":" "}]
[null,null,null,null,null,null,null,null,null,null,null,null,null,null,null,null,null,null,null,null,{"$f":"IFERROR(VLOOKUP(T17423,Códigos!B:C,2,0),\" \")","v":" "}]
[null,null,null,null,null,null,null,null,null,null,null,null,null,null,null,null,null,null,null,null,{"$f":"IFERROR(VLOOKUP(T17435,Códigos!B:C,2,0),\" \")","v":" "}]
[null,null,null,null,null,null,null,null,null,null,null,null,null,null,null,null,null,null,null,null,{"$f":"IFERROR(VLOOKUP(T17441,Códigos!B:C,2,0),\" \")","v":" "}]
[null,null,null,null,null,null,null,null,null,null,null,null,null,null,null,null,null,null,null,null,{"$f":"IFERROR(VLOOKUP(T17444,Códigos!B:C,2,0),\" \")","v":" "}]
[null,null,null,null,null,null,null,null,null,null,null,null,null,null,null,null,null,null,null,null,{"$f":"IFERROR(VLOOKUP(T17456,Códigos!B:C,2,0),\" \")","v":" "}]
[null,null,null,null,null,null,null,null,null,null,null,null,null,null,null,null,null,null,null,null,{"$f":"IFERROR(VLOOKUP(T17468,Códigos!B:C,2,0),\" \")","v":" "}]
[null,null,null,null,null,null,null,null,null,null,null,null,null,null,null,null,null,null,null,null,{"$f":"IFERROR(VLOOKUP(T17472,Códigos!B:C,2,0),\" \")","v":" "}]
[null,null,null,null,null,null,null,null,null,null,null,null,null,null,null,null,null,null,null,null,{"$f":"IFERROR(VLOOKUP(T17486,Códigos!B:C,2,0),\" \")","v":" "}]
[null,null,null,null,null,null,null,null,null,null,null,null,null,null,null,null,null,null,null,null,{"$f":"IFERROR(VLOOKUP(T17493,Códigos!B:C,2,0),\" \")","v":" "}]
[null,null,null,null,null,null,null,null,null,null,null,null,null,null,null,null,null,null,null,null,{"$f":"IFERROR(VLOOKUP(T17505,Códigos!B:C,2,0),\" \")","v":" "}]
[null,null,null,null,null,null,null,null,null,null,null,null,null,null,null,null,null,null,null,null,{"$f":"IFERROR(VLOOKUP(T17511,Códigos!B:C,2,0),\" \")","v":" "}]
[null,null,null,null,null,null,null,null,null,null,null,null,null,null,null,null,null,null,null,null,{"$f":"IFERROR(VLOOKUP(T17514,Códigos!B:C,2,0),\" \")","v":" "}]
[null,null,null,null,null,null,null,null,null,null,null,null,null,null,null,null,null,null,null,null,{"$f":"IFERROR(VLOOKUP(T17526,Códigos!B:C,2,0),\" \")","v":" "}]
[null,null,null,null,null,null,null,null,null,null,null,null,null,null,null,null,null,null,null,null,{"$f":"IFERROR(VLOOKUP(T17538,Códigos!B:C,2,0),\" \")","v":" "}]
[null,null,null,null,null,null,null,null,null,null,null,null,null,null,null,null,null,null,null,null,{"$f":"IFERROR(VLOOKUP(T17542,Códigos!B:C,2,0),\" \")","v":" "}]
[null,null,null,null,null,null,null,null,null,null,null,null,null,null,null,null,null,null,null,null,{"$f":"IFERROR(VLOOKUP(T17556,Códigos!B:C,2,0),\" \")","v":" "}]
[null,null,null,null,null,null,null,null,null,null,null,null,null,null,null,null,null,null,null,null,{"$f":"IFERROR(VLOOKUP(T17563,Códigos!B:C,2,0),\" \")","v":" "}]
[null,null,null,null,null,null,null,null,null,null,null,null,null,null,null,null,null,null,null,null,{"$f":"IFERROR(VLOOKUP(T17575,Códigos!B:C,2,0),\" \")","v":" "}]
[null,null,null,null,null,null,null,null,null,null,null,null,null,null,null,null,null,null,null,null,{"$f":"IFERROR(VLOOKUP(T17581,Códigos!B:C,2,0),\" \")","v":" "}]
[null,null,null,null,null,null,null,null,null,null,null,null,null,null,null,null,null,null,null,null,{"$f":"IFERROR(VLOOKUP(T17584,Códigos!B:C,2,0),\" \")","v":" "}]
[null,null,null,null,null,null,null,null,null,null,null,null,null,null,null,null,null,null,null,null,{"$f":"IFERROR(VLOOKUP(T17596,Códigos!B:C,2,0),\" \")","v":" "}]
[null,null,null,null,null,null,null,null,null,null,null,null,null,null,null,null,null,null,null,null,{"$f":"IFERROR(VLOOKUP(T17603,Códigos!B:C,2,0),\" \")","v":" "}]
[null,null,null,null,null,null,null,null,null,null,null,null,null,null,null,null,null,null,null,null,{"$f":"IFERROR(VLOOKUP(T17612,Códigos!B:C,2,0),\" \")","v":" "}]
[null,null,null,null,null,null,null,null,null,null,null,null,null,null,null,null,null,null,null,null,{"$f":"IFERROR(VLOOKUP(T17626,Códigos!B:C,2,0),\" \")","v":" "}]
[null,null,null,null,null,null,null,null,null,null,null,null,null,null,null,null,null,null,null,null,{"$f":"IFERROR(VLOOKUP(T17633,Códigos!B:C,2,0),\" \")","v":" "}]
[null,null,null,null,null,null,null,null,null,null,null,null,null,null,null,null,null,null,null,null,{"$f":"IFERROR(VLOOKUP(T17645,Códigos!B:C,2,0),\" \")","v":" "}]
[null,null,null,null,null,null,null,null,null,null,null,null,null,null,null,null,null,null,null,null,{"$f":"IFERROR(VLOOKUP(T17651,Códigos!B:C,2,0),\" \")","v":" "}]
[null,null,null,null,null,null,null,null,null,null,null,null,null,null,null,null,null,null,null,null,{"$f":"IFERROR(VLOOKUP(T17654,Códigos!B:C,2,0),\" \")","v":" "}]
[null,null,null,null,null,null,null,null,null,null,null,null,null,null,null,null,null,null,null,null,{"$f":"IFERROR(VLOOKUP(T17666,Códigos!B:C,2,0),\" \")","v":" "}]
[null,null,null,null,null,null,null,null,null,null,null,null,null,null,null,null,null,null,null,null,{"$f":"IFERROR(VLOOKUP(T17673,Códigos!B:C,2,0),\" \")","v":" "}]
[null,null,null,null,null,null,null,null,null,null,null,null,null,null,null,null,null,null,null,null,{"$f":"IFERROR(VLOOKUP(T17682,Códigos!B:C,2,0),\" \")","v":" "}]
[null,null,null,null,null,null,null,null,null,null,null,null,null,null,null,null,null,null,null,null,{"$f":"IFERROR(VLOOKUP(T17696,Códigos!B:C,2,0),\" \")","v":" "}]
[null,null,null,null,null,null,null,null,null,null,null,null,null,null,null,null,null,null,null,null,{"$f":"IFERROR(VLOOKUP(T17703,Códigos!B:C,2,0),\" \")","v":" "}]
[null,null,null,null,null,null,null,null,null,null,null,null,null,null,null,null,null,null,null,null,{"$f":"IFERROR(VLOOKUP(T17715,Códigos!B:C,2,0),\" \")","v":" "}]
[null,null,null,null,null,null,null,null,null,null,null,null,null,null,null,null,null,null,null,null,{"$f":"IFERROR(VLOOKUP(T17721,Códigos!B:C,2,0),\" \")","v":" "}]
[null,null,null,null,null,null,null,null,null,null,null,null,null,null,null,null,null,null,null,null,{"$f":"IFERROR(VLOOKUP(T17724,Códigos!B:C,2,0),\" \")","v":" "}]
[null,null,null,null,null,null,null,null,null,null,null,null,null,null,null,null,null,null,null,null,{"$f":"IFERROR(VLOOKUP(T17736,Códigos!B:C,2,0),\" \")","v":" "}]
[null,null,null,null,null,null,null,null,null,null,null,null,null,null,null,null,null,null,null,null,{"$f":"IFERROR(VLOOKUP(T17743,Códigos!B:C,2,0),\" \")","v":" "}]
[null,null,null,null,null,null,null,null,null,null,null,null,null,null,null,null,null,null,null,null,{"$f":"IFERROR(VLOOKUP(T17752,Códigos!B:C,2,0),\" \")","v":" "}]
[null,null,null,null,null,null,null,null,null,null,null,null,null,null,null,null,null,null,null,null,{"$f":"IFERROR(VLOOKUP(T17766,Códigos!B:C,2,0),\" \")","v":" "}]
[null,null,null,null,null,null,null,null,null,null,null,null,null,null,null,null,null,null,null,null,{"$f":"IFERROR(VLOOKUP(T17773,Códigos!B:C,2,0),\" \")","v":" "}]
[null,null,null,null,null,null,null,null,null,null,null,null,null,null,null,null,null,null,null,null,{"$f":"IFERROR(VLOOKUP(T17785,Códigos!B:C,2,0),\" \")","v":" "}]
[null,null,null,null,null,null,null,null,null,null,null,null,null,null,null,null,null,null,null,null,{"$f":"IFERROR(VLOOKUP(T17791,Códigos!B:C,2,0),\" \")","v":" "}]
[null,null,null,null,null,null,null,null,null,null,null,null,null,null,null,null,null,null,null,null,{"$f":"IFERROR(VLOOKUP(T17794,Códigos!B:C,2,0),\" \")","v":" "}]
[null,null,null,null,null,null,null,null,null,null,null,null,null,null,null,null,null,null,null,null,{"$f":"IFERROR(VLOOKUP(T17806,Códigos!B:C,2,0),\" \")","v":" "}]
[null,null,null,null,null,null,null,null,null,null,null,null,null,null,null,null,null,null,null,null,{"$f":"IFERROR(VLOOKUP(T17813,Códigos!B:C,2,0),\" \")","v":" "}]
[null,null,null,null,null,null,null,null,null,null,null,null,null,null,null,null,null,null,null,null,{"$f":"IFERROR(VLOOKUP(T17822,Códigos!B:C,2,0),\" \")","v":" "}]
[null,null,null,null,null,null,null,null,null,null,null,null,null,null,null,null,null,null,null,null,{"$f":"IFERROR(VLOOKUP(T17836,Códigos!B:C,2,0),\" \")","v":" "}]
[null,null,null,null,null,null,null,null,null,null,null,null,null,null,null,null,null,null,null,null,{"$f":"IFERROR(VLOOKUP(T17843,Códigos!B:C,2,0),\" \")","v":" "}]
[null,null,null,null,null,null,null,null,null,null,null,null,null,null,null,null,null,null,null,null,{"$f":"IFERROR(VLOOKUP(T17855,Códigos!B:C,2,0),\" \")","v":" "}]
[null,null,null,null,null,null,null,null,null,null,null,null,null,null,null,null,null,null,null,null,{"$f":"IFERROR(VLOOKUP(T17861,Códigos!B:C,2,0),\" \")","v":" "}]
[null,null,null,null,null,null,null,null,null,null,null,null,null,null,null,null,null,null,null,null,{"$f":"IFERROR(VLOOKUP(T17864,Códigos!B:C,2,0),\" \")","v":" "}]
[null,null,null,null,null,null,null,null,null,null,null,null,null,null,null,null,null,null,null,null,{"$f":"IFERROR(VLOOKUP(T17876,Códigos!B:C,2,0),\" \")","v":" "}]
[null,null,null,null,null,null,null,null,null,null,null,null,null,null,null,null,null,null,null,null,{"$f":"IFERROR(VLOOKUP(T17883,Códigos!B:C,2,0),\" \")","v":" "}]
[null,null,null,null,null,null,null,null,null,null,null,null,null,null,null,null,null,null,null,null,{"$f":"IFERROR(VLOOKUP(T17892,Códigos!B:C,2,0),\" \")","v":" "}]
[null,null,null,null,null,null,null,null,null,null,null,null,null,null,null,null,null,null,null,null,{"$f":"IFERROR(VLOOKUP(T17901,Códigos!B:C,2,0),\" \")","v":" "}]
[null,null,null,null,null,null,null,null,null,null,null,null,null,null,null,null,null,null,null,null,{"$f":"IFERROR(VLOOKUP(T17913,Códigos!B:C,2,0),\" \")","v":" "}]
[null,null,null,null,null,null,null,null,null,null,null,null,null,null,null,null,null,null,null,null,{"$f":"IFERROR(VLOOKUP(T17925,Códigos!B:C,2,0),\" \")","v":" "}]
[null,null,null,null,null,null,null,null,null,null,null,null,null,null,null,null,null,null,null,null,{"$f":"IFERROR(VLOOKUP(T17931,Códigos!B:C,2,0),\" \")","v":" "}]
[null,null,null,null,null,null,null,null,null,null,null,null,null,null,null,null,null,null,null,null,{"$f":"IFERROR(VLOOKUP(T17934,Códigos!B:C,2,0),\" \")","v":" "}]
[null,null,null,null,null,null,null,null,null,null,null,null,null,null,null,null,null,null,null,null,{"$f":"IFERROR(VLOOKUP(T17946,Códigos!B:C,2,0),\" \")","v":" "}]
[null,null,null,null,null,null,null,null,null,null,null,null,null,null,null,null,null,null,null,null,{"$f":"IFERROR(VLOOKUP(T17953,Códigos!B:C,2,0),\" \")","v":" "}]
[null,null,null,null,null,null,null,null,null,null,null,null,null,null,null,null,null,null,null,null,{"$f":"IFERROR(VLOOKUP(T17962,Códigos!B:C,2,0),\" \")","v":" "}]
[null,null,null,null,null,null,null,null,null,null,null,null,null,null,null,null,null,null,null,null,{"$f":"IFERROR(VLOOKUP(T17971,Códigos!B:C,2,0),\" \")","v":" "}]
[null,null,null,null,null,null,null,null,null,null,null,null,null,null,null,null,null,null,null,null,{"$f":"IFERROR(VLOOKUP(T17983,Códigos!B:C,2,0),\" \")","v":" "}]
[null,null,null,null,null,null,null,null,null,null,null,null,null,null,null,null,null,null,null,null,{"$f":"IFERROR(VLOOKUP(T17995,Códigos!B:C,2,0),\" \")","v":" "}]
[null,null,null,null,null,null,null,null,null,null,null,null,null,null,null,null,null,null,null,null,{"$f":"IFERROR(VLOOKUP(T18001,Códigos!B:C,2,0),\" \")","v":" "}]
[null,null,null,null,null,null,null,null,null,null,null,null,null,null,null,null,null,null,null,null,{"$f":"IFERROR(VLOOKUP(T18004,Códigos!B:C,2,0),\" \")","v":" "}]
[null,null,null,null,null,null,null,null,null,null,null,null,null,null,null,null,null,null,null,null,{"$f":"IFERROR(VLOOKUP(T18016,Códigos!B:C,2,0),\" \")","v":" "}]
[null,null,null,null,null,null,null,null,null,null,null,null,null,null,null,null,null,null,null,null,{"$f":"IFERROR(VLOOKUP(T18023,Códigos!B:C,2,0),\" \")","v":" "}]
[null,null,null,null,null,null,null,null,null,null,null,null,null,null,null,null,null,null,null,null,{"$f":"IFERROR(VLOOKUP(T18032,Códigos!B:C,2,0),\" \")","v":" "}]
[null,null,null,null,null,null,null,null,null,null,null,null,null,null,null,null,null,null,null,null,{"$f":"IFERROR(VLOOKUP(T18041,Códigos!B:C,2,0),\" \")","v":" "}]
[null,null,null,null,null,null,null,null,null,null,null,null,null,null,null,null,null,null,null,null,{"$f":"IFERROR(VLOOKUP(T18053,Códigos!B:C,2,0),\" \")","v":" "}]
[null,null,null,null,null,null,null,null,null,null,null,null,null,null,null,null,null,null,null,null,{"$f":"IFERROR(VLOOKUP(T18065,Códigos!B:C,2,0),\" \")","v":" "}]
[null,null,null,null,null,null,null,null,null,null,null,null,null,null,null,null,null,null,null,null,{"$f":"IFERROR(VLOOKUP(T18071,Códigos!B:C,2,0),\" \")","v":" "}]
[null,null,null,null,null,null,null,null,null,null,null,null,null,null,null,null,null,null,null,null,{"$f":"IFERROR(VLOOKUP(T18074,Códigos!B:C,2,0),\" \")","v":" "}]
[null,null,null,null,null,null,null,null,null,null,null,null,null,null,null,null,null,null,null,null,{"$f":"IFERROR(VLOOKUP(T18090,Códigos!B:C,2,0),\" \")","v":" "}]
[null,null,null,null,null,null,null,null,null,null,null,null,null,null,null,null,null,null,null,null,{"$f":"IFERROR(VLOOKUP(T18093,Códigos!B:C,2,0),\" \")","v":" "}]
[null,null,null,null,null,null,null,null,null,null,null,null,null,null,null,null,null,null,null,null,{"$f":"IFERROR(VLOOKUP(T18102,Códigos!B:C,2,0),\" \")","v":" "}]
[null,null,null,null,null,null,null,null,null,null,null,null,null,null,null,null,null,null,null,null,{"$f":"IFERROR(VLOOKUP(T18111,Códigos!B:C,2,0),\" \")","v":" "}]
[null,null,null,null,null,null,null,null,null,null,null,null,null,null,null,null,null,null,null,null,{"$f":"IFERROR(VLOOKUP(T18123,Códigos!B:C,2,0),\" \")","v":" "}]
[null,null,null,null,null,null,null,null,null,null,null,null,null,null,null,null,null,null,null,null,{"$f":"IFERROR(VLOOKUP(T18135,Códigos!B:C,2,0),\" \")","v":" "}]
[null,null,null,null,null,null,null,null,null,null,null,null,null,null,null,null,null,null,null,null,{"$f":"IFERROR(VLOOKUP(T18141,Códigos!B:C,2,0),\" \")","v":" "}]
[null,null,null,null,null,null,null,null,null,null,null,null,null,null,null,null,null,null,null,null,{"$f":"IFERROR(VLOOKUP(T18144,Códigos!B:C,2,0),\" \")","v":" "}]
[null,null,null,null,null,null,null,null,null,null,null,null,null,null,null,null,null,null,null,null,{"$f":"IFERROR(VLOOKUP(T18160,Códigos!B:C,2,0),\" \")","v":" "}]
[null,null,null,null,null,null,null,null,null,null,null,null,null,null,null,null,null,null,null,null,{"$f":"IFERROR(VLOOKUP(T18163,Códigos!B:C,2,0),\" \")","v":" "}]
[null,null,null,null,null,null,null,null,null,null,null,null,null,null,null,null,null,null,null,null,{"$f":"IFERROR(VLOOKUP(T18172,Códigos!B:C,2,0),\" \")","v":" "}]
[null,null,null,null,null,null,null,null,null,null,null,null,null,null,null,null,null,null,null,null,{"$f":"IFERROR(VLOOKUP(T18181,Códigos!B:C,2,0),\" \")","v":" "}]
[null,null,null,null,null,null,null,null,null,null,null,null,null,null,null,null,null,null,null,null,{"$f":"IFERROR(VLOOKUP(T18193,Códigos!B:C,2,0),\" \")","v":" "}]
[null,null,null,null,null,null,null,null,null,null,null,null,null,null,null,null,null,null,null,null,{"$f":"IFERROR(VLOOKUP(T18200,Códigos!B:C,2,0),\" \")","v":" "}]
[null,null,null,null,null,null,null,null,null,null,null,null,null,null,null,null,null,null,null,null,{"$f":"IFERROR(VLOOKUP(T18211,Códigos!B:C,2,0),\" \")","v":" "}]
[null,null,null,null,null,null,null,null,null,null,null,null,null,null,null,null,null,null,null,null,{"$f":"IFERROR(VLOOKUP(T18214,Códigos!B:C,2,0),\" \")","v":" "}]
[null,null,null,null,null,null,null,null,null,null,null,null,null,null,null,null,null,null,null,null,{"$f":"IFERROR(VLOOKUP(T18230,Códigos!B:C,2,0),\" \")","v":" "}]
[null,null,null,null,null,null,null,null,null,null,null,null,null,null,null,null,null,null,null,null,{"$f":"IFERROR(VLOOKUP(T18233,Códigos!B:C,2,0),\" \")","v":" "}]
[null,null,null,null,null,null,null,null,null,null,null,null,null,null,null,null,null,null,null,null,{"$f":"IFERROR(VLOOKUP(T18242,Códigos!B:C,2,0),\" \")","v":" "}]
[null,null,null,null,null,null,null,null,null,null,null,null,null,null,null,null,null,null,null,null,{"$f":"IFERROR(VLOOKUP(T18251,Códigos!B:C,2,0),\" \")","v":" "}]
[null,null,null,null,null,null,null,null,null,null,null,null,null,null,null,null,null,null,null,null,{"$f":"IFERROR(VLOOKUP(T18263,Códigos!B:C,2,0),\" \")","v":" "}]
[null,null,null,null,null,null,null,null,null,null,null,null,null,null,null,null,null,null,null,null,{"$f":"IFERROR(VLOOKUP(T18270,Códigos!B:C,2,0),\" \")","v":" "}]
[null,null,null,null,null,null,null,null,null,null,null,null,null,null,null,null,null,null,null,null,{"$f":"IFERROR(VLOOKUP(T18281,Códigos!B:C,2,0),\" \")","v":" "}]
[null,null,null,null,null,null,null,null,null,null,null,null,null,null,null,null,null,null,null,null,{"$f":"IFERROR(VLOOKUP(T18284,Códigos!B:C,2,0),\" \")","v":" "}]
[null,null,null,null,null,null,null,null,null,null,null,null,null,null,null,null,null,null,null,null,{"$f":"IFERROR(VLOOKUP(T18300,Códigos!B:C,2,0),\" \")","v":" "}]
[null,null,null,null,null,null,null,null,null,null,null,null,null,null,null,null,null,null,null,null,{"$f":"IFERROR(VLOOKUP(T18303,Códigos!B:C,2,0),\" \")","v":" "}]
[null,null,null,null,null,null,null,null,null,null,null,null,null,null,null,null,null,null,null,null,{"$f":"IFERROR(VLOOKUP(T18312,Códigos!B:C,2,0),\" \")","v":" "}]
[null,null,null,null,null,null,null,null,null,null,null,null,null,null,null,null,null,null,null,null,{"$f":"IFERROR(VLOOKUP(T18321,Códigos!B:C,2,0),\" \")","v":" "}]
[null,null,null,null,null,null,null,null,null,null,null,null,null,null,null,null,null,null,null,null,{"$f":"IFERROR(VLOOKUP(T18333,Códigos!B:C,2,0),\" \")","v":" "}]
[null,null,null,null,null,null,null,null,null,null,null,null,null,null,null,null,null,null,null,null,{"$f":"IFERROR(VLOOKUP(T18340,Códigos!B:C,2,0),\" \")","v":" "}]
[null,null,null,null,null,null,null,null,null,null,null,null,null,null,null,null,null,null,null,null,{"$f":"IFERROR(VLOOKUP(T18351,Códigos!B:C,2,0),\" \")","v":" "}]
[null,null,null,null,null,null,null,null,null,null,null,null,null,null,null,null,null,null,null,null,{"$f":"IFERROR(VLOOKUP(T18354,Códigos!B:C,2,0),\" \")","v":" "}]
[null,null,null,null,null,null,null,null,null,null,null,null,null,null,null,null,null,null,null,null,{"$f":"IFERROR(VLOOKUP(T18370,Códigos!B:C,2,0),\" \")","v":" "}]
[null,null,null,null,null,null,null,null,null,null,null,null,null,null,null,null,null,null,null,null,{"$f":"IFERROR(VLOOKUP(T18373,Códigos!B:C,2,0),\" \")","v":" "}]
[null,null,null,null,null,null,null,null,null,null,null,null,null,null,null,null,null,null,null,null,{"$f":"IFERROR(VLOOKUP(T18382,Códigos!B:C,2,0),\" \")","v":" "}]
[null,null,null,null,null,null,null,null,null,null,null,null,null,null,null,null,null,null,null,null,{"$f":"IFERROR(VLOOKUP(T18391,Códigos!B:C,2,0),\" \")","v":" "}]
[null,null,null,null,null,null,null,null,null,null,null,null,null,null,null,null,null,null,null,null,{"$f":"IFERROR(VLOOKUP(T18403,Códigos!B:C,2,0),\" \")","v":" "}]
[null,null,null,null,null,null,null,null,null,null,null,null,null,null,null,null,null,null,null,null,{"$f":"IFERROR(VLOOKUP(T18410,Códigos!B:C,2,0),\" \")","v":" "}]
[null,null,null,null,null,null,null,null,null,null,null,null,null,null,null,null,null,null,null,null,{"$f":"IFERROR(VLOOKUP(T18421,Códigos!B:C,2,0),\" \")","v":" "}]
[null,null,null,null,null,null,null,null,null,null,null,null,null,null,null,null,null,null,null,null,{"$f":"IFERROR(VLOOKUP(T18424,Códigos!B:C,2,0),\" \")","v":" "}]
[null,null,null,null,null,null,null,null,null,null,null,null,null,null,null,null,null,null,null,null,{"$f":"IFERROR(VLOOKUP(T18440,Códigos!B:C,2,0),\" \")","v":" "}]
[null,null,null,null,null,null,null,null,null,null,null,null,null,null,null,null,null,null,null,null,{"$f":"IFERROR(VLOOKUP(T18443,Códigos!B:C,2,0),\" \")","v":" "}]
[null,null,null,null,null,null,null,null,null,null,null,null,null,null,null,null,null,null,null,null,{"$f":"IFERROR(VLOOKUP(T18452,Códigos!B:C,2,0),\" \")","v":" "}]
[null,null,null,null,null,null,null,null,null,null,null,null,null,null,null,null,null,null,null,null,{"$f":"IFERROR(VLOOKUP(T18461,Códigos!B:C,2,0),\" \")","v":" "}]
[null,null,null,null,null,null,null,null,null,null,null,null,null,null,null,null,null,null,null,null,{"$f":"IFERROR(VLOOKUP(T18473,Códigos!B:C,2,0),\" \")","v":" "}]
[null,null,null,null,null,null,null,null,null,null,null,null,null,null,null,null,null,null,null,null,{"$f":"IFERROR(VLOOKUP(T18480,Códigos!B:C,2,0),\" \")","v":" "}]
[null,null,null,null,null,null,null,null,null,null,null,null,null,null,null,null,null,null,null,null,{"$f":"IFERROR(VLOOKUP(T18491,Códigos!B:C,2,0),\" \")","v":" "}]
[null,null,null,null,null,null,null,null,null,null,null,null,null,null,null,null,null,null,null,null,{"$f":"IFERROR(VLOOKUP(T18498,Códigos!B:C,2,0),\" \")","v":" "}]
[null,null,null,null,null,null,null,null,null,null,null,null,null,null,null,null,null,null,null,null,{"$f":"IFERROR(VLOOKUP(T18510,Códigos!B:C,2,0),\" \")","v":" "}]
[null,null,null,null,null,null,null,null,null,null,null,null,null,null,null,null,null,null,null,null,{"$f":"IFERROR(VLOOKUP(T18513,Códigos!B:C,2,0),\" \")","v":" "}]
[null,null,null,null,null,null,null,null,null,null,null,null,null,null,null,null,null,null,null,null,{"$f":"IFERROR(VLOOKUP(T18522,Códigos!B:C,2,0),\" \")","v":" "}]
[null,null,null,null,null,null,null,null,null,null,null,null,null,null,null,null,null,null,null,null,{"$f":"IFERROR(VLOOKUP(T18531,Códigos!B:C,2,0),\" \")","v":" "}]
[null,null,null,null,null,null,null,null,null,null,null,null,null,null,null,null,null,null,null,null,{"$f":"IFERROR(VLOOKUP(T18543,Códigos!B:C,2,0),\" \")","v":" "}]
[null,null,null,null,null,null,null,null,null,null,null,null,null,null,null,null,null,null,null,null,{"$f":"IFERROR(VLOOKUP(T18550,Códigos!B:C,2,0),\" \")","v":" "}]
[null,null,null,null,null,null,null,null,null,null,null,null,null,null,null,null,null,null,null,null,{"$f":"IFERROR(VLOOKUP(T18561,Códigos!B:C,2,0),\" \")","v":" "}]
[null,null,null,null,null,null,null,null,null,null,null,null,null,null,null,null,null,null,null,null,{"$f":"IFERROR(VLOOKUP(T18568,Códigos!B:C,2,0),\" \")","v":" "}]
[null,null,null,null,null,null,null,null,null,null,null,null,null,null,null,null,null,null,null,null,{"$f":"IFERROR(VLOOKUP(T18580,Códigos!B:C,2,0),\" \")","v":" "}]
[null,null,null,null,null,null,null,null,null,null,null,null,null,null,null,null,null,null,null,null,{"$f":"IFERROR(VLOOKUP(T18583,Códigos!B:C,2,0),\" \")","v":" "}]
[null,null,null,null,null,null,null,null,null,null,null,null,null,null,null,null,null,null,null,null,{"$f":"IFERROR(VLOOKUP(T18592,Códigos!B:C,2,0),\" \")","v":" "}]
[null,null,null,null,null,null,null,null,null,null,null,null,null,null,null,null,null,null,null,null,{"$f":"IFERROR(VLOOKUP(T18601,Códigos!B:C,2,0),\" \")","v":" "}]
[null,null,null,null,null,null,null,null,null,null,null,null,null,null,null,null,null,null,null,null,{"$f":"IFERROR(VLOOKUP(T18613,Códigos!B:C,2,0),\" \")","v":" "}]
[null,null,null,null,null,null,null,null,null,null,null,null,null,null,null,null,null,null,null,null,{"$f":"IFERROR(VLOOKUP(T18620,Códigos!B:C,2,0),\" \")","v":" "}]
[null,null,null,null,null,null,null,null,null,null,null,null,null,null,null,null,null,null,null,null,{"$f":"IFERROR(VLOOKUP(T18631,Códigos!B:C,2,0),\" \")","v":" "}]
[null,null,null,null,null,null,null,null,null,null,null,null,null,null,null,null,null,null,null,null,{"$f":"IFERROR(VLOOKUP(T18638,Códigos!B:C,2,0),\" \")","v":" "}]
[null,null,null,null,null,null,null,null,null,null,null,null,null,null,null,null,null,null,null,null,{"$f":"IFERROR(VLOOKUP(T18650,Códigos!B:C,2,0),\" \")","v":" "}]
[null,null,null,null,null,null,null,null,null,null,null,null,null,null,null,null,null,null,null,null,{"$f":"IFERROR(VLOOKUP(T18653,Códigos!B:C,2,0),\" \")","v":" "}]
[null,null,null,null,null,null,null,null,null,null,null,null,null,null,null,null,null,null,null,null,{"$f":"IFERROR(VLOOKUP(T18662,Códigos!B:C,2,0),\" \")","v":" "}]
[null,null,null,null,null,null,null,null,null,null,null,null,null,null,null,null,null,null,null,null,{"$f":"IFERROR(VLOOKUP(T18671,Códigos!B:C,2,0),\" \")","v":" "}]
[null,null,null,null,null,null,null,null,null,null,null,null,null,null,null,null,null,null,null,null,{"$f":"IFERROR(VLOOKUP(T18678,Códigos!B:C,2,0),\" \")","v":" "}]
[null,null,null,null,null,null,null,null,null,null,null,null,null,null,null,null,null,null,null,null,{"$f":"IFERROR(VLOOKUP(T18690,Códigos!B:C,2,0),\" \")","v":" "}]
[null,null,null,null,null,null,null,null,null,null,null,null,null,null,null,null,null,null,null,null,{"$f":"IFERROR(VLOOKUP(T18701,Códigos!B:C,2,0),\" \")","v":" "}]
[null,null,null,null,null,null,null,null,null,null,null,null,null,null,null,null,null,null,null,null,{"$f":"IFERROR(VLOOKUP(T18708,Códigos!B:C,2,0),\" \")","v":" "}]
[null,null,null,null,null,null,null,null,null,null,null,null,null,null,null,null,null,null,null,null,{"$f":"IFERROR(VLOOKUP(T18720,Códigos!B:C,2,0),\" \")","v":" "}]
[null,null,null,null,null,null,null,null,null,null,null,null,null,null,null,null,null,null,null,null,{"$f":"IFERROR(VLOOKUP(T18723,Códigos!B:C,2,0),\" \")","v":" "}]
[null,null,null,null,null,null,null,null,null,null,null,null,null,null,null,null,null,null,null,null,{"$f":"IFERROR(VLOOKUP(T18732,Códigos!B:C,2,0),\" \")","v":" "}]
[null,null,null,null,null,null,null,null,null,null,null,null,null,null,null,null,null,null,null,null,{"$f":"IFERROR(VLOOKUP(T18741,Códigos!B:C,2,0),\" \")","v":" "}]
[null,null,null,null,null,null,null,null,null,null,null,null,null,null,null,null,null,null,null,null,{"$f":"IFERROR(VLOOKUP(T18748,Códigos!B:C,2,0),\" \")","v":" "}]
[null,null,null,null,null,null,null,null,null,null,null,null,null,null,null,null,null,null,null,null,{"$f":"IFERROR(VLOOKUP(T18760,Códigos!B:C,2,0),\" \")","v":" "}]
[null,null,null,null,null,null,null,null,null,null,null,null,null,null,null,null,null,null,null,null,{"$f":"IFERROR(VLOOKUP(T18771,Códigos!B:C,2,0),\" \")","v":" "}]
[null,null,null,null,null,null,null,null,null,null,null,null,null,null,null,null,null,null,null,null,{"$f":"IFERROR(VLOOKUP(T18778,Códigos!B:C,2,0),\" \")","v":" "}]
[null,null,null,null,null,null,null,null,null,null,null,null,null,null,null,null,null,null,null,null,{"$f":"IFERROR(VLOOKUP(T18790,Códigos!B:C,2,0),\" \")","v":" "}]
[null,null,null,null,null,null,null,null,null,null,null,null,null,null,null,null,null,null,null,null,{"$f":"IFERROR(VLOOKUP(T18793,Códigos!B:C,2,0),\" \")","v":" "}]
[null,null,null,null,null,null,null,null,null,null,null,null,null,null,null,null,null,null,null,null,{"$f":"IFERROR(VLOOKUP(T18802,Códigos!B:C,2,0),\" \")","v":" "}]
[null,null,null,null,null,null,null,null,null,null,null,null,null,null,null,null,null,null,null,null,{"$f":"IFERROR(VLOOKUP(T18811,Códigos!B:C,2,0),\" \")","v":" "}]
[null,null,null,null,null,null,null,null,null,null,null,null,null,null,null,null,null,null,null,null,{"$f":"IFERROR(VLOOKUP(T18818,Códigos!B:C,2,0),\" \")","v":" "}]
[null,null,null,null,null,null,null,null,null,null,null,null,null,null,null,null,null,null,null,null,{"$f":"IFERROR(VLOOKUP(T18830,Códigos!B:C,2,0),\" \")","v":" "}]
[null,null,null,null,null,null,null,null,null,null,null,null,null,null,null,null,null,null,null,null,{"$f":"IFERROR(VLOOKUP(T18841,Códigos!B:C,2,0),\" \")","v":" "}]
[null,null,null,null,null,null,null,null,null,null,null,null,null,null,null,null,null,null,null,null,{"$f":"IFERROR(VLOOKUP(T18848,Códigos!B:C,2,0),\" \")","v":" "}]
[null,null,null,null,null,null,null,null,null,null,null,null,null,null,null,null,null,null,null,null,{"$f":"IFERROR(VLOOKUP(T18860,Códigos!B:C,2,0),\" \")","v":" "}]
[null,null,null,null,null,null,null,null,null,null,null,null,null,null,null,null,null,null,null,null,{"$f":"IFERROR(VLOOKUP(T18867,Códigos!B:C,2,0),\" \")","v":" "}]
[null,null,null,null,null,null,null,null,null,null,null,null,null,null,null,null,null,null,null,null,{"$f":"IFERROR(VLOOKUP(T18872,Códigos!B:C,2,0),\" \")","v":" "}]
[null,null,null,null,null,null,null,null,null,null,null,null,null,null,null,null,null,null,null,null,{"$f":"IFERROR(VLOOKUP(T18881,Códigos!B:C,2,0),\" \")","v":" "}]
[null,null,null,null,null,null,null,null,null,null,null,null,null,null,null,null,null,null,null,null,{"$f":"IFERROR(VLOOKUP(T18888,Códigos!B:C,2,0),\" \")","v":" "}]
[null,null,null,null,null,null,null,null,null,null,null,null,null,null,null,null,null,null,null,null,{"$f":"IFERROR(VLOOKUP(T18900,Códigos!B:C,2,0),\" \")","v":" "}]
[null,null,null,null,null,null,null,null,null,null,null,null,null,null,null,null,null,null,null,null,{"$f":"IFERROR(VLOOKUP(T18911,Códigos!B:C,2,0),\" \")","v":" "}]
[null,null,null,null,null,null,null,null,null,null,null,null,null,null,null,null,null,null,null,null,{"$f":"IFERROR(VLOOKUP(T18918,Códigos!B:C,2,0),\" \")","v":" "}]
[null,null,null,null,null,null,null,null,null,null,null,null,null,null,null,null,null,null,null,null,{"$f":"IFERROR(VLOOKUP(T18930,Códigos!B:C,2,0),\" \")","v":" "}]
[null,null,null,null,null,null,null,null,null,null,null,null,null,null,null,null,null,null,null,null,{"$f":"IFERROR(VLOOKUP(T18937,Códigos!B:C,2,0),\" \")","v":" "}]
[null,null,null,null,null,null,null,null,null,null,null,null,null,null,null,null,null,null,null,null,{"$f":"IFERROR(VLOOKUP(T18942,Códigos!B:C,2,0),\" \")","v":" "}]
[null,null,null,null,null,null,null,null,null,null,null,null,null,null,null,null,null,null,null,null,{"$f":"IFERROR(VLOOKUP(T18951,Códigos!B:C,2,0),\" \")","v":" "}]
[null,null,null,null,null,null,null,null,null,null,null,null,null,null,null,null,null,null,null,null,{"$f":"IFERROR(VLOOKUP(T18958,Códigos!B:C,2,0),\" \")","v":" "}]
[null,null,null,null,null,null,null,null,null,null,null,null,null,null,null,null,null,null,null,null,{"$f":"IFERROR(VLOOKUP(T18970,Códigos!B:C,2,0),\" \")","v":" "}]
[null,null,null,null,null,null,null,null,null,null,null,null,null,null,null,null,null,null,null,null,{"$f":"IFERROR(VLOOKUP(T18981,Códigos!B:C,2,0),\" \")","v":" "}]
[null,null,null,null,null,null,null,null,null,null,null,null,null,null,null,null,null,null,null,null,{"$f":"IFERROR(VLOOKUP(T18988,Códigos!B:C,2,0),\" \")","v":" "}]
[null,null,null,null,null,null,null,null,null,null,null,null,null,null,null,null,null,null,null,null,{"$f":"IFERROR(VLOOKUP(T19000,Códigos!B:C,2,0),\" \")","v":" "}]
[null,null,null,null,null,null,null,null,null,null,null,null,null,null,null,null,null,null,null,null,{"$f":"IFERROR(VLOOKUP(T19007,Códigos!B:C,2,0),\" \")","v":" "}]
[null,null,null,null,null,null,null,null,null,null,null,null,null,null,null,null,null,null,null,null,{"$f":"IFERROR(VLOOKUP(T19012,Códigos!B:C,2,0),\" \")","v":" "}]
[null,null,null,null,null,null,null,null,null,null,null,null,null,null,null,null,null,null,null,null,{"$f":"IFERROR(VLOOKUP(T19021,Códigos!B:C,2,0),\" \")","v":" "}]
[null,null,null,null,null,null,null,null,null,null,null,null,null,null,null,null,null,null,null,null,{"$f":"IFERROR(VLOOKUP(T19028,Códigos!B:C,2,0),\" \")","v":" "}]
[null,null,null,null,null,null,null,null,null,null,null,null,null,null,null,null,null,null,null,null,{"$f":"IFERROR(VLOOKUP(T19040,Códigos!B:C,2,0),\" \")","v":" "}]
[null,null,null,null,null,null,null,null,null,null,null,null,null,null,null,null,null,null,null,null,{"$f":"IFERROR(VLOOKUP(T19051,Códigos!B:C,2,0),\" \")","v":" "}]
[null,null,null,null,null,null,null,null,null,null,null,null,null,null,null,null,null,null,null,null,{"$f":"IFERROR(VLOOKUP(T19058,Códigos!B:C,2,0),\" \")","v":" "}]
[null,null,null,null,null,null,null,null,null,null,null,null,null,null,null,null,null,null,null,null,{"$f":"IFERROR(VLOOKUP(T19070,Códigos!B:C,2,0),\" \")","v":" "}]
[null,null,null,null,null,null,null,null,null,null,null,null,null,null,null,null,null,null,null,null,{"$f":"IFERROR(VLOOKUP(T19077,Códigos!B:C,2,0),\" \")","v":" "}]
[null,null,null,null,null,null,null,null,null,null,null,null,null,null,null,null,null,null,null,null,{"$f":"IFERROR(VLOOKUP(T19082,Códigos!B:C,2,0),\" \")","v":" "}]
[null,null,null,null,null,null,null,null,null,null,null,null,null,null,null,null,null,null,null,null,{"$f":"IFERROR(VLOOKUP(T19091,Códigos!B:C,2,0),\" \")","v":" "}]
[null,null,null,null,null,null,null,null,null,null,null,null,null,null,null,null,null,null,null,null,{"$f":"IFERROR(VLOOKUP(T19098,Códigos!B:C,2,0),\" \")","v":" "}]
[null,null,null,null,null,null,null,null,null,null,null,null,null,null,null,null,null,null,null,null,{"$f":"IFERROR(VLOOKUP(T19110,Códigos!B:C,2,0),\" \")","v":" "}]
[null,null,null,null,null,null,null,null,null,null,null,null,null,null,null,null,null,null,null,null,{"$f":"IFERROR(VLOOKUP(T19121,Códigos!B:C,2,0),\" \")","v":" "}]
[null,null,null,null,null,null,null,null,null,null,null,null,null,null,null,null,null,null,null,null,{"$f":"IFERROR(VLOOKUP(T19128,Códigos!B:C,2,0),\" \")","v":" "}]
[null,null,null,null,null,null,null,null,null,null,null,null,null,null,null,null,null,null,null,null,{"$f":"IFERROR(VLOOKUP(T19140,Códigos!B:C,2,0),\" \")","v":" "}]
[null,null,null,null,null,null,null,null,null,null,null,null,null,null,null,null,null,null,null,null,{"$f":"IFERROR(VLOOKUP(T19147,Códigos!B:C,2,0),\" \")","v":" "}]
[null,null,null,null,null,null,null,null,null,null,null,null,null,null,null,null,null,null,null,null,{"$f":"IFERROR(VLOOKUP(T19152,Códigos!B:C,2,0),\" \")","v":" "}]
[null,null,null,null,null,null,null,null,null,null,null,null,null,null,null,null,null,null,null,null,{"$f":"IFERROR(VLOOKUP(T19165,Códigos!B:C,2,0),\" \")","v":" "}]
[null,null,null,null,null,null,null,null,null,null,null,null,null,null,null,null,null,null,null,null,{"$f":"IFERROR(VLOOKUP(T19168,Códigos!B:C,2,0),\" \")","v":" "}]
[null,null,null,null,null,null,null,null,null,null,null,null,null,null,null,null,null,null,null,null,{"$f":"IFERROR(VLOOKUP(T19180,Códigos!B:C,2,0),\" \")","v":" "}]
[null,null,null,null,null,null,null,null,null,null,null,null,null,null,null,null,null,null,null,null,{"$f":"IFERROR(VLOOKUP(T19191,Códigos!B:C,2,0),\" \")","v":" "}]
[null,null,null,null,null,null,null,null,null,null,null,null,null,null,null,null,null,null,null,null,{"$f":"IFERROR(VLOOKUP(T19198,Códigos!B:C,2,0),\" \")","v":" "}]
[null,null,null,null,null,null,null,null,null,null,null,null,null,null,null,null,null,null,null,null,{"$f":"IFERROR(VLOOKUP(T19210,Códigos!B:C,2,0),\" \")","v":" "}]
[null,null,null,null,null,null,null,null,null,null,null,null,null,null,null,null,null,null,null,null,{"$f":"IFERROR(VLOOKUP(T19217,Códigos!B:C,2,0),\" \")","v":" "}]
[null,null,null,null,null,null,null,null,null,null,null,null,null,null,null,null,null,null,null,null,{"$f":"IFERROR(VLOOKUP(T19222,Códigos!B:C,2,0),\" \")","v":" "}]
[null,null,null,null,null,null,null,null,null,null,null,null,null,null,null,null,null,null,null,null,{"$f":"IFERROR(VLOOKUP(T19235,Códigos!B:C,2,0),\" \")","v":" "}]
[null,null,null,null,null,null,null,null,null,null,null,null,null,null,null,null,null,null,null,null,{"$f":"IFERROR(VLOOKUP(T19238,Códigos!B:C,2,0),\" \")","v":" "}]
[null,null,null,null,null,null,null,null,null,null,null,null,null,null,null,null,null,null,null,null,{"$f":"IFERROR(VLOOKUP(T19250,Códigos!B:C,2,0),\" \")","v":" "}]
[null,null,null,null,null,null,null,null,null,null,null,null,null,null,null,null,null,null,null,null,{"$f":"IFERROR(VLOOKUP(T19261,Códigos!B:C,2,0),\" \")","v":" "}]
[null,null,null,null,null,null,null,null,null,null,null,null,null,null,null,null,null,null,null,null,{"$f":"IFERROR(VLOOKUP(T19268,Códigos!B:C,2,0),\" \")","v":" "}]
[null,null,null,null,null,null,null,null,null,null,null,null,null,null,null,null,null,null,null,null,{"$f":"IFERROR(VLOOKUP(T19275,Códigos!B:C,2,0),\" \")","v":" "}]
[null,null,null,null,null,null,null,null,null,null,null,null,null,null,null,null,null,null,null,null,{"$f":"IFERROR(VLOOKUP(T19287,Códigos!B:C,2,0),\" \")","v":" "}]
[null,null,null,null,null,null,null,null,null,null,null,null,null,null,null,null,null,null,null,null,{"$f":"IFERROR(VLOOKUP(T19292,Códigos!B:C,2,0),\" \")","v":" "}]
[null,null,null,null,null,null,null,null,null,null,null,null,null,null,null,null,null,null,null,null,{"$f":"IFERROR(VLOOKUP(T19305,Códigos!B:C,2,0),\" \")","v":" "}]
[null,null,null,null,null,null,null,null,null,null,null,null,null,null,null,null,null,null,null,null,{"$f":"IFERROR(VLOOKUP(T19308,Códigos!B:C,2,0),\" \")","v":" "}]
[null,null,null,null,null,null,null,null,null,null,null,null,null,null,null,null,null,null,null,null,{"$f":"IFERROR(VLOOKUP(T19320,Códigos!B:C,2,0),\" \")","v":" "}]
[null,null,null,null,null,null,null,null,null,null,null,null,null,null,null,null,null,null,null,null,{"$f":"IFERROR(VLOOKUP(T19331,Códigos!B:C,2,0),\" \")","v":" "}]
[null,null,null,null,null,null,null,null,null,null,null,null,null,null,null,null,null,null,null,null,{"$f":"IFERROR(VLOOKUP(T19338,Códigos!B:C,2,0),\" \")","v":" "}]
[null,null,null,null,null,null,null,null,null,null,null,null,null,null,null,null,null,null,null,null,{"$f":"IFERROR(VLOOKUP(T19345,Códigos!B:C,2,0),\" \")","v":" "}]
[null,null,null,null,null,null,null,null,null,null,null,null,null,null,null,null,null,null,null,null,{"$f":"IFERROR(VLOOKUP(T19357,Códigos!B:C,2,0),\" \")","v":" "}]
[null,null,null,null,null,null,null,null,null,null,null,null,null,null,null,null,null,null,null,null,{"$f":"IFERROR(VLOOKUP(T19362,Códigos!B:C,2,0),\" \")","v":" "}]
[null,null,null,null,null,null,null,null,null,null,null,null,null,null,null,null,null,null,null,null,{"$f":"IFERROR(VLOOKUP(T19375,Códigos!B:C,2,0),\" \")","v":" "}]
[null,null,null,null,null,null,null,null,null,null,null,null,null,null,null,null,null,null,null,null,{"$f":"IFERROR(VLOOKUP(T19378,Códigos!B:C,2,0),\" \")","v":" "}]
[null,null,null,null,null,null,null,null,null,null,null,null,null,null,null,null,null,null,null,null,{"$f":"IFERROR(VLOOKUP(T19390,Códigos!B:C,2,0),\" \")","v":" "}]
[null,null,null,null,null,null,null,null,null,null,null,null,null,null,null,null,null,null,null,null,{"$f":"IFERROR(VLOOKUP(T19401,Códigos!B:C,2,0),\" \")","v":" "}]
[null,null,null,null,null,null,null,null,null,null,null,null,null,null,null,null,null,null,null,null,{"$f":"IFERROR(VLOOKUP(T19408,Códigos!B:C,2,0),\" \")","v":" "}]
[null,null,null,null,null,null,null,null,null,null,null,null,null,null,null,null,null,null,null,null,{"$f":"IFERROR(VLOOKUP(T19415,Códigos!B:C,2,0),\" \")","v":" "}]
[null,null,null,null,null,null,null,null,null,null,null,null,null,null,null,null,null,null,null,null,{"$f":"IFERROR(VLOOKUP(T19427,Códigos!B:C,2,0),\" \")","v":" "}]
[null,null,null,null,null,null,null,null,null,null,null,null,null,null,null,null,null,null,null,null,{"$f":"IFERROR(VLOOKUP(T19432,Códigos!B:C,2,0),\" \")","v":" "}]
[null,null,null,null,null,null,null,null,null,null,null,null,null,null,null,null,null,null,null,null,{"$f":"IFERROR(VLOOKUP(T19445,Códigos!B:C,2,0),\" \")","v":" "}]
[null,null,null,null,null,null,null,null,null,null,null,null,null,null,null,null,null,null,null,null,{"$f":"IFERROR(VLOOKUP(T19448,Códigos!B:C,2,0),\" \")","v":" "}]
[null,null,null,null,null,null,null,null,null,null,null,null,null,null,null,null,null,null,null,null,{"$f":"IFERROR(VLOOKUP(T19464,Códigos!B:C,2,0),\" \")","v":" "}]
[null,null,null,null,null,null,null,null,null,null,null,null,null,null,null,null,null,null,null,null,{"$f":"IFERROR(VLOOKUP(T19471,Códigos!B:C,2,0),\" \")","v":" "}]
[null,null,null,null,null,null,null,null,null,null,null,null,null,null,null,null,null,null,null,null,{"$f":"IFERROR(VLOOKUP(T19478,Códigos!B:C,2,0),\" \")","v":" "}]
[null,null,null,null,null,null,null,null,null,null,null,null,null,null,null,null,null,null,null,null,{"$f":"IFERROR(VLOOKUP(T19485,Códigos!B:C,2,0),\" \")","v":" "}]
[null,null,null,null,null,null,null,null,null,null,null,null,null,null,null,null,null,null,null,null,{"$f":"IFERROR(VLOOKUP(T19497,Códigos!B:C,2,0),\" \")","v":" "}]
[null,null,null,null,null,null,null,null,null,null,null,null,null,null,null,null,null,null,null,null,{"$f":"IFERROR(VLOOKUP(T19501,Códigos!B:C,2,0),\" \")","v":" "}]
[null,null,null,null,null,null,null,null,null,null,null,null,null,null,null,null,null,null,null,null,{"$f":"IFERROR(VLOOKUP(T19502,Códigos!B:C,2,0),\" \")","v":" "}]
[null,null,null,null,null,null,null,null,null,null,null,null,null,null,null,null,null,null,null,null,{"$f":"IFERROR(VLOOKUP(T19503,Códigos!B:C,2,0),\" \")","v":" "}]
[null,null,null,null,null,null,null,null,null,null,null,null,null,null,null,null,null,null,null,null,{"$f":"IFERROR(VLOOKUP(T19504,Códigos!B:C,2,0),\" \")","v":" "}]
[null,null,null,null,null,null,null,null,null,null,null,null,null,null,null,null,null,null,null,null,{"$f":"IFERROR(VLOOKUP(T19505,Códigos!B:C,2,0),\" \")","v":" "}]
[null,null,null,null,null,null,null,null,null,null,null,null,null,null,null,null,null,null,null,null,{"$f":"IFERROR(VLOOKUP(T19506,Códigos!B:C,2,0),\" \")","v":" "}]
[null,null,null,null,null,null,null,null,null,null,null,null,null,null,null,null,null,null,null,null,{"$f":"IFERROR(VLOOKUP(T19507,Códigos!B:C,2,0),\" \")","v":" "}]
[null,null,null,null,null,null,null,null,null,null,null,null,null,null,null,null,null,null,null,null,{"$f":"IFERROR(VLOOKUP(T19508,Códigos!B:C,2,0),\" \")","v":" "}]
[null,null,null,null,null,null,null,null,null,null,null,null,null,null,null,null,null,null,null,null,{"$f":"IFERROR(VLOOKUP(T19509,Códigos!B:C,2,0),\" \")","v":" "}]
[null,null,null,null,null,null,null,null,null,null,null,null,null,null,null,null,null,null,null,null,{"$f":"IFERROR(VLOOKUP(T19510,Códigos!B:C,2,0),\" \")","v":" "}]
[null,null,null,null,null,null,null,null,null,null,null,null,null,null,null,null,null,null,null,null,{"$f":"IFERROR(VLOOKUP(T19511,Códigos!B:C,2,0),\" \")","v":" "}]
[null,null,null,null,null,null,null,null,null,null,null,null,null,null,null,null,null,null,null,null,{"$f":"IFERROR(VLOOKUP(T19512,Códigos!B:C,2,0),\" \")","v":" "}]
[null,null,null,null,null,null,null,null,null,null,null,null,null,null,null,null,null,null,null,null,{"$f":"IFERROR(VLOOKUP(T19513,Códigos!B:C,2,0),\" \")","v":" "}]
[null,null,null,null,null,null,null,null,null,null,null,null,null,null,null,null,null,null,null,null,{"$f":"IFERROR(VLOOKUP(T19514,Códigos!B:C,2,0),\" \")","v":" "}]
[null,null,null,null,null,null,null,null,null,null,null,null,null,null,null,null,null,null,null,null,{"$f":"IFERROR(VLOOKUP(T19515,Códigos!B:C,2,0),\" \")","v":" "}]
[null,null,null,null,null,null,null,null,null,null,null,null,null,null,null,null,null,null,null,null,{"$f":"IFERROR(VLOOKUP(T19516,Códigos!B:C,2,0),\" \")","v":" "}]
[null,null,null,null,null,null,null,null,null,null,null,null,null,null,null,null,null,null,null,null,{"$f":"IFERROR(VLOOKUP(T19517,Códigos!B:C,2,0),\" \")","v":" "}]
[null,null,null,null,null,null,null,null,null,null,null,null,null,null,null,null,null,null,null,null,{"$f":"IFERROR(VLOOKUP(T19518,Códigos!B:C,2,0),\" \")","v":" "}]
[null,null,null,null,null,null,null,null,null,null,null,null,null,null,null,null,null,null,null,null,{"$f":"IFERROR(VLOOKUP(T19519,Códigos!B:C,2,0),\" \")","v":" "}]
[null,null,null,null,null,null,null,null,null,null,null,null,null,null,null,null,null,null,null,null,{"$f":"IFERROR(VLOOKUP(T19520,Códigos!B:C,2,0),\" \")","v":" "}]
[null,null,null,null,null,null,null,null,null,null,null,null,null,null,null,null,null,null,null,null,{"$f":"IFERROR(VLOOKUP(T19521,Códigos!B:C,2,0),\" \")","v":" "}]
[null,null,null,null,null,null,null,null,null,null,null,null,null,null,null,null,null,null,null,null,{"$f":"IFERROR(VLOOKUP(T19522,Códigos!B:C,2,0),\" \")","v":" "}]
[null,null,null,null,null,null,null,null,null,null,null,null,null,null,null,null,null,null,null,null,{"$f":"IFERROR(VLOOKUP(T19523,Códigos!B:C,2,0),\" \")","v":" "}]
[null,null,null,null,null,null,null,null,null,null,null,null,null,null,null,null,null,null,null,null,{"$f":"IFERROR(VLOOKUP(T19524,Códigos!B:C,2,0),\" \")","v":" "}]
[null,null,null,null,null,null,null,null,null,null,null,null,null,null,null,null,null,null,null,null,{"$f":"IFERROR(VLOOKUP(T19525,Códigos!B:C,2,0),\" \")","v":" "}]
[null,null,null,null,null,null,null,null,null,null,null,null,null,null,null,null,null,null,null,null,{"$f":"IFERROR(VLOOKUP(T19526,Códigos!B:C,2,0),\" \")","v":" "}]
[null,null,null,null,null,null,null,null,null,null,null,null,null,null,null,null,null,null,null,null,{"$f":"IFERROR(VLOOKUP(T19527,Códigos!B:C,2,0),\" \")","v":" "}]
[null,null,null,null,null,null,null,null,null,null,null,null,null,null,null,null,null,null,null,null,{"$f":"IFERROR(VLOOKUP(T19528,Códigos!B:C,2,0),\" \")","v":" "}]
[null,null,null,null,null,null,null,null,null,null,null,null,null,null,null,null,null,null,null,null,{"$f":"IFERROR(VLOOKUP(T19529,Códigos!B:C,2,0),\" \")","v":" "}]
[null,null,null,null,null,null,null,null,null,null,null,null,null,null,null,null,null,null,null,null,{"$f":"IFERROR(VLOOKUP(T19530,Códigos!B:C,2,0),\" \")","v":" "}]
[null,null,null,null,null,null,null,null,null,null,null,null,null,null,null,null,null,null,null,null,{"$f":"IFERROR(VLOOKUP(T19531,Códigos!B:C,2,0),\" \")","v":" "}]
[null,null,null,null,null,null,null,null,null,null,null,null,null,null,null,null,null,null,null,null,{"$f":"IFERROR(VLOOKUP(T19532,Códigos!B:C,2,0),\" \")","v":" "}]
[null,null,null,null,null,null,null,null,null,null,null,null,null,null,null,null,null,null,null,null,{"$f":"IFERROR(VLOOKUP(T19533,Códigos!B:C,2,0),\" \")","v":" "}]
[null,null,null,null,null,null,null,null,null,null,null,null,null,null,null,null,null,null,null,null,{"$f":"IFERROR(VLOOKUP(T19534,Códigos!B:C,2,0),\" \")","v":" "}]
[null,null,null,null,null,null,null,null,null,null,null,null,null,null,null,null,null,null,null,null,{"$f":"IFERROR(VLOOKUP(T19535,Códigos!B:C,2,0),\" \")","v":" "}]
[null,null,null,null,null,null,null,null,null,null,null,null,null,null,null,null,null,null,null,null,{"$f":"IFERROR(VLOOKUP(T19536,Códigos!B:C,2,0),\" \")","v":" "}]
[null,null,null,null,null,null,null,null,null,null,null,null,null,null,null,null,null,null,null,null,{"$f":"IFERROR(VLOOKUP(T19537,Códigos!B:C,2,0),\" \")","v":" "}]
[null,null,null,null,null,null,null,null,null,null,null,null,null,null,null,null,null,null,null,null,{"$f":"IFERROR(VLOOKUP(T19538,Códigos!B:C,2,0),\" \")","v":" "}]
[null,null,null,null,null,null,null,null,null,null,null,null,null,null,null,null,null,null,null,null,{"$f":"IFERROR(VLOOKUP(T19539,Códigos!B:C,2,0),\" \")","v":" "}]
[null,null,null,null,null,null,null,null,null,null,null,null,null,null,null,null,null,null,null,null,{"$f":"IFERROR(VLOOKUP(T19540,Códigos!B:C,2,0),\" \")","v":" "}]
[null,null,null,null,null,null,null,null,null,null,null,null,null,null,null,null,null,null,null,null,{"$f":"IFERROR(VLOOKUP(T19541,Códigos!B:C,2,0),\" \")","v":" "}]
[null,null,null,null,null,null,null,null,null,null,null,null,null,null,null,null,null,null,null,null,{"$f":"IFERROR(VLOOKUP(T19542,Códigos!B:C,2,0),\" \")","v":" "}]
[null,null,null,null,null,null,null,null,null,null,null,null,null,null,null,null,null,null,null,null,{"$f":"IFERROR(VLOOKUP(T19543,Códigos!B:C,2,0),\" \")","v":" "}]
[null,null,null,null,null,null,null,null,null,null,null,null,null,null,null,null,null,null,null,null,{"$f":"IFERROR(VLOOKUP(T19544,Códigos!B:C,2,0),\" \")","v":" "}]
[null,null,null,null,null,null,null,null,null,null,null,null,null,null,null,null,null,null,null,null,{"$f":"IFERROR(VLOOKUP(T19545,Códigos!B:C,2,0),\" \")","v":" "}]
[null,null,null,null,null,null,null,null,null,null,null,null,null,null,null,null,null,null,null,null,{"$f":"IFERROR(VLOOKUP(T19546,Códigos!B:C,2,0),\" \")","v":" "}]
[null,null,null,null,null,null,null,null,null,null,null,null,null,null,null,null,null,null,null,null,{"$f":"IFERROR(VLOOKUP(T19547,Códigos!B:C,2,0),\" \")","v":" "}]
[null,null,null,null,null,null,null,null,null,null,null,null,null,null,null,null,null,null,null,null,{"$f":"IFERROR(VLOOKUP(T19548,Códigos!B:C,2,0),\" \")","v":" "}]
[null,null,null,null,null,null,null,null,null,null,null,null,null,null,null,null,null,null,null,null,{"$f":"IFERROR(VLOOKUP(T19549,Códigos!B:C,2,0),\" \")","v":" "}]
[null,null,null,null,null,null,null,null,null,null,null,null,null,null,null,null,null,null,null,null,{"$f":"IFERROR(VLOOKUP(T19550,Códigos!B:C,2,0),\" \")","v":" "}]
[null,null,null,null,null,null,null,null,null,null,null,null,null,null,null,null,null,null,null,null,{"$f":"IFERROR(VLOOKUP(T19551,Códigos!B:C,2,0),\" \")","v":" "}]
[null,null,null,null,null,null,null,null,null,null,null,null,null,null,null,null,null,null,null,null,{"$f":"IFERROR(VLOOKUP(T19552,Códigos!B:C,2,0),\" \")","v":" "}]
[null,null,null,null,null,null,null,null,null,null,null,null,null,null,null,null,null,null,null,null,{"$f":"IFERROR(VLOOKUP(T19553,Códigos!B:C,2,0),\" \")","v":" "}]
[null,null,null,null,null,null,null,null,null,null,null,null,null,null,null,null,null,null,null,null,{"$f":"IFERROR(VLOOKUP(T19554,Códigos!B:C,2,0),\" \")","v":" "}]
[null,null,null,null,null,null,null,null,null,null,null,null,null,null,null,null,null,null,null,null,{"$f":"IFERROR(VLOOKUP(T19555,Códigos!B:C,2,0),\" \")","v":" "}]
[null,null,null,null,null,null,null,null,null,null,null,null,null,null,null,null,null,null,null,null,{"$f":"IFERROR(VLOOKUP(T19556,Códigos!B:C,2,0),\" \")","v":" "}]
[null,null,null,null,null,null,null,null,null,null,null,null,null,null,null,null,null,null,null,null,{"$f":"IFERROR(VLOOKUP(T19557,Códigos!B:C,2,0),\" \")","v":" "}]
[null,null,null,null,null,null,null,null,null,null,null,null,null,null,null,null,null,null,null,null,{"$f":"IFERROR(VLOOKUP(T19558,Códigos!B:C,2,0),\" \")","v":" "}]
[null,null,null,null,null,null,null,null,null,null,null,null,null,null,null,null,null,null,null,null,{"$f":"IFERROR(VLOOKUP(T19559,Códigos!B:C,2,0),\" \")","v":" "}]
[null,null,null,null,null,null,null,null,null,null,null,null,null,null,null,null,null,null,null,null,{"$f":"IFERROR(VLOOKUP(T19560,Códigos!B:C,2,0),\" \")","v":" "}]
[null,null,null,null,null,null,null,null,null,null,null,null,null,null,null,null,null,null,null,null,{"$f":"IFERROR(VLOOKUP(T19561,Códigos!B:C,2,0),\" \")","v":" "}]
[null,null,null,null,null,null,null,null,null,null,null,null,null,null,null,null,null,null,null,null,{"$f":"IFERROR(VLOOKUP(T19562,Códigos!B:C,2,0),\" \")","v":" "}]
[null,null,null,null,null,null,null,null,null,null,null,null,null,null,null,null,null,null,null,null,{"$f":"IFERROR(VLOOKUP(T19563,Códigos!B:C,2,0),\" \")","v":" "}]
[null,null,null,null,null,null,null,null,null,null,null,null,null,null,null,null,null,null,null,null,{"$f":"IFERROR(VLOOKUP(T19564,Códigos!B:C,2,0),\" \")","v":" "}]
[null,null,null,null,null,null,null,null,null,null,null,null,null,null,null,null,null,null,null,null,{"$f":"IFERROR(VLOOKUP(T19565,Códigos!B:C,2,0),\" \")","v":" "}]
[null,null,null,null,null,null,null,null,null,null,null,null,null,null,null,null,null,null,null,null,{"$f":"IFERROR(VLOOKUP(T19566,Códigos!B:C,2,0),\" \")","v":" "}]
[null,null,null,null,null,null,null,null,null,null,null,null,null,null,null,null,null,null,null,null,{"$f":"IFERROR(VLOOKUP(T19567,Códigos!B:C,2,0),\" \")","v":" "}]
[null,null,null,null,null,null,null,null,null,null,null,null,null,null,null,null,null,null,null,null,{"$f":"IFERROR(VLOOKUP(T19568,Códigos!B:C,2,0),\" \")","v":" "}]
[null,null,null,null,null,null,null,null,null,null,null,null,null,null,null,null,null,null,null,null,{"$f":"IFERROR(VLOOKUP(T19569,Códigos!B:C,2,0),\" \")","v":" "}]
[null,null,null,null,null,null,null,null,null,null,null,null,null,null,null,null,null,null,null,null,{"$f":"IFERROR(VLOOKUP(T19570,Códigos!B:C,2,0),\" \")","v":" "}]
[null,null,null,null,null,null,null,null,null,null,null,null,null,null,null,null,null,null,null,null,{"$f":"IFERROR(VLOOKUP(T19571,Códigos!B:C,2,0),\" \")","v":" "}]
[null,null,null,null,null,null,null,null,null,null,null,null,null,null,null,null,null,null,null,null,{"$f":"IFERROR(VLOOKUP(T19572,Códigos!B:C,2,0),\" \")","v":" "}]
[null,null,null,null,null,null,null,null,null,null,null,null,null,null,null,null,null,null,null,null,{"$f":"IFERROR(VLOOKUP(T19573,Códigos!B:C,2,0),\" \")","v":" "}]
[null,null,null,null,null,null,null,null,null,null,null,null,null,null,null,null,null,null,null,null,{"$f":"IFERROR(VLOOKUP(T19574,Códigos!B:C,2,0),\" \")","v":" "}]
[null,null,null,null,null,null,null,null,null,null,null,null,null,null,null,null,null,null,null,null,{"$f":"IFERROR(VLOOKUP(T19575,Códigos!B:C,2,0),\" \")","v":" "}]
[null,null,null,null,null,null,null,null,null,null,null,null,null,null,null,null,null,null,null,null,{"$f":"IFERROR(VLOOKUP(T19576,Códigos!B:C,2,0),\" \")","v":" "}]
[null,null,null,null,null,null,null,null,null,null,null,null,null,null,null,null,null,null,null,null,{"$f":"IFERROR(VLOOKUP(T19577,Códigos!B:C,2,0),\" \")","v":" "}]
[null,null,null,null,null,null,null,null,null,null,null,null,null,null,null,null,null,null,null,null,{"$f":"IFERROR(VLOOKUP(T19578,Códigos!B:C,2,0),\" \")","v":" "}]
[null,null,null,null,null,null,null,null,null,null,null,null,null,null,null,null,null,null,null,null,{"$f":"IFERROR(VLOOKUP(T19579,Códigos!B:C,2,0),\" \")","v":" "}]
[null,null,null,null,null,null,null,null,null,null,null,null,null,null,null,null,null,null,null,null,{"$f":"IFERROR(VLOOKUP(T19580,Códigos!B:C,2,0),\" \")","v":" "}]
[null,null,null,null,null,null,null,null,null,null,null,null,null,null,null,null,null,null,null,null,{"$f":"IFERROR(VLOOKUP(T19581,Códigos!B:C,2,0),\" \")","v":" "}]
[null,null,null,null,null,null,null,null,null,null,null,null,null,null,null,null,null,null,null,null,{"$f":"IFERROR(VLOOKUP(T19582,Códigos!B:C,2,0),\" \")","v":" "}]
[null,null,null,null,null,null,null,null,null,null,null,null,null,null,null,null,null,null,null,null,{"$f":"IFERROR(VLOOKUP(T19583,Códigos!B:C,2,0),\" \")","v":" "}]
[null,null,null,null,null,null,null,null,null,null,null,null,null,null,null,null,null,null,null,null,{"$f":"IFERROR(VLOOKUP(T19584,Códigos!B:C,2,0),\" \")","v":" "}]
[null,null,null,null,null,null,null,null,null,null,null,null,null,null,null,null,null,null,null,null,{"$f":"IFERROR(VLOOKUP(T19585,Códigos!B:C,2,0),\" \")","v":" "}]
[null,null,null,null,null,null,null,null,null,null,null,null,null,null,null,null,null,null,null,null,{"$f":"IFERROR(VLOOKUP(T19586,Códigos!B:C,2,0),\" \")","v":" "}]
[null,null,null,null,null,null,null,null,null,null,null,null,null,null,null,null,null,null,null,null,{"$f":"IFERROR(VLOOKUP(T19587,Códigos!B:C,2,0),\" \")","v":" "}]
[null,null,null,null,null,null,null,null,null,null,null,null,null,null,null,null,null,null,null,null,{"$f":"IFERROR(VLOOKUP(T19588,Códigos!B:C,2,0),\" \")","v":" "}]
[null,null,null,null,null,null,null,null,null,null,null,null,null,null,null,null,null,null,null,null,{"$f":"IFERROR(VLOOKUP(T19589,Códigos!B:C,2,0),\" \")","v":" "}]
[null,null,null,null,null,null,null,null,null,null,null,null,null,null,null,null,null,null,null,null,{"$f":"IFERROR(VLOOKUP(T19590,Códigos!B:C,2,0),\" \")","v":" "}]
[null,null,null,null,null,null,null,null,null,null,null,null,null,null,null,null,null,null,null,null,{"$f":"IFERROR(VLOOKUP(T19591,Códigos!B:C,2,0),\" \")","v":" "}]
[null,null,null,null,null,null,null,null,null,null,null,null,null,null,null,null,null,null,null,null,{"$f":"IFERROR(VLOOKUP(T19592,Códigos!B:C,2,0),\" \")","v":" "}]
[null,null,null,null,null,null,null,null,null,null,null,null,null,null,null,null,null,null,null,null,{"$f":"IFERROR(VLOOKUP(T19593,Códigos!B:C,2,0),\" \")","v":" "}]
[null,null,null,null,null,null,null,null,null,null,null,null,null,null,null,null,null,null,null,null,{"$f":"IFERROR(VLOOKUP(T19594,Códigos!B:C,2,0),\" \")","v":" "}]
[null,null,null,null,null,null,null,null,null,null,null,null,null,null,null,null,null,null,null,null,{"$f":"IFERROR(VLOOKUP(T19595,Códigos!B:C,2,0),\" \")","v":" "}]
[null,null,null,null,null,null,null,null,null,null,null,null,null,null,null,null,null,null,null,null,{"$f":"IFERROR(VLOOKUP(T19596,Códigos!B:C,2,0),\" \")","v":" "}]
[null,null,null,null,null,null,null,null,null,null,null,null,null,null,null,null,null,null,null,null,{"$f":"IFERROR(VLOOKUP(T19597,Códigos!B:C,2,0),\" \")","v":" "}]
[null,null,null,null,null,null,null,null,null,null,null,null,null,null,null,null,null,null,null,null,{"$f":"IFERROR(VLOOKUP(T19598,Códigos!B:C,2,0),\" \")","v":" "}]
[null,null,null,null,null,null,null,null,null,null,null,null,null,null,null,null,null,null,null,null,{"$f":"IFERROR(VLOOKUP(T19599,Códigos!B:C,2,0),\" \")","v":" "}]
[null,null,null,null,null,null,null,null,null,null,null,null,null,null,null,null,null,null,null,null,{"$f":"IFERROR(VLOOKUP(T19600,Códigos!B:C,2,0),\" \")","v":" "}]
[null,null,null,null,null,null,null,null,null,null,null,null,null,null,null,null,null,null,null,null,{"$f":"IFERROR(VLOOKUP(T19601,Códigos!B:C,2,0),\" \")","v":" "}]
[null,null,null,null,null,null,null,null,null,null,null,null,null,null,null,null,null,null,null,null,{"$f":"IFERROR(VLOOKUP(T19602,Códigos!B:C,2,0),\" \")","v":" "}]
[null,null,null,null,null,null,null,null,null,null,null,null,null,null,null,null,null,null,null,null,{"$f":"IFERROR(VLOOKUP(T19603,Códigos!B:C,2,0),\" \")","v":" "}]
[null,null,null,null,null,null,null,null,null,null,null,null,null,null,null,null,null,null,null,null,{"$f":"IFERROR(VLOOKUP(T19604,Códigos!B:C,2,0),\" \")","v":" "}]
[null,null,null,null,null,null,null,null,null,null,null,null,null,null,null,null,null,null,null,null,{"$f":"IFERROR(VLOOKUP(T19605,Códigos!B:C,2,0),\" \")","v":" "}]
[null,null,null,null,null,null,null,null,null,null,null,null,null,null,null,null,null,null,null,null,{"$f":"IFERROR(VLOOKUP(T19606,Códigos!B:C,2,0),\" \")","v":" "}]
[null,null,null,null,null,null,null,null,null,null,null,null,null,null,null,null,null,null,null,null,{"$f":"IFERROR(VLOOKUP(T19607,Códigos!B:C,2,0),\" \")","v":" "}]
[null,null,null,null,null,null,null,null,null,null,null,null,null,null,null,null,null,null,null,null,{"$f":"IFERROR(VLOOKUP(T19608,Códigos!B:C,2,0),\" \")","v":" "}]
[null,null,null,null,null,null,null,null,null,null,null,null,null,null,null,null,null,null,null,null,{"$f":"IFERROR(VLOOKUP(T19609,Códigos!B:C,2,0),\" \")","v":" "}]
[null,null,null,null,null,null,null,null,null,null,null,null,null,null,null,null,null,null,null,null,{"$f":"IFERROR(VLOOKUP(T19610,Códigos!B:C,2,0),\" \")","v":" "}]
[null,null,null,null,null,null,null,null,null,null,null,null,null,null,null,null,null,null,null,null,{"$f":"IFERROR(VLOOKUP(T19611,Códigos!B:C,2,0),\" \")","v":" "}]
[null,null,null,null,null,null,null,null,null,null,null,null,null,null,null,null,null,null,null,null,{"$f":"IFERROR(VLOOKUP(T19612,Códigos!B:C,2,0),\" \")","v":" "}]
[null,null,null,null,null,null,null,null,null,null,null,null,null,null,null,null,null,null,null,null,{"$f":"IFERROR(VLOOKUP(T19613,Códigos!B:C,2,0),\" \")","v":" "}]
[null,null,null,null,null,null,null,null,null,null,null,null,null,null,null,null,null,null,null,null,{"$f":"IFERROR(VLOOKUP(T19614,Códigos!B:C,2,0),\" \")","v":" "}]
[null,null,null,null,null,null,null,null,null,null,null,null,null,null,null,null,null,null,null,null,{"$f":"IFERROR(VLOOKUP(T19615,Códigos!B:C,2,0),\" \")","v":" "}]
[null,null,null,null,null,null,null,null,null,null,null,null,null,null,null,null,null,null,null,null,{"$f":"IFERROR(VLOOKUP(T19616,Códigos!B:C,2,0),\" \")","v":" "}]
[null,null,null,null,null,null,null,null,null,null,null,null,null,null,null,null,null,null,null,null,{"$f":"IFERROR(VLOOKUP(T19617,Códigos!B:C,2,0),\" \")","v":" "}]
[null,null,null,null,null,null,null,null,null,null,null,null,null,null,null,null,null,null,null,null,{"$f":"IFERROR(VLOOKUP(T19618,Códigos!B:C,2,0),\" \")","v":" "}]
[null,null,null,null,null,null,null,null,null,null,null,null,null,null,null,null,null,null,null,null,{"$f":"IFERROR(VLOOKUP(T19619,Códigos!B:C,2,0),\" \")","v":" "}]
[null,null,null,null,null,null,null,null,null,null,null,null,null,null,null,null,null,null,null,null,{"$f":"IFERROR(VLOOKUP(T19620,Códigos!B:C,2,0),\" \")","v":" "}]
[null,null,null,null,null,null,null,null,null,null,null,null,null,null,null,null,null,null,null,null,{"$f":"IFERROR(VLOOKUP(T19621,Códigos!B:C,2,0),\" \")","v":" "}]
[null,null,null,null,null,null,null,null,null,null,null,null,null,null,null,null,null,null,null,null,{"$f":"IFERROR(VLOOKUP(T19622,Códigos!B:C,2,0),\" \")","v":" "}]
[null,null,null,null,null,null,null,null,null,null,null,null,null,null,null,null,null,null,null,null,{"$f":"IFERROR(VLOOKUP(T19623,Códigos!B:C,2,0),\" \")","v":" "}]
[null,null,null,null,null,null,null,null,null,null,null,null,null,null,null,null,null,null,null,null,{"$f":"IFERROR(VLOOKUP(T19624,Códigos!B:C,2,0),\" \")","v":" "}]
[null,null,null,null,null,null,null,null,null,null,null,null,null,null,null,null,null,null,null,null,{"$f":"IFERROR(VLOOKUP(T19625,Códigos!B:C,2,0),\" \")","v":" "}]
[null,null,null,null,null,null,null,null,null,null,null,null,null,null,null,null,null,null,null,null,{"$f":"IFERROR(VLOOKUP(T19626,Códigos!B:C,2,0),\" \")","v":" "}]
[null,null,null,null,null,null,null,null,null,null,null,null,null,null,null,null,null,null,null,null,{"$f":"IFERROR(VLOOKUP(T19627,Códigos!B:C,2,0),\" \")","v":" "}]
[null,null,null,null,null,null,null,null,null,null,null,null,null,null,null,null,null,null,null,null,{"$f":"IFERROR(VLOOKUP(T19628,Códigos!B:C,2,0),\" \")","v":" "}]
[null,null,null,null,null,null,null,null,null,null,null,null,null,null,null,null,null,null,null,null,{"$f":"IFERROR(VLOOKUP(T19629,Códigos!B:C,2,0),\" \")","v":" "}]
[null,null,null,null,null,null,null,null,null,null,null,null,null,null,null,null,null,null,null,null,{"$f":"IFERROR(VLOOKUP(T19630,Códigos!B:C,2,0),\" \")","v":" "}]
[null,null,null,null,null,null,null,null,null,null,null,null,null,null,null,null,null,null,null,null,{"$f":"IFERROR(VLOOKUP(T19631,Códigos!B:C,2,0),\" \")","v":" "}]
[null,null,null,null,null,null,null,null,null,null,null,null,null,null,null,null,null,null,null,null,{"$f":"IFERROR(VLOOKUP(T19632,Códigos!B:C,2,0),\" \")","v":" "}]
[null,null,null,null,null,null,null,null,null,null,null,null,null,null,null,null,null,null,null,null,{"$f":"IFERROR(VLOOKUP(T19633,Códigos!B:C,2,0),\" \")","v":" "}]
[null,null,null,null,null,null,null,null,null,null,null,null,null,null,null,null,null,null,null,null,{"$f":"IFERROR(VLOOKUP(T19634,Códigos!B:C,2,0),\" \")","v":" "}]
[null,null,null,null,null,null,null,null,null,null,null,null,null,null,null,null,null,null,null,null,{"$f":"IFERROR(VLOOKUP(T19635,Códigos!B:C,2,0),\" \")","v":" "}]
[null,null,null,null,null,null,null,null,null,null,null,null,null,null,null,null,null,null,null,null,{"$f":"IFERROR(VLOOKUP(T19636,Códigos!B:C,2,0),\" \")","v":" "}]
[null,null,null,null,null,null,null,null,null,null,null,null,null,null,null,null,null,null,null,null,{"$f":"IFERROR(VLOOKUP(T19637,Códigos!B:C,2,0),\" \")","v":" "}]
[null,null,null,null,null,null,null,null,null,null,null,null,null,null,null,null,null,null,null,null,{"$f":"IFERROR(VLOOKUP(T19638,Códigos!B:C,2,0),\" \")","v":" "}]
[null,null,null,null,null,null,null,null,null,null,null,null,null,null,null,null,null,null,null,null,{"$f":"IFERROR(VLOOKUP(T19639,Códigos!B:C,2,0),\" \")","v":" "}]
[null,null,null,null,null,null,null,null,null,null,null,null,null,null,null,null,null,null,null,null,{"$f":"IFERROR(VLOOKUP(T19640,Códigos!B:C,2,0),\" \")","v":" "}]
[null,null,null,null,null,null,null,null,null,null,null,null,null,null,null,null,null,null,null,null,{"$f":"IFERROR(VLOOKUP(T19641,Códigos!B:C,2,0),\" \")","v":" "}]
[null,null,null,null,null,null,null,null,null,null,null,null,null,null,null,null,null,null,null,null,{"$f":"IFERROR(VLOOKUP(T19642,Códigos!B:C,2,0),\" \")","v":" "}]
[null,null,null,null,null,null,null,null,null,null,null,null,null,null,null,null,null,null,null,null,{"$f":"IFERROR(VLOOKUP(T19643,Códigos!B:C,2,0),\" \")","v":" "}]
[null,null,null,null,null,null,null,null,null,null,null,null,null,null,null,null,null,null,null,null,{"$f":"IFERROR(VLOOKUP(T19644,Códigos!B:C,2,0),\" \")","v":" "}]
[null,null,null,null,null,null,null,null,null,null,null,null,null,null,null,null,null,null,null,null,{"$f":"IFERROR(VLOOKUP(T19645,Códigos!B:C,2,0),\" \")","v":" "}]
[null,null,null,null,null,null,null,null,null,null,null,null,null,null,null,null,null,null,null,null,{"$f":"IFERROR(VLOOKUP(T19646,Códigos!B:C,2,0),\" \")","v":" "}]
[null,null,null,null,null,null,null,null,null,null,null,null,null,null,null,null,null,null,null,null,{"$f":"IFERROR(VLOOKUP(T19647,Códigos!B:C,2,0),\" \")","v":" "}]
[null,null,null,null,null,null,null,null,null,null,null,null,null,null,null,null,null,null,null,null,{"$f":"IFERROR(VLOOKUP(T19648,Códigos!B:C,2,0),\" \")","v":" "}]
[null,null,null,null,null,null,null,null,null,null,null,null,null,null,null,null,null,null,null,null,{"$f":"IFERROR(VLOOKUP(T19649,Códigos!B:C,2,0),\" \")","v":" "}]
[null,null,null,null,null,null,null,null,null,null,null,null,null,null,null,null,null,null,null,null,{"$f":"IFERROR(VLOOKUP(T19650,Códigos!B:C,2,0),\" \")","v":" "}]
[null,null,null,null,null,null,null,null,null,null,null,null,null,null,null,null,null,null,null,null,{"$f":"IFERROR(VLOOKUP(T19651,Códigos!B:C,2,0),\" \")","v":" "}]
[null,null,null,null,null,null,null,null,null,null,null,null,null,null,null,null,null,null,null,null,{"$f":"IFERROR(VLOOKUP(T19652,Códigos!B:C,2,0),\" \")","v":" "}]
[null,null,null,null,null,null,null,null,null,null,null,null,null,null,null,null,null,null,null,null,{"$f":"IFERROR(VLOOKUP(T19653,Códigos!B:C,2,0),\" \")","v":" "}]
[null,null,null,null,null,null,null,null,null,null,null,null,null,null,null,null,null,null,null,null,{"$f":"IFERROR(VLOOKUP(T19654,Códigos!B:C,2,0),\" \")","v":" "}]
[null,null,null,null,null,null,null,null,null,null,null,null,null,null,null,null,null,null,null,null,{"$f":"IFERROR(VLOOKUP(T19655,Códigos!B:C,2,0),\" \")","v":" "}]
[null,null,null,null,null,null,null,null,null,null,null,null,null,null,null,null,null,null,null,null,{"$f":"IFERROR(VLOOKUP(T19656,Códigos!B:C,2,0),\" \")","v":" "}]
[null,null,null,null,null,null,null,null,null,null,null,null,null,null,null,null,null,null,null,null,{"$f":"IFERROR(VLOOKUP(T19657,Códigos!B:C,2,0),\" \")","v":" "}]
[null,null,null,null,null,null,null,null,null,null,null,null,null,null,null,null,null,null,null,null,{"$f":"IFERROR(VLOOKUP(T19658,Códigos!B:C,2,0),\" \")","v":" "}]
[null,null,null,null,null,null,null,null,null,null,null,null,null,null,null,null,null,null,null,null,{"$f":"IFERROR(VLOOKUP(T19659,Códigos!B:C,2,0),\" \")","v":" "}]
[null,null,null,null,null,null,null,null,null,null,null,null,null,null,null,null,null,null,null,null,{"$f":"IFERROR(VLOOKUP(T19660,Códigos!B:C,2,0),\" \")","v":" "}]
[null,null,null,null,null,null,null,null,null,null,null,null,null,null,null,null,null,null,null,null,{"$f":"IFERROR(VLOOKUP(T19661,Códigos!B:C,2,0),\" \")","v":" "}]
[null,null,null,null,null,null,null,null,null,null,null,null,null,null,null,null,null,null,null,null,{"$f":"IFERROR(VLOOKUP(T19662,Códigos!B:C,2,0),\" \")","v":" "}]
[null,null,null,null,null,null,null,null,null,null,null,null,null,null,null,null,null,null,null,null,{"$f":"IFERROR(VLOOKUP(T19663,Códigos!B:C,2,0),\" \")","v":" "}]
[null,null,null,null,null,null,null,null,null,null,null,null,null,null,null,null,null,null,null,null,{"$f":"IFERROR(VLOOKUP(T19664,Códigos!B:C,2,0),\" \")","v":" "}]
[null,null,null,null,null,null,null,null,null,null,null,null,null,null,null,null,null,null,null,null,{"$f":"IFERROR(VLOOKUP(T19665,Códigos!B:C,2,0),\" \")","v":" "}]
[null,null,null,null,null,null,null,null,null,null,null,null,null,null,null,null,null,null,null,null,{"$f":"IFERROR(VLOOKUP(T19666,Códigos!B:C,2,0),\" \")","v":" "}]
[null,null,null,null,null,null,null,null,null,null,null,null,null,null,null,null,null,null,null,null,{"$f":"IFERROR(VLOOKUP(T19667,Códigos!B:C,2,0),\" \")","v":" "}]
[null,null,null,null,null,null,null,null,null,null,null,null,null,null,null,null,null,null,null,null,{"$f":"IFERROR(VLOOKUP(T19668,Códigos!B:C,2,0),\" \")","v":" "}]
[null,null,null,null,null,null,null,null,null,null,null,null,null,null,null,null,null,null,null,null,{"$f":"IFERROR(VLOOKUP(T19669,Códigos!B:C,2,0),\" \")","v":" "}]
[null,null,null,null,null,null,null,null,null,null,null,null,null,null,null,null,null,null,null,null,{"$f":"IFERROR(VLOOKUP(T19670,Códigos!B:C,2,0),\" \")","v":" "}]
[null,null,null,null,null,null,null,null,null,null,null,null,null,null,null,null,null,null,null,null,{"$f":"IFERROR(VLOOKUP(T19671,Códigos!B:C,2,0),\" \")","v":" "}]
[null,null,null,null,null,null,null,null,null,null,null,null,null,null,null,null,null,null,null,null,{"$f":"IFERROR(VLOOKUP(T19672,Códigos!B:C,2,0),\" \")","v":" "}]
[null,null,null,null,null,null,null,null,null,null,null,null,null,null,null,null,null,null,null,null,{"$f":"IFERROR(VLOOKUP(T19673,Códigos!B:C,2,0),\" \")","v":" "}]
[null,null,null,null,null,null,null,null,null,null,null,null,null,null,null,null,null,null,null,null,{"$f":"IFERROR(VLOOKUP(T19674,Códigos!B:C,2,0),\" \")","v":" "}]
[null,null,null,null,null,null,null,null,null,null,null,null,null,null,null,null,null,null,null,null,{"$f":"IFERROR(VLOOKUP(T19675,Códigos!B:C,2,0),\" \")","v":" "}]
[null,null,null,null,null,null,null,null,null,null,null,null,null,null,null,null,null,null,null,null,{"$f":"IFERROR(VLOOKUP(T19676,Códigos!B:C,2,0),\" \")","v":" "}]
[null,null,null,null,null,null,null,null,null,null,null,null,null,null,null,null,null,null,null,null,{"$f":"IFERROR(VLOOKUP(T19677,Códigos!B:C,2,0),\" \")","v":" "}]
[null,null,null,null,null,null,null,null,null,null,null,null,null,null,null,null,null,null,null,null,{"$f":"IFERROR(VLOOKUP(T19678,Códigos!B:C,2,0),\" \")","v":" "}]
[null,null,null,null,null,null,null,null,null,null,null,null,null,null,null,null,null,null,null,null,{"$f":"IFERROR(VLOOKUP(T19679,Códigos!B:C,2,0),\" \")","v":" "}]
[null,null,null,null,null,null,null,null,null,null,null,null,null,null,null,null,null,null,null,null,{"$f":"IFERROR(VLOOKUP(T19680,Códigos!B:C,2,0),\" \")","v":" "}]
[null,null,null,null,null,null,null,null,null,null,null,null,null,null,null,null,null,null,null,null,{"$f":"IFERROR(VLOOKUP(T19681,Códigos!B:C,2,0),\" \")","v":" "}]
[null,null,null,null,null,null,null,null,null,null,null,null,null,null,null,null,null,null,null,null,{"$f":"IFERROR(VLOOKUP(T19682,Códigos!B:C,2,0),\" \")","v":" "}]
[null,null,null,null,null,null,null,null,null,null,null,null,null,null,null,null,null,null,null,null,{"$f":"IFERROR(VLOOKUP(T19683,Códigos!B:C,2,0),\" \")","v":" "}]
[null,null,null,null,null,null,null,null,null,null,null,null,null,null,null,null,null,null,null,null,{"$f":"IFERROR(VLOOKUP(T19684,Códigos!B:C,2,0),\" \")","v":" "}]
[null,null,null,null,null,null,null,null,null,null,null,null,null,null,null,null,null,null,null,null,{"$f":"IFERROR(VLOOKUP(T19685,Códigos!B:C,2,0),\" \")","v":" "}]
[null,null,null,null,null,null,null,null,null,null,null,null,null,null,null,null,null,null,null,null,{"$f":"IFERROR(VLOOKUP(T19686,Códigos!B:C,2,0),\" \")","v":" "}]
[null,null,null,null,null,null,null,null,null,null,null,null,null,null,null,null,null,null,null,null,{"$f":"IFERROR(VLOOKUP(T19687,Códigos!B:C,2,0),\" \")","v":" "}]
[null,null,null,null,null,null,null,null,null,null,null,null,null,null,null,null,null,null,null,null,{"$f":"IFERROR(VLOOKUP(T19688,Códigos!B:C,2,0),\" \")","v":" "}]
[null,null,null,null,null,null,null,null,null,null,null,null,null,null,null,null,null,null,null,null,{"$f":"IFERROR(VLOOKUP(T19689,Códigos!B:C,2,0),\" \")","v":" "}]
[null,null,null,null,null,null,null,null,null,null,null,null,null,null,null,null,null,null,null,null,{"$f":"IFERROR(VLOOKUP(T19690,Códigos!B:C,2,0),\" \")","v":" "}]
[null,null,null,null,null,null,null,null,null,null,null,null,null,null,null,null,null,null,null,null,{"$f":"IFERROR(VLOOKUP(T19691,Códigos!B:C,2,0),\" \")","v":" "}]
[null,null,null,null,null,null,null,null,null,null,null,null,null,null,null,null,null,null,null,null,{"$f":"IFERROR(VLOOKUP(T19692,Códigos!B:C,2,0),\" \")","v":" "}]
[null,null,null,null,null,null,null,null,null,null,null,null,null,null,null,null,null,null,null,null,{"$f":"IFERROR(VLOOKUP(T19693,Códigos!B:C,2,0),\" \")","v":" "}]
[null,null,null,null,null,null,null,null,null,null,null,null,null,null,null,null,null,null,null,null,{"$f":"IFERROR(VLOOKUP(T19694,Códigos!B:C,2,0),\" \")","v":" "}]
[null,null,null,null,null,null,null,null,null,null,null,null,null,null,null,null,null,null,null,null,{"$f":"IFERROR(VLOOKUP(T19695,Códigos!B:C,2,0),\" \")","v":" "}]
[null,null,null,null,null,null,null,null,null,null,null,null,null,null,null,null,null,null,null,null,{"$f":"IFERROR(VLOOKUP(T19696,Códigos!B:C,2,0),\" \")","v":" "}]
[null,null,null,null,null,null,null,null,null,null,null,null,null,null,null,null,null,null,null,null,{"$f":"IFERROR(VLOOKUP(T19697,Códigos!B:C,2,0),\" \")","v":" "}]
[null,null,null,null,null,null,null,null,null,null,null,null,null,null,null,null,null,null,null,null,{"$f":"IFERROR(VLOOKUP(T19698,Códigos!B:C,2,0),\" \")","v":" "}]
[null,null,null,null,null,null,null,null,null,null,null,null,null,null,null,null,null,null,null,null,{"$f":"IFERROR(VLOOKUP(T19699,Códigos!B:C,2,0),\" \")","v":" "}]
[null,null,null,null,null,null,null,null,null,null,null,null,null,null,null,null,null,null,null,null,{"$f":"IFERROR(VLOOKUP(T19700,Códigos!B:C,2,0),\" \")","v":" "}]
[null,null,null,null,null,null,null,null,null,null,null,null,null,null,null,null,null,null,null,null,{"$f":"IFERROR(VLOOKUP(T19701,Códigos!B:C,2,0),\" \")","v":" "}]
[null,null,null,null,null,null,null,null,null,null,null,null,null,null,null,null,null,null,null,null,{"$f":"IFERROR(VLOOKUP(T19702,Códigos!B:C,2,0),\" \")","v":" "}]
[null,null,null,null,null,null,null,null,null,null,null,null,null,null,null,null,null,null,null,null,{"$f":"IFERROR(VLOOKUP(T19703,Códigos!B:C,2,0),\" \")","v":" "}]
[null,null,null,null,null,null,null,null,null,null,null,null,null,null,null,null,null,null,null,null,{"$f":"IFERROR(VLOOKUP(T19704,Códigos!B:C,2,0),\" \")","v":" "}]
[null,null,null,null,null,null,null,null,null,null,null,null,null,null,null,null,null,null,null,null,{"$f":"IFERROR(VLOOKUP(T19705,Códigos!B:C,2,0),\" \")","v":" "}]
[null,null,null,null,null,null,null,null,null,null,null,null,null,null,null,null,null,null,null,null,{"$f":"IFERROR(VLOOKUP(T19706,Códigos!B:C,2,0),\" \")","v":" "}]
[null,null,null,null,null,null,null,null,null,null,null,null,null,null,null,null,null,null,null,null,{"$f":"IFERROR(VLOOKUP(T19707,Códigos!B:C,2,0),\" \")","v":" "}]
[null,null,null,null,null,null,null,null,null,null,null,null,null,null,null,null,null,null,null,null,{"$f":"IFERROR(VLOOKUP(T19708,Códigos!B:C,2,0),\" \")","v":" "}]
[null,null,null,null,null,null,null,null,null,null,null,null,null,null,null,null,null,null,null,null,{"$f":"IFERROR(VLOOKUP(T19709,Códigos!B:C,2,0),\" \")","v":" "}]
[null,null,null,null,null,null,null,null,null,null,null,null,null,null,null,null,null,null,null,null,{"$f":"IFERROR(VLOOKUP(T19710,Códigos!B:C,2,0),\" \")","v":" "}]
[null,null,null,null,null,null,null,null,null,null,null,null,null,null,null,null,null,null,null,null,{"$f":"IFERROR(VLOOKUP(T19711,Códigos!B:C,2,0),\" \")","v":" "}]
[null,null,null,null,null,null,null,null,null,null,null,null,null,null,null,null,null,null,null,null,{"$f":"IFERROR(VLOOKUP(T19712,Códigos!B:C,2,0),\" \")","v":" "}]
[null,null,null,null,null,null,null,null,null,null,null,null,null,null,null,null,null,null,null,null,{"$f":"IFERROR(VLOOKUP(T19713,Códigos!B:C,2,0),\" \")","v":" "}]
[null,null,null,null,null,null,null,null,null,null,null,null,null,null,null,null,null,null,null,null,{"$f":"IFERROR(VLOOKUP(T19714,Códigos!B:C,2,0),\" \")","v":" "}]
[null,null,null,null,null,null,null,null,null,null,null,null,null,null,null,null,null,null,null,null,{"$f":"IFERROR(VLOOKUP(T19715,Códigos!B:C,2,0),\" \")","v":" "}]
[null,null,null,null,null,null,null,null,null,null,null,null,null,null,null,null,null,null,null,null,{"$f":"IFERROR(VLOOKUP(T19716,Códigos!B:C,2,0),\" \")","v":" "}]
[null,null,null,null,null,null,null,null,null,null,null,null,null,null,null,null,null,null,null,null,{"$f":"IFERROR(VLOOKUP(T19717,Códigos!B:C,2,0),\" \")","v":" "}]
[null,null,null,null,null,null,null,null,null,null,null,null,null,null,null,null,null,null,null,null,{"$f":"IFERROR(VLOOKUP(T19718,Códigos!B:C,2,0),\" \")","v":" "}]
[null,null,null,null,null,null,null,null,null,null,null,null,null,null,null,null,null,null,null,null,{"$f":"IFERROR(VLOOKUP(T19719,Códigos!B:C,2,0),\" \")","v":" "}]
[null,null,null,null,null,null,null,null,null,null,null,null,null,null,null,null,null,null,null,null,{"$f":"IFERROR(VLOOKUP(T19720,Códigos!B:C,2,0),\" \")","v":" "}]
[null,null,null,null,null,null,null,null,null,null,null,null,null,null,null,null,null,null,null,null,{"$f":"IFERROR(VLOOKUP(T19721,Códigos!B:C,2,0),\" \")","v":" "}]
[null,null,null,null,null,null,null,null,null,null,null,null,null,null,null,null,null,null,null,null,{"$f":"IFERROR(VLOOKUP(T19722,Códigos!B:C,2,0),\" \")","v":" "}]
[null,null,null,null,null,null,null,null,null,null,null,null,null,null,null,null,null,null,null,null,{"$f":"IFERROR(VLOOKUP(T19723,Códigos!B:C,2,0),\" \")","v":" "}]
[null,null,null,null,null,null,null,null,null,null,null,null,null,null,null,null,null,null,null,null,{"$f":"IFERROR(VLOOKUP(T19724,Códigos!B:C,2,0),\" \")","v":" "}]
[null,null,null,null,null,null,null,null,null,null,null,null,null,null,null,null,null,null,null,null,{"$f":"IFERROR(VLOOKUP(T19725,Códigos!B:C,2,0),\" \")","v":" "}]
[null,null,null,null,null,null,null,null,null,null,null,null,null,null,null,null,null,null,null,null,{"$f":"IFERROR(VLOOKUP(T19726,Códigos!B:C,2,0),\" \")","v":" "}]
[null,null,null,null,null,null,null,null,null,null,null,null,null,null,null,null,null,null,null,null,{"$f":"IFERROR(VLOOKUP(T19727,Códigos!B:C,2,0),\" \")","v":" "}]
[null,null,null,null,null,null,null,null,null,null,null,null,null,null,null,null,null,null,null,null,{"$f":"IFERROR(VLOOKUP(T19728,Códigos!B:C,2,0),\" \")","v":" "}]
[null,null,null,null,null,null,null,null,null,null,null,null,null,null,null,null,null,null,null,null,{"$f":"IFERROR(VLOOKUP(T19729,Códigos!B:C,2,0),\" \")","v":" "}]
[null,null,null,null,null,null,null,null,null,null,null,null,null,null,null,null,null,null,null,null,{"$f":"IFERROR(VLOOKUP(T19730,Códigos!B:C,2,0),\" \")","v":" "}]
[null,null,null,null,null,null,null,null,null,null,null,null,null,null,null,null,null,null,null,null,{"$f":"IFERROR(VLOOKUP(T19731,Códigos!B:C,2,0),\" \")","v":" "}]
[null,null,null,null,null,null,null,null,null,null,null,null,null,null,null,null,null,null,null,null,{"$f":"IFERROR(VLOOKUP(T19732,Códigos!B:C,2,0),\" \")","v":" "}]
[null,null,null,null,null,null,null,null,null,null,null,null,null,null,null,null,null,null,null,null,{"$f":"IFERROR(VLOOKUP(T19733,Códigos!B:C,2,0),\" \")","v":" "}]
[null,null,null,null,null,null,null,null,null,null,null,null,null,null,null,null,null,null,null,null,{"$f":"IFERROR(VLOOKUP(T19734,Códigos!B:C,2,0),\" \")","v":" "}]
[null,null,null,null,null,null,null,null,null,null,null,null,null,null,null,null,null,null,null,null,{"$f":"IFERROR(VLOOKUP(T19735,Códigos!B:C,2,0),\" \")","v":" "}]
[null,null,null,null,null,null,null,null,null,null,null,null,null,null,null,null,null,null,null,null,{"$f":"IFERROR(VLOOKUP(T19736,Códigos!B:C,2,0),\" \")","v":" "}]
[null,null,null,null,null,null,null,null,null,null,null,null,null,null,null,null,null,null,null,null,{"$f":"IFERROR(VLOOKUP(T19737,Códigos!B:C,2,0),\" \")","v":" "}]
[null,null,null,null,null,null,null,null,null,null,null,null,null,null,null,null,null,null,null,null,{"$f":"IFERROR(VLOOKUP(T19738,Códigos!B:C,2,0),\" \")","v":" "}]
[null,null,null,null,null,null,null,null,null,null,null,null,null,null,null,null,null,null,null,null,{"$f":"IFERROR(VLOOKUP(T19739,Códigos!B:C,2,0),\" \")","v":" "}]
[null,null,null,null,null,null,null,null,null,null,null,null,null,null,null,null,null,null,null,null,{"$f":"IFERROR(VLOOKUP(T19740,Códigos!B:C,2,0),\" \")","v":" "}]
[null,null,null,null,null,null,null,null,null,null,null,null,null,null,null,null,null,null,null,null,{"$f":"IFERROR(VLOOKUP(T19741,Códigos!B:C,2,0),\" \")","v":" "}]
[null,null,null,null,null,null,null,null,null,null,null,null,null,null,null,null,null,null,null,null,{"$f":"IFERROR(VLOOKUP(T19742,Códigos!B:C,2,0),\" \")","v":" "}]
[null,null,null,null,null,null,null,null,null,null,null,null,null,null,null,null,null,null,null,null,{"$f":"IFERROR(VLOOKUP(T19743,Códigos!B:C,2,0),\" \")","v":" "}]
[null,null,null,null,null,null,null,null,null,null,null,null,null,null,null,null,null,null,null,null,{"$f":"IFERROR(VLOOKUP(T19744,Códigos!B:C,2,0),\" \")","v":" "}]
[null,null,null,null,null,null,null,null,null,null,null,null,null,null,null,null,null,null,null,null,{"$f":"IFERROR(VLOOKUP(T19745,Códigos!B:C,2,0),\" \")","v":" "}]
[null,null,null,null,null,null,null,null,null,null,null,null,null,null,null,null,null,null,null,null,{"$f":"IFERROR(VLOOKUP(T19746,Códigos!B:C,2,0),\" \")","v":" "}]
[null,null,null,null,null,null,null,null,null,null,null,null,null,null,null,null,null,null,null,null,{"$f":"IFERROR(VLOOKUP(T19747,Códigos!B:C,2,0),\" \")","v":" "}]
[null,null,null,null,null,null,null,null,null,null,null,null,null,null,null,null,null,null,null,null,{"$f":"IFERROR(VLOOKUP(T19748,Códigos!B:C,2,0),\" \")","v":" "}]
[null,null,null,null,null,null,null,null,null,null,null,null,null,null,null,null,null,null,null,null,{"$f":"IFERROR(VLOOKUP(T19749,Códigos!B:C,2,0),\" \")","v":" "}]
[null,null,null,null,null,null,null,null,null,null,null,null,null,null,null,null,null,null,null,null,{"$f":"IFERROR(VLOOKUP(T19750,Códigos!B:C,2,0),\" \")","v":" "}]
[null,null,null,null,null,null,null,null,null,null,null,null,null,null,null,null,null,null,null,null,{"$f":"IFERROR(VLOOKUP(T19751,Códigos!B:C,2,0),\" \")","v":" "}]
[null,null,null,null,null,null,null,null,null,null,null,null,null,null,null,null,null,null,null,null,{"$f":"IFERROR(VLOOKUP(T19752,Códigos!B:C,2,0),\" \")","v":" "}]
[null,null,null,null,null,null,null,null,null,null,null,null,null,null,null,null,null,null,null,null,{"$f":"IFERROR(VLOOKUP(T19753,Códigos!B:C,2,0),\" \")","v":" "}]
[null,null,null,null,null,null,null,null,null,null,null,null,null,null,null,null,null,null,null,null,{"$f":"IFERROR(VLOOKUP(T19754,Códigos!B:C,2,0),\" \")","v":" "}]
[null,null,null,null,null,null,null,null,null,null,null,null,null,null,null,null,null,null,null,null,{"$f":"IFERROR(VLOOKUP(T19755,Códigos!B:C,2,0),\" \")","v":" "}]
[null,null,null,null,null,null,null,null,null,null,null,null,null,null,null,null,null,null,null,null,{"$f":"IFERROR(VLOOKUP(T19756,Códigos!B:C,2,0),\" \")","v":" "}]
[null,null,null,null,null,null,null,null,null,null,null,null,null,null,null,null,null,null,null,null,{"$f":"IFERROR(VLOOKUP(T19757,Códigos!B:C,2,0),\" \")","v":" "}]
[null,null,null,null,null,null,null,null,null,null,null,null,null,null,null,null,null,null,null,null,{"$f":"IFERROR(VLOOKUP(T19758,Códigos!B:C,2,0),\" \")","v":" "}]
[null,null,null,null,null,null,null,null,null,null,null,null,null,null,null,null,null,null,null,null,{"$f":"IFERROR(VLOOKUP(T19759,Códigos!B:C,2,0),\" \")","v":" "}]
[null,null,null,null,null,null,null,null,null,null,null,null,null,null,null,null,null,null,null,null,{"$f":"IFERROR(VLOOKUP(T19760,Códigos!B:C,2,0),\" \")","v":" "}]
[null,null,null,null,null,null,null,null,null,null,null,null,null,null,null,null,null,null,null,null,{"$f":"IFERROR(VLOOKUP(T19761,Códigos!B:C,2,0),\" \")","v":" "}]
[null,null,null,null,null,null,null,null,null,null,null,null,null,null,null,null,null,null,null,null,{"$f":"IFERROR(VLOOKUP(T19762,Códigos!B:C,2,0),\" \")","v":" "}]
[null,null,null,null,null,null,null,null,null,null,null,null,null,null,null,null,null,null,null,null,{"$f":"IFERROR(VLOOKUP(T19763,Códigos!B:C,2,0),\" \")","v":" "}]
[null,null,null,null,null,null,null,null,null,null,null,null,null,null,null,null,null,null,null,null,{"$f":"IFERROR(VLOOKUP(T19764,Códigos!B:C,2,0),\" \")","v":" "}]
[null,null,null,null,null,null,null,null,null,null,null,null,null,null,null,null,null,null,null,null,{"$f":"IFERROR(VLOOKUP(T19765,Códigos!B:C,2,0),\" \")","v":" "}]
[null,null,null,null,null,null,null,null,null,null,null,null,null,null,null,null,null,null,null,null,{"$f":"IFERROR(VLOOKUP(T19766,Códigos!B:C,2,0),\" \")","v":" "}]
[null,null,null,null,null,null,null,null,null,null,null,null,null,null,null,null,null,null,null,null,{"$f":"IFERROR(VLOOKUP(T19767,Códigos!B:C,2,0),\" \")","v":" "}]
[null,null,null,null,null,null,null,null,null,null,null,null,null,null,null,null,null,null,null,null,{"$f":"IFERROR(VLOOKUP(T19768,Códigos!B:C,2,0),\" \")","v":" "}]
[null,null,null,null,null,null,null,null,null,null,null,null,null,null,null,null,null,null,null,null,{"$f":"IFERROR(VLOOKUP(T19769,Códigos!B:C,2,0),\" \")","v":" "}]
[null,null,null,null,null,null,null,null,null,null,null,null,null,null,null,null,null,null,null,null,{"$f":"IFERROR(VLOOKUP(T19770,Códigos!B:C,2,0),\" \")","v":" "}]
[null,null,null,null,null,null,null,null,null,null,null,null,null,null,null,null,null,null,null,null,{"$f":"IFERROR(VLOOKUP(T19771,Códigos!B:C,2,0),\" \")","v":" "}]
[null,null,null,null,null,null,null,null,null,null,null,null,null,null,null,null,null,null,null,null,{"$f":"IFERROR(VLOOKUP(T19772,Códigos!B:C,2,0),\" \")","v":" "}]
[null,null,null,null,null,null,null,null,null,null,null,null,null,null,null,null,null,null,null,null,{"$f":"IFERROR(VLOOKUP(T19773,Códigos!B:C,2,0),\" \")","v":" "}]
[null,null,null,null,null,null,null,null,null,null,null,null,null,null,null,null,null,null,null,null,{"$f":"IFERROR(VLOOKUP(T19774,Códigos!B:C,2,0),\" \")","v":" "}]
[null,null,null,null,null,null,null,null,null,null,null,null,null,null,null,null,null,null,null,null,{"$f":"IFERROR(VLOOKUP(T19775,Códigos!B:C,2,0),\" \")","v":" "}]
[null,null,null,null,null,null,null,null,null,null,null,null,null,null,null,null,null,null,null,null,{"$f":"IFERROR(VLOOKUP(T19776,Códigos!B:C,2,0),\" \")","v":" "}]
[null,null,null,null,null,null,null,null,null,null,null,null,null,null,null,null,null,null,null,null,{"$f":"IFERROR(VLOOKUP(T19777,Códigos!B:C,2,0),\" \")","v":" "}]
[null,null,null,null,null,null,null,null,null,null,null,null,null,null,null,null,null,null,null,null,{"$f":"IFERROR(VLOOKUP(T19778,Códigos!B:C,2,0),\" \")","v":" "}]
[null,null,null,null,null,null,null,null,null,null,null,null,null,null,null,null,null,null,null,null,{"$f":"IFERROR(VLOOKUP(T19779,Códigos!B:C,2,0),\" \")","v":" "}]
[null,null,null,null,null,null,null,null,null,null,null,null,null,null,null,null,null,null,null,null,{"$f":"IFERROR(VLOOKUP(T19780,Códigos!B:C,2,0),\" \")","v":" "}]
[null,null,null,null,null,null,null,null,null,null,null,null,null,null,null,null,null,null,null,null,{"$f":"IFERROR(VLOOKUP(T19781,Códigos!B:C,2,0),\" \")","v":" "}]
[null,null,null,null,null,null,null,null,null,null,null,null,null,null,null,null,null,null,null,null,{"$f":"IFERROR(VLOOKUP(T19782,Códigos!B:C,2,0),\" \")","v":" "}]
[null,null,null,null,null,null,null,null,null,null,null,null,null,null,null,null,null,null,null,null,{"$f":"IFERROR(VLOOKUP(T19783,Códigos!B:C,2,0),\" \")","v":" "}]
[null,null,null,null,null,null,null,null,null,null,null,null,null,null,null,null,null,null,null,null,{"$f":"IFERROR(VLOOKUP(T19784,Códigos!B:C,2,0),\" \")","v":" "}]
[null,null,null,null,null,null,null,null,null,null,null,null,null,null,null,null,null,null,null,null,{"$f":"IFERROR(VLOOKUP(T19785,Códigos!B:C,2,0),\" \")","v":" "}]
[null,null,null,null,null,null,null,null,null,null,null,null,null,null,null,null,null,null,null,null,{"$f":"IFERROR(VLOOKUP(T19786,Códigos!B:C,2,0),\" \")","v":" "}]
[null,null,null,null,null,null,null,null,null,null,null,null,null,null,null,null,null,null,null,null,{"$f":"IFERROR(VLOOKUP(T19787,Códigos!B:C,2,0),\" \")","v":" "}]
[null,null,null,null,null,null,null,null,null,null,null,null,null,null,null,null,null,null,null,null,{"$f":"IFERROR(VLOOKUP(T19788,Códigos!B:C,2,0),\" \")","v":" "}]
[null,null,null,null,null,null,null,null,null,null,null,null,null,null,null,null,null,null,null,null,{"$f":"IFERROR(VLOOKUP(T19789,Códigos!B:C,2,0),\" \")","v":" "}]
[null,null,null,null,null,null,null,null,null,null,null,null,null,null,null,null,null,null,null,null,{"$f":"IFERROR(VLOOKUP(T19790,Códigos!B:C,2,0),\" \")","v":" "}]
[null,null,null,null,null,null,null,null,null,null,null,null,null,null,null,null,null,null,null,null,{"$f":"IFERROR(VLOOKUP(T19791,Códigos!B:C,2,0),\" \")","v":" "}]
[null,null,null,null,null,null,null,null,null,null,null,null,null,null,null,null,null,null,null,null,{"$f":"IFERROR(VLOOKUP(T19792,Códigos!B:C,2,0),\" \")","v":" "}]
[null,null,null,null,null,null,null,null,null,null,null,null,null,null,null,null,null,null,null,null,{"$f":"IFERROR(VLOOKUP(T19793,Códigos!B:C,2,0),\" \")","v":" "}]
[null,null,null,null,null,null,null,null,null,null,null,null,null,null,null,null,null,null,null,null,{"$f":"IFERROR(VLOOKUP(T19794,Códigos!B:C,2,0),\" \")","v":" "}]
[null,null,null,null,null,null,null,null,null,null,null,null,null,null,null,null,null,null,null,null,{"$f":"IFERROR(VLOOKUP(T19795,Códigos!B:C,2,0),\" \")","v":" "}]
[null,null,null,null,null,null,null,null,null,null,null,null,null,null,null,null,null,null,null,null,{"$f":"IFERROR(VLOOKUP(T19796,Códigos!B:C,2,0),\" \")","v":" "}]
[null,null,null,null,null,null,null,null,null,null,null,null,null,null,null,null,null,null,null,null,{"$f":"IFERROR(VLOOKUP(T19797,Códigos!B:C,2,0),\" \")","v":" "}]
[null,null,null,null,null,null,null,null,null,null,null,null,null,null,null,null,null,null,null,null,{"$f":"IFERROR(VLOOKUP(T19798,Códigos!B:C,2,0),\" \")","v":" "}]
[null,null,null,null,null,null,null,null,null,null,null,null,null,null,null,null,null,null,null,null,{"$f":"IFERROR(VLOOKUP(T19799,Códigos!B:C,2,0),\" \")","v":" "}]
[null,null,null,null,null,null,null,null,null,null,null,null,null,null,null,null,null,null,null,null,{"$f":"IFERROR(VLOOKUP(T19800,Códigos!B:C,2,0),\" \")","v":" "}]
[null,null,null,null,null,null,null,null,null,null,null,null,null,null,null,null,null,null,null,null,{"$f":"IFERROR(VLOOKUP(T19801,Códigos!B:C,2,0),\" \")","v":" "}]
[null,null,null,null,null,null,null,null,null,null,null,null,null,null,null,null,null,null,null,null,{"$f":"IFERROR(VLOOKUP(T19802,Códigos!B:C,2,0),\" \")","v":" "}]
[null,null,null,null,null,null,null,null,null,null,null,null,null,null,null,null,null,null,null,null,{"$f":"IFERROR(VLOOKUP(T19803,Códigos!B:C,2,0),\" \")","v":" "}]
[null,null,null,null,null,null,null,null,null,null,null,null,null,null,null,null,null,null,null,null,{"$f":"IFERROR(VLOOKUP(T19804,Códigos!B:C,2,0),\" \")","v":" "}]
[null,null,null,null,null,null,null,null,null,null,null,null,null,null,null,null,null,null,null,null,{"$f":"IFERROR(VLOOKUP(T19805,Códigos!B:C,2,0),\" \")","v":" "}]
[null,null,null,null,null,null,null,null,null,null,null,null,null,null,null,null,null,null,null,null,{"$f":"IFERROR(VLOOKUP(T19806,Códigos!B:C,2,0),\" \")","v":" "}]
[null,null,null,null,null,null,null,null,null,null,null,null,null,null,null,null,null,null,null,null,{"$f":"IFERROR(VLOOKUP(T19807,Códigos!B:C,2,0),\" \")","v":" "}]
[null,null,null,null,null,null,null,null,null,null,null,null,null,null,null,null,null,null,null,null,{"$f":"IFERROR(VLOOKUP(T19808,Códigos!B:C,2,0),\" \")","v":" "}]
[null,null,null,null,null,null,null,null,null,null,null,null,null,null,null,null,null,null,null,null,{"$f":"IFERROR(VLOOKUP(T19809,Códigos!B:C,2,0),\" \")","v":" "}]
[null,null,null,null,null,null,null,null,null,null,null,null,null,null,null,null,null,null,null,null,{"$f":"IFERROR(VLOOKUP(T19810,Códigos!B:C,2,0),\" \")","v":" "}]
[null,null,null,null,null,null,null,null,null,null,null,null,null,null,null,null,null,null,null,null,{"$f":"IFERROR(VLOOKUP(T19811,Códigos!B:C,2,0),\" \")","v":" "}]
[null,null,null,null,null,null,null,null,null,null,null,null,null,null,null,null,null,null,null,null,{"$f":"IFERROR(VLOOKUP(T19812,Códigos!B:C,2,0),\" \")","v":" "}]
[null,null,null,null,null,null,null,null,null,null,null,null,null,null,null,null,null,null,null,null,{"$f":"IFERROR(VLOOKUP(T19813,Códigos!B:C,2,0),\" \")","v":" "}]
[null,null,null,null,null,null,null,null,null,null,null,null,null,null,null,null,null,null,null,null,{"$f":"IFERROR(VLOOKUP(T19814,Códigos!B:C,2,0),\" \")","v":" "}]
[null,null,null,null,null,null,null,null,null,null,null,null,null,null,null,null,null,null,null,null,{"$f":"IFERROR(VLOOKUP(T19815,Códigos!B:C,2,0),\" \")","v":" "}]
[null,null,null,null,null,null,null,null,null,null,null,null,null,null,null,null,null,null,null,null,{"$f":"IFERROR(VLOOKUP(T19816,Códigos!B:C,2,0),\" \")","v":" "}]
[null,null,null,null,null,null,null,null,null,null,null,null,null,null,null,null,null,null,null,null,{"$f":"IFERROR(VLOOKUP(T19817,Códigos!B:C,2,0),\" \")","v":" "}]
[null,null,null,null,null,null,null,null,null,null,null,null,null,null,null,null,null,null,null,null,{"$f":"IFERROR(VLOOKUP(T19818,Códigos!B:C,2,0),\" \")","v":" "}]
[null,null,null,null,null,null,null,null,null,null,null,null,null,null,null,null,null,null,null,null,{"$f":"IFERROR(VLOOKUP(T19819,Códigos!B:C,2,0),\" \")","v":" "}]
[null,null,null,null,null,null,null,null,null,null,null,null,null,null,null,null,null,null,null,null,{"$f":"IFERROR(VLOOKUP(T19820,Códigos!B:C,2,0),\" \")","v":" "}]
[null,null,null,null,null,null,null,null,null,null,null,null,null,null,null,null,null,null,null,null,{"$f":"IFERROR(VLOOKUP(T19821,Códigos!B:C,2,0),\" \")","v":" "}]
[null,null,null,null,null,null,null,null,null,null,null,null,null,null,null,null,null,null,null,null,{"$f":"IFERROR(VLOOKUP(T19822,Códigos!B:C,2,0),\" \")","v":" "}]
[null,null,null,null,null,null,null,null,null,null,null,null,null,null,null,null,null,null,null,null,{"$f":"IFERROR(VLOOKUP(T19823,Códigos!B:C,2,0),\" \")","v":" "}]
[null,null,null,null,null,null,null,null,null,null,null,null,null,null,null,null,null,null,null,null,{"$f":"IFERROR(VLOOKUP(T19824,Códigos!B:C,2,0),\" \")","v":" "}]
[null,null,null,null,null,null,null,null,null,null,null,null,null,null,null,null,null,null,null,null,{"$f":"IFERROR(VLOOKUP(T19825,Códigos!B:C,2,0),\" \")","v":" "}]
[null,null,null,null,null,null,null,null,null,null,null,null,null,null,null,null,null,null,null,null,{"$f":"IFERROR(VLOOKUP(T19826,Códigos!B:C,2,0),\" \")","v":" "}]
[null,null,null,null,null,null,null,null,null,null,null,null,null,null,null,null,null,null,null,null,{"$f":"IFERROR(VLOOKUP(T19827,Códigos!B:C,2,0),\" \")","v":" "}]
[null,null,null,null,null,null,null,null,null,null,null,null,null,null,null,null,null,null,null,null,{"$f":"IFERROR(VLOOKUP(T19828,Códigos!B:C,2,0),\" \")","v":" "}]
[null,null,null,null,null,null,null,null,null,null,null,null,null,null,null,null,null,null,null,null,{"$f":"IFERROR(VLOOKUP(T19829,Códigos!B:C,2,0),\" \")","v":" "}]
[null,null,null,null,null,null,null,null,null,null,null,null,null,null,null,null,null,null,null,null,{"$f":"IFERROR(VLOOKUP(T19830,Códigos!B:C,2,0),\" \")","v":" "}]
[null,null,null,null,null,null,null,null,null,null,null,null,null,null,null,null,null,null,null,null,{"$f":"IFERROR(VLOOKUP(T19831,Códigos!B:C,2,0),\" \")","v":" "}]
[null,null,null,null,null,null,null,null,null,null,null,null,null,null,null,null,null,null,null,null,{"$f":"IFERROR(VLOOKUP(T19832,Códigos!B:C,2,0),\" \")","v":" "}]
[null,null,null,null,null,null,null,null,null,null,null,null,null,null,null,null,null,null,null,null,{"$f":"IFERROR(VLOOKUP(T19833,Códigos!B:C,2,0),\" \")","v":" "}]
[null,null,null,null,null,null,null,null,null,null,null,null,null,null,null,null,null,null,null,null,{"$f":"IFERROR(VLOOKUP(T19834,Códigos!B:C,2,0),\" \")","v":" "}]
[null,null,null,null,null,null,null,null,null,null,null,null,null,null,null,null,null,null,null,null,{"$f":"IFERROR(VLOOKUP(T19835,Códigos!B:C,2,0),\" \")","v":" "}]
[null,null,null,null,null,null,null,null,null,null,null,null,null,null,null,null,null,null,null,null,{"$f":"IFERROR(VLOOKUP(T19836,Códigos!B:C,2,0),\" \")","v":" "}]
[null,null,null,null,null,null,null,null,null,null,null,null,null,null,null,null,null,null,null,null,{"$f":"IFERROR(VLOOKUP(T19837,Códigos!B:C,2,0),\" \")","v":" "}]
[null,null,null,null,null,null,null,null,null,null,null,null,null,null,null,null,null,null,null,null,{"$f":"IFERROR(VLOOKUP(T19838,Códigos!B:C,2,0),\" \")","v":" "}]
[null,null,null,null,null,null,null,null,null,null,null,null,null,null,null,null,null,null,null,null,{"$f":"IFERROR(VLOOKUP(T19839,Códigos!B:C,2,0),\" \")","v":" "}]
[null,null,null,null,null,null,null,null,null,null,null,null,null,null,null,null,null,null,null,null,{"$f":"IFERROR(VLOOKUP(T19840,Códigos!B:C,2,0),\" \")","v":" "}]
[null,null,null,null,null,null,null,null,null,null,null,null,null,null,null,null,null,null,null,null,{"$f":"IFERROR(VLOOKUP(T19841,Códigos!B:C,2,0),\" \")","v":" "}]
[null,null,null,null,null,null,null,null,null,null,null,null,null,null,null,null,null,null,null,null,{"$f":"IFERROR(VLOOKUP(T19842,Códigos!B:C,2,0),\" \")","v":" "}]
[null,null,null,null,null,null,null,null,null,null,null,null,null,null,null,null,null,null,null,null,{"$f":"IFERROR(VLOOKUP(T19843,Códigos!B:C,2,0),\" \")","v":" "}]
[null,null,null,null,null,null,null,null,null,null,null,null,null,null,null,null,null,null,null,null,{"$f":"IFERROR(VLOOKUP(T19844,Códigos!B:C,2,0),\" \")","v":" "}]
[null,null,null,null,null,null,null,null,null,null,null,null,null,null,null,null,null,null,null,null,{"$f":"IFERROR(VLOOKUP(T19845,Códigos!B:C,2,0),\" \")","v":" "}]
[null,null,null,null,null,null,null,null,null,null,null,null,null,null,null,null,null,null,null,null,{"$f":"IFERROR(VLOOKUP(T19846,Códigos!B:C,2,0),\" \")","v":" "}]
[null,null,null,null,null,null,null,null,null,null,null,null,null,null,null,null,null,null,null,null,{"$f":"IFERROR(VLOOKUP(T19847,Códigos!B:C,2,0),\" \")","v":" "}]
[null,null,null,null,null,null,null,null,null,null,null,null,null,null,null,null,null,null,null,null,{"$f":"IFERROR(VLOOKUP(T19848,Códigos!B:C,2,0),\" \")","v":" "}]
[null,null,null,null,null,null,null,null,null,null,null,null,null,null,null,null,null,null,null,null,{"$f":"IFERROR(VLOOKUP(T19849,Códigos!B:C,2,0),\" \")","v":" "}]
[null,null,null,null,null,null,null,null,null,null,null,null,null,null,null,null,null,null,null,null,{"$f":"IFERROR(VLOOKUP(T19850,Códigos!B:C,2,0),\" \")","v":" "}]
[null,null,null,null,null,null,null,null,null,null,null,null,null,null,null,null,null,null,null,null,{"$f":"IFERROR(VLOOKUP(T19851,Códigos!B:C,2,0),\" \")","v":" "}]
[null,null,null,null,null,null,null,null,null,null,null,null,null,null,null,null,null,null,null,null,{"$f":"IFERROR(VLOOKUP(T19852,Códigos!B:C,2,0),\" \")","v":" "}]
[null,null,null,null,null,null,null,null,null,null,null,null,null,null,null,null,null,null,null,null,{"$f":"IFERROR(VLOOKUP(T19853,Códigos!B:C,2,0),\" \")","v":" "}]
[null,null,null,null,null,null,null,null,null,null,null,null,null,null,null,null,null,null,null,null,{"$f":"IFERROR(VLOOKUP(T19854,Códigos!B:C,2,0),\" \")","v":" "}]
[null,null,null,null,null,null,null,null,null,null,null,null,null,null,null,null,null,null,null,null,{"$f":"IFERROR(VLOOKUP(T19855,Códigos!B:C,2,0),\" \")","v":" "}]
[null,null,null,null,null,null,null,null,null,null,null,null,null,null,null,null,null,null,null,null,{"$f":"IFERROR(VLOOKUP(T19856,Códigos!B:C,2,0),\" \")","v":" "}]
[null,null,null,null,null,null,null,null,null,null,null,null,null,null,null,null,null,null,null,null,{"$f":"IFERROR(VLOOKUP(T19857,Códigos!B:C,2,0),\" \")","v":" "}]
[null,null,null,null,null,null,null,null,null,null,null,null,null,null,null,null,null,null,null,null,{"$f":"IFERROR(VLOOKUP(T19858,Códigos!B:C,2,0),\" \")","v":" "}]
[null,null,null,null,null,null,null,null,null,null,null,null,null,null,null,null,null,null,null,null,{"$f":"IFERROR(VLOOKUP(T19859,Códigos!B:C,2,0),\" \")","v":" "}]
[null,null,null,null,null,null,null,null,null,null,null,null,null,null,null,null,null,null,null,null,{"$f":"IFERROR(VLOOKUP(T19860,Códigos!B:C,2,0),\" \")","v":" "}]
[null,null,null,null,null,null,null,null,null,null,null,null,null,null,null,null,null,null,null,null,{"$f":"IFERROR(VLOOKUP(T19861,Códigos!B:C,2,0),\" \")","v":" "}]
[null,null,null,null,null,null,null,null,null,null,null,null,null,null,null,null,null,null,null,null,{"$f":"IFERROR(VLOOKUP(T19862,Códigos!B:C,2,0),\" \")","v":" "}]
[null,null,null,null,null,null,null,null,null,null,null,null,null,null,null,null,null,null,null,null,{"$f":"IFERROR(VLOOKUP(T19863,Códigos!B:C,2,0),\" \")","v":" "}]
[null,null,null,null,null,null,null,null,null,null,null,null,null,null,null,null,null,null,null,null,{"$f":"IFERROR(VLOOKUP(T19864,Códigos!B:C,2,0),\" \")","v":" "}]
[null,null,null,null,null,null,null,null,null,null,null,null,null,null,null,null,null,null,null,null,{"$f":"IFERROR(VLOOKUP(T19865,Códigos!B:C,2,0),\" \")","v":" "}]
[null,null,null,null,null,null,null,null,null,null,null,null,null,null,null,null,null,null,null,null,{"$f":"IFERROR(VLOOKUP(T19866,Códigos!B:C,2,0),\" \")","v":" "}]
[null,null,null,null,null,null,null,null,null,null,null,null,null,null,null,null,null,null,null,null,{"$f":"IFERROR(VLOOKUP(T19867,Códigos!B:C,2,0),\" \")","v":" "}]
[null,null,null,null,null,null,null,null,null,null,null,null,null,null,null,null,null,null,null,null,{"$f":"IFERROR(VLOOKUP(T19868,Códigos!B:C,2,0),\" \")","v":" "}]
[null,null,null,null,null,null,null,null,null,null,null,null,null,null,null,null,null,null,null,null,{"$f":"IFERROR(VLOOKUP(T19869,Códigos!B:C,2,0),\" \")","v":" "}]
[null,null,null,null,null,null,null,null,null,null,null,null,null,null,null,null,null,null,null,null,{"$f":"IFERROR(VLOOKUP(T19870,Códigos!B:C,2,0),\" \")","v":" "}]
[null,null,null,null,null,null,null,null,null,null,null,null,null,null,null,null,null,null,null,null,{"$f":"IFERROR(VLOOKUP(T19871,Códigos!B:C,2,0),\" \")","v":" "}]
[null,null,null,null,null,null,null,null,null,null,null,null,null,null,null,null,null,null,null,null,{"$f":"IFERROR(VLOOKUP(T19872,Códigos!B:C,2,0),\" \")","v":" "}]
[null,null,null,null,null,null,null,null,null,null,null,null,null,null,null,null,null,null,null,null,{"$f":"IFERROR(VLOOKUP(T19873,Códigos!B:C,2,0),\" \")","v":" "}]
[null,null,null,null,null,null,null,null,null,null,null,null,null,null,null,null,null,null,null,null,{"$f":"IFERROR(VLOOKUP(T19874,Códigos!B:C,2,0),\" \")","v":" "}]
[null,null,null,null,null,null,null,null,null,null,null,null,null,null,null,null,null,null,null,null,{"$f":"IFERROR(VLOOKUP(T19875,Códigos!B:C,2,0),\" \")","v":" "}]
[null,null,null,null,null,null,null,null,null,null,null,null,null,null,null,null,null,null,null,null,{"$f":"IFERROR(VLOOKUP(T19876,Códigos!B:C,2,0),\" \")","v":" "}]
[null,null,null,null,null,null,null,null,null,null,null,null,null,null,null,null,null,null,null,null,{"$f":"IFERROR(VLOOKUP(T19877,Códigos!B:C,2,0),\" \")","v":" "}]
[null,null,null,null,null,null,null,null,null,null,null,null,null,null,null,null,null,null,null,null,{"$f":"IFERROR(VLOOKUP(T19878,Códigos!B:C,2,0),\" \")","v":" "}]
[null,null,null,null,null,null,null,null,null,null,null,null,null,null,null,null,null,null,null,null,{"$f":"IFERROR(VLOOKUP(T19879,Códigos!B:C,2,0),\" \")","v":" "}]
[null,null,null,null,null,null,null,null,null,null,null,null,null,null,null,null,null,null,null,null,{"$f":"IFERROR(VLOOKUP(T19880,Códigos!B:C,2,0),\" \")","v":" "}]
[null,null,null,null,null,null,null,null,null,null,null,null,null,null,null,null,null,null,null,null,{"$f":"IFERROR(VLOOKUP(T19881,Códigos!B:C,2,0),\" \")","v":" "}]
[null,null,null,null,null,null,null,null,null,null,null,null,null,null,null,null,null,null,null,null,{"$f":"IFERROR(VLOOKUP(T19882,Códigos!B:C,2,0),\" \")","v":" "}]
[null,null,null,null,null,null,null,null,null,null,null,null,null,null,null,null,null,null,null,null,{"$f":"IFERROR(VLOOKUP(T19883,Códigos!B:C,2,0),\" \")","v":" "}]
[null,null,null,null,null,null,null,null,null,null,null,null,null,null,null,null,null,null,null,null,{"$f":"IFERROR(VLOOKUP(T19884,Códigos!B:C,2,0),\" \")","v":" "}]
[null,null,null,null,null,null,null,null,null,null,null,null,null,null,null,null,null,null,null,null,{"$f":"IFERROR(VLOOKUP(T19885,Códigos!B:C,2,0),\" \")","v":" "}]
[null,null,null,null,null,null,null,null,null,null,null,null,null,null,null,null,null,null,null,null,{"$f":"IFERROR(VLOOKUP(T19886,Códigos!B:C,2,0),\" \")","v":" "}]
[null,null,null,null,null,null,null,null,null,null,null,null,null,null,null,null,null,null,null,null,{"$f":"IFERROR(VLOOKUP(T19887,Códigos!B:C,2,0),\" \")","v":" "}]
[null,null,null,null,null,null,null,null,null,null,null,null,null,null,null,null,null,null,null,null,{"$f":"IFERROR(VLOOKUP(T19888,Códigos!B:C,2,0),\" \")","v":" "}]
[null,null,null,null,null,null,null,null,null,null,null,null,null,null,null,null,null,null,null,null,{"$f":"IFERROR(VLOOKUP(T19889,Códigos!B:C,2,0),\" \")","v":" "}]
[null,null,null,null,null,null,null,null,null,null,null,null,null,null,null,null,null,null,null,null,{"$f":"IFERROR(VLOOKUP(T19890,Códigos!B:C,2,0),\" \")","v":" "}]
[null,null,null,null,null,null,null,null,null,null,null,null,null,null,null,null,null,null,null,null,{"$f":"IFERROR(VLOOKUP(T19891,Códigos!B:C,2,0),\" \")","v":" "}]
[null,null,null,null,null,null,null,null,null,null,null,null,null,null,null,null,null,null,null,null,{"$f":"IFERROR(VLOOKUP(T19892,Códigos!B:C,2,0),\" \")","v":" "}]
[null,null,null,null,null,null,null,null,null,null,null,null,null,null,null,null,null,null,null,null,{"$f":"IFERROR(VLOOKUP(T19893,Códigos!B:C,2,0),\" \")","v":" "}]
[null,null,null,null,null,null,null,null,null,null,null,null,null,null,null,null,null,null,null,null,{"$f":"IFERROR(VLOOKUP(T19894,Códigos!B:C,2,0),\" \")","v":" "}]
[null,null,null,null,null,null,null,null,null,null,null,null,null,null,null,null,null,null,null,null,{"$f":"IFERROR(VLOOKUP(T19895,Códigos!B:C,2,0),\" \")","v":" "}]
[null,null,null,null,null,null,null,null,null,null,null,null,null,null,null,null,null,null,null,null,{"$f":"IFERROR(VLOOKUP(T19896,Códigos!B:C,2,0),\" \")","v":" "}]
[null,null,null,null,null,null,null,null,null,null,null,null,null,null,null,null,null,null,null,null,{"$f":"IFERROR(VLOOKUP(T19897,Códigos!B:C,2,0),\" \")","v":" "}]
[null,null,null,null,null,null,null,null,null,null,null,null,null,null,null,null,null,null,null,null,{"$f":"IFERROR(VLOOKUP(T19898,Códigos!B:C,2,0),\" \")","v":" "}]
[null,null,null,null,null,null,null,null,null,null,null,null,null,null,null,null,null,null,null,null,{"$f":"IFERROR(VLOOKUP(T19899,Códigos!B:C,2,0),\" \")","v":" "}]
[null,null,null,null,null,null,null,null,null,null,null,null,null,null,null,null,null,null,null,null,{"$f":"IFERROR(VLOOKUP(T19900,Códigos!B:C,2,0),\" \")","v":" "}]
[null,null,null,null,null,null,null,null,null,null,null,null,null,null,null,null,null,null,null,null,{"$f":"IFERROR(VLOOKUP(T19901,Códigos!B:C,2,0),\" \")","v":" "}]
[null,null,null,null,null,null,null,null,null,null,null,null,null,null,null,null,null,null,null,null,{"$f":"IFERROR(VLOOKUP(T19902,Códigos!B:C,2,0),\" \")","v":" "}]
[null,null,null,null,null,null,null,null,null,null,null,null,null,null,null,null,null,null,null,null,{"$f":"IFERROR(VLOOKUP(T19903,Códigos!B:C,2,0),\" \")","v":" "}]
[null,null,null,null,null,null,null,null,null,null,null,null,null,null,null,null,null,null,null,null,{"$f":"IFERROR(VLOOKUP(T19904,Códigos!B:C,2,0),\" \")","v":" "}]
[null,null,null,null,null,null,null,null,null,null,null,null,null,null,null,null,null,null,null,null,{"$f":"IFERROR(VLOOKUP(T19905,Códigos!B:C,2,0),\" \")","v":" "}]
[null,null,null,null,null,null,null,null,null,null,null,null,null,null,null,null,null,null,null,null,{"$f":"IFERROR(VLOOKUP(T19906,Códigos!B:C,2,0),\" \")","v":" "}]
[null,null,null,null,null,null,null,null,null,null,null,null,null,null,null,null,null,null,null,null,{"$f":"IFERROR(VLOOKUP(T19907,Códigos!B:C,2,0),\" \")","v":" "}]
[null,null,null,null,null,null,null,null,null,null,null,null,null,null,null,null,null,null,null,null,{"$f":"IFERROR(VLOOKUP(T19908,Códigos!B:C,2,0),\" \")","v":" "}]
[null,null,null,null,null,null,null,null,null,null,null,null,null,null,null,null,null,null,null,null,{"$f":"IFERROR(VLOOKUP(T19909,Códigos!B:C,2,0),\" \")","v":" "}]
[null,null,null,null,null,null,null,null,null,null,null,null,null,null,null,null,null,null,null,null,{"$f":"IFERROR(VLOOKUP(T19910,Códigos!B:C,2,0),\" \")","v":" "}]
[null,null,null,null,null,null,null,null,null,null,null,null,null,null,null,null,null,null,null,null,{"$f":"IFERROR(VLOOKUP(T19911,Códigos!B:C,2,0),\" \")","v":" "}]
[null,null,null,null,null,null,null,null,null,null,null,null,null,null,null,null,null,null,null,null,{"$f":"IFERROR(VLOOKUP(T19912,Códigos!B:C,2,0),\" \")","v":" "}]
[null,null,null,null,null,null,null,null,null,null,null,null,null,null,null,null,null,null,null,null,{"$f":"IFERROR(VLOOKUP(T19913,Códigos!B:C,2,0),\" \")","v":" "}]
[null,null,null,null,null,null,null,null,null,null,null,null,null,null,null,null,null,null,null,null,{"$f":"IFERROR(VLOOKUP(T19914,Códigos!B:C,2,0),\" \")","v":" "}]
[null,null,null,null,null,null,null,null,null,null,null,null,null,null,null,null,null,null,null,null,{"$f":"IFERROR(VLOOKUP(T19915,Códigos!B:C,2,0),\" \")","v":" "}]
[null,null,null,null,null,null,null,null,null,null,null,null,null,null,null,null,null,null,null,null,{"$f":"IFERROR(VLOOKUP(T19916,Códigos!B:C,2,0),\" \")","v":" "}]
[null,null,null,null,null,null,null,null,null,null,null,null,null,null,null,null,null,null,null,null,{"$f":"IFERROR(VLOOKUP(T19917,Códigos!B:C,2,0),\" \")","v":" "}]
[null,null,null,null,null,null,null,null,null,null,null,null,null,null,null,null,null,null,null,null,{"$f":"IFERROR(VLOOKUP(T19918,Códigos!B:C,2,0),\" \")","v":" "}]
[null,null,null,null,null,null,null,null,null,null,null,null,null,null,null,null,null,null,null,null,{"$f":"IFERROR(VLOOKUP(T19919,Códigos!B:C,2,0),\" \")","v":" "}]
[null,null,null,null,null,null,null,null,null,null,null,null,null,null,null,null,null,null,null,null,{"$f":"IFERROR(VLOOKUP(T19920,Códigos!B:C,2,0),\" \")","v":" "}]
[null,null,null,null,null,null,null,null,null,null,null,null,null,null,null,null,null,null,null,null,{"$f":"IFERROR(VLOOKUP(T19921,Códigos!B:C,2,0),\" \")","v":" "}]
[null,null,null,null,null,null,null,null,null,null,null,null,null,null,null,null,null,null,null,null,{"$f":"IFERROR(VLOOKUP(T19922,Códigos!B:C,2,0),\" \")","v":" "}]
[null,null,null,null,null,null,null,null,null,null,null,null,null,null,null,null,null,null,null,null,{"$f":"IFERROR(VLOOKUP(T19923,Códigos!B:C,2,0),\" \")","v":" "}]
[null,null,null,null,null,null,null,null,null,null,null,null,null,null,null,null,null,null,null,null,{"$f":"IFERROR(VLOOKUP(T19924,Códigos!B:C,2,0),\" \")","v":" "}]
[null,null,null,null,null,null,null,null,null,null,null,null,null,null,null,null,null,null,null,null,{"$f":"IFERROR(VLOOKUP(T19925,Códigos!B:C,2,0),\" \")","v":" "}]
[null,null,null,null,null,null,null,null,null,null,null,null,null,null,null,null,null,null,null,null,{"$f":"IFERROR(VLOOKUP(T19926,Códigos!B:C,2,0),\" \")","v":" "}]
[null,null,null,null,null,null,null,null,null,null,null,null,null,null,null,null,null,null,null,null,{"$f":"IFERROR(VLOOKUP(T19927,Códigos!B:C,2,0),\" \")","v":" "}]
[null,null,null,null,null,null,null,null,null,null,null,null,null,null,null,null,null,null,null,null,{"$f":"IFERROR(VLOOKUP(T19928,Códigos!B:C,2,0),\" \")","v":" "}]
[null,null,null,null,null,null,null,null,null,null,null,null,null,null,null,null,null,null,null,null,{"$f":"IFERROR(VLOOKUP(T19929,Códigos!B:C,2,0),\" \")","v":" "}]
[null,null,null,null,null,null,null,null,null,null,null,null,null,null,null,null,null,null,null,null,{"$f":"IFERROR(VLOOKUP(T19930,Códigos!B:C,2,0),\" \")","v":" "}]
[null,null,null,null,null,null,null,null,null,null,null,null,null,null,null,null,null,null,null,null,{"$f":"IFERROR(VLOOKUP(T19931,Códigos!B:C,2,0),\" \")","v":" "}]
[null,null,null,null,null,null,null,null,null,null,null,null,null,null,null,null,null,null,null,null,{"$f":"IFERROR(VLOOKUP(T19932,Códigos!B:C,2,0),\" \")","v":" "}]
[null,null,null,null,null,null,null,null,null,null,null,null,null,null,null,null,null,null,null,null,{"$f":"IFERROR(VLOOKUP(T19933,Códigos!B:C,2,0),\" \")","v":" "}]
[null,null,null,null,null,null,null,null,null,null,null,null,null,null,null,null,null,null,null,null,{"$f":"IFERROR(VLOOKUP(T19934,Códigos!B:C,2,0),\" \")","v":" "}]
[null,null,null,null,null,null,null,null,null,null,null,null,null,null,null,null,null,null,null,null,{"$f":"IFERROR(VLOOKUP(T19935,Códigos!B:C,2,0),\" \")","v":" "}]
[null,null,null,null,null,null,null,null,null,null,null,null,null,null,null,null,null,null,null,null,{"$f":"IFERROR(VLOOKUP(T19936,Códigos!B:C,2,0),\" \")","v":" "}]
[null,null,null,null,null,null,null,null,null,null,null,null,null,null,null,null,null,null,null,null,{"$f":"IFERROR(VLOOKUP(T19937,Códigos!B:C,2,0),\" \")","v":" "}]
[null,null,null,null,null,null,null,null,null,null,null,null,null,null,null,null,null,null,null,null,{"$f":"IFERROR(VLOOKUP(T19938,Códigos!B:C,2,0),\" \")","v":" "}]
[null,null,null,null,null,null,null,null,null,null,null,null,null,null,null,null,null,null,null,null,{"$f":"IFERROR(VLOOKUP(T19939,Códigos!B:C,2,0),\" \")","v":" "}]
[null,null,null,null,null,null,null,null,null,null,null,null,null,null,null,null,null,null,null,null,{"$f":"IFERROR(VLOOKUP(T19940,Códigos!B:C,2,0),\" \")","v":" "}]
[null,null,null,null,null,null,null,null,null,null,null,null,null,null,null,null,null,null,null,null,{"$f":"IFERROR(VLOOKUP(T19941,Códigos!B:C,2,0),\" \")","v":" "}]
[null,null,null,null,null,null,null,null,null,null,null,null,null,null,null,null,null,null,null,null,{"$f":"IFERROR(VLOOKUP(T19942,Códigos!B:C,2,0),\" \")","v":" "}]
[null,null,null,null,null,null,null,null,null,null,null,null,null,null,null,null,null,null,null,null,{"$f":"IFERROR(VLOOKUP(T19943,Códigos!B:C,2,0),\" \")","v":" "}]
[null,null,null,null,null,null,null,null,null,null,null,null,null,null,null,null,null,null,null,null,{"$f":"IFERROR(VLOOKUP(T19944,Códigos!B:C,2,0),\" \")","v":" "}]
[null,null,null,null,null,null,null,null,null,null,null,null,null,null,null,null,null,null,null,null,{"$f":"IFERROR(VLOOKUP(T19945,Códigos!B:C,2,0),\" \")","v":" "}]
[null,null,null,null,null,null,null,null,null,null,null,null,null,null,null,null,null,null,null,null,{"$f":"IFERROR(VLOOKUP(T19946,Códigos!B:C,2,0),\" \")","v":" "}]
[null,null,null,null,null,null,null,null,null,null,null,null,null,null,null,null,null,null,null,null,{"$f":"IFERROR(VLOOKUP(T19947,Códigos!B:C,2,0),\" \")","v":" "}]
[null,null,null,null,null,null,null,null,null,null,null,null,null,null,null,null,null,null,null,null,{"$f":"IFERROR(VLOOKUP(T19948,Códigos!B:C,2,0),\" \")","v":" "}]
[null,null,null,null,null,null,null,null,null,null,null,null,null,null,null,null,null,null,null,null,{"$f":"IFERROR(VLOOKUP(T19949,Códigos!B:C,2,0),\" \")","v":" "}]
[null,null,null,null,null,null,null,null,null,null,null,null,null,null,null,null,null,null,null,null,{"$f":"IFERROR(VLOOKUP(T19950,Códigos!B:C,2,0),\" \")","v":" "}]
[null,null,null,null,null,null,null,null,null,null,null,null,null,null,null,null,null,null,null,null,{"$f":"IFERROR(VLOOKUP(T19951,Códigos!B:C,2,0),\" \")","v":" "}]
[null,null,null,null,null,null,null,null,null,null,null,null,null,null,null,null,null,null,null,null,{"$f":"IFERROR(VLOOKUP(T19952,Códigos!B:C,2,0),\" \")","v":" "}]
[null,null,null,null,null,null,null,null,null,null,null,null,null,null,null,null,null,null,null,null,{"$f":"IFERROR(VLOOKUP(T19953,Códigos!B:C,2,0),\" \")","v":" "}]
[null,null,null,null,null,null,null,null,null,null,null,null,null,null,null,null,null,null,null,null,{"$f":"IFERROR(VLOOKUP(T19954,Códigos!B:C,2,0),\" \")","v":" "}]
[null,null,null,null,null,null,null,null,null,null,null,null,null,null,null,null,null,null,null,null,{"$f":"IFERROR(VLOOKUP(T19955,Códigos!B:C,2,0),\" \")","v":" "}]
[null,null,null,null,null,null,null,null,null,null,null,null,null,null,null,null,null,null,null,null,{"$f":"IFERROR(VLOOKUP(T19956,Códigos!B:C,2,0),\" \")","v":" "}]
[null,null,null,null,null,null,null,null,null,null,null,null,null,null,null,null,null,null,null,null,{"$f":"IFERROR(VLOOKUP(T19957,Códigos!B:C,2,0),\" \")","v":" "}]
[null,null,null,null,null,null,null,null,null,null,null,null,null,null,null,null,null,null,null,null,{"$f":"IFERROR(VLOOKUP(T19958,Códigos!B:C,2,0),\" \")","v":" "}]
[null,null,null,null,null,null,null,null,null,null,null,null,null,null,null,null,null,null,null,null,{"$f":"IFERROR(VLOOKUP(T19959,Códigos!B:C,2,0),\" \")","v":" "}]
[null,null,null,null,null,null,null,null,null,null,null,null,null,null,null,null,null,null,null,null,{"$f":"IFERROR(VLOOKUP(T19960,Códigos!B:C,2,0),\" \")","v":" "}]
[null,null,null,null,null,null,null,null,null,null,null,null,null,null,null,null,null,null,null,null,{"$f":"IFERROR(VLOOKUP(T19961,Códigos!B:C,2,0),\" \")","v":" "}]
[null,null,null,null,null,null,null,null,null,null,null,null,null,null,null,null,null,null,null,null,{"$f":"IFERROR(VLOOKUP(T19962,Códigos!B:C,2,0),\" \")","v":" "}]
[null,null,null,null,null,null,null,null,null,null,null,null,null,null,null,null,null,null,null,null,{"$f":"IFERROR(VLOOKUP(T19963,Códigos!B:C,2,0),\" \")","v":" "}]
[null,null,null,null,null,null,null,null,null,null,null,null,null,null,null,null,null,null,null,null,{"$f":"IFERROR(VLOOKUP(T19964,Códigos!B:C,2,0),\" \")","v":" "}]
[null,null,null,null,null,null,null,null,null,null,null,null,null,null,null,null,null,null,null,null,{"$f":"IFERROR(VLOOKUP(T19965,Códigos!B:C,2,0),\" \")","v":" "}]
[null,null,null,null,null,null,null,null,null,null,null,null,null,null,null,null,null,null,null,null,{"$f":"IFERROR(VLOOKUP(T19966,Códigos!B:C,2,0),\" \")","v":" "}]
[null,null,null,null,null,null,null,null,null,null,null,null,null,null,null,null,null,null,null,null,{"$f":"IFERROR(VLOOKUP(T19967,Códigos!B:C,2,0),\" \")","v":" "}]
[null,null,null,null,null,null,null,null,null,null,null,null,null,null,null,null,null,null,null,null,{"$f":"IFERROR(VLOOKUP(T19968,Códigos!B:C,2,0),\" \")","v":" "}]
[null,null,null,null,null,null,null,null,null,null,null,null,null,null,null,null,null,null,null,null,{"$f":"IFERROR(VLOOKUP(T19969,Códigos!B:C,2,0),\" \")","v":" "}]
[null,null,null,null,null,null,null,null,null,null,null,null,null,null,null,null,null,null,null,null,{"$f":"IFERROR(VLOOKUP(T19970,Códigos!B:C,2,0),\" \")","v":" "}]
[null,null,null,null,null,null,null,null,null,null,null,null,null,null,null,null,null,null,null,null,{"$f":"IFERROR(VLOOKUP(T19971,Códigos!B:C,2,0),\" \")","v":" "}]
[null,null,null,null,null,null,null,null,null,null,null,null,null,null,null,null,null,null,null,null,{"$f":"IFERROR(VLOOKUP(T19972,Códigos!B:C,2,0),\" \")","v":" "}]
[null,null,null,null,null,null,null,null,null,null,null,null,null,null,null,null,null,null,null,null,{"$f":"IFERROR(VLOOKUP(T19973,Códigos!B:C,2,0),\" \")","v":" "}]
[null,null,null,null,null,null,null,null,null,null,null,null,null,null,null,null,null,null,null,null,{"$f":"IFERROR(VLOOKUP(T19974,Códigos!B:C,2,0),\" \")","v":" "}]
[null,null,null,null,null,null,null,null,null,null,null,null,null,null,null,null,null,null,null,null,{"$f":"IFERROR(VLOOKUP(T19975,Códigos!B:C,2,0),\" \")","v":" "}]
[null,null,null,null,null,null,null,null,null,null,null,null,null,null,null,null,null,null,null,null,{"$f":"IFERROR(VLOOKUP(T19976,Códigos!B:C,2,0),\" \")","v":" "}]
[null,null,null,null,null,null,null,null,null,null,null,null,null,null,null,null,null,null,null,null,{"$f":"IFERROR(VLOOKUP(T19977,Códigos!B:C,2,0),\" \")","v":" "}]
[null,null,null,null,null,null,null,null,null,null,null,null,null,null,null,null,null,null,null,null,{"$f":"IFERROR(VLOOKUP(T19978,Códigos!B:C,2,0),\" \")","v":" "}]
[null,null,null,null,null,null,null,null,null,null,null,null,null,null,null,null,null,null,null,null,{"$f":"IFERROR(VLOOKUP(T19979,Códigos!B:C,2,0),\" \")","v":" "}]
[null,null,null,null,null,null,null,null,null,null,null,null,null,null,null,null,null,null,null,null,{"$f":"IFERROR(VLOOKUP(T19980,Códigos!B:C,2,0),\" \")","v":" "}]
[null,null,null,null,null,null,null,null,null,null,null,null,null,null,null,null,null,null,null,null,{"$f":"IFERROR(VLOOKUP(T19981,Códigos!B:C,2,0),\" \")","v":" "}]
[null,null,null,null,null,null,null,null,null,null,null,null,null,null,null,null,null,null,null,null,{"$f":"IFERROR(VLOOKUP(T19982,Códigos!B:C,2,0),\" \")","v":" "}]
[null,null,null,null,null,null,null,null,null,null,null,null,null,null,null,null,null,null,null,null,{"$f":"IFERROR(VLOOKUP(T19983,Códigos!B:C,2,0),\" \")","v":" "}]
[null,null,null,null,null,null,null,null,null,null,null,null,null,null,null,null,null,null,null,null,{"$f":"IFERROR(VLOOKUP(T19984,Códigos!B:C,2,0),\" \")","v":" "}]
[null,null,null,null,null,null,null,null,null,null,null,null,null,null,null,null,null,null,null,null,{"$f":"IFERROR(VLOOKUP(T19985,Códigos!B:C,2,0),\" \")","v":" "}]
[null,null,null,null,null,null,null,null,null,null,null,null,null,null,null,null,null,null,null,null,{"$f":"IFERROR(VLOOKUP(T19986,Códigos!B:C,2,0),\" \")","v":" "}]
[null,null,null,null,null,null,null,null,null,null,null,null,null,null,null,null,null,null,null,null,{"$f":"IFERROR(VLOOKUP(T19987,Códigos!B:C,2,0),\" \")","v":" "}]
[null,null,null,null,null,null,null,null,null,null,null,null,null,null,null,null,null,null,null,null,{"$f":"IFERROR(VLOOKUP(T19988,Códigos!B:C,2,0),\" \")","v":" "}]
[null,null,null,null,null,null,null,null,null,null,null,null,null,null,null,null,null,null,null,null,{"$f":"IFERROR(VLOOKUP(T19989,Códigos!B:C,2,0),\" \")","v":" "}]
[null,null,null,null,null,null,null,null,null,null,null,null,null,null,null,null,null,null,null,null,{"$f":"IFERROR(VLOOKUP(T19990,Códigos!B:C,2,0),\" \")","v":" "}]
[null,null,null,null,null,null,null,null,null,null,null,null,null,null,null,null,null,null,null,null,{"$f":"IFERROR(VLOOKUP(T19991,Códigos!B:C,2,0),\" \")","v":" "}]
[null,null,null,null,null,null,null,null,null,null,null,null,null,null,null,null,null,null,null,null,{"$f":"IFERROR(VLOOKUP(T19992,Códigos!B:C,2,0),\" \")","v":" "}]
[null,null,null,null,null,null,null,null,null,null,null,null,null,null,null,null,null,null,null,null,{"$f":"IFERROR(VLOOKUP(T19993,Códigos!B:C,2,0),\" \")","v":" "}]
[null,null,null,null,null,null,null,null,null,null,null,null,null,null,null,null,null,null,null,null,{"$f":"IFERROR(VLOOKUP(T19994,Códigos!B:C,2,0),\" \")","v":" "}]
[null,null,null,null,null,null,null,null,null,null,null,null,null,null,null,null,null,null,null,null,{"$f":"IFERROR(VLOOKUP(T19995,Códigos!B:C,2,0),\" \")","v":" "}]
[null,null,null,null,null,null,null,null,null,null,null,null,null,null,null,null,null,null,null,null,{"$f":"IFERROR(VLOOKUP(T19996,Códigos!B:C,2,0),\" \")","v":" "}]
[null,null,null,null,null,null,null,null,null,null,null,null,null,null,null,null,null,null,null,null,{"$f":"IFERROR(VLOOKUP(T19997,Códigos!B:C,2,0),\" \")","v":" "}]
[null,null,null,null,null,null,null,null,null,null,null,null,null,null,null,null,null,null,null,null,{"$f":"IFERROR(VLOOKUP(T19998,Códigos!B:C,2,0),\" \")","v":" "}]
[null,null,null,null,null,null,null,null,null,null,null,null,null,null,null,null,null,null,null,null,{"$f":"IFERROR(VLOOKUP(T19999,Códigos!B:C,2,0),\" \")","v":" "}]
[null,null,null,null,null,null,null,null,null,null,null,null,null,null,null,null,null,null,null,null,{"$f":"IFERROR(VLOOKUP(T20000,Códigos!B:C,2,0),\" \")","v":" "}]

{"sheet":"Info General","index":1,"n_rows":33,"n_cols":40,"rows_kept":33,"cut":false,"hidden":true,"merged":[[0,8,0,11],[0,14,0,21],[0,29,0,36]]}
["Origen de los residuos",null,"Tipo de Residuo","Ordinario","No_Peligroso","Especial","Peligroso",null,"DATOS GENERALES",null,null,null,null,null,"CANTONES",null,null,null,null,null,null,null,null,"Tipo de Gestión",null,null,"Gestión de Salida","Gestión de Salida 2",null,"Clasificación Tipo Gestión",null,null,null,null,null,null,null,null,null,"Destino"]
["Ente Generador",null,"Ordinario","Ordinario","No Peligroso","Llantas","Bioinfecciosos  ",null,"Año","Mes","Día","TRIMESTRE",null,null,"PROVINCIA","SAN_JOSÉ","ALAJUELA","CARTAGO","HEREDIA","PUNTARENAS","GUANACASTE","LIMÓN",null,"Recolección",null,null,"Transferencia","Acopio",null,"Recolección","Transporte","Acopio","Preparación para la valorización","Valorización","Tratamiento","Disposición Final","Exportación",null,null,"Otro Gestor"]
["Unidad de Cumplimiento",null,"No_Peligroso",null,null,"Baterías Ácido Plomo","Corrosivos",null,2020,"ENERO",1,"I",null,null,"SAN_JOSÉ","SAN_JOSÉ_","ALAJUELA_","CARTAGO_","HEREDIA_","PUNTARENAS_","LIBERIA","LIMÓN_",null,"Transporte",null,null,"Acopio","Disposición Final",null,"Transferencia","Transferencia","Acopio","Transferencia","Reutilización","Incineración","Relleno Sanitario","Exportación",null,null,"Valorización"]
["Gestor Autorizado de Residuos",null,"Especial2",null,null,"Pilas de reloj, pilas: carbón-manganeso, carbón-zinc, litio-cadmio, litio y zinc","Radioactivos",null,2021,"FEBRERO",2,"II",null,null,"ALAJUELA","ESCAZÚ","SAN_RAMÓN","PARAÍSO","BARVA","ESPARZA","NICOYA","POCOCÍ",null,"Acopio",null,null,"Reutilización","Exportación",null,null,null,null,null,"Reciclaje","Tratamiento térmico distinto a los anteriores","Vertedero (cierre técnico / Proceso Judicial)",null,null,null,"Exportación"]
["Importación",null,"Peligroso",null,null,"Aceite lubricante usado.","Explosivos",null,2022,"MARZO",3,"III",null,null,"CARTAGO","DESAMPARADOS","GRECIA","LA_UNIÓN","SANTO_DOMINGO","BUENOS_AIRES","SANTA_CRUZ","SIQUIRRES",null,"Preparación para la valorización",null,null,"Reciclaje","Preparación para la valorización",null,null,null,null,null,"Co-procesamiento con recuperación de energía","Tratamiento físico, químico y/o biológico",null,null,null,null,"Municipalidad"]
[null,null,null,null,null,"Envases plásticos para contener aceites lubricantes","Tóxicos",null,2023,"ABRIL",4,"IV",null,null,"HEREDIA","PURISCAL","SAN_MATEO","JIMÉNEZ","SANTA_BARBARA","MONTES_DE_ORO","BAGACES","TALAMANCA",null,"Valorización",null,null,"Co-procesamiento con recuperación de energía","Transferencia",null,null,null,null,null,"Co-procesamiento sin recuperación de energía",null,null,null,null,null,"Disposición Final"]
[null,null,null,null,null,"Envases metálicos, plástico y vidrio para contener agroquímicos (después del triple lavado)","Inflamables",null,2024,"MAYO",5,null,null,null,"PUNTARENAS","TARRAZÚ","ATENAS","TURRIALBA","SAN_RAFAEL","OSA","CARRILLO","MATINA",null,"Tratamiento",null,null,"Co-procesamiento sin recuperación de energía","Tratamiento",null,null,null,null,null,"Co-incineración con recuperación de energía"]
[null,null,null,null,null,"Refrigerantes","Otro",null,2025,"JUNIO",6,null,null,null,"GUANACASTE","ASERRÍ","NARANJO","ALVARADO","SAN_ISIDRO","QUEPOS","CAÑAS","GUÁCIMO",null,"Disposición Final",null,null,"Co-incineración con recuperación de energía","Valorización",null,null,null,null,null,"Combustible alterno"]
[null,null,null,null,null,"Colchones",null,null,2026,"JULIO",7,null,null,null,"LIMÓN","MORA","PALMARES","OREAMUNO","BELÉN","GOLFITO","ABANGARES",null,null,"Exportación",null,null,"Combustible alterno",null,null,null,null,null,null,"Compostaje"]
[null,null,null,null,null,"Poliestireno",null,null,2027,"AGOSTO",8,null,null,null,null,"GOICOCHEA","POÁS","EL_GUARCO","FLORES","COTO_BRUS","TILARÁN",null,null,null,null,null,"Compostaje",null,null,null,null,null,null,"Descomposición anaeróbica"]
[null,null,null,null,null,"Vehículos automotores y equipo especial",null,null,2028,"SEPTIEMBRE",9,null,null,null,null,"SANTA_ANA","OROTINA",null,"SAN_PABLO","PARRITA","NANDAYURE",null,null,null,null,null,"Descomposición anaeróbica"]
[null,null,null,null,null,"AEE Categoria 1.Refrigeradores, congeladores, aires acondicionados e intercambiadores",null,null,2029,"OCTUBRE",10,null,null,null,null,"ALAJUELITA","SAN_CARLOS",null,"SARAPIQUÍ","CORREDORES","LA_CRUZ",null,null,null,null,null,"Incineración"]
[null,null,null,null,null,"AEE Categoría 2. Monitores, pantallas,y aparatos con pantallas de superficie mayor a (10x10 cm) 100 cm2, incluye Laptops y tablets (línea café excepto celulares)",null,null,null,"NOVIEMBRE",11,null,null,null,null,"VAZQUEZ_DE_CORONADO","ZARCERO",null,null,"GARABITO","HOJANCHA",null,null,null,null,null,"Tratamiento térmico distinto a los anteriores"]
[null,null,null,null,null,"AEE Categoría 3. Lámparas (Lámparas de descarga (mercurio), fluorescentes y  LED)",null,null,null,"DICIEMBRE",12,null,null,null,null,"ACOSTA","SARCHÍ",null,null,null,null,null,null,null,null,null,"Tratamiento físico, químico y/o biológico"]
[null,null,null,null,null,"AEE Categoria 4. Grandes aparatos (con dimensión exterior superior a 50 cm en cualquiera de sus lados)",null,null,null,null,13,null,null,null,null,"TIBÁS","UPALA",null,null,null,null,null,null,null,null,null,"Relleno Sanitario"]
[null,null,null,null,null,"AEE Categoria 5. Pequeños aparatos (sin ninguna dimensión exterior superior a 50 cm) (línea blanca y coincide con artefactos eléctricos)",null,null,null,null,14,null,null,null,null,"MORAVIA","LOS_CHILES",null,null,null,null,null,null,null,null,null,"Vertedero (cierre técnico / Proceso Judicial)"]
[null,null,null,null,null,"AEE Categoría 6. Equipos de informática y telecomunicaciones pequeños (sin ninguna dimensión exterior superior a los 50 cm), incluye accesorios, periféricos y partes (línea gris)",null,null,null,null,15,null,null,null,null,"MONTES_DE_OCA","GUATUSO",null,null,null,null,null,null,null,null,null,"Exportación"]
[null,null,null,null,null,null,null,null,null,null,16,null,null,null,null,"TURRUBARES","RIO_CUARTO"]
[null,null,null,null,null,null,null,null,null,null,17,null,null,null,null,"DOTA"]
[null,null,null,null,null,null,null,null,null,null,18,null,null,null,null,"CURRIDABAT"]
[null,null,null,null,null,null,null,null,null,null,19,null,null,null,null,"PÉREZ_ZELEDÓN"]
[null,null,null,null,null,null,null,null,null,null,20,null,null,null,null,"LEÓN_CORTÉS"]
[null,null,null,null,null,null,null,null,null,null,21]
[null,null,null,null,null,null,null,null,null,null,22]
[null,null,null,null,null,null,null,null,null,null,23]
[null,null,null,null,null,null,null,null,null,null,24]
[null,null,null,null,null,null,null,null,null,null,25]
[null,null,null,null,null,null,null,null,null,null,26]
[null,null,null,null,null,null,null,null,null,null,27]
[null,null,null,null,null,null,null,null,null,null,28]
[null,null,null,null,null,null,null,null,null,null,29]
[null,null,null,null,null,null,null,null,null,null,30]
[null,null,null,null,null,null,null,null,null,null,31]

{"sheet":"Distritos","index":2,"n_rows":83,"n_cols":84,"rows_kept":83,"cut":false,"hidden":true,"merged":[]}
["PROVINCIA","CANTONES","DISTRITOS"]
[null,"SAN_JOSÉ_","SAN_JOSÉ_","ESCAZÚ","DESAMPARADOS","PURISCAL","TARRAZÚ","ASERRÍ","MORA","GOICOCHEA","SANTA_ANA","ALAJUELITA","VAZQUEZ_DE_CORONADO","ACOSTA","TIBÁS","MORAVIA","MONTES_DE_OCA","TURRUBARES","DOTA","CURRIDABAT","PÉREZ_ZELEDÓN","LEÓN_CORTÉS","ALAJUELA_","SAN_RAMÓN","GRECIA","SAN_MATEO","ATENAS","NARANJO","PALMARES","POÁS","OROTINA","SAN_CARLOS","ZARCERO","SARCHÍ","UPALA","LOS_CHILES","GUATUSO","RIO_CUARTO","CARTAGO_","PARAÍSO","LA_UNIÓN","JIMÉNEZ","TURRIALBA","ALVARADO","OREAMUNO","EL_GUARCO","HEREDIA_","BARVA","SANTO_DOMINGO","SANTA_BARBARA","SAN_RAFAEL","SAN_ISIDRO","BELÉN","FLORES","SAN_PABLO","SARAPIQUÍ","LIBERIA","NICOYA","SANTA_CRUZ","BAGACES","CARRILLO","CAÑAS","ABANGARES","TILARÁN","NANDAYURE","LA_CRUZ","HOJANCHA","PUNTARENAS_","ESPARZA","BUENOS_AIRES","MONTES_DE_ORO","OSA","QUEPOS","GOLFITO","COTO_BRUS","PARRITA","CORREDORES","GARABITO","LIMÓN_","POCOCÍ","SIQUIRRES","TALAMANCA","MATINA","GUÁCIMO"]
["SAN_JOSÉ","ESCAZÚ","CARMEN","ESCAZÚ","DESAMPARADOS","SANTIAGO","SAN MARCOS","ASERRÍ","CIUDAD COLÓN","GUADALUPE","SANTA ANA","ALAJUELITA","SAN ISIDRO","SAN IGNACIO","SAN JUAN","SAN VICENTE","SAN PEDRO","SAN PABLO","SANTA MARÍA","CURRIDABAT","SAN ISIDRO","SAN PABLO","ALAJUELA","SAN RAMÓN","GRECIA","SAN MATEO","ATENAS","NARANJO","PALMARES","SAN PEDRO","OROTINA","QUESADA","ZARCERO","SARCHÍ NORTE","UPALA","LOS CHILES","SAN RAFAEL ","RÍO CUARTO","ORIENTAL","PARAÍSO","TRES RÍOS","JUAN VIÑAS","TURRIALBA","PACAYAS","SAN RAFAEL ","TEJAR","HEREDIA","BARVA","SANTO DOMINGO","SANTA BÁRBARA","SAN RAFAEL","SAN ISIDRO","SAN ANTONIO","SAN JOAQUÍN","SAN PABLO","PUESTO VIEJO","LIBERIA","NICOYA","SANTA CRUZ","BAGACES","FILADELFIA","CAÑAS","JUNTAS","TILARÁN","CARMONA","LA CRUZ","HOJANCHA","PUNTARENAS","ESPÍRITU SANTO","BUENOS AIRES","MIRAMAR","PUERTO CORTÉS","QUEPOS","GOLFITO","SAN VITO","PARRITA","CORREDORES","JACÓ","LIMÓN","Guápiles","SIQUIRRES","BRATSI","MATINA","GUÁCIMO"]
["ALAJUELA","DESAMPARADOS","MERCED","SAN ANTONIO","SAN MIGUEL","MERCEDES SUR","SAN LORENZO","TARBACA","GUAYABO","SAN FRANCISCO","SALITRAL","SAN JOSECITO","SAN RAFAEL","GUAITIL","CINCO ESQUINAS","SAN JERÓNIMO","SABANILLA","SAN PEDRO","JARDÍN","GRANADILLA","GENERAL","SAN ANDRÉS","SAN JOSÉ","SANTIAGO","SAN ISIDRO","DESMONTE","JESÚS","SAN MIGUEL","ZARAGOZA","SAN JUAN ","MASTATE","FLORENCIA","LAGUNA","SARCHÍ SUR","AGUAS CLARAS","CAÑO NEGRO","BUENA VISTA",null,"OCCIDENTAL","SANTIAGO","SAN DIEGO","TUCURRIQUE","LA SUIZA","CERVANTES","COT","SAN ISIDRO","MERCEDES","SAN PEDRO","SAN VICENTE","SAN PEDRO","SAN JOSECITO","SAN JOSÉ","LA RIVERA","BARRANTES",null,"LA VIRGEN","CAÑAS DULCES","MASIÓN","BOLSÓN","FORTUNA","PALMIRA","PALMIRA","SIERRA","QUEBRADA GRANDE","SANTA RITA","SANTA CECILIA","MONTE ROMO","PITAHAYA","SAN JUAN GRANDE","VOLCÁN","UNIÓN","PALMAR","SAVEGRE","PUERTO JIMÉNEZ","SABALITO",null,"LA CUESTA","TÁRCOLES","VALLE LA ESTRELLA","Jiménez","PACUARITO","SIXAOLA","BATÁN","MERCEDES"]
["CARTAGO","PURISCAL","HOSPITAL","SAN RAFAEL","SAN JUAN DE DIOS","BARBACOAS","SAN CARLOS","VUELTA DE JORCO","TABARCIA","CALLE BLANCOS","POZOS","SAN ANTONIO","DULCE NOMBRE","PALMICHAL","LLORENTE","LA TRINIDAD","BETANIA","SAN JUAN DE MATA","COPEY","SÁNCHEZ","DANIEL FLORES","LLANO BONITO","CARRIZAL","SAN JUAN","SAN JOSÉ","JESÚS MARÍA","MERCEDES","SAN JOSÉ","BUENOS AIRES","SAN RAFAEL","HACIENDA VIEJA","BUENA VISTA","TAPEZCO","TORO AMARILLO","SAN JOSÉ","AMPARO","COTE",null,"CARMEN","OROSI","SAN JUAN","PEJIBAYE","PERALTA","CAPELLADES","POTRERO CERRADO","TOBOSI","SAN FRANCISCO","SAN PABLO","SAN MIGUEL","SAN JUAN","SANTIAGO","CONCEPCIÓN","ASUNCIÓN","LLORENTE",null,"HORQUETAS","MAYORGA","SAN ANTONIO","VEINTISIETE DE ABRIL","MOGOTE","SARDINAL","SAN MIGUEL","SAN JUAN","TRONADORA","ZAPOTAL","GARITA","PUERTO CARRILLO","CHOMES","MACACONA","POTRERO GRANDE","SAN ISIDRO","SIERPE","NARANJITO","GUAYCARÁ","AGUA BUENA",null,"PASO CANOAS","","RÍO BLANCO","Rita","FLORIDA","CAHUITA","CARRANDÍ","POCORA"]
["HEREDIA","TARRAZÚ","CATEDRAL",null,"SAN RAFAEL ARRIBA","GRIFO ALTO",null,"SAN GABRIEL","PIEDRAS NEGRAS","CARMEN","URUCA","CONCEPCIÓN","SAN ANTONIO","CANGREJAL","LEÓN XIII",null,"SAN RAFAEL","SAN LUIS",null,"TIRRASES","RIVAS","SAN ISIDRO","SAN ANTONIO","PIEDADES NORTE","SAN ROQUE","LABRADOR","CONCEPCIÓN","CIRRÍ SUR","SANTIAGO","CARRILLOS SABANA REDONDA","COYOLAR","AGUAS ZARCAS","GUADALUPE","SAN PEDRO","BIJAGUA","SAN JORGE",null,null,"SAN NICOLÁS","CACHÍ","SAN RAFAEL",null,"SANTA CRUZ",null,"CIPRESES","PATIO DE AGUA","ULLOA","SAN ROQUE","PARACITO","JESÚS","ÁNGELES","SAN FRANCISCO","",null,null,"LLANURAS DE GASPAR","NACASCOLO","QUEBRADA HONDA","TEMPATE","RÍO NARANJO","BELÉN","BEBEDERO","COLORADO","SANTA ROSA","SAN PABLO","SANTA ELENA","HUACAS","LEPANTO","SAN RAFAEL","BORUCA",null,"BAHÍA BALLENA",null,"PAVONES","LIMONCITO",null,"LAUREL",null,"MATAMA","Roxana","GERMANIA","TELIRE",null,"RÍO JIMÉNEZ"]
["PUNTARENAS","ASERRÍ","ZAPOTE",null,"SAN ANTONIO","SAN RAFAEL",null,"LEGUA","PICAGRES","IPÍS","PIEDADES","SAN FELIPE","CARCAJAL","SABANILLAS","COLIMA",null,null,"CARARA",null,null,"SAN PEDRO","SANTA CRUZ","GUÁCIMA","PIEDADES SUR","TACARES",null,"SAN JOSÉ","SAN JERÓNIMO","CALENDARIA",null,"CEIBA","VENECIA","PALMIRA","RODRÍGUEZ","DELICIAS",null,null,null,"AGUACALIENTE","LLANOS DE SANTA LUCÍA","CONCEPCIÓN",null,"SANTA TERESITA",null,"SANTA ROSA",null,"VARA BLANCA","SANTA LUCÍA","SANTO TOMÁS","SANTO DOMINGO DEL ROBLE","CONCEPCIÓN",null,null,null,null,"CUREÑA","CURUBANDE","SÁMARA","CARTAGENA",null,null,"POROZAL",null,"LÍBANO","PORVENIR",null,null,"PAQUERA","SAN JERÓNIO","PILAS",null,"PIEDRAS BLANCAS",null,null,"Pittier",null,null,null,null,"Cariari","CAIRO",null,null,"DUACARÍ"]
["GUANACASTE","MORA","SAN FRANCISCO DE DOS RÍOS",null,"FRAILES","CALENDARITA",null,"MONTERREY",null,"RANCHO REDONDO","BRASIL",null,null,null,null,null,null,null,null,null,"PLATANARES","SAN ANTONIO","SAN ISIDRO","SAN RAFAEL","RÍO CUARTO",null,"SANTA EULALIA","SAN JUAN","ESUIPULAS",null,null,"PITAL","ZAPOTE",null,"DOS RÍOS",null,null,null,"GUADALUPE",null,"DULCE NOMBRE",null,"PAVONES",null,null,null,null,"SAN JOSÉ DE LA MONTAÑA","SANTA ROSA","PURABA",null,null,null,null,null,null,null,"NOSARA","CUAJINIQUIL",null,null,null,null,"TIERRAS MORENAS","BEJUCO",null,null,"MANZANILLO",null,"COLINAS",null,null,null,null,null,null,null,null,null,"Colorado","ALEGRÍA"]
["LIMÓN","GOICOCHEA","URUCA",null,"PATARRÁ","DESAMPARADITOS",null,"SALITRILLOS",null,"PURRAL",null,null,null,null,null,null,null,null,null,null,"PEJIBAYE",null,"SABANILLA","SAN ISIDRO","PUENTE DE PIEDRA",null,"ESCOBAL","EL ROSARIO","LA GRANJA",null,null,"FORTUNA","LAS BRISAS",null,"YOLLILLAL",null,null,null,"CORRALILLO",null,"SAN RAMÓN ",null,"TUIS",null,null,null,null,null,"TURES",null,null,null,null,null,null,null,null,"BELÉN DE NOSARITA","DIRIÁ",null,null,null,null,"ARENAL",null,null,null,"GUACIMAL",null,"CHÁNGUENA"]
[null,"SANTA_ANA","MORENOS",null,"SAN CRISTÓBAL NORTE","SAN ANTONIO",null,null,null,null,null,null,null,null,null,null,null,null,null,null,"CAJÓN",null,"SAN RAFAEL","ÁNGELES","BOLÍVAR",null,null,"PALMITOS",null,null,null,"TIGRA",null,null,null,null,null,null,"TIERRA BLANCA",null,"RÍO AZUL",null,"TAYUTIC",null,null,null,null,null,"PARÁ",null,null,null,null,null,null,null,null,null,"CABO VELAS",null,null,null,null,null,null,null,null,"BARRANCA",null,"BIOLEY"]
[null,"ALAJUELITA","PAVAS",null,"ROSARIO","CRISTO REY",null,null,null,null,null,null,null,null,null,null,null,null,null,null,"BARÚ",null,"RÍO SEGUNDO ","ALFARO",null,null,null,null,null,null,null,"PALMERA",null,null,null,null,null,null,"DULCE NOMBRE",null,null,null,"SANTA ROSA",null,null,null,null,null,null,null,null,null,null,null,null,null,null,null,"TAMARINDO",null,null,null,null,null,null,null,null,"MONTEVERDE",null,"BRUNCA"]
[null,"VAZQUEZ_DE_CORONADO","HATILLO",null,"DAMAS",null,null,null,null,null,null,null,null,null,null,null,null,null,null,null,"RÍO NUEVO",null,"DESAMPARADOS","VOLIO",null,null,null,null,null,null,null,"VENADO",null,null,null,null,null,null,"LLANO GRANDE",null,null,null,"TRES EQUIS",null,null,null,null,null,null,null,null,null,null,null,null,null,null,null,null,null,null,null,null,null,null,null,null,"ISLA DEL COCO"]
[null,"ACOSTA","SAN SEBASTIÁN",null,"SAN RAFAEL ABAJO",null,null,null,null,null,null,null,null,null,null,null,null,null,null,null,"PÁRAMO",null,"TURRÚCARES","CONCEPCIÓN",null,null,null,null,null,null,null,"CUTRIS",null,null,null,null,null,null,"QUEBRADILLA",null,null,null,"LA ISABEL",null,null,null,null,null,null,null,null,null,null,null,null,null,null,null,null,null,null,null,null,null,null,null,null,"CÓBANO"]
[null,"TIBÁS",null,null,"GRAVILIAS",null,null,null,null,null,null,null,null,null,null,null,null,null,null,null,null,null,"TAMBOR","ZAPOTAL",null,null,null,null,null,null,null,"MONTERREY",null,null,null,null,null,null,null,null,null,null,"CHIRRIPÓ",null,null,null,null,null,null,null,null,null,null,null,null,null,null,null,null,null,null,null,null,null,null,null,null,"CHACARITA"]
[null,"MORAVIA",null,null,"LOS GUIDO",null,null,null,null,null,null,null,null,null,null,null,null,null,null,null,null,null,"GARITA","PEÑAS BLANCAS",null,null,null,null,null,null,null,"POCOSOL",null,null,null,null,null,null,null,null,null,null,null,null,null,null,null,null,null,null,null,null,null,null,null,null,null,null,null,null,null,null,null,null,null,null,null,"CHIRA"]
[null,"MONTES_DE_OCA",null,null,null,null,null,null,null,null,null,null,null,null,null,null,null,null,null,null,null,null,"SARAPIQUÍ",null,null,null,null,null,null,null,null,null,null,null,null,null,null,null,null,null,null,null,null,null,null,null,null,null,null,null,null,null,null,null,null,null,null,null,null,null,null,null,null,null,null,null,null,"ACAPULCO"]
[null,"TURRUBARES",null,null,null,null,null,null,null,null,null,null,null,null,null,null,null,null,null,null,null,null,null,null,null,null,null,null,null,null,null,null,null,null,null,null,null,null,null,null,null,null,null,null,null,null,null,null,null,null,null,null,null,null,null,null,null,null,null,null,null,null,null,null,null,null,null,"EL ROBLE"]
[null,"DOTA",null,null,null,null,null,null,null,null,null,null,null,null,null,null,null,null,null,null,null,null,null,null,null,null,null,null,null,null,null,null,null,null,null,null,null,null,null,null,null,null,null,null,null,null,null,null,null,null,null,null,null,null,null,null,null,null,null,null,null,null,null,null,null,null,null,"ARANCIBIA"]
[null,"CURRIDABAT"]
[null,"PÉREZ_ZELEDÓN"]
[null,"LEÓN_CORTÉS"]
[null,"ALAJUELA_"]
[null,"SAN_RAMÓN"]
[null,"GRECIA"]
[null,"SAN_MATEO"]
[null,"ATENAS"]
[null,"NARANJO"]
[null,"PALMARES"]
[null,"POÁS"]
[null,"OROTINA"]
[null,"SAN_CARLOS"]
[null,"ZARCERO"]
[null,"SARCHÍ"]
[null,"UPALA"]
[null,"LOS_CHILES"]
[null,"GUATUSO"]
[null,"RIO_CUARTO"]
[null,"CARTAGO_"]
[null,"PARAÍSO"]
[null,"LA_UNIÓN"]
[null,"JIMÉNEZ"]
[null,"TURRIALBA"]
[null,"ALVARADO"]
[null,"OREAMUNO"]
[null,"EL_GUARCO"]
[null,"HEREDIA_"]
[null,"BARVA"]
[null,"SANTO_DOMINGO"]
[null,"SANTA_BARBARA"]
[null,"SAN_RAFAEL"]
[null,"SAN_ISIDRO"]
[null,"BELÉN"]
[null,"FLORES"]
[null,"SAN_PABLO"]
[null,"SARAPIQUÍ"]
[null,"PUNTARENAS_"]
[null,"ESPARZA"]
[null,"BUENOS_AIRES"]
[null,"MONTES_DE_ORO"]
[null,"OSA"]
[null,"QUEPOS"]
[null,"GOLFITO"]
[null,"COTO_BRUS"]
[null,"PARRITA"]
[null,"CORREDORES"]
[null,"GARABITO"]
[null,"LIBERIA"]
[null,"NICOYA"]
[null,"SANTA_CRUZ"]
[null,"BAGACES"]
[null,"CARRILLO"]
[null,"CAÑAS"]
[null,"ABANGARES"]
[null,"TILARÁN"]
[null,"NANDAYURE"]
[null,"LA_CRUZ"]
[null,"HOJANCHA"]
[null,"LIMÓN_"]
[null,"POCOCÍ"]
[null,"SIQUIRRES"]
[null,"TALAMANCA"]
[null,"MATINA"]
[null,"GUÁCIMO"]

{"sheet":"Salidas","index":3,"n_rows":10000,"n_cols":11,"rows_kept":10000,"cut":false,"hidden":false,"merged":[]}
["5.1 Tipo de Residuo","5.2 Categorización del Residuo","5.3 Descripción de los Residuos","5.4 Código","5.5 Descripción de los Residuos según Código","5.6 Tipo de Gestión","6.1 No. de envío","6.2 Cantidad","6.3 Destino","6.4  No. de Cédula de Identidad o Identificación del Destino","6.5 Nombre del Gestor Autorizado de Residuos Destino"]
[null,null,null,null,{"$f":"IFERROR(VLOOKUP(D2,Códigos!B:C,2,0),\" \")","v":" "}]
[null,null," ",null,{"$f":"IFERROR(VLOOKUP(D3,Códigos!B:C,2,0),\" \")","v":" "}]
[null,null," ",null,{"$f":"IFERROR(VLOOKUP(D4,Códigos!B:C,2,0),\" \")","v":" "}]
[null,null,null,null,{"$f":"IFERROR(VLOOKUP(D5,Códigos!B:C,2,0),\" \")","v":" "}]
[null,null," ",null,{"$f":"IFERROR(VLOOKUP(D6,Códigos!B:C,2,0),\" \")","v":" "}]
[null,null,null,null,{"$f":"IFERROR(VLOOKUP(D7,Códigos!B:C,2,0),\" \")","v":" "}]
[null,null," ",null,{"$f":"IFERROR(VLOOKUP(D8,Códigos!B:C,2,0),\" \")","v":" "}]
[null,null," ",null,{"$f":"IFERROR(VLOOKUP(D9,Códigos!B:C,2,0),\" \")","v":" "}]
[null,null," ",null,{"$f":"IFERROR(VLOOKUP(D10,Códigos!B:C,2,0),\" \")","v":" "}]
[null,null," ",null,{"$f":"IFERROR(VLOOKUP(D11,Códigos!B:C,2,0),\" \")","v":" "}]
[null,null," ",null,{"$f":"IFERROR(VLOOKUP(D12,Códigos!B:C,2,0),\" \")","v":" "}]
[null,null,null,null,{"$f":"IFERROR(VLOOKUP(D13,Códigos!B:C,2,0),\" \")","v":" "}]
[null,null," ",null,{"$f":"IFERROR(VLOOKUP(D14,Códigos!B:C,2,0),\" \")","v":" "}]
[null,null,null,null,{"$f":"IFERROR(VLOOKUP(D15,Códigos!B:C,2,0),\" \")","v":" "}]
[null,null," ",null,{"$f":"IFERROR(VLOOKUP(D16,Códigos!B:C,2,0),\" \")","v":" "}]
[null,null," ",null,{"$f":"IFERROR(VLOOKUP(D17,Códigos!B:C,2,0),\" \")","v":" "}]
[null,null," ",null,{"$f":"IFERROR(VLOOKUP(D18,Códigos!B:C,2,0),\" \")","v":" "}]
[null,null," ",null,{"$f":"IFERROR(VLOOKUP(D19,Códigos!B:C,2,0),\" \")","v":" "}]
[null,null,null,null,{"$f":"IFERROR(VLOOKUP(D20,Códigos!B:C,2,0),\" \")","v":" "}]
[null,null,null,null,{"$f":"IFERROR(VLOOKUP(D21,Códigos!B:C,2,0),\" \")","v":" "}]
[null,null,null,null,{"$f":"IFERROR(VLOOKUP(D22,Códigos!B:C,2,0),\" \")","v":" "}]
[null,null,null,null,{"$f":"IFERROR(VLOOKUP(D23,Códigos!B:C,2,0),\" \")","v":" "}]
[null,null,null,null,{"$f":"IFERROR(VLOOKUP(D24,Códigos!B:C,2,0),\" \")","v":" "}]
[null,null,null,null,{"$f":"IFERROR(VLOOKUP(D25,Códigos!B:C,2,0),\" \")","v":" "}]
[null,null,null,null,{"$f":"IFERROR(VLOOKUP(D26,Códigos!B:C,2,0),\" \")","v":" "}]
[null,null,null,null,{"$f":"IFERROR(VLOOKUP(D27,Códigos!B:C,2,0),\" \")","v":" "}]
[null,null,null,null,{"$f":"IFERROR(VLOOKUP(D28,Códigos!B:C,2,0),\" \")","v":" "}]
[null,null,null,null,{"$f":"IFERROR(VLOOKUP(D29,Códigos!B:C,2,0),\" \")","v":" "}]
[null,null,null,null,{"$f":"IFERROR(VLOOKUP(D30,Códigos!B:C,2,0),\" \")","v":" "}]
[null,null,null,null,{"$f":"IFERROR(VLOOKUP(D31,Códigos!B:C,2,0),\" \")","v":" "}]
[null,null,null,null,{"$f":"IFERROR(VLOOKUP(D32,Códigos!B:C,2,0),\" \")","v":" "}]
[null,null,null,null,{"$f":"IFERROR(VLOOKUP(D33,Códigos!B:C,2,0),\" \")","v":" "}]
[null,null,null,null,{"$f":"IFERROR(VLOOKUP(D34,Códigos!B:C,2,0),\" \")","v":" "}]
[null,null,null,null,{"$f":"IFERROR(VLOOKUP(D35,Códigos!B:C,2,0),\" \")","v":" "}]
[null,null,null,null,{"$f":"IFERROR(VLOOKUP(D36,Códigos!B:C,2,0),\" \")","v":" "}]
[null,null,null,null,{"$f":"IFERROR(VLOOKUP(D37,Códigos!B:C,2,0),\" \")","v":" "}]
[null,null,null,null,{"$f":"IFERROR(VLOOKUP(D38,Códigos!B:C,2,0),\" \")","v":" "}]
[null,null,null,null,{"$f":"IFERROR(VLOOKUP(D39,Códigos!B:C,2,0),\" \")","v":" "}]
[null,null,null,null,{"$f":"IFERROR(VLOOKUP(D40,Códigos!B:C,2,0),\" \")","v":" "}]
[null,null,null,null,{"$f":"IFERROR(VLOOKUP(D41,Códigos!B:C,2,0),\" \")","v":" "}]
[null,null,null,null,{"$f":"IFERROR(VLOOKUP(D42,Códigos!B:C,2,0),\" \")","v":" "}]
[null,null,null,null,{"$f":"IFERROR(VLOOKUP(D43,Códigos!B:C,2,0),\" \")","v":" "}]
[null,null,null,null,{"$f":"IFERROR(VLOOKUP(D44,Códigos!B:C,2,0),\" \")","v":" "}]
[null,null,null,null,{"$f":"IFERROR(VLOOKUP(D45,Códigos!B:C,2,0),\" \")","v":" "}]
[null,null,null,null,{"$f":"IFERROR(VLOOKUP(D46,Códigos!B:C,2,0),\" \")","v":" "}]
[null,null,null,null,{"$f":"IFERROR(VLOOKUP(D47,Códigos!B:C,2,0),\" \")","v":" "}]
[null,null,null,null,{"$f":"IFERROR(VLOOKUP(D48,Códigos!B:C,2,0),\" \")","v":" "}]
[null,null,null,null,{"$f":"IFERROR(VLOOKUP(D49,Códigos!B:C,2,0),\" \")","v":" "}]
[null,null,null,null,{"$f":"IFERROR(VLOOKUP(D50,Códigos!B:C,2,0),\" \")","v":" "}]
[null,null,null,null,{"$f":"IFERROR(VLOOKUP(D51,Códigos!B:C,2,0),\" \")","v":" "}]
[null,null,null,null,{"$f":"IFERROR(VLOOKUP(D52,Códigos!B:C,2,0),\" \")","v":" "}]
[null,null,null,null,{"$f":"IFERROR(VLOOKUP(D53,Códigos!B:C,2,0),\" \")","v":" "}]
[null,null,null,null,{"$f":"IFERROR(VLOOKUP(D54,Códigos!B:C,2,0),\" \")","v":" "}]
[null,null,null,null,{"$f":"IFERROR(VLOOKUP(D55,Códigos!B:C,2,0),\" \")","v":" "}]
[null,null,null,null,{"$f":"IFERROR(VLOOKUP(D56,Códigos!B:C,2,0),\" \")","v":" "}]
[null,null,null,null,{"$f":"IFERROR(VLOOKUP(D57,Códigos!B:C,2,0),\" \")","v":" "}]
[null,null,null,null,{"$f":"IFERROR(VLOOKUP(D58,Códigos!B:C,2,0),\" \")","v":" "}]
[null,null,null,null,{"$f":"IFERROR(VLOOKUP(D59,Códigos!B:C,2,0),\" \")","v":" "}]
[null,null,null,null,{"$f":"IFERROR(VLOOKUP(D60,Códigos!B:C,2,0),\" \")","v":" "}]
[null,null,null,null,{"$f":"IFERROR(VLOOKUP(D61,Códigos!B:C,2,0),\" \")","v":" "}]
[null,null,null,null,{"$f":"IFERROR(VLOOKUP(D62,Códigos!B:C,2,0),\" \")","v":" "}]
[null,null,null,null,{"$f":"IFERROR(VLOOKUP(D63,Códigos!B:C,2,0),\" \")","v":" "}]
[null,null,null,null,{"$f":"IFERROR(VLOOKUP(D64,Códigos!B:C,2,0),\" \")","v":" "}]
[null,null,null,null,{"$f":"IFERROR(VLOOKUP(D65,Códigos!B:C,2,0),\" \")","v":" "}]
[null,null,null,null,{"$f":"IFERROR(VLOOKUP(D66,Códigos!B:C,2,0),\" \")","v":" "}]
[null,null,null,null,{"$f":"IFERROR(VLOOKUP(D67,Códigos!B:C,2,0),\" \")","v":" "}]
[null,null,null,null,{"$f":"IFERROR(VLOOKUP(D68,Códigos!B:C,2,0),\" \")","v":" "}]
[null,null,null,null,{"$f":"IFERROR(VLOOKUP(D69,Códigos!B:C,2,0),\" \")","v":" "}]
[null,null,null,null,{"$f":"IFERROR(VLOOKUP(D70,Códigos!B:C,2,0),\" \")","v":" "}]
[null,null,null,null,{"$f":"IFERROR(VLOOKUP(D71,Códigos!B:C,2,0),\" \")","v":" "}]
[null,null,null,null,{"$f":"IFERROR(VLOOKUP(D72,Códigos!B:C,2,0),\" \")","v":" "}]
[null,null,null,null,{"$f":"IFERROR(VLOOKUP(D73,Códigos!B:C,2,0),\" \")","v":" "}]
[null,null,null,null,{"$f":"IFERROR(VLOOKUP(D74,Códigos!B:C,2,0),\" \")","v":" "}]
[null,null,null,null,{"$f":"IFERROR(VLOOKUP(D75,Códigos!B:C,2,0),\" \")","v":" "}]
[null,null,null,null,{"$f":"IFERROR(VLOOKUP(D76,Códigos!B:C,2,0),\" \")","v":" "}]
[null,null,null,null,{"$f":"IFERROR(VLOOKUP(D77,Códigos!B:C,2,0),\" \")","v":" "}]
[null,null,null,null,{"$f":"IFERROR(VLOOKUP(D78,Códigos!B:C,2,0),\" \")","v":" "}]
[null,null,null,null,{"$f":"IFERROR(VLOOKUP(D79,Códigos!B:C,2,0),\" \")","v":" "}]
[null,null,null,null,{"$f":"IFERROR(VLOOKUP(D80,Códigos!B:C,2,0),\" \")","v":" "}]
[null,null,null,null,{"$f":"IFERROR(VLOOKUP(D81,Códigos!B:C,2,0),\" \")","v":" "}]
[null,null,null,null,{"$f":"IFERROR(VLOOKUP(D82,Códigos!B:C,2,0),\" \")","v":" "}]
[null,null,null,null,{"$f":"IFERROR(VLOOKUP(D83,Códigos!B:C,2,0),\" \")","v":" "}]
[null,null,null,null,{"$f":"IFERROR(VLOOKUP(D84,Códigos!B:C,2,0),\" \")","v":" "}]
[null,null,null,null,{"$f":"IFERROR(VLOOKUP(D85,Códigos!B:C,2,0),\" \")","v":" "}]
[null,null,null,null,{"$f":"IFERROR(VLOOKUP(D86,Códigos!B:C,2,0),\" \")","v":" "}]
[null,null,null,null,{"$f":"IFERROR(VLOOKUP(D87,Códigos!B:C,2,0),\" \")","v":" "}]
[null,null,null,null,{"$f":"IFERROR(VLOOKUP(D88,Códigos!B:C,2,0),\" \")","v":" "}]
[null,null,null,null,{"$f":"IFERROR(VLOOKUP(D89,Códigos!B:C,2,0),\" \")","v":" "}]
[null,null,null,null,{"$f":"IFERROR(VLOOKUP(D90,Códigos!B:C,2,0),\" \")","v":" "}]
[null,null,null,null,{"$f":"IFERROR(VLOOKUP(D91,Códigos!B:C,2,0),\" \")","v":" "}]
[null,null,null,null,{"$f":"IFERROR(VLOOKUP(D92,Códigos!B:C,2,0),\" \")","v":" "}]
[null,null,null,null,{"$f":"IFERROR(VLOOKUP(D93,Códigos!B:C,2,0),\" \")","v":" "}]
[null,null,null,null,{"$f":"IFERROR(VLOOKUP(D94,Códigos!B:C,2,0),\" \")","v":" "}]
[null,null,null,null,{"$f":"IFERROR(VLOOKUP(D95,Códigos!B:C,2,0),\" \")","v":" "}]
[null,null,null,null,{"$f":"IFERROR(VLOOKUP(D96,Códigos!B:C,2,0),\" \")","v":" "}]
[null,null,null,null,{"$f":"IFERROR(VLOOKUP(D97,Códigos!B:C,2,0),\" \")","v":" "}]
[null,null,null,null,{"$f":"IFERROR(VLOOKUP(D98,Códigos!B:C,2,0),\" \")","v":" "}]
[null,null,null,null,{"$f":"IFERROR(VLOOKUP(D99,Códigos!B:C,2,0),\" \")","v":" "}]
[null,null,null,null,{"$f":"IFERROR(VLOOKUP(D100,Códigos!B:C,2,0),\" \")","v":" "}]
[null,null,null,null,{"$f":"IFERROR(VLOOKUP(D101,Códigos!B:C,2,0),\" \")","v":" "}]
[null,null,null,null,{"$f":"IFERROR(VLOOKUP(D102,Códigos!B:C,2,0),\" \")","v":" "}]
[null,null,null,null,{"$f":"IFERROR(VLOOKUP(D103,Códigos!B:C,2,0),\" \")","v":" "}]
[null,null,null,null,{"$f":"IFERROR(VLOOKUP(D104,Códigos!B:C,2,0),\" \")","v":" "}]
[null,null,null,null,{"$f":"IFERROR(VLOOKUP(D105,Códigos!B:C,2,0),\" \")","v":" "}]
[null,null,null,null,{"$f":"IFERROR(VLOOKUP(D106,Códigos!B:C,2,0),\" \")","v":" "}]
[null,null,null,null,{"$f":"IFERROR(VLOOKUP(D107,Códigos!B:C,2,0),\" \")","v":" "}]
[null,null,null,null,{"$f":"IFERROR(VLOOKUP(D108,Códigos!B:C,2,0),\" \")","v":" "}]
[null,null,null,null,{"$f":"IFERROR(VLOOKUP(D109,Códigos!B:C,2,0),\" \")","v":" "}]
[null,null,null,null,{"$f":"IFERROR(VLOOKUP(D110,Códigos!B:C,2,0),\" \")","v":" "}]
[null,null,null,null,{"$f":"IFERROR(VLOOKUP(D111,Códigos!B:C,2,0),\" \")","v":" "}]
[null,null,null,null,{"$f":"IFERROR(VLOOKUP(D112,Códigos!B:C,2,0),\" \")","v":" "}]
[null,null,null,null,{"$f":"IFERROR(VLOOKUP(D113,Códigos!B:C,2,0),\" \")","v":" "}]
[null,null,null,null,{"$f":"IFERROR(VLOOKUP(D114,Códigos!B:C,2,0),\" \")","v":" "}]
[null,null,null,null,{"$f":"IFERROR(VLOOKUP(D115,Códigos!B:C,2,0),\" \")","v":" "}]
[null,null,null,null,{"$f":"IFERROR(VLOOKUP(D116,Códigos!B:C,2,0),\" \")","v":" "}]
[null,null,null,null,{"$f":"IFERROR(VLOOKUP(D117,Códigos!B:C,2,0),\" \")","v":" "}]
[null,null,null,null,{"$f":"IFERROR(VLOOKUP(D118,Códigos!B:C,2,0),\" \")","v":" "}]
[null,null,null,null,{"$f":"IFERROR(VLOOKUP(D119,Códigos!B:C,2,0),\" \")","v":" "}]
[null,null,null,null,{"$f":"IFERROR(VLOOKUP(D120,Códigos!B:C,2,0),\" \")","v":" "}]
[null,null,null,null,{"$f":"IFERROR(VLOOKUP(D121,Códigos!B:C,2,0),\" \")","v":" "}]
[null,null,null,null,{"$f":"IFERROR(VLOOKUP(D122,Códigos!B:C,2,0),\" \")","v":" "}]
[null,null,null,null,{"$f":"IFERROR(VLOOKUP(D123,Códigos!B:C,2,0),\" \")","v":" "}]
[null,null,null,null,{"$f":"IFERROR(VLOOKUP(D124,Códigos!B:C,2,0),\" \")","v":" "}]
[null,null,null,null,{"$f":"IFERROR(VLOOKUP(D125,Códigos!B:C,2,0),\" \")","v":" "}]
[null,null,null,null,{"$f":"IFERROR(VLOOKUP(D126,Códigos!B:C,2,0),\" \")","v":" "}]
[null,null,null,null,{"$f":"IFERROR(VLOOKUP(D127,Códigos!B:C,2,0),\" \")","v":" "}]
[null,null,null,null,{"$f":"IFERROR(VLOOKUP(D128,Códigos!B:C,2,0),\" \")","v":" "}]
[null,null,null,null,{"$f":"IFERROR(VLOOKUP(D129,Códigos!B:C,2,0),\" \")","v":" "}]
[null,null,null,null,{"$f":"IFERROR(VLOOKUP(D130,Códigos!B:C,2,0),\" \")","v":" "}]
[null,null,null,null,{"$f":"IFERROR(VLOOKUP(D131,Códigos!B:C,2,0),\" \")","v":" "}]
[null,null,null,null,{"$f":"IFERROR(VLOOKUP(D132,Códigos!B:C,2,0),\" \")","v":" "}]
[null,null,null,null,{"$f":"IFERROR(VLOOKUP(D133,Códigos!B:C,2,0),\" \")","v":" "}]
[null,null,null,null,{"$f":"IFERROR(VLOOKUP(D134,Códigos!B:C,2,0),\" \")","v":" "}]
[null,null,null,null,{"$f":"IFERROR(VLOOKUP(D135,Códigos!B:C,2,0),\" \")","v":" "}]
[null,null,null,null,{"$f":"IFERROR(VLOOKUP(D136,Códigos!B:C,2,0),\" \")","v":" "}]
[null,null,null,null,{"$f":"IFERROR(VLOOKUP(D137,Códigos!B:C,2,0),\" \")","v":" "}]
[null,null,null,null,{"$f":"IFERROR(VLOOKUP(D138,Códigos!B:C,2,0),\" \")","v":" "}]
[null,null,null,null,{"$f":"IFERROR(VLOOKUP(D139,Códigos!B:C,2,0),\" \")","v":" "}]
[null,null,null,null,{"$f":"IFERROR(VLOOKUP(D140,Códigos!B:C,2,0),\" \")","v":" "}]
[null,null,null,null,{"$f":"IFERROR(VLOOKUP(D141,Códigos!B:C,2,0),\" \")","v":" "}]
[null,null,null,null,{"$f":"IFERROR(VLOOKUP(D142,Códigos!B:C,2,0),\" \")","v":" "}]
[null,null,null,null,{"$f":"IFERROR(VLOOKUP(D143,Códigos!B:C,2,0),\" \")","v":" "}]
[null,null,null,null,{"$f":"IFERROR(VLOOKUP(D144,Códigos!B:C,2,0),\" \")","v":" "}]
[null,null,null,null,{"$f":"IFERROR(VLOOKUP(D145,Códigos!B:C,2,0),\" \")","v":" "}]
[null,null,null,null,{"$f":"IFERROR(VLOOKUP(D146,Códigos!B:C,2,0),\" \")","v":" "}]
[null,null,null,null,{"$f":"IFERROR(VLOOKUP(D147,Códigos!B:C,2,0),\" \")","v":" "}]
[null,null,null,null,{"$f":"IFERROR(VLOOKUP(D148,Códigos!B:C,2,0),\" \")","v":" "}]
[null,null,null,null,{"$f":"IFERROR(VLOOKUP(D149,Códigos!B:C,2,0),\" \")","v":" "}]
[null,null,null,null,{"$f":"IFERROR(VLOOKUP(D150,Códigos!B:C,2,0),\" \")","v":" "}]
[null,null,null,null,{"$f":"IFERROR(VLOOKUP(D151,Códigos!B:C,2,0),\" \")","v":" "}]
[null,null,null,null,{"$f":"IFERROR(VLOOKUP(D152,Códigos!B:C,2,0),\" \")","v":" "}]
[null,null,null,null,{"$f":"IFERROR(VLOOKUP(D153,Códigos!B:C,2,0),\" \")","v":" "}]
[null,null,null,null,{"$f":"IFERROR(VLOOKUP(D154,Códigos!B:C,2,0),\" \")","v":" "}]
[null,null,null,null,{"$f":"IFERROR(VLOOKUP(D155,Códigos!B:C,2,0),\" \")","v":" "}]
[null,null,null,null,{"$f":"IFERROR(VLOOKUP(D156,Códigos!B:C,2,0),\" \")","v":" "}]
[null,null,null,null,{"$f":"IFERROR(VLOOKUP(D157,Códigos!B:C,2,0),\" \")","v":" "}]
[null,null,null,null,{"$f":"IFERROR(VLOOKUP(D158,Códigos!B:C,2,0),\" \")","v":" "}]
[null,null,null,null,{"$f":"IFERROR(VLOOKUP(D159,Códigos!B:C,2,0),\" \")","v":" "}]
[null,null,null,null,{"$f":"IFERROR(VLOOKUP(D160,Códigos!B:C,2,0),\" \")","v":" "}]
[null,null,null,null,{"$f":"IFERROR(VLOOKUP(D161,Códigos!B:C,2,0),\" \")","v":" "}]
[null,null,null,null,{"$f":"IFERROR(VLOOKUP(D162,Códigos!B:C,2,0),\" \")","v":" "}]
[null,null,null,null,{"$f":"IFERROR(VLOOKUP(D163,Códigos!B:C,2,0),\" \")","v":" "}]
[null,null,null,null,{"$f":"IFERROR(VLOOKUP(D164,Códigos!B:C,2,0),\" \")","v":" "}]
[null,null,null,null,{"$f":"IFERROR(VLOOKUP(D165,Códigos!B:C,2,0),\" \")","v":" "}]
[null,null,null,null,{"$f":"IFERROR(VLOOKUP(D166,Códigos!B:C,2,0),\" \")","v":" "}]
[null,null,null,null,{"$f":"IFERROR(VLOOKUP(D167,Códigos!B:C,2,0),\" \")","v":" "}]
[null,null,null,null,{"$f":"IFERROR(VLOOKUP(D168,Códigos!B:C,2,0),\" \")","v":" "}]
[null,null,null,null,{"$f":"IFERROR(VLOOKUP(D169,Códigos!B:C,2,0),\" \")","v":" "}]
[null,null,null,null,{"$f":"IFERROR(VLOOKUP(D170,Códigos!B:C,2,0),\" \")","v":" "}]
[null,null,null,null,{"$f":"IFERROR(VLOOKUP(D171,Códigos!B:C,2,0),\" \")","v":" "}]
[null,null,null,null,{"$f":"IFERROR(VLOOKUP(D172,Códigos!B:C,2,0),\" \")","v":" "}]
[null,null,null,null,{"$f":"IFERROR(VLOOKUP(D173,Códigos!B:C,2,0),\" \")","v":" "}]
[null,null,null,null,{"$f":"IFERROR(VLOOKUP(D174,Códigos!B:C,2,0),\" \")","v":" "}]
[null,null,null,null,{"$f":"IFERROR(VLOOKUP(D175,Códigos!B:C,2,0),\" \")","v":" "}]
[null,null,null,null,{"$f":"IFERROR(VLOOKUP(D176,Códigos!B:C,2,0),\" \")","v":" "}]
[null,null,null,null,{"$f":"IFERROR(VLOOKUP(D177,Códigos!B:C,2,0),\" \")","v":" "}]
[null,null,null,null,{"$f":"IFERROR(VLOOKUP(D178,Códigos!B:C,2,0),\" \")","v":" "}]
[null,null,null,null,{"$f":"IFERROR(VLOOKUP(D179,Códigos!B:C,2,0),\" \")","v":" "}]
[null,null,null,null,{"$f":"IFERROR(VLOOKUP(D180,Códigos!B:C,2,0),\" \")","v":" "}]
[null,null,null,null,{"$f":"IFERROR(VLOOKUP(D181,Códigos!B:C,2,0),\" \")","v":" "}]
[null,null,null,null,{"$f":"IFERROR(VLOOKUP(D182,Códigos!B:C,2,0),\" \")","v":" "}]
[null,null,null,null,{"$f":"IFERROR(VLOOKUP(D183,Códigos!B:C,2,0),\" \")","v":" "}]
[null,null,null,null,{"$f":"IFERROR(VLOOKUP(D184,Códigos!B:C,2,0),\" \")","v":" "}]
[null,null,null,null,{"$f":"IFERROR(VLOOKUP(D185,Códigos!B:C,2,0),\" \")","v":" "}]
[null,null,null,null,{"$f":"IFERROR(VLOOKUP(D186,Códigos!B:C,2,0),\" \")","v":" "}]
[null,null,null,null,{"$f":"IFERROR(VLOOKUP(D187,Códigos!B:C,2,0),\" \")","v":" "}]
[null,null,null,null,{"$f":"IFERROR(VLOOKUP(D188,Códigos!B:C,2,0),\" \")","v":" "}]
[null,null,null,null,{"$f":"IFERROR(VLOOKUP(D189,Códigos!B:C,2,0),\" \")","v":" "}]
[null,null,null,null,{"$f":"IFERROR(VLOOKUP(D190,Códigos!B:C,2,0),\" \")","v":" "}]
[null,null,null,null,{"$f":"IFERROR(VLOOKUP(D191,Códigos!B:C,2,0),\" \")","v":" "}]
[null,null,null,null,{"$f":"IFERROR(VLOOKUP(D192,Códigos!B:C,2,0),\" \")","v":" "}]
[null,null,null,null,{"$f":"IFERROR(VLOOKUP(D193,Códigos!B:C,2,0),\" \")","v":" "}]
[null,null,null,null,{"$f":"IFERROR(VLOOKUP(D194,Códigos!B:C,2,0),\" \")","v":" "}]
[null,null,null,null,{"$f":"IFERROR(VLOOKUP(D195,Códigos!B:C,2,0),\" \")","v":" "}]
[null,null,null,null,{"$f":"IFERROR(VLOOKUP(D196,Códigos!B:C,2,0),\" \")","v":" "}]
[null,null,null,null,{"$f":"IFERROR(VLOOKUP(D197,Códigos!B:C,2,0),\" \")","v":" "}]
[null,null,null,null,{"$f":"IFERROR(VLOOKUP(D198,Códigos!B:C,2,0),\" \")","v":" "}]
[null,null,null,null,{"$f":"IFERROR(VLOOKUP(D199,Códigos!B:C,2,0),\" \")","v":" "}]
[null,null,null,null,{"$f":"IFERROR(VLOOKUP(D200,Códigos!B:C,2,0),\" \")","v":" "}]
[null,null,null,null,{"$f":"IFERROR(VLOOKUP(D201,Códigos!B:C,2,0),\" \")","v":" "}]
[null,null,null,null,{"$f":"IFERROR(VLOOKUP(D202,Códigos!B:C,2,0),\" \")","v":" "}]
[null,null,null,null,{"$f":"IFERROR(VLOOKUP(D203,Códigos!B:C,2,0),\" \")","v":" "}]
[null,null,null,null,{"$f":"IFERROR(VLOOKUP(D204,Códigos!B:C,2,0),\" \")","v":" "}]
[null,null,null,null,{"$f":"IFERROR(VLOOKUP(D205,Códigos!B:C,2,0),\" \")","v":" "}]
[null,null,null,null,{"$f":"IFERROR(VLOOKUP(D206,Códigos!B:C,2,0),\" \")","v":" "}]
[null,null,null,null,{"$f":"IFERROR(VLOOKUP(D207,Códigos!B:C,2,0),\" \")","v":" "}]
[null,null,null,null,{"$f":"IFERROR(VLOOKUP(D208,Códigos!B:C,2,0),\" \")","v":" "}]
[null,null,null,null,{"$f":"IFERROR(VLOOKUP(D209,Códigos!B:C,2,0),\" \")","v":" "}]
[null,null,null,null,{"$f":"IFERROR(VLOOKUP(D210,Códigos!B:C,2,0),\" \")","v":" "}]
[null,null,null,null,{"$f":"IFERROR(VLOOKUP(D211,Códigos!B:C,2,0),\" \")","v":" "}]
[null,null,null,null,{"$f":"IFERROR(VLOOKUP(D212,Códigos!B:C,2,0),\" \")","v":" "}]
[null,null,null,null,{"$f":"IFERROR(VLOOKUP(D213,Códigos!B:C,2,0),\" \")","v":" "}]
[null,null,null,null,{"$f":"IFERROR(VLOOKUP(D214,Códigos!B:C,2,0),\" \")","v":" "}]
[null,null,null,null,{"$f":"IFERROR(VLOOKUP(D215,Códigos!B:C,2,0),\" \")","v":" "}]
[null,null,null,null,{"$f":"IFERROR(VLOOKUP(D216,Códigos!B:C,2,0),\" \")","v":" "}]
[null,null,null,null,{"$f":"IFERROR(VLOOKUP(D217,Códigos!B:C,2,0),\" \")","v":" "}]
[null,null,null,null,{"$f":"IFERROR(VLOOKUP(D218,Códigos!B:C,2,0),\" \")","v":" "}]
[null,null,null,null,{"$f":"IFERROR(VLOOKUP(D219,Códigos!B:C,2,0),\" \")","v":" "}]
[null,null,null,null,{"$f":"IFERROR(VLOOKUP(D220,Códigos!B:C,2,0),\" \")","v":" "}]
[null,null,null,null,{"$f":"IFERROR(VLOOKUP(D221,Códigos!B:C,2,0),\" \")","v":" "}]
[null,null,null,null,{"$f":"IFERROR(VLOOKUP(D222,Códigos!B:C,2,0),\" \")","v":" "}]
[null,null,null,null,{"$f":"IFERROR(VLOOKUP(D223,Códigos!B:C,2,0),\" \")","v":" "}]
[null,null,null,null,{"$f":"IFERROR(VLOOKUP(D224,Códigos!B:C,2,0),\" \")","v":" "}]
[null,null,null,null,{"$f":"IFERROR(VLOOKUP(D225,Códigos!B:C,2,0),\" \")","v":" "}]
[null,null,null,null,{"$f":"IFERROR(VLOOKUP(D226,Códigos!B:C,2,0),\" \")","v":" "}]
[null,null,null,null,{"$f":"IFERROR(VLOOKUP(D227,Códigos!B:C,2,0),\" \")","v":" "}]
[null,null,null,null,{"$f":"IFERROR(VLOOKUP(D228,Códigos!B:C,2,0),\" \")","v":" "}]
[null,null,null,null,{"$f":"IFERROR(VLOOKUP(D229,Códigos!B:C,2,0),\" \")","v":" "}]
[null,null,null,null,{"$f":"IFERROR(VLOOKUP(D230,Códigos!B:C,2,0),\" \")","v":" "}]
[null,null,null,null,{"$f":"IFERROR(VLOOKUP(D231,Códigos!B:C,2,0),\" \")","v":" "}]
[null,null,null,null,{"$f":"IFERROR(VLOOKUP(D232,Códigos!B:C,2,0),\" \")","v":" "}]
[null,null,null,null,{"$f":"IFERROR(VLOOKUP(D233,Códigos!B:C,2,0),\" \")","v":" "}]
[null,null,null,null,{"$f":"IFERROR(VLOOKUP(D234,Códigos!B:C,2,0),\" \")","v":" "}]
[null,null,null,null,{"$f":"IFERROR(VLOOKUP(D235,Códigos!B:C,2,0),\" \")","v":" "}]
[null,null,null,null,{"$f":"IFERROR(VLOOKUP(D236,Códigos!B:C,2,0),\" \")","v":" "}]
[null,null,null,null,{"$f":"IFERROR(VLOOKUP(D237,Códigos!B:C,2,0),\" \")","v":" "}]
[null,null,null,null,{"$f":"IFERROR(VLOOKUP(D238,Códigos!B:C,2,0),\" \")","v":" "}]
[null,null,null,null,{"$f":"IFERROR(VLOOKUP(D239,Códigos!B:C,2,0),\" \")","v":" "}]
[null,null,null,null,{"$f":"IFERROR(VLOOKUP(D240,Códigos!B:C,2,0),\" \")","v":" "}]
[null,null,null,null,{"$f":"IFERROR(VLOOKUP(D241,Códigos!B:C,2,0),\" \")","v":" "}]
[null,null,null,null,{"$f":"IFERROR(VLOOKUP(D242,Códigos!B:C,2,0),\" \")","v":" "}]
[null,null,null,null,{"$f":"IFERROR(VLOOKUP(D243,Códigos!B:C,2,0),\" \")","v":" "}]
[null,null,null,null,{"$f":"IFERROR(VLOOKUP(D244,Códigos!B:C,2,0),\" \")","v":" "}]
[null,null,null,null,{"$f":"IFERROR(VLOOKUP(D245,Códigos!B:C,2,0),\" \")","v":" "}]
[null,null,null,null,{"$f":"IFERROR(VLOOKUP(D246,Códigos!B:C,2,0),\" \")","v":" "}]
[null,null,null,null,{"$f":"IFERROR(VLOOKUP(D247,Códigos!B:C,2,0),\" \")","v":" "}]
[null,null,null,null,{"$f":"IFERROR(VLOOKUP(D248,Códigos!B:C,2,0),\" \")","v":" "}]
[null,null,null,null,{"$f":"IFERROR(VLOOKUP(D249,Códigos!B:C,2,0),\" \")","v":" "}]
[null,null,null,null,{"$f":"IFERROR(VLOOKUP(D250,Códigos!B:C,2,0),\" \")","v":" "}]
[null,null,null,null,{"$f":"IFERROR(VLOOKUP(D251,Códigos!B:C,2,0),\" \")","v":" "}]
[null,null,null,null,{"$f":"IFERROR(VLOOKUP(D252,Códigos!B:C,2,0),\" \")","v":" "}]
[null,null,null,null,{"$f":"IFERROR(VLOOKUP(D253,Códigos!B:C,2,0),\" \")","v":" "}]
[null,null,null,null,{"$f":"IFERROR(VLOOKUP(D254,Códigos!B:C,2,0),\" \")","v":" "}]
[null,null,null,null,{"$f":"IFERROR(VLOOKUP(D255,Códigos!B:C,2,0),\" \")","v":" "}]
[null,null,null,null,{"$f":"IFERROR(VLOOKUP(D256,Códigos!B:C,2,0),\" \")","v":" "}]
[null,null,null,null,{"$f":"IFERROR(VLOOKUP(D257,Códigos!B:C,2,0),\" \")","v":" "}]
[null,null,null,null,{"$f":"IFERROR(VLOOKUP(D258,Códigos!B:C,2,0),\" \")","v":" "}]
[null,null,null,null,{"$f":"IFERROR(VLOOKUP(D259,Códigos!B:C,2,0),\" \")","v":" "}]
[null,null,null,null,{"$f":"IFERROR(VLOOKUP(D260,Códigos!B:C,2,0),\" \")","v":" "}]
[null,null,null,null,{"$f":"IFERROR(VLOOKUP(D261,Códigos!B:C,2,0),\" \")","v":" "}]
[null,null,null,null,{"$f":"IFERROR(VLOOKUP(D262,Códigos!B:C,2,0),\" \")","v":" "}]
[null,null,null,null,{"$f":"IFERROR(VLOOKUP(D263,Códigos!B:C,2,0),\" \")","v":" "}]
[null,null,null,null,{"$f":"IFERROR(VLOOKUP(D264,Códigos!B:C,2,0),\" \")","v":" "}]
[null,null,null,null,{"$f":"IFERROR(VLOOKUP(D265,Códigos!B:C,2,0),\" \")","v":" "}]
[null,null,null,null,{"$f":"IFERROR(VLOOKUP(D266,Códigos!B:C,2,0),\" \")","v":" "}]
[null,null,null,null,{"$f":"IFERROR(VLOOKUP(D267,Códigos!B:C,2,0),\" \")","v":" "}]
[null,null,null,null,{"$f":"IFERROR(VLOOKUP(D268,Códigos!B:C,2,0),\" \")","v":" "}]
[null,null,null,null,{"$f":"IFERROR(VLOOKUP(D269,Códigos!B:C,2,0),\" \")","v":" "}]
[null,null,null,null,{"$f":"IFERROR(VLOOKUP(D270,Códigos!B:C,2,0),\" \")","v":" "}]
[null,null,null,null,{"$f":"IFERROR(VLOOKUP(D271,Códigos!B:C,2,0),\" \")","v":" "}]
[null,null,null,null,{"$f":"IFERROR(VLOOKUP(D272,Códigos!B:C,2,0),\" \")","v":" "}]
[null,null,null,null,{"$f":"IFERROR(VLOOKUP(D273,Códigos!B:C,2,0),\" \")","v":" "}]
[null,null,null,null,{"$f":"IFERROR(VLOOKUP(D274,Códigos!B:C,2,0),\" \")","v":" "}]
[null,null,null,null,{"$f":"IFERROR(VLOOKUP(D275,Códigos!B:C,2,0),\" \")","v":" "}]
[null,null,null,null,{"$f":"IFERROR(VLOOKUP(D276,Códigos!B:C,2,0),\" \")","v":" "}]
[null,null,null,null,{"$f":"IFERROR(VLOOKUP(D277,Códigos!B:C,2,0),\" \")","v":" "}]
[null,null,null,null,{"$f":"IFERROR(VLOOKUP(D278,Códigos!B:C,2,0),\" \")","v":" "}]
[null,null,null,null,{"$f":"IFERROR(VLOOKUP(D279,Códigos!B:C,2,0),\" \")","v":" "}]
[null,null,null,null,{"$f":"IFERROR(VLOOKUP(D280,Códigos!B:C,2,0),\" \")","v":" "}]
[null,null,null,null,{"$f":"IFERROR(VLOOKUP(D281,Códigos!B:C,2,0),\" \")","v":" "}]
[null,null,null,null,{"$f":"IFERROR(VLOOKUP(D282,Códigos!B:C,2,0),\" \")","v":" "}]
[null,null,null,null,{"$f":"IFERROR(VLOOKUP(D283,Códigos!B:C,2,0),\" \")","v":" "}]
[null,null,null,null,{"$f":"IFERROR(VLOOKUP(D284,Códigos!B:C,2,0),\" \")","v":" "}]
[null,null,null,null,{"$f":"IFERROR(VLOOKUP(D285,Códigos!B:C,2,0),\" \")","v":" "}]
[null,null,null,null,{"$f":"IFERROR(VLOOKUP(D286,Códigos!B:C,2,0),\" \")","v":" "}]
[null,null,null,null,{"$f":"IFERROR(VLOOKUP(D287,Códigos!B:C,2,0),\" \")","v":" "}]
[null,null,null,null,{"$f":"IFERROR(VLOOKUP(D288,Códigos!B:C,2,0),\" \")","v":" "}]
[null,null,null,null,{"$f":"IFERROR(VLOOKUP(D289,Códigos!B:C,2,0),\" \")","v":" "}]
[null,null,null,null,{"$f":"IFERROR(VLOOKUP(D290,Códigos!B:C,2,0),\" \")","v":" "}]
[null,null,null,null,{"$f":"IFERROR(VLOOKUP(D291,Códigos!B:C,2,0),\" \")","v":" "}]
[null,null,null,null,{"$f":"IFERROR(VLOOKUP(D292,Códigos!B:C,2,0),\" \")","v":" "}]
[null,null,null,null,{"$f":"IFERROR(VLOOKUP(D293,Códigos!B:C,2,0),\" \")","v":" "}]
[null,null,null,null,{"$f":"IFERROR(VLOOKUP(D294,Códigos!B:C,2,0),\" \")","v":" "}]
[null,null,null,null,{"$f":"IFERROR(VLOOKUP(D295,Códigos!B:C,2,0),\" \")","v":" "}]
[null,null,null,null,{"$f":"IFERROR(VLOOKUP(D296,Códigos!B:C,2,0),\" \")","v":" "}]
[null,null,null,null,{"$f":"IFERROR(VLOOKUP(D297,Códigos!B:C,2,0),\" \")","v":" "}]
[null,null,null,null,{"$f":"IFERROR(VLOOKUP(D298,Códigos!B:C,2,0),\" \")","v":" "}]
[null,null,null,null,{"$f":"IFERROR(VLOOKUP(D299,Códigos!B:C,2,0),\" \")","v":" "}]
[null,null,null,null,{"$f":"IFERROR(VLOOKUP(D300,Códigos!B:C,2,0),\" \")","v":" "}]
[null,null,null,null,{"$f":"IFERROR(VLOOKUP(D301,Códigos!B:C,2,0),\" \")","v":" "}]
[null,null,null,null,{"$f":"IFERROR(VLOOKUP(D302,Códigos!B:C,2,0),\" \")","v":" "}]
[null,null,null,null,{"$f":"IFERROR(VLOOKUP(D303,Códigos!B:C,2,0),\" \")","v":" "}]
[null,null,null,null,{"$f":"IFERROR(VLOOKUP(D304,Códigos!B:C,2,0),\" \")","v":" "}]
[null,null,null,null,{"$f":"IFERROR(VLOOKUP(D305,Códigos!B:C,2,0),\" \")","v":" "}]
[null,null,null,null,{"$f":"IFERROR(VLOOKUP(D306,Códigos!B:C,2,0),\" \")","v":" "}]
[null,null,null,null,{"$f":"IFERROR(VLOOKUP(D307,Códigos!B:C,2,0),\" \")","v":" "}]
[null,null,null,null,{"$f":"IFERROR(VLOOKUP(D308,Códigos!B:C,2,0),\" \")","v":" "}]
[null,null,null,null,{"$f":"IFERROR(VLOOKUP(D309,Códigos!B:C,2,0),\" \")","v":" "}]
[null,null,null,null,{"$f":"IFERROR(VLOOKUP(D310,Códigos!B:C,2,0),\" \")","v":" "}]
[null,null,null,null,{"$f":"IFERROR(VLOOKUP(D311,Códigos!B:C,2,0),\" \")","v":" "}]
[null,null,null,null,{"$f":"IFERROR(VLOOKUP(D312,Códigos!B:C,2,0),\" \")","v":" "}]
[null,null,null,null,{"$f":"IFERROR(VLOOKUP(D313,Códigos!B:C,2,0),\" \")","v":" "}]
[null,null,null,null,{"$f":"IFERROR(VLOOKUP(D314,Códigos!B:C,2,0),\" \")","v":" "}]
[null,null,null,null,{"$f":"IFERROR(VLOOKUP(D315,Códigos!B:C,2,0),\" \")","v":" "}]
[null,null,null,null,{"$f":"IFERROR(VLOOKUP(D316,Códigos!B:C,2,0),\" \")","v":" "}]
[null,null,null,null,{"$f":"IFERROR(VLOOKUP(D317,Códigos!B:C,2,0),\" \")","v":" "}]
[null,null,null,null,{"$f":"IFERROR(VLOOKUP(D318,Códigos!B:C,2,0),\" \")","v":" "}]
[null,null,null,null,{"$f":"IFERROR(VLOOKUP(D319,Códigos!B:C,2,0),\" \")","v":" "}]
[null,null,null,null,{"$f":"IFERROR(VLOOKUP(D320,Códigos!B:C,2,0),\" \")","v":" "}]
[null,null,null,null,{"$f":"IFERROR(VLOOKUP(D321,Códigos!B:C,2,0),\" \")","v":" "}]
[null,null,null,null,{"$f":"IFERROR(VLOOKUP(D322,Códigos!B:C,2,0),\" \")","v":" "}]
[null,null,null,null,{"$f":"IFERROR(VLOOKUP(D323,Códigos!B:C,2,0),\" \")","v":" "}]
[null,null,null,null,{"$f":"IFERROR(VLOOKUP(D324,Códigos!B:C,2,0),\" \")","v":" "}]
[null,null,null,null,{"$f":"IFERROR(VLOOKUP(D325,Códigos!B:C,2,0),\" \")","v":" "}]
[null,null,null,null,{"$f":"IFERROR(VLOOKUP(D326,Códigos!B:C,2,0),\" \")","v":" "}]
[null,null,null,null,{"$f":"IFERROR(VLOOKUP(D327,Códigos!B:C,2,0),\" \")","v":" "}]
[null,null,null,null,{"$f":"IFERROR(VLOOKUP(D328,Códigos!B:C,2,0),\" \")","v":" "}]
[null,null,null,null,{"$f":"IFERROR(VLOOKUP(D329,Códigos!B:C,2,0),\" \")","v":" "}]
[null,null,null,null,{"$f":"IFERROR(VLOOKUP(D330,Códigos!B:C,2,0),\" \")","v":" "}]
[null,null,null,null,{"$f":"IFERROR(VLOOKUP(D331,Códigos!B:C,2,0),\" \")","v":" "}]
[null,null,null,null,{"$f":"IFERROR(VLOOKUP(D332,Códigos!B:C,2,0),\" \")","v":" "}]
[null,null,null,null,{"$f":"IFERROR(VLOOKUP(D333,Códigos!B:C,2,0),\" \")","v":" "}]
[null,null,null,null,{"$f":"IFERROR(VLOOKUP(D334,Códigos!B:C,2,0),\" \")","v":" "}]
[null,null,null,null,{"$f":"IFERROR(VLOOKUP(D335,Códigos!B:C,2,0),\" \")","v":" "}]
[null,null,null,null,{"$f":"IFERROR(VLOOKUP(D336,Códigos!B:C,2,0),\" \")","v":" "}]
[null,null,null,null,{"$f":"IFERROR(VLOOKUP(D337,Códigos!B:C,2,0),\" \")","v":" "}]
[null,null,null,null,{"$f":"IFERROR(VLOOKUP(D338,Códigos!B:C,2,0),\" \")","v":" "}]
[null,null,null,null,{"$f":"IFERROR(VLOOKUP(D339,Códigos!B:C,2,0),\" \")","v":" "}]
[null,null,null,null,{"$f":"IFERROR(VLOOKUP(D340,Códigos!B:C,2,0),\" \")","v":" "}]
[null,null,null,null,{"$f":"IFERROR(VLOOKUP(D341,Códigos!B:C,2,0),\" \")","v":" "}]
[null,null,null,null,{"$f":"IFERROR(VLOOKUP(D342,Códigos!B:C,2,0),\" \")","v":" "}]
[null,null,null,null,{"$f":"IFERROR(VLOOKUP(D343,Códigos!B:C,2,0),\" \")","v":" "}]
[null,null,null,null,{"$f":"IFERROR(VLOOKUP(D344,Códigos!B:C,2,0),\" \")","v":" "}]
[null,null,null,null,{"$f":"IFERROR(VLOOKUP(D345,Códigos!B:C,2,0),\" \")","v":" "}]
[null,null,null,null,{"$f":"IFERROR(VLOOKUP(D346,Códigos!B:C,2,0),\" \")","v":" "}]
[null,null,null,null,{"$f":"IFERROR(VLOOKUP(D347,Códigos!B:C,2,0),\" \")","v":" "}]
[null,null,null,null,{"$f":"IFERROR(VLOOKUP(D348,Códigos!B:C,2,0),\" \")","v":" "}]
[null,null,null,null,{"$f":"IFERROR(VLOOKUP(D349,Códigos!B:C,2,0),\" \")","v":" "}]
[null,null,null,null,{"$f":"IFERROR(VLOOKUP(D350,Códigos!B:C,2,0),\" \")","v":" "}]
[null,null,null,null,{"$f":"IFERROR(VLOOKUP(D351,Códigos!B:C,2,0),\" \")","v":" "}]
[null,null,null,null,{"$f":"IFERROR(VLOOKUP(D352,Códigos!B:C,2,0),\" \")","v":" "}]
[null,null,null,null,{"$f":"IFERROR(VLOOKUP(D353,Códigos!B:C,2,0),\" \")","v":" "}]
[null,null,null,null,{"$f":"IFERROR(VLOOKUP(D354,Códigos!B:C,2,0),\" \")","v":" "}]
[null,null,null,null,{"$f":"IFERROR(VLOOKUP(D355,Códigos!B:C,2,0),\" \")","v":" "}]
[null,null,null,null,{"$f":"IFERROR(VLOOKUP(D356,Códigos!B:C,2,0),\" \")","v":" "}]
[null,null,null,null,{"$f":"IFERROR(VLOOKUP(D357,Códigos!B:C,2,0),\" \")","v":" "}]
[null,null,null,null,{"$f":"IFERROR(VLOOKUP(D358,Códigos!B:C,2,0),\" \")","v":" "}]
[null,null,null,null,{"$f":"IFERROR(VLOOKUP(D359,Códigos!B:C,2,0),\" \")","v":" "}]
[null,null,null,null,{"$f":"IFERROR(VLOOKUP(D360,Códigos!B:C,2,0),\" \")","v":" "}]
[null,null,null,null,{"$f":"IFERROR(VLOOKUP(D361,Códigos!B:C,2,0),\" \")","v":" "}]
[null,null,null,null,{"$f":"IFERROR(VLOOKUP(D362,Códigos!B:C,2,0),\" \")","v":" "}]
[null,null,null,null,{"$f":"IFERROR(VLOOKUP(D363,Códigos!B:C,2,0),\" \")","v":" "}]
[null,null,null,null,{"$f":"IFERROR(VLOOKUP(D364,Códigos!B:C,2,0),\" \")","v":" "}]
[null,null,null,null,{"$f":"IFERROR(VLOOKUP(D365,Códigos!B:C,2,0),\" \")","v":" "}]
[null,null,null,null,{"$f":"IFERROR(VLOOKUP(D366,Códigos!B:C,2,0),\" \")","v":" "}]
[null,null,null,null,{"$f":"IFERROR(VLOOKUP(D367,Códigos!B:C,2,0),\" \")","v":" "}]
[null,null,null,null,{"$f":"IFERROR(VLOOKUP(D368,Códigos!B:C,2,0),\" \")","v":" "}]
[null,null,null,null,{"$f":"IFERROR(VLOOKUP(D369,Códigos!B:C,2,0),\" \")","v":" "}]
[null,null,null,null,{"$f":"IFERROR(VLOOKUP(D370,Códigos!B:C,2,0),\" \")","v":" "}]
[null,null,null,null,{"$f":"IFERROR(VLOOKUP(D371,Códigos!B:C,2,0),\" \")","v":" "}]
[null,null,null,null,{"$f":"IFERROR(VLOOKUP(D372,Códigos!B:C,2,0),\" \")","v":" "}]
[null,null,null,null,{"$f":"IFERROR(VLOOKUP(D373,Códigos!B:C,2,0),\" \")","v":" "}]
[null,null,null,null,{"$f":"IFERROR(VLOOKUP(D374,Códigos!B:C,2,0),\" \")","v":" "}]
[null,null,null,null,{"$f":"IFERROR(VLOOKUP(D375,Códigos!B:C,2,0),\" \")","v":" "}]
[null,null,null,null,{"$f":"IFERROR(VLOOKUP(D376,Códigos!B:C,2,0),\" \")","v":" "}]
[null,null,null,null,{"$f":"IFERROR(VLOOKUP(D377,Códigos!B:C,2,0),\" \")","v":" "}]
[null,null,null,null,{"$f":"IFERROR(VLOOKUP(D378,Códigos!B:C,2,0),\" \")","v":" "}]
[null,null,null,null,{"$f":"IFERROR(VLOOKUP(D379,Códigos!B:C,2,0),\" \")","v":" "}]
[null,null,null,null,{"$f":"IFERROR(VLOOKUP(D380,Códigos!B:C,2,0),\" \")","v":" "}]
[null,null,null,null,{"$f":"IFERROR(VLOOKUP(D381,Códigos!B:C,2,0),\" \")","v":" "}]
[null,null,null,null,{"$f":"IFERROR(VLOOKUP(D382,Códigos!B:C,2,0),\" \")","v":" "}]
[null,null,null,null,{"$f":"IFERROR(VLOOKUP(D383,Códigos!B:C,2,0),\" \")","v":" "}]
[null,null,null,null,{"$f":"IFERROR(VLOOKUP(D384,Códigos!B:C,2,0),\" \")","v":" "}]
[null,null,null,null,{"$f":"IFERROR(VLOOKUP(D385,Códigos!B:C,2,0),\" \")","v":" "}]
[null,null,null,null,{"$f":"IFERROR(VLOOKUP(D386,Códigos!B:C,2,0),\" \")","v":" "}]
[null,null,null,null,{"$f":"IFERROR(VLOOKUP(D387,Códigos!B:C,2,0),\" \")","v":" "}]
[null,null,null,null,{"$f":"IFERROR(VLOOKUP(D388,Códigos!B:C,2,0),\" \")","v":" "}]
[null,null,null,null,{"$f":"IFERROR(VLOOKUP(D389,Códigos!B:C,2,0),\" \")","v":" "}]
[null,null,null,null,{"$f":"IFERROR(VLOOKUP(D390,Códigos!B:C,2,0),\" \")","v":" "}]
[null,null,null,null,{"$f":"IFERROR(VLOOKUP(D391,Códigos!B:C,2,0),\" \")","v":" "}]
[null,null,null,null,{"$f":"IFERROR(VLOOKUP(D392,Códigos!B:C,2,0),\" \")","v":" "}]
[null,null,null,null,{"$f":"IFERROR(VLOOKUP(D393,Códigos!B:C,2,0),\" \")","v":" "}]
[null,null,null,null,{"$f":"IFERROR(VLOOKUP(D394,Códigos!B:C,2,0),\" \")","v":" "}]
[null,null,null,null,{"$f":"IFERROR(VLOOKUP(D395,Códigos!B:C,2,0),\" \")","v":" "}]
[null,null,null,null,{"$f":"IFERROR(VLOOKUP(D396,Códigos!B:C,2,0),\" \")","v":" "}]
[null,null,null,null,{"$f":"IFERROR(VLOOKUP(D397,Códigos!B:C,2,0),\" \")","v":" "}]
[null,null,null,null,{"$f":"IFERROR(VLOOKUP(D398,Códigos!B:C,2,0),\" \")","v":" "}]
[null,null,null,null,{"$f":"IFERROR(VLOOKUP(D399,Códigos!B:C,2,0),\" \")","v":" "}]
[null,null,null,null,{"$f":"IFERROR(VLOOKUP(D400,Códigos!B:C,2,0),\" \")","v":" "}]
[null,null,null,null,{"$f":"IFERROR(VLOOKUP(D401,Códigos!B:C,2,0),\" \")","v":" "}]
[null,null,null,null,{"$f":"IFERROR(VLOOKUP(D402,Códigos!B:C,2,0),\" \")","v":" "}]
[null,null,null,null,{"$f":"IFERROR(VLOOKUP(D403,Códigos!B:C,2,0),\" \")","v":" "}]
[null,null,null,null,{"$f":"IFERROR(VLOOKUP(D404,Códigos!B:C,2,0),\" \")","v":" "}]
[null,null,null,null,{"$f":"IFERROR(VLOOKUP(D405,Códigos!B:C,2,0),\" \")","v":" "}]
[null,null,null,null,{"$f":"IFERROR(VLOOKUP(D406,Códigos!B:C,2,0),\" \")","v":" "}]
[null,null,null,null,{"$f":"IFERROR(VLOOKUP(D407,Códigos!B:C,2,0),\" \")","v":" "}]
[null,null,null,null,{"$f":"IFERROR(VLOOKUP(D408,Códigos!B:C,2,0),\" \")","v":" "}]
[null,null,null,null,{"$f":"IFERROR(VLOOKUP(D409,Códigos!B:C,2,0),\" \")","v":" "}]
[null,null,null,null,{"$f":"IFERROR(VLOOKUP(D410,Códigos!B:C,2,0),\" \")","v":" "}]
[null,null,null,null,{"$f":"IFERROR(VLOOKUP(D411,Códigos!B:C,2,0),\" \")","v":" "}]
[null,null,null,null,{"$f":"IFERROR(VLOOKUP(D412,Códigos!B:C,2,0),\" \")","v":" "}]
[null,null,null,null,{"$f":"IFERROR(VLOOKUP(D413,Códigos!B:C,2,0),\" \")","v":" "}]
[null,null,null,null,{"$f":"IFERROR(VLOOKUP(D414,Códigos!B:C,2,0),\" \")","v":" "}]
[null,null,null,null,{"$f":"IFERROR(VLOOKUP(D415,Códigos!B:C,2,0),\" \")","v":" "}]
[null,null,null,null,{"$f":"IFERROR(VLOOKUP(D416,Códigos!B:C,2,0),\" \")","v":" "}]
[null,null,null,null,{"$f":"IFERROR(VLOOKUP(D417,Códigos!B:C,2,0),\" \")","v":" "}]
[null,null,null,null,{"$f":"IFERROR(VLOOKUP(D418,Códigos!B:C,2,0),\" \")","v":" "}]
[null,null,null,null,{"$f":"IFERROR(VLOOKUP(D419,Códigos!B:C,2,0),\" \")","v":" "}]
[null,null,null,null,{"$f":"IFERROR(VLOOKUP(D420,Códigos!B:C,2,0),\" \")","v":" "}]
[null,null,null,null,{"$f":"IFERROR(VLOOKUP(D421,Códigos!B:C,2,0),\" \")","v":" "}]
[null,null,null,null,{"$f":"IFERROR(VLOOKUP(D422,Códigos!B:C,2,0),\" \")","v":" "}]
[null,null,null,null,{"$f":"IFERROR(VLOOKUP(D423,Códigos!B:C,2,0),\" \")","v":" "}]
[null,null,null,null,{"$f":"IFERROR(VLOOKUP(D424,Códigos!B:C,2,0),\" \")","v":" "}]
[null,null,null,null,{"$f":"IFERROR(VLOOKUP(D425,Códigos!B:C,2,0),\" \")","v":" "}]
[null,null,null,null,{"$f":"IFERROR(VLOOKUP(D426,Códigos!B:C,2,0),\" \")","v":" "}]
[null,null,null,null,{"$f":"IFERROR(VLOOKUP(D427,Códigos!B:C,2,0),\" \")","v":" "}]
[null,null,null,null,{"$f":"IFERROR(VLOOKUP(D428,Códigos!B:C,2,0),\" \")","v":" "}]
[null,null,null,null,{"$f":"IFERROR(VLOOKUP(D429,Códigos!B:C,2,0),\" \")","v":" "}]
[null,null,null,null,{"$f":"IFERROR(VLOOKUP(D430,Códigos!B:C,2,0),\" \")","v":" "}]
[null,null,null,null,{"$f":"IFERROR(VLOOKUP(D431,Códigos!B:C,2,0),\" \")","v":" "}]
[null,null,null,null,{"$f":"IFERROR(VLOOKUP(D432,Códigos!B:C,2,0),\" \")","v":" "}]
[null,null,null,null,{"$f":"IFERROR(VLOOKUP(D433,Códigos!B:C,2,0),\" \")","v":" "}]
[null,null,null,null,{"$f":"IFERROR(VLOOKUP(D434,Códigos!B:C,2,0),\" \")","v":" "}]
[null,null,null,null,{"$f":"IFERROR(VLOOKUP(D435,Códigos!B:C,2,0),\" \")","v":" "}]
[null,null,null,null,{"$f":"IFERROR(VLOOKUP(D436,Códigos!B:C,2,0),\" \")","v":" "}]
[null,null,null,null,{"$f":"IFERROR(VLOOKUP(D437,Códigos!B:C,2,0),\" \")","v":" "}]
[null,null,null,null,{"$f":"IFERROR(VLOOKUP(D438,Códigos!B:C,2,0),\" \")","v":" "}]
[null,null,null,null,{"$f":"IFERROR(VLOOKUP(D439,Códigos!B:C,2,0),\" \")","v":" "}]
[null,null,null,null,{"$f":"IFERROR(VLOOKUP(D440,Códigos!B:C,2,0),\" \")","v":" "}]
[null,null,null,null,{"$f":"IFERROR(VLOOKUP(D441,Códigos!B:C,2,0),\" \")","v":" "}]
[null,null,null,null,{"$f":"IFERROR(VLOOKUP(D442,Códigos!B:C,2,0),\" \")","v":" "}]
[null,null,null,null,{"$f":"IFERROR(VLOOKUP(D443,Códigos!B:C,2,0),\" \")","v":" "}]
[null,null,null,null,{"$f":"IFERROR(VLOOKUP(D444,Códigos!B:C,2,0),\" \")","v":" "}]
[null,null,null,null,{"$f":"IFERROR(VLOOKUP(D445,Códigos!B:C,2,0),\" \")","v":" "}]
[null,null,null,null,{"$f":"IFERROR(VLOOKUP(D446,Códigos!B:C,2,0),\" \")","v":" "}]
[null,null,null,null,{"$f":"IFERROR(VLOOKUP(D447,Códigos!B:C,2,0),\" \")","v":" "}]
[null,null,null,null,{"$f":"IFERROR(VLOOKUP(D448,Códigos!B:C,2,0),\" \")","v":" "}]
[null,null,null,null,{"$f":"IFERROR(VLOOKUP(D449,Códigos!B:C,2,0),\" \")","v":" "}]
[null,null,null,null,{"$f":"IFERROR(VLOOKUP(D450,Códigos!B:C,2,0),\" \")","v":" "}]
[null,null,null,null,{"$f":"IFERROR(VLOOKUP(D451,Códigos!B:C,2,0),\" \")","v":" "}]
[null,null,null,null,{"$f":"IFERROR(VLOOKUP(D452,Códigos!B:C,2,0),\" \")","v":" "}]
[null,null,null,null,{"$f":"IFERROR(VLOOKUP(D453,Códigos!B:C,2,0),\" \")","v":" "}]
[null,null,null,null,{"$f":"IFERROR(VLOOKUP(D454,Códigos!B:C,2,0),\" \")","v":" "}]
[null,null,null,null,{"$f":"IFERROR(VLOOKUP(D455,Códigos!B:C,2,0),\" \")","v":" "}]
[null,null,null,null,{"$f":"IFERROR(VLOOKUP(D456,Códigos!B:C,2,0),\" \")","v":" "}]
[null,null,null,null,{"$f":"IFERROR(VLOOKUP(D457,Códigos!B:C,2,0),\" \")","v":" "}]
[null,null,null,null,{"$f":"IFERROR(VLOOKUP(D458,Códigos!B:C,2,0),\" \")","v":" "}]
[null,null,null,null,{"$f":"IFERROR(VLOOKUP(D459,Códigos!B:C,2,0),\" \")","v":" "}]
[null,null,null,null,{"$f":"IFERROR(VLOOKUP(D460,Códigos!B:C,2,0),\" \")","v":" "}]
[null,null,null,null,{"$f":"IFERROR(VLOOKUP(D461,Códigos!B:C,2,0),\" \")","v":" "}]
[null,null,null,null,{"$f":"IFERROR(VLOOKUP(D462,Códigos!B:C,2,0),\" \")","v":" "}]
[null,null,null,null,{"$f":"IFERROR(VLOOKUP(D463,Códigos!B:C,2,0),\" \")","v":" "}]
[null,null,null,null,{"$f":"IFERROR(VLOOKUP(D464,Códigos!B:C,2,0),\" \")","v":" "}]
[null,null,null,null,{"$f":"IFERROR(VLOOKUP(D465,Códigos!B:C,2,0),\" \")","v":" "}]
[null,null,null,null,{"$f":"IFERROR(VLOOKUP(D466,Códigos!B:C,2,0),\" \")","v":" "}]
[null,null,null,null,{"$f":"IFERROR(VLOOKUP(D467,Códigos!B:C,2,0),\" \")","v":" "}]
[null,null,null,null,{"$f":"IFERROR(VLOOKUP(D468,Códigos!B:C,2,0),\" \")","v":" "}]
[null,null,null,null,{"$f":"IFERROR(VLOOKUP(D469,Códigos!B:C,2,0),\" \")","v":" "}]
[null,null,null,null,{"$f":"IFERROR(VLOOKUP(D470,Códigos!B:C,2,0),\" \")","v":" "}]
[null,null,null,null,{"$f":"IFERROR(VLOOKUP(D471,Códigos!B:C,2,0),\" \")","v":" "}]
[null,null,null,null,{"$f":"IFERROR(VLOOKUP(D472,Códigos!B:C,2,0),\" \")","v":" "}]
[null,null,null,null,{"$f":"IFERROR(VLOOKUP(D473,Códigos!B:C,2,0),\" \")","v":" "}]
[null,null,null,null,{"$f":"IFERROR(VLOOKUP(D474,Códigos!B:C,2,0),\" \")","v":" "}]
[null,null,null,null,{"$f":"IFERROR(VLOOKUP(D475,Códigos!B:C,2,0),\" \")","v":" "}]
[null,null,null,null,{"$f":"IFERROR(VLOOKUP(D476,Códigos!B:C,2,0),\" \")","v":" "}]
[null,null,null,null,{"$f":"IFERROR(VLOOKUP(D477,Códigos!B:C,2,0),\" \")","v":" "}]
[null,null,null,null,{"$f":"IFERROR(VLOOKUP(D478,Códigos!B:C,2,0),\" \")","v":" "}]
[null,null,null,null,{"$f":"IFERROR(VLOOKUP(D479,Códigos!B:C,2,0),\" \")","v":" "}]
[null,null,null,null,{"$f":"IFERROR(VLOOKUP(D480,Códigos!B:C,2,0),\" \")","v":" "}]
[null,null,null,null,{"$f":"IFERROR(VLOOKUP(D481,Códigos!B:C,2,0),\" \")","v":" "}]
[null,null,null,null,{"$f":"IFERROR(VLOOKUP(D482,Códigos!B:C,2,0),\" \")","v":" "}]
[null,null,null,null,{"$f":"IFERROR(VLOOKUP(D483,Códigos!B:C,2,0),\" \")","v":" "}]
[null,null,null,null,{"$f":"IFERROR(VLOOKUP(D484,Códigos!B:C,2,0),\" \")","v":" "}]
[null,null,null,null,{"$f":"IFERROR(VLOOKUP(D485,Códigos!B:C,2,0),\" \")","v":" "}]
[null,null,null,null,{"$f":"IFERROR(VLOOKUP(D486,Códigos!B:C,2,0),\" \")","v":" "}]
[null,null,null,null,{"$f":"IFERROR(VLOOKUP(D487,Códigos!B:C,2,0),\" \")","v":" "}]
[null,null,null,null,{"$f":"IFERROR(VLOOKUP(D488,Códigos!B:C,2,0),\" \")","v":" "}]
[null,null,null,null,{"$f":"IFERROR(VLOOKUP(D489,Códigos!B:C,2,0),\" \")","v":" "}]
[null,null,null,null,{"$f":"IFERROR(VLOOKUP(D490,Códigos!B:C,2,0),\" \")","v":" "}]
[null,null,null,null,{"$f":"IFERROR(VLOOKUP(D491,Códigos!B:C,2,0),\" \")","v":" "}]
[null,null,null,null,{"$f":"IFERROR(VLOOKUP(D492,Códigos!B:C,2,0),\" \")","v":" "}]
[null,null,null,null,{"$f":"IFERROR(VLOOKUP(D493,Códigos!B:C,2,0),\" \")","v":" "}]
[null,null,null,null,{"$f":"IFERROR(VLOOKUP(D494,Códigos!B:C,2,0),\" \")","v":" "}]
[null,null,null,null,{"$f":"IFERROR(VLOOKUP(D495,Códigos!B:C,2,0),\" \")","v":" "}]
[null,null,null,null,{"$f":"IFERROR(VLOOKUP(D496,Códigos!B:C,2,0),\" \")","v":" "}]
[null,null,null,null,{"$f":"IFERROR(VLOOKUP(D497,Códigos!B:C,2,0),\" \")","v":" "}]
[null,null,null,null,{"$f":"IFERROR(VLOOKUP(D498,Códigos!B:C,2,0),\" \")","v":" "}]
[null,null,null,null,{"$f":"IFERROR(VLOOKUP(D499,Códigos!B:C,2,0),\" \")","v":" "}]
[null,null,null,null,{"$f":"IFERROR(VLOOKUP(D500,Códigos!B:C,2,0),\" \")","v":" "}]
[null,null,null,null,{"$f":"IFERROR(VLOOKUP(D501,Códigos!B:C,2,0),\" \")","v":" "}]
[null,null,null,null,{"$f":"IFERROR(VLOOKUP(D502,Códigos!B:C,2,0),\" \")","v":" "}]
[null,null,null,null,{"$f":"IFERROR(VLOOKUP(D503,Códigos!B:C,2,0),\" \")","v":" "}]
[null,null,null,null,{"$f":"IFERROR(VLOOKUP(D504,Códigos!B:C,2,0),\" \")","v":" "}]
[null,null,null,null,{"$f":"IFERROR(VLOOKUP(D505,Códigos!B:C,2,0),\" \")","v":" "}]
[null,null,null,null,{"$f":"IFERROR(VLOOKUP(D506,Códigos!B:C,2,0),\" \")","v":" "}]
[null,null,null,null,{"$f":"IFERROR(VLOOKUP(D507,Códigos!B:C,2,0),\" \")","v":" "}]
[null,null,null,null,{"$f":"IFERROR(VLOOKUP(D508,Códigos!B:C,2,0),\" \")","v":" "}]
[null,null,null,null,{"$f":"IFERROR(VLOOKUP(D509,Códigos!B:C,2,0),\" \")","v":" "}]
[null,null,null,null,{"$f":"IFERROR(VLOOKUP(D510,Códigos!B:C,2,0),\" \")","v":" "}]
[null,null,null,null,{"$f":"IFERROR(VLOOKUP(D511,Códigos!B:C,2,0),\" \")","v":" "}]
[null,null,null,null,{"$f":"IFERROR(VLOOKUP(D512,Códigos!B:C,2,0),\" \")","v":" "}]
[null,null,null,null,{"$f":"IFERROR(VLOOKUP(D513,Códigos!B:C,2,0),\" \")","v":" "}]
[null,null,null,null,{"$f":"IFERROR(VLOOKUP(D514,Códigos!B:C,2,0),\" \")","v":" "}]
[null,null,null,null,{"$f":"IFERROR(VLOOKUP(D515,Códigos!B:C,2,0),\" \")","v":" "}]
[null,null,null,null,{"$f":"IFERROR(VLOOKUP(D516,Códigos!B:C,2,0),\" \")","v":" "}]
[null,null,null,null,{"$f":"IFERROR(VLOOKUP(D517,Códigos!B:C,2,0),\" \")","v":" "}]
[null,null,null,null,{"$f":"IFERROR(VLOOKUP(D518,Códigos!B:C,2,0),\" \")","v":" "}]
[null,null,null,null,{"$f":"IFERROR(VLOOKUP(D519,Códigos!B:C,2,0),\" \")","v":" "}]
[null,null,null,null,{"$f":"IFERROR(VLOOKUP(D520,Códigos!B:C,2,0),\" \")","v":" "}]
[null,null,null,null,{"$f":"IFERROR(VLOOKUP(D521,Códigos!B:C,2,0),\" \")","v":" "}]
[null,null,null,null,{"$f":"IFERROR(VLOOKUP(D522,Códigos!B:C,2,0),\" \")","v":" "}]
[null,null,null,null,{"$f":"IFERROR(VLOOKUP(D523,Códigos!B:C,2,0),\" \")","v":" "}]
[null,null,null,null,{"$f":"IFERROR(VLOOKUP(D524,Códigos!B:C,2,0),\" \")","v":" "}]
[null,null,null,null,{"$f":"IFERROR(VLOOKUP(D525,Códigos!B:C,2,0),\" \")","v":" "}]
[null,null,null,null,{"$f":"IFERROR(VLOOKUP(D526,Códigos!B:C,2,0),\" \")","v":" "}]
[null,null,null,null,{"$f":"IFERROR(VLOOKUP(D527,Códigos!B:C,2,0),\" \")","v":" "}]
[null,null,null,null,{"$f":"IFERROR(VLOOKUP(D528,Códigos!B:C,2,0),\" \")","v":" "}]
[null,null,null,null,{"$f":"IFERROR(VLOOKUP(D529,Códigos!B:C,2,0),\" \")","v":" "}]
[null,null,null,null,{"$f":"IFERROR(VLOOKUP(D530,Códigos!B:C,2,0),\" \")","v":" "}]
[null,null,null,null,{"$f":"IFERROR(VLOOKUP(D531,Códigos!B:C,2,0),\" \")","v":" "}]
[null,null,null,null,{"$f":"IFERROR(VLOOKUP(D532,Códigos!B:C,2,0),\" \")","v":" "}]
[null,null,null,null,{"$f":"IFERROR(VLOOKUP(D533,Códigos!B:C,2,0),\" \")","v":" "}]
[null,null,null,null,{"$f":"IFERROR(VLOOKUP(D534,Códigos!B:C,2,0),\" \")","v":" "}]
[null,null,null,null,{"$f":"IFERROR(VLOOKUP(D535,Códigos!B:C,2,0),\" \")","v":" "}]
[null,null,null,null,{"$f":"IFERROR(VLOOKUP(D536,Códigos!B:C,2,0),\" \")","v":" "}]
[null,null,null,null,{"$f":"IFERROR(VLOOKUP(D537,Códigos!B:C,2,0),\" \")","v":" "}]
[null,null,null,null,{"$f":"IFERROR(VLOOKUP(D538,Códigos!B:C,2,0),\" \")","v":" "}]
[null,null,null,null,{"$f":"IFERROR(VLOOKUP(D539,Códigos!B:C,2,0),\" \")","v":" "}]
[null,null,null,null,{"$f":"IFERROR(VLOOKUP(D540,Códigos!B:C,2,0),\" \")","v":" "}]
[null,null,null,null,{"$f":"IFERROR(VLOOKUP(D541,Códigos!B:C,2,0),\" \")","v":" "}]
[null,null,null,null,{"$f":"IFERROR(VLOOKUP(D542,Códigos!B:C,2,0),\" \")","v":" "}]
[null,null,null,null,{"$f":"IFERROR(VLOOKUP(D543,Códigos!B:C,2,0),\" \")","v":" "}]
[null,null,null,null,{"$f":"IFERROR(VLOOKUP(D544,Códigos!B:C,2,0),\" \")","v":" "}]
[null,null,null,null,{"$f":"IFERROR(VLOOKUP(D545,Códigos!B:C,2,0),\" \")","v":" "}]
[null,null,null,null,{"$f":"IFERROR(VLOOKUP(D546,Códigos!B:C,2,0),\" \")","v":" "}]
[null,null,null,null,{"$f":"IFERROR(VLOOKUP(D547,Códigos!B:C,2,0),\" \")","v":" "}]
[null,null,null,null,{"$f":"IFERROR(VLOOKUP(D548,Códigos!B:C,2,0),\" \")","v":" "}]
[null,null,null,null,{"$f":"IFERROR(VLOOKUP(D549,Códigos!B:C,2,0),\" \")","v":" "}]
[null,null,null,null,{"$f":"IFERROR(VLOOKUP(D550,Códigos!B:C,2,0),\" \")","v":" "}]
[null,null,null,null,{"$f":"IFERROR(VLOOKUP(D551,Códigos!B:C,2,0),\" \")","v":" "}]
[null,null,null,null,{"$f":"IFERROR(VLOOKUP(D552,Códigos!B:C,2,0),\" \")","v":" "}]
[null,null,null,null,{"$f":"IFERROR(VLOOKUP(D553,Códigos!B:C,2,0),\" \")","v":" "}]
[null,null,null,null,{"$f":"IFERROR(VLOOKUP(D554,Códigos!B:C,2,0),\" \")","v":" "}]
[null,null,null,null,{"$f":"IFERROR(VLOOKUP(D555,Códigos!B:C,2,0),\" \")","v":" "}]
[null,null,null,null,{"$f":"IFERROR(VLOOKUP(D556,Códigos!B:C,2,0),\" \")","v":" "}]
[null,null,null,null,{"$f":"IFERROR(VLOOKUP(D557,Códigos!B:C,2,0),\" \")","v":" "}]
[null,null,null,null,{"$f":"IFERROR(VLOOKUP(D558,Códigos!B:C,2,0),\" \")","v":" "}]
[null,null,null,null,{"$f":"IFERROR(VLOOKUP(D559,Códigos!B:C,2,0),\" \")","v":" "}]
[null,null,null,null,{"$f":"IFERROR(VLOOKUP(D560,Códigos!B:C,2,0),\" \")","v":" "}]
[null,null,null,null,{"$f":"IFERROR(VLOOKUP(D561,Códigos!B:C,2,0),\" \")","v":" "}]
[null,null,null,null,{"$f":"IFERROR(VLOOKUP(D562,Códigos!B:C,2,0),\" \")","v":" "}]
[null,null,null,null,{"$f":"IFERROR(VLOOKUP(D563,Códigos!B:C,2,0),\" \")","v":" "}]
[null,null,null,null,{"$f":"IFERROR(VLOOKUP(D564,Códigos!B:C,2,0),\" \")","v":" "}]
[null,null,null,null,{"$f":"IFERROR(VLOOKUP(D565,Códigos!B:C,2,0),\" \")","v":" "}]
[null,null,null,null,{"$f":"IFERROR(VLOOKUP(D566,Códigos!B:C,2,0),\" \")","v":" "}]
[null,null,null,null,{"$f":"IFERROR(VLOOKUP(D567,Códigos!B:C,2,0),\" \")","v":" "}]
[null,null,null,null,{"$f":"IFERROR(VLOOKUP(D568,Códigos!B:C,2,0),\" \")","v":" "}]
[null,null,null,null,{"$f":"IFERROR(VLOOKUP(D569,Códigos!B:C,2,0),\" \")","v":" "}]
[null,null,null,null,{"$f":"IFERROR(VLOOKUP(D570,Códigos!B:C,2,0),\" \")","v":" "}]
[null,null,null,null,{"$f":"IFERROR(VLOOKUP(D571,Códigos!B:C,2,0),\" \")","v":" "}]
[null,null,null,null,{"$f":"IFERROR(VLOOKUP(D572,Códigos!B:C,2,0),\" \")","v":" "}]
[null,null,null,null,{"$f":"IFERROR(VLOOKUP(D573,Códigos!B:C,2,0),\" \")","v":" "}]
[null,null,null,null,{"$f":"IFERROR(VLOOKUP(D574,Códigos!B:C,2,0),\" \")","v":" "}]
[null,null,null,null,{"$f":"IFERROR(VLOOKUP(D575,Códigos!B:C,2,0),\" \")","v":" "}]
[null,null,null,null,{"$f":"IFERROR(VLOOKUP(D576,Códigos!B:C,2,0),\" \")","v":" "}]
[null,null,null,null,{"$f":"IFERROR(VLOOKUP(D577,Códigos!B:C,2,0),\" \")","v":" "}]
[null,null,null,null,{"$f":"IFERROR(VLOOKUP(D578,Códigos!B:C,2,0),\" \")","v":" "}]
[null,null,null,null,{"$f":"IFERROR(VLOOKUP(D579,Códigos!B:C,2,0),\" \")","v":" "}]
[null,null,null,null,{"$f":"IFERROR(VLOOKUP(D580,Códigos!B:C,2,0),\" \")","v":" "}]
[null,null,null,null,{"$f":"IFERROR(VLOOKUP(D581,Códigos!B:C,2,0),\" \")","v":" "}]
[null,null,null,null,{"$f":"IFERROR(VLOOKUP(D582,Códigos!B:C,2,0),\" \")","v":" "}]
[null,null,null,null,{"$f":"IFERROR(VLOOKUP(D583,Códigos!B:C,2,0),\" \")","v":" "}]
[null,null,null,null,{"$f":"IFERROR(VLOOKUP(D584,Códigos!B:C,2,0),\" \")","v":" "}]
[null,null,null,null,{"$f":"IFERROR(VLOOKUP(D585,Códigos!B:C,2,0),\" \")","v":" "}]
[null,null,null,null,{"$f":"IFERROR(VLOOKUP(D586,Códigos!B:C,2,0),\" \")","v":" "}]
[null,null,null,null,{"$f":"IFERROR(VLOOKUP(D587,Códigos!B:C,2,0),\" \")","v":" "}]
[null,null,null,null,{"$f":"IFERROR(VLOOKUP(D588,Códigos!B:C,2,0),\" \")","v":" "}]
[null,null,null,null,{"$f":"IFERROR(VLOOKUP(D589,Códigos!B:C,2,0),\" \")","v":" "}]
[null,null,null,null,{"$f":"IFERROR(VLOOKUP(D590,Códigos!B:C,2,0),\" \")","v":" "}]
[null,null,null,null,{"$f":"IFERROR(VLOOKUP(D591,Códigos!B:C,2,0),\" \")","v":" "}]
[null,null,null,null,{"$f":"IFERROR(VLOOKUP(D592,Códigos!B:C,2,0),\" \")","v":" "}]
[null,null,null,null,{"$f":"IFERROR(VLOOKUP(D593,Códigos!B:C,2,0),\" \")","v":" "}]
[null,null,null,null,{"$f":"IFERROR(VLOOKUP(D594,Códigos!B:C,2,0),\" \")","v":" "}]
[null,null,null,null,{"$f":"IFERROR(VLOOKUP(D595,Códigos!B:C,2,0),\" \")","v":" "}]
[null,null,null,null,{"$f":"IFERROR(VLOOKUP(D596,Códigos!B:C,2,0),\" \")","v":" "}]
[null,null,null,null,{"$f":"IFERROR(VLOOKUP(D597,Códigos!B:C,2,0),\" \")","v":" "}]
[null,null,null,null,{"$f":"IFERROR(VLOOKUP(D598,Códigos!B:C,2,0),\" \")","v":" "}]
[null,null,null,null,{"$f":"IFERROR(VLOOKUP(D599,Códigos!B:C,2,0),\" \")","v":" "}]
[null,null,null,null,{"$f":"IFERROR(VLOOKUP(D600,Códigos!B:C,2,0),\" \")","v":" "}]
[null,null,null,null,{"$f":"IFERROR(VLOOKUP(D601,Códigos!B:C,2,0),\" \")","v":" "}]
[null,null,null,null,{"$f":"IFERROR(VLOOKUP(D602,Códigos!B:C,2,0),\" \")","v":" "}]
[null,null,null,null,{"$f":"IFERROR(VLOOKUP(D603,Códigos!B:C,2,0),\" \")","v":" "}]
[null,null,null,null,{"$f":"IFERROR(VLOOKUP(D604,Códigos!B:C,2,0),\" \")","v":" "}]
[null,null,null,null,{"$f":"IFERROR(VLOOKUP(D605,Códigos!B:C,2,0),\" \")","v":" "}]
[null,null,null,null,{"$f":"IFERROR(VLOOKUP(D606,Códigos!B:C,2,0),\" \")","v":" "}]
[null,null,null,null,{"$f":"IFERROR(VLOOKUP(D607,Códigos!B:C,2,0),\" \")","v":" "}]
[null,null,null,null,{"$f":"IFERROR(VLOOKUP(D608,Códigos!B:C,2,0),\" \")","v":" "}]
[null,null,null,null,{"$f":"IFERROR(VLOOKUP(D609,Códigos!B:C,2,0),\" \")","v":" "}]
[null,null,null,null,{"$f":"IFERROR(VLOOKUP(D610,Códigos!B:C,2,0),\" \")","v":" "}]
[null,null,null,null,{"$f":"IFERROR(VLOOKUP(D611,Códigos!B:C,2,0),\" \")","v":" "}]
[null,null,null,null,{"$f":"IFERROR(VLOOKUP(D612,Códigos!B:C,2,0),\" \")","v":" "}]
[null,null,null,null,{"$f":"IFERROR(VLOOKUP(D613,Códigos!B:C,2,0),\" \")","v":" "}]
[null,null,null,null,{"$f":"IFERROR(VLOOKUP(D614,Códigos!B:C,2,0),\" \")","v":" "}]
[null,null,null,null,{"$f":"IFERROR(VLOOKUP(D615,Códigos!B:C,2,0),\" \")","v":" "}]
[null,null,null,null,{"$f":"IFERROR(VLOOKUP(D616,Códigos!B:C,2,0),\" \")","v":" "}]
[null,null,null,null,{"$f":"IFERROR(VLOOKUP(D617,Códigos!B:C,2,0),\" \")","v":" "}]
[null,null,null,null,{"$f":"IFERROR(VLOOKUP(D618,Códigos!B:C,2,0),\" \")","v":" "}]
[null,null,null,null,{"$f":"IFERROR(VLOOKUP(D619,Códigos!B:C,2,0),\" \")","v":" "}]
[null,null,null,null,{"$f":"IFERROR(VLOOKUP(D620,Códigos!B:C,2,0),\" \")","v":" "}]
[null,null,null,null,{"$f":"IFERROR(VLOOKUP(D621,Códigos!B:C,2,0),\" \")","v":" "}]
[null,null,null,null,{"$f":"IFERROR(VLOOKUP(D622,Códigos!B:C,2,0),\" \")","v":" "}]
[null,null,null,null,{"$f":"IFERROR(VLOOKUP(D623,Códigos!B:C,2,0),\" \")","v":" "}]
[null,null,null,null,{"$f":"IFERROR(VLOOKUP(D624,Códigos!B:C,2,0),\" \")","v":" "}]
[null,null,null,null,{"$f":"IFERROR(VLOOKUP(D625,Códigos!B:C,2,0),\" \")","v":" "}]
[null,null,null,null,{"$f":"IFERROR(VLOOKUP(D626,Códigos!B:C,2,0),\" \")","v":" "}]
[null,null,null,null,{"$f":"IFERROR(VLOOKUP(D627,Códigos!B:C,2,0),\" \")","v":" "}]
[null,null,null,null,{"$f":"IFERROR(VLOOKUP(D628,Códigos!B:C,2,0),\" \")","v":" "}]
[null,null,null,null,{"$f":"IFERROR(VLOOKUP(D629,Códigos!B:C,2,0),\" \")","v":" "}]
[null,null,null,null,{"$f":"IFERROR(VLOOKUP(D630,Códigos!B:C,2,0),\" \")","v":" "}]
[null,null,null,null,{"$f":"IFERROR(VLOOKUP(D631,Códigos!B:C,2,0),\" \")","v":" "}]
[null,null,null,null,{"$f":"IFERROR(VLOOKUP(D632,Códigos!B:C,2,0),\" \")","v":" "}]
[null,null,null,null,{"$f":"IFERROR(VLOOKUP(D633,Códigos!B:C,2,0),\" \")","v":" "}]
[null,null,null,null,{"$f":"IFERROR(VLOOKUP(D634,Códigos!B:C,2,0),\" \")","v":" "}]
[null,null,null,null,{"$f":"IFERROR(VLOOKUP(D635,Códigos!B:C,2,0),\" \")","v":" "}]
[null,null,null,null,{"$f":"IFERROR(VLOOKUP(D636,Códigos!B:C,2,0),\" \")","v":" "}]
[null,null,null,null,{"$f":"IFERROR(VLOOKUP(D637,Códigos!B:C,2,0),\" \")","v":" "}]
[null,null,null,null,{"$f":"IFERROR(VLOOKUP(D638,Códigos!B:C,2,0),\" \")","v":" "}]
[null,null,null,null,{"$f":"IFERROR(VLOOKUP(D639,Códigos!B:C,2,0),\" \")","v":" "}]
[null,null,null,null,{"$f":"IFERROR(VLOOKUP(D640,Códigos!B:C,2,0),\" \")","v":" "}]
[null,null,null,null,{"$f":"IFERROR(VLOOKUP(D641,Códigos!B:C,2,0),\" \")","v":" "}]
[null,null,null,null,{"$f":"IFERROR(VLOOKUP(D642,Códigos!B:C,2,0),\" \")","v":" "}]
[null,null,null,null,{"$f":"IFERROR(VLOOKUP(D643,Códigos!B:C,2,0),\" \")","v":" "}]
[null,null,null,null,{"$f":"IFERROR(VLOOKUP(D644,Códigos!B:C,2,0),\" \")","v":" "}]
[null,null,null,null,{"$f":"IFERROR(VLOOKUP(D645,Códigos!B:C,2,0),\" \")","v":" "}]
[null,null,null,null,{"$f":"IFERROR(VLOOKUP(D646,Códigos!B:C,2,0),\" \")","v":" "}]
[null,null,null,null,{"$f":"IFERROR(VLOOKUP(D647,Códigos!B:C,2,0),\" \")","v":" "}]
[null,null,null,null,{"$f":"IFERROR(VLOOKUP(D648,Códigos!B:C,2,0),\" \")","v":" "}]
[null,null,null,null,{"$f":"IFERROR(VLOOKUP(D649,Códigos!B:C,2,0),\" \")","v":" "}]
[null,null,null,null,{"$f":"IFERROR(VLOOKUP(D650,Códigos!B:C,2,0),\" \")","v":" "}]
[null,null,null,null,{"$f":"IFERROR(VLOOKUP(D651,Códigos!B:C,2,0),\" \")","v":" "}]
[null,null,null,null,{"$f":"IFERROR(VLOOKUP(D652,Códigos!B:C,2,0),\" \")","v":" "}]
[null,null,null,null,{"$f":"IFERROR(VLOOKUP(D653,Códigos!B:C,2,0),\" \")","v":" "}]
[null,null,null,null,{"$f":"IFERROR(VLOOKUP(D654,Códigos!B:C,2,0),\" \")","v":" "}]
[null,null,null,null,{"$f":"IFERROR(VLOOKUP(D655,Códigos!B:C,2,0),\" \")","v":" "}]
[null,null,null,null,{"$f":"IFERROR(VLOOKUP(D656,Códigos!B:C,2,0),\" \")","v":" "}]
[null,null,null,null,{"$f":"IFERROR(VLOOKUP(D657,Códigos!B:C,2,0),\" \")","v":" "}]
[null,null,null,null,{"$f":"IFERROR(VLOOKUP(D658,Códigos!B:C,2,0),\" \")","v":" "}]
[null,null,null,null,{"$f":"IFERROR(VLOOKUP(D659,Códigos!B:C,2,0),\" \")","v":" "}]
[null,null,null,null,{"$f":"IFERROR(VLOOKUP(D660,Códigos!B:C,2,0),\" \")","v":" "}]
[null,null,null,null,{"$f":"IFERROR(VLOOKUP(D661,Códigos!B:C,2,0),\" \")","v":" "}]
[null,null,null,null,{"$f":"IFERROR(VLOOKUP(D662,Códigos!B:C,2,0),\" \")","v":" "}]
[null,null,null,null,{"$f":"IFERROR(VLOOKUP(D663,Códigos!B:C,2,0),\" \")","v":" "}]
[null,null,null,null,{"$f":"IFERROR(VLOOKUP(D664,Códigos!B:C,2,0),\" \")","v":" "}]
[null,null,null,null,{"$f":"IFERROR(VLOOKUP(D665,Códigos!B:C,2,0),\" \")","v":" "}]
[null,null,null,null,{"$f":"IFERROR(VLOOKUP(D666,Códigos!B:C,2,0),\" \")","v":" "}]
[null,null,null,null,{"$f":"IFERROR(VLOOKUP(D667,Códigos!B:C,2,0),\" \")","v":" "}]
[null,null,null,null,{"$f":"IFERROR(VLOOKUP(D668,Códigos!B:C,2,0),\" \")","v":" "}]
[null,null,null,null,{"$f":"IFERROR(VLOOKUP(D669,Códigos!B:C,2,0),\" \")","v":" "}]
[null,null,null,null,{"$f":"IFERROR(VLOOKUP(D670,Códigos!B:C,2,0),\" \")","v":" "}]
[null,null,null,null,{"$f":"IFERROR(VLOOKUP(D671,Códigos!B:C,2,0),\" \")","v":" "}]
[null,null,null,null,{"$f":"IFERROR(VLOOKUP(D672,Códigos!B:C,2,0),\" \")","v":" "}]
[null,null,null,null,{"$f":"IFERROR(VLOOKUP(D673,Códigos!B:C,2,0),\" \")","v":" "}]
[null,null,null,null,{"$f":"IFERROR(VLOOKUP(D674,Códigos!B:C,2,0),\" \")","v":" "}]
[null,null,null,null,{"$f":"IFERROR(VLOOKUP(D675,Códigos!B:C,2,0),\" \")","v":" "}]
[null,null,null,null,{"$f":"IFERROR(VLOOKUP(D676,Códigos!B:C,2,0),\" \")","v":" "}]
[null,null,null,null,{"$f":"IFERROR(VLOOKUP(D677,Códigos!B:C,2,0),\" \")","v":" "}]
[null,null,null,null,{"$f":"IFERROR(VLOOKUP(D678,Códigos!B:C,2,0),\" \")","v":" "}]
[null,null,null,null,{"$f":"IFERROR(VLOOKUP(D679,Códigos!B:C,2,0),\" \")","v":" "}]
[null,null,null,null,{"$f":"IFERROR(VLOOKUP(D680,Códigos!B:C,2,0),\" \")","v":" "}]
[null,null,null,null,{"$f":"IFERROR(VLOOKUP(D681,Códigos!B:C,2,0),\" \")","v":" "}]
[null,null,null,null,{"$f":"IFERROR(VLOOKUP(D682,Códigos!B:C,2,0),\" \")","v":" "}]
[null,null,null,null,{"$f":"IFERROR(VLOOKUP(D683,Códigos!B:C,2,0),\" \")","v":" "}]
[null,null,null,null,{"$f":"IFERROR(VLOOKUP(D684,Códigos!B:C,2,0),\" \")","v":" "}]
[null,null,null,null,{"$f":"IFERROR(VLOOKUP(D685,Códigos!B:C,2,0),\" \")","v":" "}]
[null,null,null,null,{"$f":"IFERROR(VLOOKUP(D686,Códigos!B:C,2,0),\" \")","v":" "}]
[null,null,null,null,{"$f":"IFERROR(VLOOKUP(D687,Códigos!B:C,2,0),\" \")","v":" "}]
[null,null,null,null,{"$f":"IFERROR(VLOOKUP(D688,Códigos!B:C,2,0),\" \")","v":" "}]
[null,null,null,null,{"$f":"IFERROR(VLOOKUP(D689,Códigos!B:C,2,0),\" \")","v":" "}]
[null,null,null,null,{"$f":"IFERROR(VLOOKUP(D690,Códigos!B:C,2,0),\" \")","v":" "}]
[null,null,null,null,{"$f":"IFERROR(VLOOKUP(D691,Códigos!B:C,2,0),\" \")","v":" "}]
[null,null,null,null,{"$f":"IFERROR(VLOOKUP(D692,Códigos!B:C,2,0),\" \")","v":" "}]
[null,null,null,null,{"$f":"IFERROR(VLOOKUP(D693,Códigos!B:C,2,0),\" \")","v":" "}]
[null,null,null,null,{"$f":"IFERROR(VLOOKUP(D694,Códigos!B:C,2,0),\" \")","v":" "}]
[null,null,null,null,{"$f":"IFERROR(VLOOKUP(D695,Códigos!B:C,2,0),\" \")","v":" "}]
[null,null,null,null,{"$f":"IFERROR(VLOOKUP(D696,Códigos!B:C,2,0),\" \")","v":" "}]
[null,null,null,null,{"$f":"IFERROR(VLOOKUP(D697,Códigos!B:C,2,0),\" \")","v":" "}]
[null,null,null,null,{"$f":"IFERROR(VLOOKUP(D698,Códigos!B:C,2,0),\" \")","v":" "}]
[null,null,null,null,{"$f":"IFERROR(VLOOKUP(D699,Códigos!B:C,2,0),\" \")","v":" "}]
[null,null,null,null,{"$f":"IFERROR(VLOOKUP(D700,Códigos!B:C,2,0),\" \")","v":" "}]
[null,null,null,null,{"$f":"IFERROR(VLOOKUP(D701,Códigos!B:C,2,0),\" \")","v":" "}]
[null,null,null,null,{"$f":"IFERROR(VLOOKUP(D702,Códigos!B:C,2,0),\" \")","v":" "}]
[null,null,null,null,{"$f":"IFERROR(VLOOKUP(D703,Códigos!B:C,2,0),\" \")","v":" "}]
[null,null,null,null,{"$f":"IFERROR(VLOOKUP(D704,Códigos!B:C,2,0),\" \")","v":" "}]
[null,null,null,null,{"$f":"IFERROR(VLOOKUP(D705,Códigos!B:C,2,0),\" \")","v":" "}]
[null,null,null,null,{"$f":"IFERROR(VLOOKUP(D706,Códigos!B:C,2,0),\" \")","v":" "}]
[null,null,null,null,{"$f":"IFERROR(VLOOKUP(D707,Códigos!B:C,2,0),\" \")","v":" "}]
[null,null,null,null,{"$f":"IFERROR(VLOOKUP(D708,Códigos!B:C,2,0),\" \")","v":" "}]
[null,null,null,null,{"$f":"IFERROR(VLOOKUP(D709,Códigos!B:C,2,0),\" \")","v":" "}]
[null,null,null,null,{"$f":"IFERROR(VLOOKUP(D710,Códigos!B:C,2,0),\" \")","v":" "}]
[null,null,null,null,{"$f":"IFERROR(VLOOKUP(D711,Códigos!B:C,2,0),\" \")","v":" "}]
[null,null,null,null,{"$f":"IFERROR(VLOOKUP(D712,Códigos!B:C,2,0),\" \")","v":" "}]
[null,null,null,null,{"$f":"IFERROR(VLOOKUP(D713,Códigos!B:C,2,0),\" \")","v":" "}]
[null,null,null,null,{"$f":"IFERROR(VLOOKUP(D714,Códigos!B:C,2,0),\" \")","v":" "}]
[null,null,null,null,{"$f":"IFERROR(VLOOKUP(D715,Códigos!B:C,2,0),\" \")","v":" "}]
[null,null,null,null,{"$f":"IFERROR(VLOOKUP(D716,Códigos!B:C,2,0),\" \")","v":" "}]
[null,null,null,null,{"$f":"IFERROR(VLOOKUP(D717,Códigos!B:C,2,0),\" \")","v":" "}]
[null,null,null,null,{"$f":"IFERROR(VLOOKUP(D718,Códigos!B:C,2,0),\" \")","v":" "}]
[null,null,null,null,{"$f":"IFERROR(VLOOKUP(D719,Códigos!B:C,2,0),\" \")","v":" "}]
[null,null,null,null,{"$f":"IFERROR(VLOOKUP(D720,Códigos!B:C,2,0),\" \")","v":" "}]
[null,null,null,null,{"$f":"IFERROR(VLOOKUP(D721,Códigos!B:C,2,0),\" \")","v":" "}]
[null,null,null,null,{"$f":"IFERROR(VLOOKUP(D722,Códigos!B:C,2,0),\" \")","v":" "}]
[null,null,null,null,{"$f":"IFERROR(VLOOKUP(D723,Códigos!B:C,2,0),\" \")","v":" "}]
[null,null,null,null,{"$f":"IFERROR(VLOOKUP(D724,Códigos!B:C,2,0),\" \")","v":" "}]
[null,null,null,null,{"$f":"IFERROR(VLOOKUP(D725,Códigos!B:C,2,0),\" \")","v":" "}]
[null,null,null,null,{"$f":"IFERROR(VLOOKUP(D726,Códigos!B:C,2,0),\" \")","v":" "}]
[null,null,null,null,{"$f":"IFERROR(VLOOKUP(D727,Códigos!B:C,2,0),\" \")","v":" "}]
[null,null,null,null,{"$f":"IFERROR(VLOOKUP(D728,Códigos!B:C,2,0),\" \")","v":" "}]
[null,null,null,null,{"$f":"IFERROR(VLOOKUP(D729,Códigos!B:C,2,0),\" \")","v":" "}]
[null,null,null,null,{"$f":"IFERROR(VLOOKUP(D730,Códigos!B:C,2,0),\" \")","v":" "}]
[null,null,null,null,{"$f":"IFERROR(VLOOKUP(D731,Códigos!B:C,2,0),\" \")","v":" "}]
[null,null,null,null,{"$f":"IFERROR(VLOOKUP(D732,Códigos!B:C,2,0),\" \")","v":" "}]
[null,null,null,null,{"$f":"IFERROR(VLOOKUP(D733,Códigos!B:C,2,0),\" \")","v":" "}]
[null,null,null,null,{"$f":"IFERROR(VLOOKUP(D734,Códigos!B:C,2,0),\" \")","v":" "}]
[null,null,null,null,{"$f":"IFERROR(VLOOKUP(D735,Códigos!B:C,2,0),\" \")","v":" "}]
[null,null,null,null,{"$f":"IFERROR(VLOOKUP(D736,Códigos!B:C,2,0),\" \")","v":" "}]
[null,null,null,null,{"$f":"IFERROR(VLOOKUP(D737,Códigos!B:C,2,0),\" \")","v":" "}]
[null,null,null,null,{"$f":"IFERROR(VLOOKUP(D738,Códigos!B:C,2,0),\" \")","v":" "}]
[null,null,null,null,{"$f":"IFERROR(VLOOKUP(D739,Códigos!B:C,2,0),\" \")","v":" "}]
[null,null,null,null,{"$f":"IFERROR(VLOOKUP(D740,Códigos!B:C,2,0),\" \")","v":" "}]
[null,null,null,null,{"$f":"IFERROR(VLOOKUP(D741,Códigos!B:C,2,0),\" \")","v":" "}]
[null,null,null,null,{"$f":"IFERROR(VLOOKUP(D742,Códigos!B:C,2,0),\" \")","v":" "}]
[null,null,null,null,{"$f":"IFERROR(VLOOKUP(D743,Códigos!B:C,2,0),\" \")","v":" "}]
[null,null,null,null,{"$f":"IFERROR(VLOOKUP(D744,Códigos!B:C,2,0),\" \")","v":" "}]
[null,null,null,null,{"$f":"IFERROR(VLOOKUP(D745,Códigos!B:C,2,0),\" \")","v":" "}]
[null,null,null,null,{"$f":"IFERROR(VLOOKUP(D746,Códigos!B:C,2,0),\" \")","v":" "}]
[null,null,null,null,{"$f":"IFERROR(VLOOKUP(D747,Códigos!B:C,2,0),\" \")","v":" "}]
[null,null,null,null,{"$f":"IFERROR(VLOOKUP(D748,Códigos!B:C,2,0),\" \")","v":" "}]
[null,null,null,null,{"$f":"IFERROR(VLOOKUP(D749,Códigos!B:C,2,0),\" \")","v":" "}]
[null,null,null,null,{"$f":"IFERROR(VLOOKUP(D750,Códigos!B:C,2,0),\" \")","v":" "}]
[null,null,null,null,{"$f":"IFERROR(VLOOKUP(D751,Códigos!B:C,2,0),\" \")","v":" "}]
[null,null,null,null,{"$f":"IFERROR(VLOOKUP(D752,Códigos!B:C,2,0),\" \")","v":" "}]
[null,null,null,null,{"$f":"IFERROR(VLOOKUP(D753,Códigos!B:C,2,0),\" \")","v":" "}]
[null,null,null,null,{"$f":"IFERROR(VLOOKUP(D754,Códigos!B:C,2,0),\" \")","v":" "}]
[null,null,null,null,{"$f":"IFERROR(VLOOKUP(D755,Códigos!B:C,2,0),\" \")","v":" "}]
[null,null,null,null,{"$f":"IFERROR(VLOOKUP(D756,Códigos!B:C,2,0),\" \")","v":" "}]
[null,null,null,null,{"$f":"IFERROR(VLOOKUP(D757,Códigos!B:C,2,0),\" \")","v":" "}]
[null,null,null,null,{"$f":"IFERROR(VLOOKUP(D758,Códigos!B:C,2,0),\" \")","v":" "}]
[null,null,null,null,{"$f":"IFERROR(VLOOKUP(D759,Códigos!B:C,2,0),\" \")","v":" "}]
[null,null,null,null,{"$f":"IFERROR(VLOOKUP(D760,Códigos!B:C,2,0),\" \")","v":" "}]
[null,null,null,null,{"$f":"IFERROR(VLOOKUP(D761,Códigos!B:C,2,0),\" \")","v":" "}]
[null,null,null,null,{"$f":"IFERROR(VLOOKUP(D762,Códigos!B:C,2,0),\" \")","v":" "}]
[null,null,null,null,{"$f":"IFERROR(VLOOKUP(D763,Códigos!B:C,2,0),\" \")","v":" "}]
[null,null,null,null,{"$f":"IFERROR(VLOOKUP(D764,Códigos!B:C,2,0),\" \")","v":" "}]
[null,null,null,null,{"$f":"IFERROR(VLOOKUP(D765,Códigos!B:C,2,0),\" \")","v":" "}]
[null,null,null,null,{"$f":"IFERROR(VLOOKUP(D766,Códigos!B:C,2,0),\" \")","v":" "}]
[null,null,null,null,{"$f":"IFERROR(VLOOKUP(D767,Códigos!B:C,2,0),\" \")","v":" "}]
[null,null,null,null,{"$f":"IFERROR(VLOOKUP(D768,Códigos!B:C,2,0),\" \")","v":" "}]
[null,null,null,null,{"$f":"IFERROR(VLOOKUP(D769,Códigos!B:C,2,0),\" \")","v":" "}]
[null,null,null,null,{"$f":"IFERROR(VLOOKUP(D770,Códigos!B:C,2,0),\" \")","v":" "}]
[null,null,null,null,{"$f":"IFERROR(VLOOKUP(D771,Códigos!B:C,2,0),\" \")","v":" "}]
[null,null,null,null,{"$f":"IFERROR(VLOOKUP(D772,Códigos!B:C,2,0),\" \")","v":" "}]
[null,null,null,null,{"$f":"IFERROR(VLOOKUP(D773,Códigos!B:C,2,0),\" \")","v":" "}]
[null,null,null,null,{"$f":"IFERROR(VLOOKUP(D774,Códigos!B:C,2,0),\" \")","v":" "}]
[null,null,null,null,{"$f":"IFERROR(VLOOKUP(D775,Códigos!B:C,2,0),\" \")","v":" "}]
[null,null,null,null,{"$f":"IFERROR(VLOOKUP(D776,Códigos!B:C,2,0),\" \")","v":" "}]
[null,null,null,null,{"$f":"IFERROR(VLOOKUP(D777,Códigos!B:C,2,0),\" \")","v":" "}]
[null,null,null,null,{"$f":"IFERROR(VLOOKUP(D778,Códigos!B:C,2,0),\" \")","v":" "}]
[null,null,null,null,{"$f":"IFERROR(VLOOKUP(D779,Códigos!B:C,2,0),\" \")","v":" "}]
[null,null,null,null,{"$f":"IFERROR(VLOOKUP(D780,Códigos!B:C,2,0),\" \")","v":" "}]
[null,null,null,null,{"$f":"IFERROR(VLOOKUP(D781,Códigos!B:C,2,0),\" \")","v":" "}]
[null,null,null,null,{"$f":"IFERROR(VLOOKUP(D782,Códigos!B:C,2,0),\" \")","v":" "}]
[null,null,null,null,{"$f":"IFERROR(VLOOKUP(D783,Códigos!B:C,2,0),\" \")","v":" "}]
[null,null,null,null,{"$f":"IFERROR(VLOOKUP(D784,Códigos!B:C,2,0),\" \")","v":" "}]
[null,null,null,null,{"$f":"IFERROR(VLOOKUP(D785,Códigos!B:C,2,0),\" \")","v":" "}]
[null,null,null,null,{"$f":"IFERROR(VLOOKUP(D786,Códigos!B:C,2,0),\" \")","v":" "}]
[null,null,null,null,{"$f":"IFERROR(VLOOKUP(D787,Códigos!B:C,2,0),\" \")","v":" "}]
[null,null,null,null,{"$f":"IFERROR(VLOOKUP(D788,Códigos!B:C,2,0),\" \")","v":" "}]
[null,null,null,null,{"$f":"IFERROR(VLOOKUP(D789,Códigos!B:C,2,0),\" \")","v":" "}]
[null,null,null,null,{"$f":"IFERROR(VLOOKUP(D790,Códigos!B:C,2,0),\" \")","v":" "}]
[null,null,null,null,{"$f":"IFERROR(VLOOKUP(D791,Códigos!B:C,2,0),\" \")","v":" "}]
[null,null,null,null,{"$f":"IFERROR(VLOOKUP(D792,Códigos!B:C,2,0),\" \")","v":" "}]
[null,null,null,null,{"$f":"IFERROR(VLOOKUP(D793,Códigos!B:C,2,0),\" \")","v":" "}]
[null,null,null,null,{"$f":"IFERROR(VLOOKUP(D794,Códigos!B:C,2,0),\" \")","v":" "}]
[null,null,null,null,{"$f":"IFERROR(VLOOKUP(D795,Códigos!B:C,2,0),\" \")","v":" "}]
[null,null,null,null,{"$f":"IFERROR(VLOOKUP(D796,Códigos!B:C,2,0),\" \")","v":" "}]
[null,null,null,null,{"$f":"IFERROR(VLOOKUP(D797,Códigos!B:C,2,0),\" \")","v":" "}]
[null,null,null,null,{"$f":"IFERROR(VLOOKUP(D798,Códigos!B:C,2,0),\" \")","v":" "}]
[null,null,null,null,{"$f":"IFERROR(VLOOKUP(D799,Códigos!B:C,2,0),\" \")","v":" "}]
[null,null,null,null,{"$f":"IFERROR(VLOOKUP(D800,Códigos!B:C,2,0),\" \")","v":" "}]
[null,null,null,null,{"$f":"IFERROR(VLOOKUP(D801,Códigos!B:C,2,0),\" \")","v":" "}]
[null,null,null,null,{"$f":"IFERROR(VLOOKUP(D802,Códigos!B:C,2,0),\" \")","v":" "}]
[null,null,null,null,{"$f":"IFERROR(VLOOKUP(D803,Códigos!B:C,2,0),\" \")","v":" "}]
[null,null,null,null,{"$f":"IFERROR(VLOOKUP(D804,Códigos!B:C,2,0),\" \")","v":" "}]
[null,null,null,null,{"$f":"IFERROR(VLOOKUP(D805,Códigos!B:C,2,0),\" \")","v":" "}]
[null,null,null,null,{"$f":"IFERROR(VLOOKUP(D806,Códigos!B:C,2,0),\" \")","v":" "}]
[null,null,null,null,{"$f":"IFERROR(VLOOKUP(D807,Códigos!B:C,2,0),\" \")","v":" "}]
[null,null,null,null,{"$f":"IFERROR(VLOOKUP(D808,Códigos!B:C,2,0),\" \")","v":" "}]
[null,null,null,null,{"$f":"IFERROR(VLOOKUP(D809,Códigos!B:C,2,0),\" \")","v":" "}]
[null,null,null,null,{"$f":"IFERROR(VLOOKUP(D810,Códigos!B:C,2,0),\" \")","v":" "}]
[null,null,null,null,{"$f":"IFERROR(VLOOKUP(D811,Códigos!B:C,2,0),\" \")","v":" "}]
[null,null,null,null,{"$f":"IFERROR(VLOOKUP(D812,Códigos!B:C,2,0),\" \")","v":" "}]
[null,null,null,null,{"$f":"IFERROR(VLOOKUP(D813,Códigos!B:C,2,0),\" \")","v":" "}]
[null,null,null,null,{"$f":"IFERROR(VLOOKUP(D814,Códigos!B:C,2,0),\" \")","v":" "}]
[null,null,null,null,{"$f":"IFERROR(VLOOKUP(D815,Códigos!B:C,2,0),\" \")","v":" "}]
[null,null,null,null,{"$f":"IFERROR(VLOOKUP(D816,Códigos!B:C,2,0),\" \")","v":" "}]
[null,null,null,null,{"$f":"IFERROR(VLOOKUP(D817,Códigos!B:C,2,0),\" \")","v":" "}]
[null,null,null,null,{"$f":"IFERROR(VLOOKUP(D818,Códigos!B:C,2,0),\" \")","v":" "}]
[null,null,null,null,{"$f":"IFERROR(VLOOKUP(D819,Códigos!B:C,2,0),\" \")","v":" "}]
[null,null,null,null,{"$f":"IFERROR(VLOOKUP(D820,Códigos!B:C,2,0),\" \")","v":" "}]
[null,null,null,null,{"$f":"IFERROR(VLOOKUP(D821,Códigos!B:C,2,0),\" \")","v":" "}]
[null,null,null,null,{"$f":"IFERROR(VLOOKUP(D822,Códigos!B:C,2,0),\" \")","v":" "}]
[null,null,null,null,{"$f":"IFERROR(VLOOKUP(D823,Códigos!B:C,2,0),\" \")","v":" "}]
[null,null,null,null,{"$f":"IFERROR(VLOOKUP(D824,Códigos!B:C,2,0),\" \")","v":" "}]
[null,null,null,null,{"$f":"IFERROR(VLOOKUP(D825,Códigos!B:C,2,0),\" \")","v":" "}]
[null,null,null,null,{"$f":"IFERROR(VLOOKUP(D826,Códigos!B:C,2,0),\" \")","v":" "}]
[null,null,null,null,{"$f":"IFERROR(VLOOKUP(D827,Códigos!B:C,2,0),\" \")","v":" "}]
[null,null,null,null,{"$f":"IFERROR(VLOOKUP(D828,Códigos!B:C,2,0),\" \")","v":" "}]
[null,null,null,null,{"$f":"IFERROR(VLOOKUP(D829,Códigos!B:C,2,0),\" \")","v":" "}]
[null,null,null,null,{"$f":"IFERROR(VLOOKUP(D830,Códigos!B:C,2,0),\" \")","v":" "}]
[null,null,null,null,{"$f":"IFERROR(VLOOKUP(D831,Códigos!B:C,2,0),\" \")","v":" "}]
[null,null,null,null,{"$f":"IFERROR(VLOOKUP(D832,Códigos!B:C,2,0),\" \")","v":" "}]
[null,null,null,null,{"$f":"IFERROR(VLOOKUP(D833,Códigos!B:C,2,0),\" \")","v":" "}]
[null,null,null,null,{"$f":"IFERROR(VLOOKUP(D834,Códigos!B:C,2,0),\" \")","v":" "}]
[null,null,null,null,{"$f":"IFERROR(VLOOKUP(D835,Códigos!B:C,2,0),\" \")","v":" "}]
[null,null,null,null,{"$f":"IFERROR(VLOOKUP(D836,Códigos!B:C,2,0),\" \")","v":" "}]
[null,null,null,null,{"$f":"IFERROR(VLOOKUP(D837,Códigos!B:C,2,0),\" \")","v":" "}]
[null,null,null,null,{"$f":"IFERROR(VLOOKUP(D838,Códigos!B:C,2,0),\" \")","v":" "}]
[null,null,null,null,{"$f":"IFERROR(VLOOKUP(D839,Códigos!B:C,2,0),\" \")","v":" "}]
[null,null,null,null,{"$f":"IFERROR(VLOOKUP(D840,Códigos!B:C,2,0),\" \")","v":" "}]
[null,null,null,null,{"$f":"IFERROR(VLOOKUP(D841,Códigos!B:C,2,0),\" \")","v":" "}]
[null,null,null,null,{"$f":"IFERROR(VLOOKUP(D842,Códigos!B:C,2,0),\" \")","v":" "}]
[null,null,null,null,{"$f":"IFERROR(VLOOKUP(D843,Códigos!B:C,2,0),\" \")","v":" "}]
[null,null,null,null,{"$f":"IFERROR(VLOOKUP(D844,Códigos!B:C,2,0),\" \")","v":" "}]
[null,null,null,null,{"$f":"IFERROR(VLOOKUP(D845,Códigos!B:C,2,0),\" \")","v":" "}]
[null,null,null,null,{"$f":"IFERROR(VLOOKUP(D846,Códigos!B:C,2,0),\" \")","v":" "}]
[null,null,null,null,{"$f":"IFERROR(VLOOKUP(D847,Códigos!B:C,2,0),\" \")","v":" "}]
[null,null,null,null,{"$f":"IFERROR(VLOOKUP(D848,Códigos!B:C,2,0),\" \")","v":" "}]
[null,null,null,null,{"$f":"IFERROR(VLOOKUP(D849,Códigos!B:C,2,0),\" \")","v":" "}]
[null,null,null,null,{"$f":"IFERROR(VLOOKUP(D850,Códigos!B:C,2,0),\" \")","v":" "}]
[null,null,null,null,{"$f":"IFERROR(VLOOKUP(D851,Códigos!B:C,2,0),\" \")","v":" "}]
[null,null,null,null,{"$f":"IFERROR(VLOOKUP(D852,Códigos!B:C,2,0),\" \")","v":" "}]
[null,null,null,null,{"$f":"IFERROR(VLOOKUP(D853,Códigos!B:C,2,0),\" \")","v":" "}]
[null,null,null,null,{"$f":"IFERROR(VLOOKUP(D854,Códigos!B:C,2,0),\" \")","v":" "}]
[null,null,null,null,{"$f":"IFERROR(VLOOKUP(D855,Códigos!B:C,2,0),\" \")","v":" "}]
[null,null,null,null,{"$f":"IFERROR(VLOOKUP(D856,Códigos!B:C,2,0),\" \")","v":" "}]
[null,null,null,null,{"$f":"IFERROR(VLOOKUP(D857,Códigos!B:C,2,0),\" \")","v":" "}]
[null,null,null,null,{"$f":"IFERROR(VLOOKUP(D858,Códigos!B:C,2,0),\" \")","v":" "}]
[null,null,null,null,{"$f":"IFERROR(VLOOKUP(D859,Códigos!B:C,2,0),\" \")","v":" "}]
[null,null,null,null,{"$f":"IFERROR(VLOOKUP(D860,Códigos!B:C,2,0),\" \")","v":" "}]
[null,null,null,null,{"$f":"IFERROR(VLOOKUP(D861,Códigos!B:C,2,0),\" \")","v":" "}]
[null,null,null,null,{"$f":"IFERROR(VLOOKUP(D862,Códigos!B:C,2,0),\" \")","v":" "}]
[null,null,null,null,{"$f":"IFERROR(VLOOKUP(D863,Códigos!B:C,2,0),\" \")","v":" "}]
[null,null,null,null,{"$f":"IFERROR(VLOOKUP(D864,Códigos!B:C,2,0),\" \")","v":" "}]
[null,null,null,null,{"$f":"IFERROR(VLOOKUP(D865,Códigos!B:C,2,0),\" \")","v":" "}]
[null,null,null,null,{"$f":"IFERROR(VLOOKUP(D866,Códigos!B:C,2,0),\" \")","v":" "}]
[null,null,null,null,{"$f":"IFERROR(VLOOKUP(D867,Códigos!B:C,2,0),\" \")","v":" "}]
[null,null,null,null,{"$f":"IFERROR(VLOOKUP(D868,Códigos!B:C,2,0),\" \")","v":" "}]
[null,null,null,null,{"$f":"IFERROR(VLOOKUP(D869,Códigos!B:C,2,0),\" \")","v":" "}]
[null,null,null,null,{"$f":"IFERROR(VLOOKUP(D870,Códigos!B:C,2,0),\" \")","v":" "}]
[null,null,null,null,{"$f":"IFERROR(VLOOKUP(D871,Códigos!B:C,2,0),\" \")","v":" "}]
[null,null,null,null,{"$f":"IFERROR(VLOOKUP(D872,Códigos!B:C,2,0),\" \")","v":" "}]
[null,null,null,null,{"$f":"IFERROR(VLOOKUP(D873,Códigos!B:C,2,0),\" \")","v":" "}]
[null,null,null,null,{"$f":"IFERROR(VLOOKUP(D874,Códigos!B:C,2,0),\" \")","v":" "}]
[null,null,null,null,{"$f":"IFERROR(VLOOKUP(D875,Códigos!B:C,2,0),\" \")","v":" "}]
[null,null,null,null,{"$f":"IFERROR(VLOOKUP(D876,Códigos!B:C,2,0),\" \")","v":" "}]
[null,null,null,null,{"$f":"IFERROR(VLOOKUP(D877,Códigos!B:C,2,0),\" \")","v":" "}]
[null,null,null,null,{"$f":"IFERROR(VLOOKUP(D878,Códigos!B:C,2,0),\" \")","v":" "}]
[null,null,null,null,{"$f":"IFERROR(VLOOKUP(D879,Códigos!B:C,2,0),\" \")","v":" "}]
[null,null,null,null,{"$f":"IFERROR(VLOOKUP(D880,Códigos!B:C,2,0),\" \")","v":" "}]
[null,null,null,null,{"$f":"IFERROR(VLOOKUP(D881,Códigos!B:C,2,0),\" \")","v":" "}]
[null,null,null,null,{"$f":"IFERROR(VLOOKUP(D882,Códigos!B:C,2,0),\" \")","v":" "}]
[null,null,null,null,{"$f":"IFERROR(VLOOKUP(D883,Códigos!B:C,2,0),\" \")","v":" "}]
[null,null,null,null,{"$f":"IFERROR(VLOOKUP(D884,Códigos!B:C,2,0),\" \")","v":" "}]
[null,null,null,null,{"$f":"IFERROR(VLOOKUP(D885,Códigos!B:C,2,0),\" \")","v":" "}]
[null,null,null,null,{"$f":"IFERROR(VLOOKUP(D886,Códigos!B:C,2,0),\" \")","v":" "}]
[null,null,null,null,{"$f":"IFERROR(VLOOKUP(D887,Códigos!B:C,2,0),\" \")","v":" "}]
[null,null,null,null,{"$f":"IFERROR(VLOOKUP(D888,Códigos!B:C,2,0),\" \")","v":" "}]
[null,null,null,null,{"$f":"IFERROR(VLOOKUP(D889,Códigos!B:C,2,0),\" \")","v":" "}]
[null,null,null,null,{"$f":"IFERROR(VLOOKUP(D890,Códigos!B:C,2,0),\" \")","v":" "}]
[null,null,null,null,{"$f":"IFERROR(VLOOKUP(D891,Códigos!B:C,2,0),\" \")","v":" "}]
[null,null,null,null,{"$f":"IFERROR(VLOOKUP(D892,Códigos!B:C,2,0),\" \")","v":" "}]
[null,null,null,null,{"$f":"IFERROR(VLOOKUP(D893,Códigos!B:C,2,0),\" \")","v":" "}]
[null,null,null,null,{"$f":"IFERROR(VLOOKUP(D894,Códigos!B:C,2,0),\" \")","v":" "}]
[null,null,null,null,{"$f":"IFERROR(VLOOKUP(D895,Códigos!B:C,2,0),\" \")","v":" "}]
[null,null,null,null,{"$f":"IFERROR(VLOOKUP(D896,Códigos!B:C,2,0),\" \")","v":" "}]
[null,null,null,null,{"$f":"IFERROR(VLOOKUP(D897,Códigos!B:C,2,0),\" \")","v":" "}]
[null,null,null,null,{"$f":"IFERROR(VLOOKUP(D898,Códigos!B:C,2,0),\" \")","v":" "}]
[null,null,null,null,{"$f":"IFERROR(VLOOKUP(D899,Códigos!B:C,2,0),\" \")","v":" "}]
[null,null,null,null,{"$f":"IFERROR(VLOOKUP(D900,Códigos!B:C,2,0),\" \")","v":" "}]
[null,null,null,null,{"$f":"IFERROR(VLOOKUP(D901,Códigos!B:C,2,0),\" \")","v":" "}]
[null,null,null,null,{"$f":"IFERROR(VLOOKUP(D902,Códigos!B:C,2,0),\" \")","v":" "}]
[null,null,null,null,{"$f":"IFERROR(VLOOKUP(D903,Códigos!B:C,2,0),\" \")","v":" "}]
[null,null,null,null,{"$f":"IFERROR(VLOOKUP(D904,Códigos!B:C,2,0),\" \")","v":" "}]
[null,null,null,null,{"$f":"IFERROR(VLOOKUP(D905,Códigos!B:C,2,0),\" \")","v":" "}]
[null,null,null,null,{"$f":"IFERROR(VLOOKUP(D906,Códigos!B:C,2,0),\" \")","v":" "}]
[null,null,null,null,{"$f":"IFERROR(VLOOKUP(D907,Códigos!B:C,2,0),\" \")","v":" "}]
[null,null,null,null,{"$f":"IFERROR(VLOOKUP(D908,Códigos!B:C,2,0),\" \")","v":" "}]
[null,null,null,null,{"$f":"IFERROR(VLOOKUP(D909,Códigos!B:C,2,0),\" \")","v":" "}]
[null,null,null,null,{"$f":"IFERROR(VLOOKUP(D910,Códigos!B:C,2,0),\" \")","v":" "}]
[null,null,null,null,{"$f":"IFERROR(VLOOKUP(D911,Códigos!B:C,2,0),\" \")","v":" "}]
[null,null,null,null,{"$f":"IFERROR(VLOOKUP(D912,Códigos!B:C,2,0),\" \")","v":" "}]
[null,null,null,null,{"$f":"IFERROR(VLOOKUP(D913,Códigos!B:C,2,0),\" \")","v":" "}]
[null,null,null,null,{"$f":"IFERROR(VLOOKUP(D914,Códigos!B:C,2,0),\" \")","v":" "}]
[null,null,null,null,{"$f":"IFERROR(VLOOKUP(D915,Códigos!B:C,2,0),\" \")","v":" "}]
[null,null,null,null,{"$f":"IFERROR(VLOOKUP(D916,Códigos!B:C,2,0),\" \")","v":" "}]
[null,null,null,null,{"$f":"IFERROR(VLOOKUP(D917,Códigos!B:C,2,0),\" \")","v":" "}]
[null,null,null,null,{"$f":"IFERROR(VLOOKUP(D918,Códigos!B:C,2,0),\" \")","v":" "}]
[null,null,null,null,{"$f":"IFERROR(VLOOKUP(D919,Códigos!B:C,2,0),\" \")","v":" "}]
[null,null,null,null,{"$f":"IFERROR(VLOOKUP(D920,Códigos!B:C,2,0),\" \")","v":" "}]
[null,null,null,null,{"$f":"IFERROR(VLOOKUP(D921,Códigos!B:C,2,0),\" \")","v":" "}]
[null,null,null,null,{"$f":"IFERROR(VLOOKUP(D922,Códigos!B:C,2,0),\" \")","v":" "}]
[null,null,null,null,{"$f":"IFERROR(VLOOKUP(D923,Códigos!B:C,2,0),\" \")","v":" "}]
[null,null,null,null,{"$f":"IFERROR(VLOOKUP(D924,Códigos!B:C,2,0),\" \")","v":" "}]
[null,null,null,null,{"$f":"IFERROR(VLOOKUP(D925,Códigos!B:C,2,0),\" \")","v":" "}]
[null,null,null,null,{"$f":"IFERROR(VLOOKUP(D926,Códigos!B:C,2,0),\" \")","v":" "}]
[null,null,null,null,{"$f":"IFERROR(VLOOKUP(D927,Códigos!B:C,2,0),\" \")","v":" "}]
[null,null,null,null,{"$f":"IFERROR(VLOOKUP(D928,Códigos!B:C,2,0),\" \")","v":" "}]
[null,null,null,null,{"$f":"IFERROR(VLOOKUP(D929,Códigos!B:C,2,0),\" \")","v":" "}]
[null,null,null,null,{"$f":"IFERROR(VLOOKUP(D930,Códigos!B:C,2,0),\" \")","v":" "}]
[null,null,null,null,{"$f":"IFERROR(VLOOKUP(D931,Códigos!B:C,2,0),\" \")","v":" "}]
[null,null,null,null,{"$f":"IFERROR(VLOOKUP(D932,Códigos!B:C,2,0),\" \")","v":" "}]
[null,null,null,null,{"$f":"IFERROR(VLOOKUP(D933,Códigos!B:C,2,0),\" \")","v":" "}]
[null,null,null,null,{"$f":"IFERROR(VLOOKUP(D934,Códigos!B:C,2,0),\" \")","v":" "}]
[null,null,null,null,{"$f":"IFERROR(VLOOKUP(D935,Códigos!B:C,2,0),\" \")","v":" "}]
[null,null,null,null,{"$f":"IFERROR(VLOOKUP(D936,Códigos!B:C,2,0),\" \")","v":" "}]
[null,null,null,null,{"$f":"IFERROR(VLOOKUP(D937,Códigos!B:C,2,0),\" \")","v":" "}]
[null,null,null,null,{"$f":"IFERROR(VLOOKUP(D938,Códigos!B:C,2,0),\" \")","v":" "}]
[null,null,null,null,{"$f":"IFERROR(VLOOKUP(D939,Códigos!B:C,2,0),\" \")","v":" "}]
[null,null,null,null,{"$f":"IFERROR(VLOOKUP(D940,Códigos!B:C,2,0),\" \")","v":" "}]
[null,null,null,null,{"$f":"IFERROR(VLOOKUP(D941,Códigos!B:C,2,0),\" \")","v":" "}]
[null,null,null,null,{"$f":"IFERROR(VLOOKUP(D942,Códigos!B:C,2,0),\" \")","v":" "}]
[null,null,null,null,{"$f":"IFERROR(VLOOKUP(D943,Códigos!B:C,2,0),\" \")","v":" "}]
[null,null,null,null,{"$f":"IFERROR(VLOOKUP(D944,Códigos!B:C,2,0),\" \")","v":" "}]
[null,null,null,null,{"$f":"IFERROR(VLOOKUP(D945,Códigos!B:C,2,0),\" \")","v":" "}]
[null,null,null,null,{"$f":"IFERROR(VLOOKUP(D946,Códigos!B:C,2,0),\" \")","v":" "}]
[null,null,null,null,{"$f":"IFERROR(VLOOKUP(D947,Códigos!B:C,2,0),\" \")","v":" "}]
[null,null,null,null,{"$f":"IFERROR(VLOOKUP(D948,Códigos!B:C,2,0),\" \")","v":" "}]
[null,null,null,null,{"$f":"IFERROR(VLOOKUP(D949,Códigos!B:C,2,0),\" \")","v":" "}]
[null,null,null,null,{"$f":"IFERROR(VLOOKUP(D950,Códigos!B:C,2,0),\" \")","v":" "}]
[null,null,null,null,{"$f":"IFERROR(VLOOKUP(D951,Códigos!B:C,2,0),\" \")","v":" "}]
[null,null,null,null,{"$f":"IFERROR(VLOOKUP(D952,Códigos!B:C,2,0),\" \")","v":" "}]
[null,null,null,null,{"$f":"IFERROR(VLOOKUP(D953,Códigos!B:C,2,0),\" \")","v":" "}]
[null,null,null,null,{"$f":"IFERROR(VLOOKUP(D954,Códigos!B:C,2,0),\" \")","v":" "}]
[null,null,null,null,{"$f":"IFERROR(VLOOKUP(D955,Códigos!B:C,2,0),\" \")","v":" "}]
[null,null,null,null,{"$f":"IFERROR(VLOOKUP(D956,Códigos!B:C,2,0),\" \")","v":" "}]
[null,null,null,null,{"$f":"IFERROR(VLOOKUP(D957,Códigos!B:C,2,0),\" \")","v":" "}]
[null,null,null,null,{"$f":"IFERROR(VLOOKUP(D958,Códigos!B:C,2,0),\" \")","v":" "}]
[null,null,null,null,{"$f":"IFERROR(VLOOKUP(D959,Códigos!B:C,2,0),\" \")","v":" "}]
[null,null,null,null,{"$f":"IFERROR(VLOOKUP(D960,Códigos!B:C,2,0),\" \")","v":" "}]
[null,null,null,null,{"$f":"IFERROR(VLOOKUP(D961,Códigos!B:C,2,0),\" \")","v":" "}]
[null,null,null,null,{"$f":"IFERROR(VLOOKUP(D962,Códigos!B:C,2,0),\" \")","v":" "}]
[null,null,null,null,{"$f":"IFERROR(VLOOKUP(D963,Códigos!B:C,2,0),\" \")","v":" "}]
[null,null,null,null,{"$f":"IFERROR(VLOOKUP(D964,Códigos!B:C,2,0),\" \")","v":" "}]
[null,null,null,null,{"$f":"IFERROR(VLOOKUP(D965,Códigos!B:C,2,0),\" \")","v":" "}]
[null,null,null,null,{"$f":"IFERROR(VLOOKUP(D966,Códigos!B:C,2,0),\" \")","v":" "}]
[null,null,null,null,{"$f":"IFERROR(VLOOKUP(D967,Códigos!B:C,2,0),\" \")","v":" "}]
[null,null,null,null,{"$f":"IFERROR(VLOOKUP(D968,Códigos!B:C,2,0),\" \")","v":" "}]
[null,null,null,null,{"$f":"IFERROR(VLOOKUP(D969,Códigos!B:C,2,0),\" \")","v":" "}]
[null,null,null,null,{"$f":"IFERROR(VLOOKUP(D970,Códigos!B:C,2,0),\" \")","v":" "}]
[null,null,null,null,{"$f":"IFERROR(VLOOKUP(D971,Códigos!B:C,2,0),\" \")","v":" "}]
[null,null,null,null,{"$f":"IFERROR(VLOOKUP(D972,Códigos!B:C,2,0),\" \")","v":" "}]
[null,null,null,null,{"$f":"IFERROR(VLOOKUP(D973,Códigos!B:C,2,0),\" \")","v":" "}]
[null,null,null,null,{"$f":"IFERROR(VLOOKUP(D974,Códigos!B:C,2,0),\" \")","v":" "}]
[null,null,null,null,{"$f":"IFERROR(VLOOKUP(D975,Códigos!B:C,2,0),\" \")","v":" "}]
[null,null,null,null,{"$f":"IFERROR(VLOOKUP(D976,Códigos!B:C,2,0),\" \")","v":" "}]
[null,null,null,null,{"$f":"IFERROR(VLOOKUP(D977,Códigos!B:C,2,0),\" \")","v":" "}]
[null,null,null,null,{"$f":"IFERROR(VLOOKUP(D978,Códigos!B:C,2,0),\" \")","v":" "}]
[null,null,null,null,{"$f":"IFERROR(VLOOKUP(D979,Códigos!B:C,2,0),\" \")","v":" "}]
[null,null,null,null,{"$f":"IFERROR(VLOOKUP(D980,Códigos!B:C,2,0),\" \")","v":" "}]
[null,null,null,null,{"$f":"IFERROR(VLOOKUP(D981,Códigos!B:C,2,0),\" \")","v":" "}]
[null,null,null,null,{"$f":"IFERROR(VLOOKUP(D982,Códigos!B:C,2,0),\" \")","v":" "}]
[null,null,null,null,{"$f":"IFERROR(VLOOKUP(D983,Códigos!B:C,2,0),\" \")","v":" "}]
[null,null,null,null,{"$f":"IFERROR(VLOOKUP(D984,Códigos!B:C,2,0),\" \")","v":" "}]
[null,null,null,null,{"$f":"IFERROR(VLOOKUP(D985,Códigos!B:C,2,0),\" \")","v":" "}]
[null,null,null,null,{"$f":"IFERROR(VLOOKUP(D986,Códigos!B:C,2,0),\" \")","v":" "}]
[null,null,null,null,{"$f":"IFERROR(VLOOKUP(D987,Códigos!B:C,2,0),\" \")","v":" "}]
[null,null,null,null,{"$f":"IFERROR(VLOOKUP(D988,Códigos!B:C,2,0),\" \")","v":" "}]
[null,null,null,null,{"$f":"IFERROR(VLOOKUP(D989,Códigos!B:C,2,0),\" \")","v":" "}]
[null,null,null,null,{"$f":"IFERROR(VLOOKUP(D990,Códigos!B:C,2,0),\" \")","v":" "}]
[null,null,null,null,{"$f":"IFERROR(VLOOKUP(D991,Códigos!B:C,2,0),\" \")","v":" "}]
[null,null,null,null,{"$f":"IFERROR(VLOOKUP(D992,Códigos!B:C,2,0),\" \")","v":" "}]
[null,null,null,null,{"$f":"IFERROR(VLOOKUP(D993,Códigos!B:C,2,0),\" \")","v":" "}]
[null,null,null,null,{"$f":"IFERROR(VLOOKUP(D994,Códigos!B:C,2,0),\" \")","v":" "}]
[null,null,null,null,{"$f":"IFERROR(VLOOKUP(D995,Códigos!B:C,2,0),\" \")","v":" "}]
[null,null,null,null,{"$f":"IFERROR(VLOOKUP(D996,Códigos!B:C,2,0),\" \")","v":" "}]
[null,null,null,null,{"$f":"IFERROR(VLOOKUP(D997,Códigos!B:C,2,0),\" \")","v":" "}]
[null,null,null,null,{"$f":"IFERROR(VLOOKUP(D998,Códigos!B:C,2,0),\" \")","v":" "}]
[null,null,null,null,{"$f":"IFERROR(VLOOKUP(D999,Códigos!B:C,2,0),\" \")","v":" "}]
[null,null,null,null,{"$f":"IFERROR(VLOOKUP(D1000,Códigos!B:C,2,0),\" \")","v":" "}]
[null,null,null,null,{"$f":"IFERROR(VLOOKUP(D1001,Códigos!B:C,2,0),\" \")","v":" "}]
[null,null,null,null,{"$f":"IFERROR(VLOOKUP(D1002,Códigos!B:C,2,0),\" \")","v":" "}]
[null,null,null,null,{"$f":"IFERROR(VLOOKUP(D1003,Códigos!B:C,2,0),\" \")","v":" "}]
[null,null,null,null,{"$f":"IFERROR(VLOOKUP(D1004,Códigos!B:C,2,0),\" \")","v":" "}]
[null,null,null,null,{"$f":"IFERROR(VLOOKUP(D1005,Códigos!B:C,2,0),\" \")","v":" "}]
[null,null,null,null,{"$f":"IFERROR(VLOOKUP(D1006,Códigos!B:C,2,0),\" \")","v":" "}]
[null,null,null,null,{"$f":"IFERROR(VLOOKUP(D1007,Códigos!B:C,2,0),\" \")","v":" "}]
[null,null,null,null,{"$f":"IFERROR(VLOOKUP(D1008,Códigos!B:C,2,0),\" \")","v":" "}]
[null,null,null,null,{"$f":"IFERROR(VLOOKUP(D1009,Códigos!B:C,2,0),\" \")","v":" "}]
[null,null,null,null,{"$f":"IFERROR(VLOOKUP(D1010,Códigos!B:C,2,0),\" \")","v":" "}]
[null,null,null,null,{"$f":"IFERROR(VLOOKUP(D1011,Códigos!B:C,2,0),\" \")","v":" "}]
[null,null,null,null,{"$f":"IFERROR(VLOOKUP(D1012,Códigos!B:C,2,0),\" \")","v":" "}]
[null,null,null,null,{"$f":"IFERROR(VLOOKUP(D1013,Códigos!B:C,2,0),\" \")","v":" "}]
[null,null,null,null,{"$f":"IFERROR(VLOOKUP(D1014,Códigos!B:C,2,0),\" \")","v":" "}]
[null,null,null,null,{"$f":"IFERROR(VLOOKUP(D1015,Códigos!B:C,2,0),\" \")","v":" "}]
[null,null,null,null,{"$f":"IFERROR(VLOOKUP(D1016,Códigos!B:C,2,0),\" \")","v":" "}]
[null,null,null,null,{"$f":"IFERROR(VLOOKUP(D1017,Códigos!B:C,2,0),\" \")","v":" "}]
[null,null,null,null,{"$f":"IFERROR(VLOOKUP(D1018,Códigos!B:C,2,0),\" \")","v":" "}]
[null,null,null,null,{"$f":"IFERROR(VLOOKUP(D1019,Códigos!B:C,2,0),\" \")","v":" "}]
[null,null,null,null,{"$f":"IFERROR(VLOOKUP(D1020,Códigos!B:C,2,0),\" \")","v":" "}]
[null,null,null,null,{"$f":"IFERROR(VLOOKUP(D1021,Códigos!B:C,2,0),\" \")","v":" "}]
[null,null,null,null,{"$f":"IFERROR(VLOOKUP(D1022,Códigos!B:C,2,0),\" \")","v":" "}]
[null,null,null,null,{"$f":"IFERROR(VLOOKUP(D1023,Códigos!B:C,2,0),\" \")","v":" "}]
[null,null,null,null,{"$f":"IFERROR(VLOOKUP(D1024,Códigos!B:C,2,0),\" \")","v":" "}]
[null,null,null,null,{"$f":"IFERROR(VLOOKUP(D1025,Códigos!B:C,2,0),\" \")","v":" "}]
[null,null,null,null,{"$f":"IFERROR(VLOOKUP(D1026,Códigos!B:C,2,0),\" \")","v":" "}]
[null,null,null,null,{"$f":"IFERROR(VLOOKUP(D1027,Códigos!B:C,2,0),\" \")","v":" "}]
[null,null,null,null,{"$f":"IFERROR(VLOOKUP(D1028,Códigos!B:C,2,0),\" \")","v":" "}]
[null,null,null,null,{"$f":"IFERROR(VLOOKUP(D1029,Códigos!B:C,2,0),\" \")","v":" "}]
[null,null,null,null,{"$f":"IFERROR(VLOOKUP(D1030,Códigos!B:C,2,0),\" \")","v":" "}]
[null,null,null,null,{"$f":"IFERROR(VLOOKUP(D1031,Códigos!B:C,2,0),\" \")","v":" "}]
[null,null,null,null,{"$f":"IFERROR(VLOOKUP(D1032,Códigos!B:C,2,0),\" \")","v":" "}]
[null,null,null,null,{"$f":"IFERROR(VLOOKUP(D1033,Códigos!B:C,2,0),\" \")","v":" "}]
[null,null,null,null,{"$f":"IFERROR(VLOOKUP(D1034,Códigos!B:C,2,0),\" \")","v":" "}]
[null,null,null,null,{"$f":"IFERROR(VLOOKUP(D1035,Códigos!B:C,2,0),\" \")","v":" "}]
[null,null,null,null,{"$f":"IFERROR(VLOOKUP(D1036,Códigos!B:C,2,0),\" \")","v":" "}]
[null,null,null,null,{"$f":"IFERROR(VLOOKUP(D1037,Códigos!B:C,2,0),\" \")","v":" "}]
[null,null,null,null,{"$f":"IFERROR(VLOOKUP(D1038,Códigos!B:C,2,0),\" \")","v":" "}]
[null,null,null,null,{"$f":"IFERROR(VLOOKUP(D1039,Códigos!B:C,2,0),\" \")","v":" "}]
[null,null,null,null,{"$f":"IFERROR(VLOOKUP(D1040,Códigos!B:C,2,0),\" \")","v":" "}]
[null,null,null,null,{"$f":"IFERROR(VLOOKUP(D1041,Códigos!B:C,2,0),\" \")","v":" "}]
[null,null,null,null,{"$f":"IFERROR(VLOOKUP(D1042,Códigos!B:C,2,0),\" \")","v":" "}]
[null,null,null,null,{"$f":"IFERROR(VLOOKUP(D1043,Códigos!B:C,2,0),\" \")","v":" "}]
[null,null,null,null,{"$f":"IFERROR(VLOOKUP(D1044,Códigos!B:C,2,0),\" \")","v":" "}]
[null,null,null,null,{"$f":"IFERROR(VLOOKUP(D1045,Códigos!B:C,2,0),\" \")","v":" "}]
[null,null,null,null,{"$f":"IFERROR(VLOOKUP(D1046,Códigos!B:C,2,0),\" \")","v":" "}]
[null,null,null,null,{"$f":"IFERROR(VLOOKUP(D1047,Códigos!B:C,2,0),\" \")","v":" "}]
[null,null,null,null,{"$f":"IFERROR(VLOOKUP(D1048,Códigos!B:C,2,0),\" \")","v":" "}]
[null,null,null,null,{"$f":"IFERROR(VLOOKUP(D1049,Códigos!B:C,2,0),\" \")","v":" "}]
[null,null,null,null,{"$f":"IFERROR(VLOOKUP(D1050,Códigos!B:C,2,0),\" \")","v":" "}]
[null,null,null,null,{"$f":"IFERROR(VLOOKUP(D1051,Códigos!B:C,2,0),\" \")","v":" "}]
[null,null,null,null,{"$f":"IFERROR(VLOOKUP(D1052,Códigos!B:C,2,0),\" \")","v":" "}]
[null,null,null,null,{"$f":"IFERROR(VLOOKUP(D1053,Códigos!B:C,2,0),\" \")","v":" "}]
[null,null,null,null,{"$f":"IFERROR(VLOOKUP(D1054,Códigos!B:C,2,0),\" \")","v":" "}]
[null,null,null,null,{"$f":"IFERROR(VLOOKUP(D1055,Códigos!B:C,2,0),\" \")","v":" "}]
[null,null,null,null,{"$f":"IFERROR(VLOOKUP(D1056,Códigos!B:C,2,0),\" \")","v":" "}]
[null,null,null,null,{"$f":"IFERROR(VLOOKUP(D1057,Códigos!B:C,2,0),\" \")","v":" "}]
[null,null,null,null,{"$f":"IFERROR(VLOOKUP(D1058,Códigos!B:C,2,0),\" \")","v":" "}]
[null,null,null,null,{"$f":"IFERROR(VLOOKUP(D1059,Códigos!B:C,2,0),\" \")","v":" "}]
[null,null,null,null,{"$f":"IFERROR(VLOOKUP(D1060,Códigos!B:C,2,0),\" \")","v":" "}]
[null,null,null,null,{"$f":"IFERROR(VLOOKUP(D1061,Códigos!B:C,2,0),\" \")","v":" "}]
[null,null,null,null,{"$f":"IFERROR(VLOOKUP(D1062,Códigos!B:C,2,0),\" \")","v":" "}]
[null,null,null,null,{"$f":"IFERROR(VLOOKUP(D1063,Códigos!B:C,2,0),\" \")","v":" "}]
[null,null,null,null,{"$f":"IFERROR(VLOOKUP(D1064,Códigos!B:C,2,0),\" \")","v":" "}]
[null,null,null,null,{"$f":"IFERROR(VLOOKUP(D1065,Códigos!B:C,2,0),\" \")","v":" "}]
[null,null,null,null,{"$f":"IFERROR(VLOOKUP(D1066,Códigos!B:C,2,0),\" \")","v":" "}]
[null,null,null,null,{"$f":"IFERROR(VLOOKUP(D1067,Códigos!B:C,2,0),\" \")","v":" "}]
[null,null,null,null,{"$f":"IFERROR(VLOOKUP(D1068,Códigos!B:C,2,0),\" \")","v":" "}]
[null,null,null,null,{"$f":"IFERROR(VLOOKUP(D1069,Códigos!B:C,2,0),\" \")","v":" "}]
[null,null,null,null,{"$f":"IFERROR(VLOOKUP(D1070,Códigos!B:C,2,0),\" \")","v":" "}]
[null,null,null,null,{"$f":"IFERROR(VLOOKUP(D1071,Códigos!B:C,2,0),\" \")","v":" "}]
[null,null,null,null,{"$f":"IFERROR(VLOOKUP(D1072,Códigos!B:C,2,0),\" \")","v":" "}]
[null,null,null,null,{"$f":"IFERROR(VLOOKUP(D1073,Códigos!B:C,2,0),\" \")","v":" "}]
[null,null,null,null,{"$f":"IFERROR(VLOOKUP(D1074,Códigos!B:C,2,0),\" \")","v":" "}]
[null,null,null,null,{"$f":"IFERROR(VLOOKUP(D1075,Códigos!B:C,2,0),\" \")","v":" "}]
[null,null,null,null,{"$f":"IFERROR(VLOOKUP(D1076,Códigos!B:C,2,0),\" \")","v":" "}]
[null,null,null,null,{"$f":"IFERROR(VLOOKUP(D1077,Códigos!B:C,2,0),\" \")","v":" "}]
[null,null,null,null,{"$f":"IFERROR(VLOOKUP(D1078,Códigos!B:C,2,0),\" \")","v":" "}]
[null,null,null,null,{"$f":"IFERROR(VLOOKUP(D1079,Códigos!B:C,2,0),\" \")","v":" "}]
[null,null,null,null,{"$f":"IFERROR(VLOOKUP(D1080,Códigos!B:C,2,0),\" \")","v":" "}]
[null,null,null,null,{"$f":"IFERROR(VLOOKUP(D1081,Códigos!B:C,2,0),\" \")","v":" "}]
[null,null,null,null,{"$f":"IFERROR(VLOOKUP(D1082,Códigos!B:C,2,0),\" \")","v":" "}]
[null,null,null,null,{"$f":"IFERROR(VLOOKUP(D1083,Códigos!B:C,2,0),\" \")","v":" "}]
[null,null,null,null,{"$f":"IFERROR(VLOOKUP(D1084,Códigos!B:C,2,0),\" \")","v":" "}]
[null,null,null,null,{"$f":"IFERROR(VLOOKUP(D1085,Códigos!B:C,2,0),\" \")","v":" "}]
[null,null,null,null,{"$f":"IFERROR(VLOOKUP(D1086,Códigos!B:C,2,0),\" \")","v":" "}]
[null,null,null,null,{"$f":"IFERROR(VLOOKUP(D1087,Códigos!B:C,2,0),\" \")","v":" "}]
[null,null,null,null,{"$f":"IFERROR(VLOOKUP(D1088,Códigos!B:C,2,0),\" \")","v":" "}]
[null,null,null,null,{"$f":"IFERROR(VLOOKUP(D1089,Códigos!B:C,2,0),\" \")","v":" "}]
[null,null,null,null,{"$f":"IFERROR(VLOOKUP(D1090,Códigos!B:C,2,0),\" \")","v":" "}]
[null,null,null,null,{"$f":"IFERROR(VLOOKUP(D1091,Códigos!B:C,2,0),\" \")","v":" "}]
[null,null,null,null,{"$f":"IFERROR(VLOOKUP(D1092,Códigos!B:C,2,0),\" \")","v":" "}]
[null,null,null,null,{"$f":"IFERROR(VLOOKUP(D1093,Códigos!B:C,2,0),\" \")","v":" "}]
[null,null,null,null,{"$f":"IFERROR(VLOOKUP(D1094,Códigos!B:C,2,0),\" \")","v":" "}]
[null,null,null,null,{"$f":"IFERROR(VLOOKUP(D1095,Códigos!B:C,2,0),\" \")","v":" "}]
[null,null,null,null,{"$f":"IFERROR(VLOOKUP(D1096,Códigos!B:C,2,0),\" \")","v":" "}]
[null,null,null,null,{"$f":"IFERROR(VLOOKUP(D1097,Códigos!B:C,2,0),\" \")","v":" "}]
[null,null,null,null,{"$f":"IFERROR(VLOOKUP(D1098,Códigos!B:C,2,0),\" \")","v":" "}]
[null,null,null,null,{"$f":"IFERROR(VLOOKUP(D1099,Códigos!B:C,2,0),\" \")","v":" "}]
[null,null,null,null,{"$f":"IFERROR(VLOOKUP(D1100,Códigos!B:C,2,0),\" \")","v":" "}]
[null,null,null,null,{"$f":"IFERROR(VLOOKUP(D1101,Códigos!B:C,2,0),\" \")","v":" "}]
[null,null,null,null,{"$f":"IFERROR(VLOOKUP(D1102,Códigos!B:C,2,0),\" \")","v":" "}]
[null,null,null,null,{"$f":"IFERROR(VLOOKUP(D1103,Códigos!B:C,2,0),\" \")","v":" "}]
[null,null,null,null,{"$f":"IFERROR(VLOOKUP(D1104,Códigos!B:C,2,0),\" \")","v":" "}]
[null,null,null,null,{"$f":"IFERROR(VLOOKUP(D1105,Códigos!B:C,2,0),\" \")","v":" "}]
[null,null,null,null,{"$f":"IFERROR(VLOOKUP(D1106,Códigos!B:C,2,0),\" \")","v":" "}]
[null,null,null,null,{"$f":"IFERROR(VLOOKUP(D1107,Códigos!B:C,2,0),\" \")","v":" "}]
[null,null,null,null,{"$f":"IFERROR(VLOOKUP(D1108,Códigos!B:C,2,0),\" \")","v":" "}]
[null,null,null,null,{"$f":"IFERROR(VLOOKUP(D1109,Códigos!B:C,2,0),\" \")","v":" "}]
[null,null,null,null,{"$f":"IFERROR(VLOOKUP(D1110,Códigos!B:C,2,0),\" \")","v":" "}]
[null,null,null,null,{"$f":"IFERROR(VLOOKUP(D1111,Códigos!B:C,2,0),\" \")","v":" "}]
[null,null,null,null,{"$f":"IFERROR(VLOOKUP(D1112,Códigos!B:C,2,0),\" \")","v":" "}]
[null,null,null,null,{"$f":"IFERROR(VLOOKUP(D1113,Códigos!B:C,2,0),\" \")","v":" "}]
[null,null,null,null,{"$f":"IFERROR(VLOOKUP(D1114,Códigos!B:C,2,0),\" \")","v":" "}]
[null,null,null,null,{"$f":"IFERROR(VLOOKUP(D1115,Códigos!B:C,2,0),\" \")","v":" "}]
[null,null,null,null,{"$f":"IFERROR(VLOOKUP(D1116,Códigos!B:C,2,0),\" \")","v":" "}]
[null,null,null,null,{"$f":"IFERROR(VLOOKUP(D1117,Códigos!B:C,2,0),\" \")","v":" "}]
[null,null,null,null,{"$f":"IFERROR(VLOOKUP(D1118,Códigos!B:C,2,0),\" \")","v":" "}]
[null,null,null,null,{"$f":"IFERROR(VLOOKUP(D1119,Códigos!B:C,2,0),\" \")","v":" "}]
[null,null,null,null,{"$f":"IFERROR(VLOOKUP(D1120,Códigos!B:C,2,0),\" \")","v":" "}]
[null,null,null,null,{"$f":"IFERROR(VLOOKUP(D1121,Códigos!B:C,2,0),\" \")","v":" "}]
[null,null,null,null,{"$f":"IFERROR(VLOOKUP(D1122,Códigos!B:C,2,0),\" \")","v":" "}]
[null,null,null,null,{"$f":"IFERROR(VLOOKUP(D1123,Códigos!B:C,2,0),\" \")","v":" "}]
[null,null,null,null,{"$f":"IFERROR(VLOOKUP(D1124,Códigos!B:C,2,0),\" \")","v":" "}]
[null,null,null,null,{"$f":"IFERROR(VLOOKUP(D1125,Códigos!B:C,2,0),\" \")","v":" "}]
[null,null,null,null,{"$f":"IFERROR(VLOOKUP(D1126,Códigos!B:C,2,0),\" \")","v":" "}]
[null,null,null,null,{"$f":"IFERROR(VLOOKUP(D1127,Códigos!B:C,2,0),\" \")","v":" "}]
[null,null,null,null,{"$f":"IFERROR(VLOOKUP(D1128,Códigos!B:C,2,0),\" \")","v":" "}]
[null,null,null,null,{"$f":"IFERROR(VLOOKUP(D1129,Códigos!B:C,2,0),\" \")","v":" "}]
[null,null,null,null,{"$f":"IFERROR(VLOOKUP(D1130,Códigos!B:C,2,0),\" \")","v":" "}]
[null,null,null,null,{"$f":"IFERROR(VLOOKUP(D1131,Códigos!B:C,2,0),\" \")","v":" "}]
[null,null,null,null,{"$f":"IFERROR(VLOOKUP(D1132,Códigos!B:C,2,0),\" \")","v":" "}]
[null,null,null,null,{"$f":"IFERROR(VLOOKUP(D1133,Códigos!B:C,2,0),\" \")","v":" "}]
[null,null,null,null,{"$f":"IFERROR(VLOOKUP(D1134,Códigos!B:C,2,0),\" \")","v":" "}]
[null,null,null,null,{"$f":"IFERROR(VLOOKUP(D1135,Códigos!B:C,2,0),\" \")","v":" "}]
[null,null,null,null,{"$f":"IFERROR(VLOOKUP(D1136,Códigos!B:C,2,0),\" \")","v":" "}]
[null,null,null,null,{"$f":"IFERROR(VLOOKUP(D1137,Códigos!B:C,2,0),\" \")","v":" "}]
[null,null,null,null,{"$f":"IFERROR(VLOOKUP(D1138,Códigos!B:C,2,0),\" \")","v":" "}]
[null,null,null,null,{"$f":"IFERROR(VLOOKUP(D1139,Códigos!B:C,2,0),\" \")","v":" "}]
[null,null,null,null,{"$f":"IFERROR(VLOOKUP(D1140,Códigos!B:C,2,0),\" \")","v":" "}]
[null,null,null,null,{"$f":"IFERROR(VLOOKUP(D1141,Códigos!B:C,2,0),\" \")","v":" "}]
[null,null,null,null,{"$f":"IFERROR(VLOOKUP(D1142,Códigos!B:C,2,0),\" \")","v":" "}]
[null,null,null,null,{"$f":"IFERROR(VLOOKUP(D1143,Códigos!B:C,2,0),\" \")","v":" "}]
[null,null,null,null,{"$f":"IFERROR(VLOOKUP(D1144,Códigos!B:C,2,0),\" \")","v":" "}]
[null,null,null,null,{"$f":"IFERROR(VLOOKUP(D1145,Códigos!B:C,2,0),\" \")","v":" "}]
[null,null,null,null,{"$f":"IFERROR(VLOOKUP(D1146,Códigos!B:C,2,0),\" \")","v":" "}]
[null,null,null,null,{"$f":"IFERROR(VLOOKUP(D1147,Códigos!B:C,2,0),\" \")","v":" "}]
[null,null,null,null,{"$f":"IFERROR(VLOOKUP(D1148,Códigos!B:C,2,0),\" \")","v":" "}]
[null,null,null,null,{"$f":"IFERROR(VLOOKUP(D1149,Códigos!B:C,2,0),\" \")","v":" "}]
[null,null,null,null,{"$f":"IFERROR(VLOOKUP(D1150,Códigos!B:C,2,0),\" \")","v":" "}]
[null,null,null,null,{"$f":"IFERROR(VLOOKUP(D1151,Códigos!B:C,2,0),\" \")","v":" "}]
[null,null,null,null,{"$f":"IFERROR(VLOOKUP(D1152,Códigos!B:C,2,0),\" \")","v":" "}]
[null,null,null,null,{"$f":"IFERROR(VLOOKUP(D1153,Códigos!B:C,2,0),\" \")","v":" "}]
[null,null,null,null,{"$f":"IFERROR(VLOOKUP(D1154,Códigos!B:C,2,0),\" \")","v":" "}]
[null,null,null,null,{"$f":"IFERROR(VLOOKUP(D1155,Códigos!B:C,2,0),\" \")","v":" "}]
[null,null,null,null,{"$f":"IFERROR(VLOOKUP(D1156,Códigos!B:C,2,0),\" \")","v":" "}]
[null,null,null,null,{"$f":"IFERROR(VLOOKUP(D1157,Códigos!B:C,2,0),\" \")","v":" "}]
[null,null,null,null,{"$f":"IFERROR(VLOOKUP(D1158,Códigos!B:C,2,0),\" \")","v":" "}]
[null,null,null,null,{"$f":"IFERROR(VLOOKUP(D1159,Códigos!B:C,2,0),\" \")","v":" "}]
[null,null,null,null,{"$f":"IFERROR(VLOOKUP(D1160,Códigos!B:C,2,0),\" \")","v":" "}]
[null,null,null,null,{"$f":"IFERROR(VLOOKUP(D1161,Códigos!B:C,2,0),\" \")","v":" "}]
[null,null,null,null,{"$f":"IFERROR(VLOOKUP(D1162,Códigos!B:C,2,0),\" \")","v":" "}]
[null,null,null,null,{"$f":"IFERROR(VLOOKUP(D1163,Códigos!B:C,2,0),\" \")","v":" "}]
[null,null,null,null,{"$f":"IFERROR(VLOOKUP(D1164,Códigos!B:C,2,0),\" \")","v":" "}]
[null,null,null,null,{"$f":"IFERROR(VLOOKUP(D1165,Códigos!B:C,2,0),\" \")","v":" "}]
[null,null,null,null,{"$f":"IFERROR(VLOOKUP(D1166,Códigos!B:C,2,0),\" \")","v":" "}]
[null,null,null,null,{"$f":"IFERROR(VLOOKUP(D1167,Códigos!B:C,2,0),\" \")","v":" "}]
[null,null,null,null,{"$f":"IFERROR(VLOOKUP(D1168,Códigos!B:C,2,0),\" \")","v":" "}]
[null,null,null,null,{"$f":"IFERROR(VLOOKUP(D1169,Códigos!B:C,2,0),\" \")","v":" "}]
[null,null,null,null,{"$f":"IFERROR(VLOOKUP(D1170,Códigos!B:C,2,0),\" \")","v":" "}]
[null,null,null,null,{"$f":"IFERROR(VLOOKUP(D1171,Códigos!B:C,2,0),\" \")","v":" "}]
[null,null,null,null,{"$f":"IFERROR(VLOOKUP(D1172,Códigos!B:C,2,0),\" \")","v":" "}]
[null,null,null,null,{"$f":"IFERROR(VLOOKUP(D1173,Códigos!B:C,2,0),\" \")","v":" "}]
[null,null,null,null,{"$f":"IFERROR(VLOOKUP(D1174,Códigos!B:C,2,0),\" \")","v":" "}]
[null,null,null,null,{"$f":"IFERROR(VLOOKUP(D1175,Códigos!B:C,2,0),\" \")","v":" "}]
[null,null,null,null,{"$f":"IFERROR(VLOOKUP(D1176,Códigos!B:C,2,0),\" \")","v":" "}]
[null,null,null,null,{"$f":"IFERROR(VLOOKUP(D1177,Códigos!B:C,2,0),\" \")","v":" "}]
[null,null,null,null,{"$f":"IFERROR(VLOOKUP(D1178,Códigos!B:C,2,0),\" \")","v":" "}]
[null,null,null,null,{"$f":"IFERROR(VLOOKUP(D1179,Códigos!B:C,2,0),\" \")","v":" "}]
[null,null,null,null,{"$f":"IFERROR(VLOOKUP(D1180,Códigos!B:C,2,0),\" \")","v":" "}]
[null,null,null,null,{"$f":"IFERROR(VLOOKUP(D1181,Códigos!B:C,2,0),\" \")","v":" "}]
[null,null,null,null,{"$f":"IFERROR(VLOOKUP(D1182,Códigos!B:C,2,0),\" \")","v":" "}]
[null,null,null,null,{"$f":"IFERROR(VLOOKUP(D1183,Códigos!B:C,2,0),\" \")","v":" "}]
[null,null,null,null,{"$f":"IFERROR(VLOOKUP(D1184,Códigos!B:C,2,0),\" \")","v":" "}]
[null,null,null,null,{"$f":"IFERROR(VLOOKUP(D1185,Códigos!B:C,2,0),\" \")","v":" "}]
[null,null,null,null,{"$f":"IFERROR(VLOOKUP(D1186,Códigos!B:C,2,0),\" \")","v":" "}]
[null,null,null,null,{"$f":"IFERROR(VLOOKUP(D1187,Códigos!B:C,2,0),\" \")","v":" "}]
[null,null,null,null,{"$f":"IFERROR(VLOOKUP(D1188,Códigos!B:C,2,0),\" \")","v":" "}]
[null,null,null,null,{"$f":"IFERROR(VLOOKUP(D1189,Códigos!B:C,2,0),\" \")","v":" "}]
[null,null,null,null,{"$f":"IFERROR(VLOOKUP(D1190,Códigos!B:C,2,0),\" \")","v":" "}]
[null,null,null,null,{"$f":"IFERROR(VLOOKUP(D1191,Códigos!B:C,2,0),\" \")","v":" "}]
[null,null,null,null,{"$f":"IFERROR(VLOOKUP(D1192,Códigos!B:C,2,0),\" \")","v":" "}]
[null,null,null,null,{"$f":"IFERROR(VLOOKUP(D1193,Códigos!B:C,2,0),\" \")","v":" "}]
[null,null,null,null,{"$f":"IFERROR(VLOOKUP(D1194,Códigos!B:C,2,0),\" \")","v":" "}]
[null,null,null,null,{"$f":"IFERROR(VLOOKUP(D1195,Códigos!B:C,2,0),\" \")","v":" "}]
[null,null,null,null,{"$f":"IFERROR(VLOOKUP(D1196,Códigos!B:C,2,0),\" \")","v":" "}]
[null,null,null,null,{"$f":"IFERROR(VLOOKUP(D1197,Códigos!B:C,2,0),\" \")","v":" "}]
[null,null,null,null,{"$f":"IFERROR(VLOOKUP(D1198,Códigos!B:C,2,0),\" \")","v":" "}]
[null,null,null,null,{"$f":"IFERROR(VLOOKUP(D1199,Códigos!B:C,2,0),\" \")","v":" "}]
[null,null,null,null,{"$f":"IFERROR(VLOOKUP(D1200,Códigos!B:C,2,0),\" \")","v":" "}]
[null,null,null,null,{"$f":"IFERROR(VLOOKUP(D1201,Códigos!B:C,2,0),\" \")","v":" "}]
[null,null,null,null,{"$f":"IFERROR(VLOOKUP(D1202,Códigos!B:C,2,0),\" \")","v":" "}]
[null,null,null,null,{"$f":"IFERROR(VLOOKUP(D1203,Códigos!B:C,2,0),\" \")","v":" "}]
[null,null,null,null,{"$f":"IFERROR(VLOOKUP(D1204,Códigos!B:C,2,0),\" \")","v":" "}]
[null,null,null,null,{"$f":"IFERROR(VLOOKUP(D1205,Códigos!B:C,2,0),\" \")","v":" "}]
[null,null,null,null,{"$f":"IFERROR(VLOOKUP(D1206,Códigos!B:C,2,0),\" \")","v":" "}]
[null,null,null,null,{"$f":"IFERROR(VLOOKUP(D1207,Códigos!B:C,2,0),\" \")","v":" "}]
[null,null,null,null,{"$f":"IFERROR(VLOOKUP(D1208,Códigos!B:C,2,0),\" \")","v":" "}]
[null,null,null,null,{"$f":"IFERROR(VLOOKUP(D1209,Códigos!B:C,2,0),\" \")","v":" "}]
[null,null,null,null,{"$f":"IFERROR(VLOOKUP(D1210,Códigos!B:C,2,0),\" \")","v":" "}]
[null,null,null,null,{"$f":"IFERROR(VLOOKUP(D1211,Códigos!B:C,2,0),\" \")","v":" "}]
[null,null,null,null,{"$f":"IFERROR(VLOOKUP(D1212,Códigos!B:C,2,0),\" \")","v":" "}]
[null,null,null,null,{"$f":"IFERROR(VLOOKUP(D1213,Códigos!B:C,2,0),\" \")","v":" "}]
[null,null,null,null,{"$f":"IFERROR(VLOOKUP(D1214,Códigos!B:C,2,0),\" \")","v":" "}]
[null,null,null,null,{"$f":"IFERROR(VLOOKUP(D1215,Códigos!B:C,2,0),\" \")","v":" "}]
[null,null,null,null,{"$f":"IFERROR(VLOOKUP(D1216,Códigos!B:C,2,0),\" \")","v":" "}]
[null,null,null,null,{"$f":"IFERROR(VLOOKUP(D1217,Códigos!B:C,2,0),\" \")","v":" "}]
[null,null,null,null,{"$f":"IFERROR(VLOOKUP(D1218,Códigos!B:C,2,0),\" \")","v":" "}]
[null,null,null,null,{"$f":"IFERROR(VLOOKUP(D1219,Códigos!B:C,2,0),\" \")","v":" "}]
[null,null,null,null,{"$f":"IFERROR(VLOOKUP(D1220,Códigos!B:C,2,0),\" \")","v":" "}]
[null,null,null,null,{"$f":"IFERROR(VLOOKUP(D1221,Códigos!B:C,2,0),\" \")","v":" "}]
[null,null,null,null,{"$f":"IFERROR(VLOOKUP(D1222,Códigos!B:C,2,0),\" \")","v":" "}]
[null,null,null,null,{"$f":"IFERROR(VLOOKUP(D1223,Códigos!B:C,2,0),\" \")","v":" "}]
[null,null,null,null,{"$f":"IFERROR(VLOOKUP(D1224,Códigos!B:C,2,0),\" \")","v":" "}]
[null,null,null,null,{"$f":"IFERROR(VLOOKUP(D1225,Códigos!B:C,2,0),\" \")","v":" "}]
[null,null,null,null,{"$f":"IFERROR(VLOOKUP(D1226,Códigos!B:C,2,0),\" \")","v":" "}]
[null,null,null,null,{"$f":"IFERROR(VLOOKUP(D1227,Códigos!B:C,2,0),\" \")","v":" "}]
[null,null,null,null,{"$f":"IFERROR(VLOOKUP(D1228,Códigos!B:C,2,0),\" \")","v":" "}]
[null,null,null,null,{"$f":"IFERROR(VLOOKUP(D1229,Códigos!B:C,2,0),\" \")","v":" "}]
[null,null,null,null,{"$f":"IFERROR(VLOOKUP(D1230,Códigos!B:C,2,0),\" \")","v":" "}]
[null,null,null,null,{"$f":"IFERROR(VLOOKUP(D1231,Códigos!B:C,2,0),\" \")","v":" "}]
[null,null,null,null,{"$f":"IFERROR(VLOOKUP(D1232,Códigos!B:C,2,0),\" \")","v":" "}]
[null,null,null,null,{"$f":"IFERROR(VLOOKUP(D1233,Códigos!B:C,2,0),\" \")","v":" "}]
[null,null,null,null,{"$f":"IFERROR(VLOOKUP(D1234,Códigos!B:C,2,0),\" \")","v":" "}]
[null,null,null,null,{"$f":"IFERROR(VLOOKUP(D1235,Códigos!B:C,2,0),\" \")","v":" "}]
[null,null,null,null,{"$f":"IFERROR(VLOOKUP(D1236,Códigos!B:C,2,0),\" \")","v":" "}]
[null,null,null,null,{"$f":"IFERROR(VLOOKUP(D1237,Códigos!B:C,2,0),\" \")","v":" "}]
[null,null,null,null,{"$f":"IFERROR(VLOOKUP(D1238,Códigos!B:C,2,0),\" \")","v":" "}]
[null,null,null,null,{"$f":"IFERROR(VLOOKUP(D1239,Códigos!B:C,2,0),\" \")","v":" "}]
[null,null,null,null,{"$f":"IFERROR(VLOOKUP(D1240,Códigos!B:C,2,0),\" \")","v":" "}]
[null,null,null,null,{"$f":"IFERROR(VLOOKUP(D1241,Códigos!B:C,2,0),\" \")","v":" "}]
[null,null,null,null,{"$f":"IFERROR(VLOOKUP(D1242,Códigos!B:C,2,0),\" \")","v":" "}]
[null,null,null,null,{"$f":"IFERROR(VLOOKUP(D1243,Códigos!B:C,2,0),\" \")","v":" "}]
[null,null,null,null,{"$f":"IFERROR(VLOOKUP(D1244,Códigos!B:C,2,0),\" \")","v":" "}]
[null,null,null,null,{"$f":"IFERROR(VLOOKUP(D1245,Códigos!B:C,2,0),\" \")","v":" "}]
[null,null,null,null,{"$f":"IFERROR(VLOOKUP(D1246,Códigos!B:C,2,0),\" \")","v":" "}]
[null,null,null,null,{"$f":"IFERROR(VLOOKUP(D1247,Códigos!B:C,2,0),\" \")","v":" "}]
[null,null,null,null,{"$f":"IFERROR(VLOOKUP(D1248,Códigos!B:C,2,0),\" \")","v":" "}]
[null,null,null,null,{"$f":"IFERROR(VLOOKUP(D1249,Códigos!B:C,2,0),\" \")","v":" "}]
[null,null,null,null,{"$f":"IFERROR(VLOOKUP(D1250,Códigos!B:C,2,0),\" \")","v":" "}]
[null,null,null,null,{"$f":"IFERROR(VLOOKUP(D1251,Códigos!B:C,2,0),\" \")","v":" "}]
[null,null,null,null,{"$f":"IFERROR(VLOOKUP(D1252,Códigos!B:C,2,0),\" \")","v":" "}]
[null,null,null,null,{"$f":"IFERROR(VLOOKUP(D1253,Códigos!B:C,2,0),\" \")","v":" "}]
[null,null,null,null,{"$f":"IFERROR(VLOOKUP(D1254,Códigos!B:C,2,0),\" \")","v":" "}]
[null,null,null,null,{"$f":"IFERROR(VLOOKUP(D1255,Códigos!B:C,2,0),\" \")","v":" "}]
[null,null,null,null,{"$f":"IFERROR(VLOOKUP(D1256,Códigos!B:C,2,0),\" \")","v":" "}]
[null,null,null,null,{"$f":"IFERROR(VLOOKUP(D1257,Códigos!B:C,2,0),\" \")","v":" "}]
[null,null,null,null,{"$f":"IFERROR(VLOOKUP(D1258,Códigos!B:C,2,0),\" \")","v":" "}]
[null,null,null,null,{"$f":"IFERROR(VLOOKUP(D1259,Códigos!B:C,2,0),\" \")","v":" "}]
[null,null,null,null,{"$f":"IFERROR(VLOOKUP(D1260,Códigos!B:C,2,0),\" \")","v":" "}]
[null,null,null,null,{"$f":"IFERROR(VLOOKUP(D1261,Códigos!B:C,2,0),\" \")","v":" "}]
[null,null,null,null,{"$f":"IFERROR(VLOOKUP(D1262,Códigos!B:C,2,0),\" \")","v":" "}]
[null,null,null,null,{"$f":"IFERROR(VLOOKUP(D1263,Códigos!B:C,2,0),\" \")","v":" "}]
[null,null,null,null,{"$f":"IFERROR(VLOOKUP(D1264,Códigos!B:C,2,0),\" \")","v":" "}]
[null,null,null,null,{"$f":"IFERROR(VLOOKUP(D1265,Códigos!B:C,2,0),\" \")","v":" "}]
[null,null,null,null,{"$f":"IFERROR(VLOOKUP(D1266,Códigos!B:C,2,0),\" \")","v":" "}]
[null,null,null,null,{"$f":"IFERROR(VLOOKUP(D1267,Códigos!B:C,2,0),\" \")","v":" "}]
[null,null,null,null,{"$f":"IFERROR(VLOOKUP(D1268,Códigos!B:C,2,0),\" \")","v":" "}]
[null,null,null,null,{"$f":"IFERROR(VLOOKUP(D1269,Códigos!B:C,2,0),\" \")","v":" "}]
[null,null,null,null,{"$f":"IFERROR(VLOOKUP(D1270,Códigos!B:C,2,0),\" \")","v":" "}]
[null,null,null,null,{"$f":"IFERROR(VLOOKUP(D1271,Códigos!B:C,2,0),\" \")","v":" "}]
[null,null,null,null,{"$f":"IFERROR(VLOOKUP(D1272,Códigos!B:C,2,0),\" \")","v":" "}]
[null,null,null,null,{"$f":"IFERROR(VLOOKUP(D1273,Códigos!B:C,2,0),\" \")","v":" "}]
[null,null,null,null,{"$f":"IFERROR(VLOOKUP(D1274,Códigos!B:C,2,0),\" \")","v":" "}]
[null,null,null,null,{"$f":"IFERROR(VLOOKUP(D1275,Códigos!B:C,2,0),\" \")","v":" "}]
[null,null,null,null,{"$f":"IFERROR(VLOOKUP(D1276,Códigos!B:C,2,0),\" \")","v":" "}]
[null,null,null,null,{"$f":"IFERROR(VLOOKUP(D1277,Códigos!B:C,2,0),\" \")","v":" "}]
[null,null,null,null,{"$f":"IFERROR(VLOOKUP(D1278,Códigos!B:C,2,0),\" \")","v":" "}]
[null,null,null,null,{"$f":"IFERROR(VLOOKUP(D1279,Códigos!B:C,2,0),\" \")","v":" "}]
[null,null,null,null,{"$f":"IFERROR(VLOOKUP(D1280,Códigos!B:C,2,0),\" \")","v":" "}]
[null,null,null,null,{"$f":"IFERROR(VLOOKUP(D1281,Códigos!B:C,2,0),\" \")","v":" "}]
[null,null,null,null,{"$f":"IFERROR(VLOOKUP(D1282,Códigos!B:C,2,0),\" \")","v":" "}]
[null,null,null,null,{"$f":"IFERROR(VLOOKUP(D1283,Códigos!B:C,2,0),\" \")","v":" "}]
[null,null,null,null,{"$f":"IFERROR(VLOOKUP(D1284,Códigos!B:C,2,0),\" \")","v":" "}]
[null,null,null,null,{"$f":"IFERROR(VLOOKUP(D1285,Códigos!B:C,2,0),\" \")","v":" "}]
[null,null,null,null,{"$f":"IFERROR(VLOOKUP(D1286,Códigos!B:C,2,0),\" \")","v":" "}]
[null,null,null,null,{"$f":"IFERROR(VLOOKUP(D1287,Códigos!B:C,2,0),\" \")","v":" "}]
[null,null,null,null,{"$f":"IFERROR(VLOOKUP(D1288,Códigos!B:C,2,0),\" \")","v":" "}]
[null,null,null,null,{"$f":"IFERROR(VLOOKUP(D1289,Códigos!B:C,2,0),\" \")","v":" "}]
[null,null,null,null,{"$f":"IFERROR(VLOOKUP(D1290,Códigos!B:C,2,0),\" \")","v":" "}]
[null,null,null,null,{"$f":"IFERROR(VLOOKUP(D1291,Códigos!B:C,2,0),\" \")","v":" "}]
[null,null,null,null,{"$f":"IFERROR(VLOOKUP(D1292,Códigos!B:C,2,0),\" \")","v":" "}]
[null,null,null,null,{"$f":"IFERROR(VLOOKUP(D1293,Códigos!B:C,2,0),\" \")","v":" "}]
[null,null,null,null,{"$f":"IFERROR(VLOOKUP(D1294,Códigos!B:C,2,0),\" \")","v":" "}]
[null,null,null,null,{"$f":"IFERROR(VLOOKUP(D1295,Códigos!B:C,2,0),\" \")","v":" "}]
[null,null,null,null,{"$f":"IFERROR(VLOOKUP(D1296,Códigos!B:C,2,0),\" \")","v":" "}]
[null,null,null,null,{"$f":"IFERROR(VLOOKUP(D1297,Códigos!B:C,2,0),\" \")","v":" "}]
[null,null,null,null,{"$f":"IFERROR(VLOOKUP(D1298,Códigos!B:C,2,0),\" \")","v":" "}]
[null,null,null,null,{"$f":"IFERROR(VLOOKUP(D1299,Códigos!B:C,2,0),\" \")","v":" "}]
[null,null,null,null,{"$f":"IFERROR(VLOOKUP(D1300,Códigos!B:C,2,0),\" \")","v":" "}]
[null,null,null,null,{"$f":"IFERROR(VLOOKUP(D1301,Códigos!B:C,2,0),\" \")","v":" "}]
[null,null,null,null,{"$f":"IFERROR(VLOOKUP(D1302,Códigos!B:C,2,0),\" \")","v":" "}]
[null,null,null,null,{"$f":"IFERROR(VLOOKUP(D1303,Códigos!B:C,2,0),\" \")","v":" "}]
[null,null,null,null,{"$f":"IFERROR(VLOOKUP(D1304,Códigos!B:C,2,0),\" \")","v":" "}]
[null,null,null,null,{"$f":"IFERROR(VLOOKUP(D1305,Códigos!B:C,2,0),\" \")","v":" "}]
[null,null,null,null,{"$f":"IFERROR(VLOOKUP(D1306,Códigos!B:C,2,0),\" \")","v":" "}]
[null,null,null,null,{"$f":"IFERROR(VLOOKUP(D1307,Códigos!B:C,2,0),\" \")","v":" "}]
[null,null,null,null,{"$f":"IFERROR(VLOOKUP(D1308,Códigos!B:C,2,0),\" \")","v":" "}]
[null,null,null,null,{"$f":"IFERROR(VLOOKUP(D1309,Códigos!B:C,2,0),\" \")","v":" "}]
[null,null,null,null,{"$f":"IFERROR(VLOOKUP(D1310,Códigos!B:C,2,0),\" \")","v":" "}]
[null,null,null,null,{"$f":"IFERROR(VLOOKUP(D1311,Códigos!B:C,2,0),\" \")","v":" "}]
[null,null,null,null,{"$f":"IFERROR(VLOOKUP(D1312,Códigos!B:C,2,0),\" \")","v":" "}]
[null,null,null,null,{"$f":"IFERROR(VLOOKUP(D1313,Códigos!B:C,2,0),\" \")","v":" "}]
[null,null,null,null,{"$f":"IFERROR(VLOOKUP(D1314,Códigos!B:C,2,0),\" \")","v":" "}]
[null,null,null,null,{"$f":"IFERROR(VLOOKUP(D1315,Códigos!B:C,2,0),\" \")","v":" "}]
[null,null,null,null,{"$f":"IFERROR(VLOOKUP(D1316,Códigos!B:C,2,0),\" \")","v":" "}]
[null,null,null,null,{"$f":"IFERROR(VLOOKUP(D1317,Códigos!B:C,2,0),\" \")","v":" "}]
[null,null,null,null,{"$f":"IFERROR(VLOOKUP(D1318,Códigos!B:C,2,0),\" \")","v":" "}]
[null,null,null,null,{"$f":"IFERROR(VLOOKUP(D1319,Códigos!B:C,2,0),\" \")","v":" "}]
[null,null,null,null,{"$f":"IFERROR(VLOOKUP(D1320,Códigos!B:C,2,0),\" \")","v":" "}]
[null,null,null,null,{"$f":"IFERROR(VLOOKUP(D1321,Códigos!B:C,2,0),\" \")","v":" "}]
[null,null,null,null,{"$f":"IFERROR(VLOOKUP(D1322,Códigos!B:C,2,0),\" \")","v":" "}]
[null,null,null,null,{"$f":"IFERROR(VLOOKUP(D1323,Códigos!B:C,2,0),\" \")","v":" "}]
[null,null,null,null,{"$f":"IFERROR(VLOOKUP(D1324,Códigos!B:C,2,0),\" \")","v":" "}]
[null,null,null,null,{"$f":"IFERROR(VLOOKUP(D1325,Códigos!B:C,2,0),\" \")","v":" "}]
[null,null,null,null,{"$f":"IFERROR(VLOOKUP(D1326,Códigos!B:C,2,0),\" \")","v":" "}]
[null,null,null,null,{"$f":"IFERROR(VLOOKUP(D1327,Códigos!B:C,2,0),\" \")","v":" "}]
[null,null,null,null,{"$f":"IFERROR(VLOOKUP(D1328,Códigos!B:C,2,0),\" \")","v":" "}]
[null,null,null,null,{"$f":"IFERROR(VLOOKUP(D1329,Códigos!B:C,2,0),\" \")","v":" "}]
[null,null,null,null,{"$f":"IFERROR(VLOOKUP(D1330,Códigos!B:C,2,0),\" \")","v":" "}]
[null,null,null,null,{"$f":"IFERROR(VLOOKUP(D1331,Códigos!B:C,2,0),\" \")","v":" "}]
[null,null,null,null,{"$f":"IFERROR(VLOOKUP(D1332,Códigos!B:C,2,0),\" \")","v":" "}]
[null,null,null,null,{"$f":"IFERROR(VLOOKUP(D1333,Códigos!B:C,2,0),\" \")","v":" "}]
[null,null,null,null,{"$f":"IFERROR(VLOOKUP(D1334,Códigos!B:C,2,0),\" \")","v":" "}]
[null,null,null,null,{"$f":"IFERROR(VLOOKUP(D1335,Códigos!B:C,2,0),\" \")","v":" "}]
[null,null,null,null,{"$f":"IFERROR(VLOOKUP(D1336,Códigos!B:C,2,0),\" \")","v":" "}]
[null,null,null,null,{"$f":"IFERROR(VLOOKUP(D1337,Códigos!B:C,2,0),\" \")","v":" "}]
[null,null,null,null,{"$f":"IFERROR(VLOOKUP(D1338,Códigos!B:C,2,0),\" \")","v":" "}]
[null,null,null,null,{"$f":"IFERROR(VLOOKUP(D1339,Códigos!B:C,2,0),\" \")","v":" "}]
[null,null,null,null,{"$f":"IFERROR(VLOOKUP(D1340,Códigos!B:C,2,0),\" \")","v":" "}]
[null,null,null,null,{"$f":"IFERROR(VLOOKUP(D1341,Códigos!B:C,2,0),\" \")","v":" "}]
[null,null,null,null,{"$f":"IFERROR(VLOOKUP(D1342,Códigos!B:C,2,0),\" \")","v":" "}]
[null,null,null,null,{"$f":"IFERROR(VLOOKUP(D1343,Códigos!B:C,2,0),\" \")","v":" "}]
[null,null,null,null,{"$f":"IFERROR(VLOOKUP(D1344,Códigos!B:C,2,0),\" \")","v":" "}]
[null,null,null,null,{"$f":"IFERROR(VLOOKUP(D1345,Códigos!B:C,2,0),\" \")","v":" "}]
[null,null,null,null,{"$f":"IFERROR(VLOOKUP(D1346,Códigos!B:C,2,0),\" \")","v":" "}]
[null,null,null,null,{"$f":"IFERROR(VLOOKUP(D1347,Códigos!B:C,2,0),\" \")","v":" "}]
[null,null,null,null,{"$f":"IFERROR(VLOOKUP(D1348,Códigos!B:C,2,0),\" \")","v":" "}]
[null,null,null,null,{"$f":"IFERROR(VLOOKUP(D1349,Códigos!B:C,2,0),\" \")","v":" "}]
[null,null,null,null,{"$f":"IFERROR(VLOOKUP(D1350,Códigos!B:C,2,0),\" \")","v":" "}]
[null,null,null,null,{"$f":"IFERROR(VLOOKUP(D1351,Códigos!B:C,2,0),\" \")","v":" "}]
[null,null,null,null,{"$f":"IFERROR(VLOOKUP(D1352,Códigos!B:C,2,0),\" \")","v":" "}]
[null,null,null,null,{"$f":"IFERROR(VLOOKUP(D1353,Códigos!B:C,2,0),\" \")","v":" "}]
[null,null,null,null,{"$f":"IFERROR(VLOOKUP(D1354,Códigos!B:C,2,0),\" \")","v":" "}]
[null,null,null,null,{"$f":"IFERROR(VLOOKUP(D1355,Códigos!B:C,2,0),\" \")","v":" "}]
[null,null,null,null,{"$f":"IFERROR(VLOOKUP(D1356,Códigos!B:C,2,0),\" \")","v":" "}]
[null,null,null,null,{"$f":"IFERROR(VLOOKUP(D1357,Códigos!B:C,2,0),\" \")","v":" "}]
[null,null,null,null,{"$f":"IFERROR(VLOOKUP(D1358,Códigos!B:C,2,0),\" \")","v":" "}]
[null,null,null,null,{"$f":"IFERROR(VLOOKUP(D1359,Códigos!B:C,2,0),\" \")","v":" "}]
[null,null,null,null,{"$f":"IFERROR(VLOOKUP(D1360,Códigos!B:C,2,0),\" \")","v":" "}]
[null,null,null,null,{"$f":"IFERROR(VLOOKUP(D1361,Códigos!B:C,2,0),\" \")","v":" "}]
[null,null,null,null,{"$f":"IFERROR(VLOOKUP(D1362,Códigos!B:C,2,0),\" \")","v":" "}]
[null,null,null,null,{"$f":"IFERROR(VLOOKUP(D1363,Códigos!B:C,2,0),\" \")","v":" "}]
[null,null,null,null,{"$f":"IFERROR(VLOOKUP(D1364,Códigos!B:C,2,0),\" \")","v":" "}]
[null,null,null,null,{"$f":"IFERROR(VLOOKUP(D1365,Códigos!B:C,2,0),\" \")","v":" "}]
[null,null,null,null,{"$f":"IFERROR(VLOOKUP(D1366,Códigos!B:C,2,0),\" \")","v":" "}]
[null,null,null,null,{"$f":"IFERROR(VLOOKUP(D1367,Códigos!B:C,2,0),\" \")","v":" "}]
[null,null,null,null,{"$f":"IFERROR(VLOOKUP(D1368,Códigos!B:C,2,0),\" \")","v":" "}]
[null,null,null,null,{"$f":"IFERROR(VLOOKUP(D1369,Códigos!B:C,2,0),\" \")","v":" "}]
[null,null,null,null,{"$f":"IFERROR(VLOOKUP(D1370,Códigos!B:C,2,0),\" \")","v":" "}]
[null,null,null,null,{"$f":"IFERROR(VLOOKUP(D1371,Códigos!B:C,2,0),\" \")","v":" "}]
[null,null,null,null,{"$f":"IFERROR(VLOOKUP(D1372,Códigos!B:C,2,0),\" \")","v":" "}]
[null,null,null,null,{"$f":"IFERROR(VLOOKUP(D1373,Códigos!B:C,2,0),\" \")","v":" "}]
[null,null,null,null,{"$f":"IFERROR(VLOOKUP(D1374,Códigos!B:C,2,0),\" \")","v":" "}]
[null,null,null,null,{"$f":"IFERROR(VLOOKUP(D1375,Códigos!B:C,2,0),\" \")","v":" "}]
[null,null,null,null,{"$f":"IFERROR(VLOOKUP(D1376,Códigos!B:C,2,0),\" \")","v":" "}]
[null,null,null,null,{"$f":"IFERROR(VLOOKUP(D1377,Códigos!B:C,2,0),\" \")","v":" "}]
[null,null,null,null,{"$f":"IFERROR(VLOOKUP(D1378,Códigos!B:C,2,0),\" \")","v":" "}]
[null,null,null,null,{"$f":"IFERROR(VLOOKUP(D1379,Códigos!B:C,2,0),\" \")","v":" "}]
[null,null,null,null,{"$f":"IFERROR(VLOOKUP(D1380,Códigos!B:C,2,0),\" \")","v":" "}]
[null,null,null,null,{"$f":"IFERROR(VLOOKUP(D1381,Códigos!B:C,2,0),\" \")","v":" "}]
[null,null,null,null,{"$f":"IFERROR(VLOOKUP(D1382,Códigos!B:C,2,0),\" \")","v":" "}]
[null,null,null,null,{"$f":"IFERROR(VLOOKUP(D1383,Códigos!B:C,2,0),\" \")","v":" "}]
[null,null,null,null,{"$f":"IFERROR(VLOOKUP(D1384,Códigos!B:C,2,0),\" \")","v":" "}]
[null,null,null,null,{"$f":"IFERROR(VLOOKUP(D1385,Códigos!B:C,2,0),\" \")","v":" "}]
[null,null,null,null,{"$f":"IFERROR(VLOOKUP(D1386,Códigos!B:C,2,0),\" \")","v":" "}]
[null,null,null,null,{"$f":"IFERROR(VLOOKUP(D1387,Códigos!B:C,2,0),\" \")","v":" "}]
[null,null,null,null,{"$f":"IFERROR(VLOOKUP(D1388,Códigos!B:C,2,0),\" \")","v":" "}]
[null,null,null,null,{"$f":"IFERROR(VLOOKUP(D1389,Códigos!B:C,2,0),\" \")","v":" "}]
[null,null,null,null,{"$f":"IFERROR(VLOOKUP(D1390,Códigos!B:C,2,0),\" \")","v":" "}]
[null,null,null,null,{"$f":"IFERROR(VLOOKUP(D1391,Códigos!B:C,2,0),\" \")","v":" "}]
[null,null,null,null,{"$f":"IFERROR(VLOOKUP(D1392,Códigos!B:C,2,0),\" \")","v":" "}]
[null,null,null,null,{"$f":"IFERROR(VLOOKUP(D1393,Códigos!B:C,2,0),\" \")","v":" "}]
[null,null,null,null,{"$f":"IFERROR(VLOOKUP(D1394,Códigos!B:C,2,0),\" \")","v":" "}]
[null,null,null,null,{"$f":"IFERROR(VLOOKUP(D1395,Códigos!B:C,2,0),\" \")","v":" "}]
[null,null,null,null,{"$f":"IFERROR(VLOOKUP(D1396,Códigos!B:C,2,0),\" \")","v":" "}]
[null,null,null,null,{"$f":"IFERROR(VLOOKUP(D1397,Códigos!B:C,2,0),\" \")","v":" "}]
[null,null,null,null,{"$f":"IFERROR(VLOOKUP(D1398,Códigos!B:C,2,0),\" \")","v":" "}]
[null,null,null,null,{"$f":"IFERROR(VLOOKUP(D1399,Códigos!B:C,2,0),\" \")","v":" "}]
[null,null,null,null,{"$f":"IFERROR(VLOOKUP(D1400,Códigos!B:C,2,0),\" \")","v":" "}]
[null,null,null,null,{"$f":"IFERROR(VLOOKUP(D1401,Códigos!B:C,2,0),\" \")","v":" "}]
[null,null,null,null,{"$f":"IFERROR(VLOOKUP(D1402,Códigos!B:C,2,0),\" \")","v":" "}]
[null,null,null,null,{"$f":"IFERROR(VLOOKUP(D1403,Códigos!B:C,2,0),\" \")","v":" "}]
[null,null,null,null,{"$f":"IFERROR(VLOOKUP(D1404,Códigos!B:C,2,0),\" \")","v":" "}]
[null,null,null,null,{"$f":"IFERROR(VLOOKUP(D1405,Códigos!B:C,2,0),\" \")","v":" "}]
[null,null,null,null,{"$f":"IFERROR(VLOOKUP(D1406,Códigos!B:C,2,0),\" \")","v":" "}]
[null,null,null,null,{"$f":"IFERROR(VLOOKUP(D1407,Códigos!B:C,2,0),\" \")","v":" "}]
[null,null,null,null,{"$f":"IFERROR(VLOOKUP(D1408,Códigos!B:C,2,0),\" \")","v":" "}]
[null,null,null,null,{"$f":"IFERROR(VLOOKUP(D1409,Códigos!B:C,2,0),\" \")","v":" "}]
[null,null,null,null,{"$f":"IFERROR(VLOOKUP(D1410,Códigos!B:C,2,0),\" \")","v":" "}]
[null,null,null,null,{"$f":"IFERROR(VLOOKUP(D1411,Códigos!B:C,2,0),\" \")","v":" "}]
[null,null,null,null,{"$f":"IFERROR(VLOOKUP(D1412,Códigos!B:C,2,0),\" \")","v":" "}]
[null,null,null,null,{"$f":"IFERROR(VLOOKUP(D1413,Códigos!B:C,2,0),\" \")","v":" "}]
[null,null,null,null,{"$f":"IFERROR(VLOOKUP(D1414,Códigos!B:C,2,0),\" \")","v":" "}]
[null,null,null,null,{"$f":"IFERROR(VLOOKUP(D1415,Códigos!B:C,2,0),\" \")","v":" "}]
[null,null,null,null,{"$f":"IFERROR(VLOOKUP(D1416,Códigos!B:C,2,0),\" \")","v":" "}]
[null,null,null,null,{"$f":"IFERROR(VLOOKUP(D1417,Códigos!B:C,2,0),\" \")","v":" "}]
[null,null,null,null,{"$f":"IFERROR(VLOOKUP(D1418,Códigos!B:C,2,0),\" \")","v":" "}]
[null,null,null,null,{"$f":"IFERROR(VLOOKUP(D1419,Códigos!B:C,2,0),\" \")","v":" "}]
[null,null,null,null,{"$f":"IFERROR(VLOOKUP(D1420,Códigos!B:C,2,0),\" \")","v":" "}]
[null,null,null,null,{"$f":"IFERROR(VLOOKUP(D1421,Códigos!B:C,2,0),\" \")","v":" "}]
[null,null,null,null,{"$f":"IFERROR(VLOOKUP(D1422,Códigos!B:C,2,0),\" \")","v":" "}]
[null,null,null,null,{"$f":"IFERROR(VLOOKUP(D1423,Códigos!B:C,2,0),\" \")","v":" "}]
[null,null,null,null,{"$f":"IFERROR(VLOOKUP(D1424,Códigos!B:C,2,0),\" \")","v":" "}]
[null,null,null,null,{"$f":"IFERROR(VLOOKUP(D1425,Códigos!B:C,2,0),\" \")","v":" "}]
[null,null,null,null,{"$f":"IFERROR(VLOOKUP(D1426,Códigos!B:C,2,0),\" \")","v":" "}]
[null,null,null,null,{"$f":"IFERROR(VLOOKUP(D1427,Códigos!B:C,2,0),\" \")","v":" "}]
[null,null,null,null,{"$f":"IFERROR(VLOOKUP(D1428,Códigos!B:C,2,0),\" \")","v":" "}]
[null,null,null,null,{"$f":"IFERROR(VLOOKUP(D1429,Códigos!B:C,2,0),\" \")","v":" "}]
[null,null,null,null,{"$f":"IFERROR(VLOOKUP(D1430,Códigos!B:C,2,0),\" \")","v":" "}]
[null,null,null,null,{"$f":"IFERROR(VLOOKUP(D1431,Códigos!B:C,2,0),\" \")","v":" "}]
[null,null,null,null,{"$f":"IFERROR(VLOOKUP(D1432,Códigos!B:C,2,0),\" \")","v":" "}]
[null,null,null,null,{"$f":"IFERROR(VLOOKUP(D1433,Códigos!B:C,2,0),\" \")","v":" "}]
[null,null,null,null,{"$f":"IFERROR(VLOOKUP(D1434,Códigos!B:C,2,0),\" \")","v":" "}]
[null,null,null,null,{"$f":"IFERROR(VLOOKUP(D1435,Códigos!B:C,2,0),\" \")","v":" "}]
[null,null,null,null,{"$f":"IFERROR(VLOOKUP(D1436,Códigos!B:C,2,0),\" \")","v":" "}]
[null,null,null,null,{"$f":"IFERROR(VLOOKUP(D1437,Códigos!B:C,2,0),\" \")","v":" "}]
[null,null,null,null,{"$f":"IFERROR(VLOOKUP(D1438,Códigos!B:C,2,0),\" \")","v":" "}]
[null,null,null,null,{"$f":"IFERROR(VLOOKUP(D1439,Códigos!B:C,2,0),\" \")","v":" "}]
[null,null,null,null,{"$f":"IFERROR(VLOOKUP(D1440,Códigos!B:C,2,0),\" \")","v":" "}]
[null,null,null,null,{"$f":"IFERROR(VLOOKUP(D1441,Códigos!B:C,2,0),\" \")","v":" "}]
[null,null,null,null,{"$f":"IFERROR(VLOOKUP(D1442,Códigos!B:C,2,0),\" \")","v":" "}]
[null,null,null,null,{"$f":"IFERROR(VLOOKUP(D1443,Códigos!B:C,2,0),\" \")","v":" "}]
[null,null,null,null,{"$f":"IFERROR(VLOOKUP(D1444,Códigos!B:C,2,0),\" \")","v":" "}]
[null,null,null,null,{"$f":"IFERROR(VLOOKUP(D1445,Códigos!B:C,2,0),\" \")","v":" "}]
[null,null,null,null,{"$f":"IFERROR(VLOOKUP(D1446,Códigos!B:C,2,0),\" \")","v":" "}]
[null,null,null,null,{"$f":"IFERROR(VLOOKUP(D1447,Códigos!B:C,2,0),\" \")","v":" "}]
[null,null,null,null,{"$f":"IFERROR(VLOOKUP(D1448,Códigos!B:C,2,0),\" \")","v":" "}]
[null,null,null,null,{"$f":"IFERROR(VLOOKUP(D1449,Códigos!B:C,2,0),\" \")","v":" "}]
[null,null,null,null,{"$f":"IFERROR(VLOOKUP(D1450,Códigos!B:C,2,0),\" \")","v":" "}]
[null,null,null,null,{"$f":"IFERROR(VLOOKUP(D1451,Códigos!B:C,2,0),\" \")","v":" "}]
[null,null,null,null,{"$f":"IFERROR(VLOOKUP(D1452,Códigos!B:C,2,0),\" \")","v":" "}]
[null,null,null,null,{"$f":"IFERROR(VLOOKUP(D1453,Códigos!B:C,2,0),\" \")","v":" "}]
[null,null,null,null,{"$f":"IFERROR(VLOOKUP(D1454,Códigos!B:C,2,0),\" \")","v":" "}]
[null,null,null,null,{"$f":"IFERROR(VLOOKUP(D1455,Códigos!B:C,2,0),\" \")","v":" "}]
[null,null,null,null,{"$f":"IFERROR(VLOOKUP(D1456,Códigos!B:C,2,0),\" \")","v":" "}]
[null,null,null,null,{"$f":"IFERROR(VLOOKUP(D1457,Códigos!B:C,2,0),\" \")","v":" "}]
[null,null,null,null,{"$f":"IFERROR(VLOOKUP(D1458,Códigos!B:C,2,0),\" \")","v":" "}]
[null,null,null,null,{"$f":"IFERROR(VLOOKUP(D1459,Códigos!B:C,2,0),\" \")","v":" "}]
[null,null,null,null,{"$f":"IFERROR(VLOOKUP(D1460,Códigos!B:C,2,0),\" \")","v":" "}]
[null,null,null,null,{"$f":"IFERROR(VLOOKUP(D1461,Códigos!B:C,2,0),\" \")","v":" "}]
[null,null,null,null,{"$f":"IFERROR(VLOOKUP(D1462,Códigos!B:C,2,0),\" \")","v":" "}]
[null,null,null,null,{"$f":"IFERROR(VLOOKUP(D1463,Códigos!B:C,2,0),\" \")","v":" "}]
[null,null,null,null,{"$f":"IFERROR(VLOOKUP(D1464,Códigos!B:C,2,0),\" \")","v":" "}]
[null,null,null,null,{"$f":"IFERROR(VLOOKUP(D1465,Códigos!B:C,2,0),\" \")","v":" "}]
[null,null,null,null,{"$f":"IFERROR(VLOOKUP(D1466,Códigos!B:C,2,0),\" \")","v":" "}]
[null,null,null,null,{"$f":"IFERROR(VLOOKUP(D1467,Códigos!B:C,2,0),\" \")","v":" "}]
[null,null,null,null,{"$f":"IFERROR(VLOOKUP(D1468,Códigos!B:C,2,0),\" \")","v":" "}]
[null,null,null,null,{"$f":"IFERROR(VLOOKUP(D1469,Códigos!B:C,2,0),\" \")","v":" "}]
[null,null,null,null,{"$f":"IFERROR(VLOOKUP(D1470,Códigos!B:C,2,0),\" \")","v":" "}]
[null,null,null,null,{"$f":"IFERROR(VLOOKUP(D1471,Códigos!B:C,2,0),\" \")","v":" "}]
[null,null,null,null,{"$f":"IFERROR(VLOOKUP(D1472,Códigos!B:C,2,0),\" \")","v":" "}]
[null,null,null,null,{"$f":"IFERROR(VLOOKUP(D1473,Códigos!B:C,2,0),\" \")","v":" "}]
[null,null,null,null,{"$f":"IFERROR(VLOOKUP(D1474,Códigos!B:C,2,0),\" \")","v":" "}]
[null,null,null,null,{"$f":"IFERROR(VLOOKUP(D1475,Códigos!B:C,2,0),\" \")","v":" "}]
[null,null,null,null,{"$f":"IFERROR(VLOOKUP(D1476,Códigos!B:C,2,0),\" \")","v":" "}]
[null,null,null,null,{"$f":"IFERROR(VLOOKUP(D1477,Códigos!B:C,2,0),\" \")","v":" "}]
[null,null,null,null,{"$f":"IFERROR(VLOOKUP(D1478,Códigos!B:C,2,0),\" \")","v":" "}]
[null,null,null,null,{"$f":"IFERROR(VLOOKUP(D1479,Códigos!B:C,2,0),\" \")","v":" "}]
[null,null,null,null,{"$f":"IFERROR(VLOOKUP(D1480,Códigos!B:C,2,0),\" \")","v":" "}]
[null,null,null,null,{"$f":"IFERROR(VLOOKUP(D1481,Códigos!B:C,2,0),\" \")","v":" "}]
[null,null,null,null,{"$f":"IFERROR(VLOOKUP(D1482,Códigos!B:C,2,0),\" \")","v":" "}]
[null,null,null,null,{"$f":"IFERROR(VLOOKUP(D1483,Códigos!B:C,2,0),\" \")","v":" "}]
[null,null,null,null,{"$f":"IFERROR(VLOOKUP(D1484,Códigos!B:C,2,0),\" \")","v":" "}]
[null,null,null,null,{"$f":"IFERROR(VLOOKUP(D1485,Códigos!B:C,2,0),\" \")","v":" "}]
[null,null,null,null,{"$f":"IFERROR(VLOOKUP(D1486,Códigos!B:C,2,0),\" \")","v":" "}]
[null,null,null,null,{"$f":"IFERROR(VLOOKUP(D1487,Códigos!B:C,2,0),\" \")","v":" "}]
[null,null,null,null,{"$f":"IFERROR(VLOOKUP(D1488,Códigos!B:C,2,0),\" \")","v":" "}]
[null,null,null,null,{"$f":"IFERROR(VLOOKUP(D1489,Códigos!B:C,2,0),\" \")","v":" "}]
[null,null,null,null,{"$f":"IFERROR(VLOOKUP(D1490,Códigos!B:C,2,0),\" \")","v":" "}]
[null,null,null,null,{"$f":"IFERROR(VLOOKUP(D1491,Códigos!B:C,2,0),\" \")","v":" "}]
[null,null,null,null,{"$f":"IFERROR(VLOOKUP(D1492,Códigos!B:C,2,0),\" \")","v":" "}]
[null,null,null,null,{"$f":"IFERROR(VLOOKUP(D1493,Códigos!B:C,2,0),\" \")","v":" "}]
[null,null,null,null,{"$f":"IFERROR(VLOOKUP(D1494,Códigos!B:C,2,0),\" \")","v":" "}]
[null,null,null,null,{"$f":"IFERROR(VLOOKUP(D1495,Códigos!B:C,2,0),\" \")","v":" "}]
[null,null,null,null,{"$f":"IFERROR(VLOOKUP(D1496,Códigos!B:C,2,0),\" \")","v":" "}]
[null,null,null,null,{"$f":"IFERROR(VLOOKUP(D1497,Códigos!B:C,2,0),\" \")","v":" "}]
[null,null,null,null,{"$f":"IFERROR(VLOOKUP(D1498,Códigos!B:C,2,0),\" \")","v":" "}]
[null,null,null,null,{"$f":"IFERROR(VLOOKUP(D1499,Códigos!B:C,2,0),\" \")","v":" "}]
[null,null,null,null,{"$f":"IFERROR(VLOOKUP(D1500,Códigos!B:C,2,0),\" \")","v":" "}]
[null,null,null,null,{"$f":"IFERROR(VLOOKUP(D1501,Códigos!B:C,2,0),\" \")","v":" "}]
[null,null,null,null,{"$f":"IFERROR(VLOOKUP(D1502,Códigos!B:C,2,0),\" \")","v":" "}]
[null,null,null,null,{"$f":"IFERROR(VLOOKUP(D1503,Códigos!B:C,2,0),\" \")","v":" "}]
[null,null,null,null,{"$f":"IFERROR(VLOOKUP(D1504,Códigos!B:C,2,0),\" \")","v":" "}]
[null,null,null,null,{"$f":"IFERROR(VLOOKUP(D1505,Códigos!B:C,2,0),\" \")","v":" "}]
[null,null,null,null,{"$f":"IFERROR(VLOOKUP(D1506,Códigos!B:C,2,0),\" \")","v":" "}]
[null,null,null,null,{"$f":"IFERROR(VLOOKUP(D1507,Códigos!B:C,2,0),\" \")","v":" "}]
[null,null,null,null,{"$f":"IFERROR(VLOOKUP(D1508,Códigos!B:C,2,0),\" \")","v":" "}]
[null,null,null,null,{"$f":"IFERROR(VLOOKUP(D1509,Códigos!B:C,2,0),\" \")","v":" "}]
[null,null,null,null,{"$f":"IFERROR(VLOOKUP(D1510,Códigos!B:C,2,0),\" \")","v":" "}]
[null,null,null,null,{"$f":"IFERROR(VLOOKUP(D1511,Códigos!B:C,2,0),\" \")","v":" "}]
[null,null,null,null,{"$f":"IFERROR(VLOOKUP(D1512,Códigos!B:C,2,0),\" \")","v":" "}]
[null,null,null,null,{"$f":"IFERROR(VLOOKUP(D1513,Códigos!B:C,2,0),\" \")","v":" "}]
[null,null,null,null,{"$f":"IFERROR(VLOOKUP(D1514,Códigos!B:C,2,0),\" \")","v":" "}]
[null,null,null,null,{"$f":"IFERROR(VLOOKUP(D1515,Códigos!B:C,2,0),\" \")","v":" "}]
[null,null,null,null,{"$f":"IFERROR(VLOOKUP(D1516,Códigos!B:C,2,0),\" \")","v":" "}]
[null,null,null,null,{"$f":"IFERROR(VLOOKUP(D1517,Códigos!B:C,2,0),\" \")","v":" "}]
[null,null,null,null,{"$f":"IFERROR(VLOOKUP(D1518,Códigos!B:C,2,0),\" \")","v":" "}]
[null,null,null,null,{"$f":"IFERROR(VLOOKUP(D1519,Códigos!B:C,2,0),\" \")","v":" "}]
[null,null,null,null,{"$f":"IFERROR(VLOOKUP(D1520,Códigos!B:C,2,0),\" \")","v":" "}]
[null,null,null,null,{"$f":"IFERROR(VLOOKUP(D1521,Códigos!B:C,2,0),\" \")","v":" "}]
[null,null,null,null,{"$f":"IFERROR(VLOOKUP(D1522,Códigos!B:C,2,0),\" \")","v":" "}]
[null,null,null,null,{"$f":"IFERROR(VLOOKUP(D1523,Códigos!B:C,2,0),\" \")","v":" "}]
[null,null,null,null,{"$f":"IFERROR(VLOOKUP(D1524,Códigos!B:C,2,0),\" \")","v":" "}]
[null,null,null,null,{"$f":"IFERROR(VLOOKUP(D1525,Códigos!B:C,2,0),\" \")","v":" "}]
[null,null,null,null,{"$f":"IFERROR(VLOOKUP(D1526,Códigos!B:C,2,0),\" \")","v":" "}]
[null,null,null,null,{"$f":"IFERROR(VLOOKUP(D1527,Códigos!B:C,2,0),\" \")","v":" "}]
[null,null,null,null,{"$f":"IFERROR(VLOOKUP(D1528,Códigos!B:C,2,0),\" \")","v":" "}]
[null,null,null,null,{"$f":"IFERROR(VLOOKUP(D1529,Códigos!B:C,2,0),\" \")","v":" "}]
[null,null,null,null,{"$f":"IFERROR(VLOOKUP(D1530,Códigos!B:C,2,0),\" \")","v":" "}]
[null,null,null,null,{"$f":"IFERROR(VLOOKUP(D1531,Códigos!B:C,2,0),\" \")","v":" "}]
[null,null,null,null,{"$f":"IFERROR(VLOOKUP(D1532,Códigos!B:C,2,0),\" \")","v":" "}]
[null,null,null,null,{"$f":"IFERROR(VLOOKUP(D1533,Códigos!B:C,2,0),\" \")","v":" "}]
[null,null,null,null,{"$f":"IFERROR(VLOOKUP(D1534,Códigos!B:C,2,0),\" \")","v":" "}]
[null,null,null,null,{"$f":"IFERROR(VLOOKUP(D1535,Códigos!B:C,2,0),\" \")","v":" "}]
[null,null,null,null,{"$f":"IFERROR(VLOOKUP(D1536,Códigos!B:C,2,0),\" \")","v":" "}]
[null,null,null,null,{"$f":"IFERROR(VLOOKUP(D1537,Códigos!B:C,2,0),\" \")","v":" "}]
[null,null,null,null,{"$f":"IFERROR(VLOOKUP(D1538,Códigos!B:C,2,0),\" \")","v":" "}]
[null,null,null,null,{"$f":"IFERROR(VLOOKUP(D1539,Códigos!B:C,2,0),\" \")","v":" "}]
[null,null,null,null,{"$f":"IFERROR(VLOOKUP(D1540,Códigos!B:C,2,0),\" \")","v":" "}]
[null,null,null,null,{"$f":"IFERROR(VLOOKUP(D1541,Códigos!B:C,2,0),\" \")","v":" "}]
[null,null,null,null,{"$f":"IFERROR(VLOOKUP(D1542,Códigos!B:C,2,0),\" \")","v":" "}]
[null,null,null,null,{"$f":"IFERROR(VLOOKUP(D1543,Códigos!B:C,2,0),\" \")","v":" "}]
[null,null,null,null,{"$f":"IFERROR(VLOOKUP(D1544,Códigos!B:C,2,0),\" \")","v":" "}]
[null,null,null,null,{"$f":"IFERROR(VLOOKUP(D1545,Códigos!B:C,2,0),\" \")","v":" "}]
[null,null,null,null,{"$f":"IFERROR(VLOOKUP(D1546,Códigos!B:C,2,0),\" \")","v":" "}]
[null,null,null,null,{"$f":"IFERROR(VLOOKUP(D1547,Códigos!B:C,2,0),\" \")","v":" "}]
[null,null,null,null,{"$f":"IFERROR(VLOOKUP(D1548,Códigos!B:C,2,0),\" \")","v":" "}]
[null,null,null,null,{"$f":"IFERROR(VLOOKUP(D1549,Códigos!B:C,2,0),\" \")","v":" "}]
[null,null,null,null,{"$f":"IFERROR(VLOOKUP(D1550,Códigos!B:C,2,0),\" \")","v":" "}]
[null,null,null,null,{"$f":"IFERROR(VLOOKUP(D1551,Códigos!B:C,2,0),\" \")","v":" "}]
[null,null,null,null,{"$f":"IFERROR(VLOOKUP(D1552,Códigos!B:C,2,0),\" \")","v":" "}]
[null,null,null,null,{"$f":"IFERROR(VLOOKUP(D1553,Códigos!B:C,2,0),\" \")","v":" "}]
[null,null,null,null,{"$f":"IFERROR(VLOOKUP(D1554,Códigos!B:C,2,0),\" \")","v":" "}]
[null,null,null,null,{"$f":"IFERROR(VLOOKUP(D1555,Códigos!B:C,2,0),\" \")","v":" "}]
[null,null,null,null,{"$f":"IFERROR(VLOOKUP(D1556,Códigos!B:C,2,0),\" \")","v":" "}]
[null,null,null,null,{"$f":"IFERROR(VLOOKUP(D1557,Códigos!B:C,2,0),\" \")","v":" "}]
[null,null,null,null,{"$f":"IFERROR(VLOOKUP(D1558,Códigos!B:C,2,0),\" \")","v":" "}]
[null,null,null,null,{"$f":"IFERROR(VLOOKUP(D1559,Códigos!B:C,2,0),\" \")","v":" "}]
[null,null,null,null,{"$f":"IFERROR(VLOOKUP(D1560,Códigos!B:C,2,0),\" \")","v":" "}]
[null,null,null,null,{"$f":"IFERROR(VLOOKUP(D1561,Códigos!B:C,2,0),\" \")","v":" "}]
[null,null,null,null,{"$f":"IFERROR(VLOOKUP(D1562,Códigos!B:C,2,0),\" \")","v":" "}]
[null,null,null,null,{"$f":"IFERROR(VLOOKUP(D1563,Códigos!B:C,2,0),\" \")","v":" "}]
[null,null,null,null,{"$f":"IFERROR(VLOOKUP(D1564,Códigos!B:C,2,0),\" \")","v":" "}]
[null,null,null,null,{"$f":"IFERROR(VLOOKUP(D1565,Códigos!B:C,2,0),\" \")","v":" "}]
[null,null,null,null,{"$f":"IFERROR(VLOOKUP(D1566,Códigos!B:C,2,0),\" \")","v":" "}]
[null,null,null,null,{"$f":"IFERROR(VLOOKUP(D1567,Códigos!B:C,2,0),\" \")","v":" "}]
[null,null,null,null,{"$f":"IFERROR(VLOOKUP(D1568,Códigos!B:C,2,0),\" \")","v":" "}]
[null,null,null,null,{"$f":"IFERROR(VLOOKUP(D1569,Códigos!B:C,2,0),\" \")","v":" "}]
[null,null,null,null,{"$f":"IFERROR(VLOOKUP(D1570,Códigos!B:C,2,0),\" \")","v":" "}]
[null,null,null,null,{"$f":"IFERROR(VLOOKUP(D1571,Códigos!B:C,2,0),\" \")","v":" "}]
[null,null,null,null,{"$f":"IFERROR(VLOOKUP(D1572,Códigos!B:C,2,0),\" \")","v":" "}]
[null,null,null,null,{"$f":"IFERROR(VLOOKUP(D1573,Códigos!B:C,2,0),\" \")","v":" "}]
[null,null,null,null,{"$f":"IFERROR(VLOOKUP(D1574,Códigos!B:C,2,0),\" \")","v":" "}]
[null,null,null,null,{"$f":"IFERROR(VLOOKUP(D1575,Códigos!B:C,2,0),\" \")","v":" "}]
[null,null,null,null,{"$f":"IFERROR(VLOOKUP(D1576,Códigos!B:C,2,0),\" \")","v":" "}]
[null,null,null,null,{"$f":"IFERROR(VLOOKUP(D1577,Códigos!B:C,2,0),\" \")","v":" "}]
[null,null,null,null,{"$f":"IFERROR(VLOOKUP(D1578,Códigos!B:C,2,0),\" \")","v":" "}]
[null,null,null,null,{"$f":"IFERROR(VLOOKUP(D1579,Códigos!B:C,2,0),\" \")","v":" "}]
[null,null,null,null,{"$f":"IFERROR(VLOOKUP(D1580,Códigos!B:C,2,0),\" \")","v":" "}]
[null,null,null,null,{"$f":"IFERROR(VLOOKUP(D1581,Códigos!B:C,2,0),\" \")","v":" "}]
[null,null,null,null,{"$f":"IFERROR(VLOOKUP(D1582,Códigos!B:C,2,0),\" \")","v":" "}]
[null,null,null,null,{"$f":"IFERROR(VLOOKUP(D1583,Códigos!B:C,2,0),\" \")","v":" "}]
[null,null,null,null,{"$f":"IFERROR(VLOOKUP(D1584,Códigos!B:C,2,0),\" \")","v":" "}]
[null,null,null,null,{"$f":"IFERROR(VLOOKUP(D1585,Códigos!B:C,2,0),\" \")","v":" "}]
[null,null,null,null,{"$f":"IFERROR(VLOOKUP(D1586,Códigos!B:C,2,0),\" \")","v":" "}]
[null,null,null,null,{"$f":"IFERROR(VLOOKUP(D1587,Códigos!B:C,2,0),\" \")","v":" "}]
[null,null,null,null,{"$f":"IFERROR(VLOOKUP(D1588,Códigos!B:C,2,0),\" \")","v":" "}]
[null,null,null,null,{"$f":"IFERROR(VLOOKUP(D1589,Códigos!B:C,2,0),\" \")","v":" "}]
[null,null,null,null,{"$f":"IFERROR(VLOOKUP(D1590,Códigos!B:C,2,0),\" \")","v":" "}]
[null,null,null,null,{"$f":"IFERROR(VLOOKUP(D1591,Códigos!B:C,2,0),\" \")","v":" "}]
[null,null,null,null,{"$f":"IFERROR(VLOOKUP(D1592,Códigos!B:C,2,0),\" \")","v":" "}]
[null,null,null,null,{"$f":"IFERROR(VLOOKUP(D1593,Códigos!B:C,2,0),\" \")","v":" "}]
[null,null,null,null,{"$f":"IFERROR(VLOOKUP(D1594,Códigos!B:C,2,0),\" \")","v":" "}]
[null,null,null,null,{"$f":"IFERROR(VLOOKUP(D1595,Códigos!B:C,2,0),\" \")","v":" "}]
[null,null,null,null,{"$f":"IFERROR(VLOOKUP(D1596,Códigos!B:C,2,0),\" \")","v":" "}]
[null,null,null,null,{"$f":"IFERROR(VLOOKUP(D1597,Códigos!B:C,2,0),\" \")","v":" "}]
[null,null,null,null,{"$f":"IFERROR(VLOOKUP(D1598,Códigos!B:C,2,0),\" \")","v":" "}]
[null,null,null,null,{"$f":"IFERROR(VLOOKUP(D1599,Códigos!B:C,2,0),\" \")","v":" "}]
[null,null,null,null,{"$f":"IFERROR(VLOOKUP(D1600,Códigos!B:C,2,0),\" \")","v":" "}]
[null,null,null,null,{"$f":"IFERROR(VLOOKUP(D1601,Códigos!B:C,2,0),\" \")","v":" "}]
[null,null,null,null,{"$f":"IFERROR(VLOOKUP(D1602,Códigos!B:C,2,0),\" \")","v":" "}]
[null,null,null,null,{"$f":"IFERROR(VLOOKUP(D1603,Códigos!B:C,2,0),\" \")","v":" "}]
[null,null,null,null,{"$f":"IFERROR(VLOOKUP(D1604,Códigos!B:C,2,0),\" \")","v":" "}]
[null,null,null,null,{"$f":"IFERROR(VLOOKUP(D1605,Códigos!B:C,2,0),\" \")","v":" "}]
[null,null,null,null,{"$f":"IFERROR(VLOOKUP(D1606,Códigos!B:C,2,0),\" \")","v":" "}]
[null,null,null,null,{"$f":"IFERROR(VLOOKUP(D1607,Códigos!B:C,2,0),\" \")","v":" "}]
[null,null,null,null,{"$f":"IFERROR(VLOOKUP(D1608,Códigos!B:C,2,0),\" \")","v":" "}]
[null,null,null,null,{"$f":"IFERROR(VLOOKUP(D1609,Códigos!B:C,2,0),\" \")","v":" "}]
[null,null,null,null,{"$f":"IFERROR(VLOOKUP(D1610,Códigos!B:C,2,0),\" \")","v":" "}]
[null,null,null,null,{"$f":"IFERROR(VLOOKUP(D1611,Códigos!B:C,2,0),\" \")","v":" "}]
[null,null,null,null,{"$f":"IFERROR(VLOOKUP(D1612,Códigos!B:C,2,0),\" \")","v":" "}]
[null,null,null,null,{"$f":"IFERROR(VLOOKUP(D1613,Códigos!B:C,2,0),\" \")","v":" "}]
[null,null,null,null,{"$f":"IFERROR(VLOOKUP(D1614,Códigos!B:C,2,0),\" \")","v":" "}]
[null,null,null,null,{"$f":"IFERROR(VLOOKUP(D1615,Códigos!B:C,2,0),\" \")","v":" "}]
[null,null,null,null,{"$f":"IFERROR(VLOOKUP(D1616,Códigos!B:C,2,0),\" \")","v":" "}]
[null,null,null,null,{"$f":"IFERROR(VLOOKUP(D1617,Códigos!B:C,2,0),\" \")","v":" "}]
[null,null,null,null,{"$f":"IFERROR(VLOOKUP(D1618,Códigos!B:C,2,0),\" \")","v":" "}]
[null,null,null,null,{"$f":"IFERROR(VLOOKUP(D1619,Códigos!B:C,2,0),\" \")","v":" "}]
[null,null,null,null,{"$f":"IFERROR(VLOOKUP(D1620,Códigos!B:C,2,0),\" \")","v":" "}]
[null,null,null,null,{"$f":"IFERROR(VLOOKUP(D1621,Códigos!B:C,2,0),\" \")","v":" "}]
[null,null,null,null,{"$f":"IFERROR(VLOOKUP(D1622,Códigos!B:C,2,0),\" \")","v":" "}]
[null,null,null,null,{"$f":"IFERROR(VLOOKUP(D1623,Códigos!B:C,2,0),\" \")","v":" "}]
[null,null,null,null,{"$f":"IFERROR(VLOOKUP(D1624,Códigos!B:C,2,0),\" \")","v":" "}]
[null,null,null,null,{"$f":"IFERROR(VLOOKUP(D1625,Códigos!B:C,2,0),\" \")","v":" "}]
[null,null,null,null,{"$f":"IFERROR(VLOOKUP(D1626,Códigos!B:C,2,0),\" \")","v":" "}]
[null,null,null,null,{"$f":"IFERROR(VLOOKUP(D1627,Códigos!B:C,2,0),\" \")","v":" "}]
[null,null,null,null,{"$f":"IFERROR(VLOOKUP(D1628,Códigos!B:C,2,0),\" \")","v":" "}]
[null,null,null,null,{"$f":"IFERROR(VLOOKUP(D1629,Códigos!B:C,2,0),\" \")","v":" "}]
[null,null,null,null,{"$f":"IFERROR(VLOOKUP(D1630,Códigos!B:C,2,0),\" \")","v":" "}]
[null,null,null,null,{"$f":"IFERROR(VLOOKUP(D1631,Códigos!B:C,2,0),\" \")","v":" "}]
[null,null,null,null,{"$f":"IFERROR(VLOOKUP(D1632,Códigos!B:C,2,0),\" \")","v":" "}]
[null,null,null,null,{"$f":"IFERROR(VLOOKUP(D1633,Códigos!B:C,2,0),\" \")","v":" "}]
[null,null,null,null,{"$f":"IFERROR(VLOOKUP(D1634,Códigos!B:C,2,0),\" \")","v":" "}]
[null,null,null,null,{"$f":"IFERROR(VLOOKUP(D1635,Códigos!B:C,2,0),\" \")","v":" "}]
[null,null,null,null,{"$f":"IFERROR(VLOOKUP(D1636,Códigos!B:C,2,0),\" \")","v":" "}]
[null,null,null,null,{"$f":"IFERROR(VLOOKUP(D1637,Códigos!B:C,2,0),\" \")","v":" "}]
[null,null,null,null,{"$f":"IFERROR(VLOOKUP(D1638,Códigos!B:C,2,0),\" \")","v":" "}]
[null,null,null,null,{"$f":"IFERROR(VLOOKUP(D1639,Códigos!B:C,2,0),\" \")","v":" "}]
[null,null,null,null,{"$f":"IFERROR(VLOOKUP(D1640,Códigos!B:C,2,0),\" \")","v":" "}]
[null,null,null,null,{"$f":"IFERROR(VLOOKUP(D1641,Códigos!B:C,2,0),\" \")","v":" "}]
[null,null,null,null,{"$f":"IFERROR(VLOOKUP(D1642,Códigos!B:C,2,0),\" \")","v":" "}]
[null,null,null,null,{"$f":"IFERROR(VLOOKUP(D1643,Códigos!B:C,2,0),\" \")","v":" "}]
[null,null,null,null,{"$f":"IFERROR(VLOOKUP(D1644,Códigos!B:C,2,0),\" \")","v":" "}]
[null,null,null,null,{"$f":"IFERROR(VLOOKUP(D1645,Códigos!B:C,2,0),\" \")","v":" "}]
[null,null,null,null,{"$f":"IFERROR(VLOOKUP(D1646,Códigos!B:C,2,0),\" \")","v":" "}]
[null,null,null,null,{"$f":"IFERROR(VLOOKUP(D1647,Códigos!B:C,2,0),\" \")","v":" "}]
[null,null,null,null,{"$f":"IFERROR(VLOOKUP(D1648,Códigos!B:C,2,0),\" \")","v":" "}]
[null,null,null,null,{"$f":"IFERROR(VLOOKUP(D1649,Códigos!B:C,2,0),\" \")","v":" "}]
[null,null,null,null,{"$f":"IFERROR(VLOOKUP(D1650,Códigos!B:C,2,0),\" \")","v":" "}]
[null,null,null,null,{"$f":"IFERROR(VLOOKUP(D1651,Códigos!B:C,2,0),\" \")","v":" "}]
[null,null,null,null,{"$f":"IFERROR(VLOOKUP(D1652,Códigos!B:C,2,0),\" \")","v":" "}]
[null,null,null,null,{"$f":"IFERROR(VLOOKUP(D1653,Códigos!B:C,2,0),\" \")","v":" "}]
[null,null,null,null,{"$f":"IFERROR(VLOOKUP(D1654,Códigos!B:C,2,0),\" \")","v":" "}]
[null,null,null,null,{"$f":"IFERROR(VLOOKUP(D1655,Códigos!B:C,2,0),\" \")","v":" "}]
[null,null,null,null,{"$f":"IFERROR(VLOOKUP(D1656,Códigos!B:C,2,0),\" \")","v":" "}]
[null,null,null,null,{"$f":"IFERROR(VLOOKUP(D1657,Códigos!B:C,2,0),\" \")","v":" "}]
[null,null,null,null,{"$f":"IFERROR(VLOOKUP(D1658,Códigos!B:C,2,0),\" \")","v":" "}]
[null,null,null,null,{"$f":"IFERROR(VLOOKUP(D1659,Códigos!B:C,2,0),\" \")","v":" "}]
[null,null,null,null,{"$f":"IFERROR(VLOOKUP(D1660,Códigos!B:C,2,0),\" \")","v":" "}]
[null,null,null,null,{"$f":"IFERROR(VLOOKUP(D1661,Códigos!B:C,2,0),\" \")","v":" "}]
[null,null,null,null,{"$f":"IFERROR(VLOOKUP(D1662,Códigos!B:C,2,0),\" \")","v":" "}]
[null,null,null,null,{"$f":"IFERROR(VLOOKUP(D1663,Códigos!B:C,2,0),\" \")","v":" "}]
[null,null,null,null,{"$f":"IFERROR(VLOOKUP(D1664,Códigos!B:C,2,0),\" \")","v":" "}]
[null,null,null,null,{"$f":"IFERROR(VLOOKUP(D1665,Códigos!B:C,2,0),\" \")","v":" "}]
[null,null,null,null,{"$f":"IFERROR(VLOOKUP(D1666,Códigos!B:C,2,0),\" \")","v":" "}]
[null,null,null,null,{"$f":"IFERROR(VLOOKUP(D1667,Códigos!B:C,2,0),\" \")","v":" "}]
[null,null,null,null,{"$f":"IFERROR(VLOOKUP(D1668,Códigos!B:C,2,0),\" \")","v":" "}]
[null,null,null,null,{"$f":"IFERROR(VLOOKUP(D1669,Códigos!B:C,2,0),\" \")","v":" "}]
[null,null,null,null,{"$f":"IFERROR(VLOOKUP(D1670,Códigos!B:C,2,0),\" \")","v":" "}]
[null,null,null,null,{"$f":"IFERROR(VLOOKUP(D1671,Códigos!B:C,2,0),\" \")","v":" "}]
[null,null,null,null,{"$f":"IFERROR(VLOOKUP(D1672,Códigos!B:C,2,0),\" \")","v":" "}]
[null,null,null,null,{"$f":"IFERROR(VLOOKUP(D1673,Códigos!B:C,2,0),\" \")","v":" "}]
[null,null,null,null,{"$f":"IFERROR(VLOOKUP(D1674,Códigos!B:C,2,0),\" \")","v":" "}]
[null,null,null,null,{"$f":"IFERROR(VLOOKUP(D1675,Códigos!B:C,2,0),\" \")","v":" "}]
[null,null,null,null,{"$f":"IFERROR(VLOOKUP(D1676,Códigos!B:C,2,0),\" \")","v":" "}]
[null,null,null,null,{"$f":"IFERROR(VLOOKUP(D1677,Códigos!B:C,2,0),\" \")","v":" "}]
[null,null,null,null,{"$f":"IFERROR(VLOOKUP(D1678,Códigos!B:C,2,0),\" \")","v":" "}]
[null,null,null,null,{"$f":"IFERROR(VLOOKUP(D1679,Códigos!B:C,2,0),\" \")","v":" "}]
[null,null,null,null,{"$f":"IFERROR(VLOOKUP(D1680,Códigos!B:C,2,0),\" \")","v":" "}]
[null,null,null,null,{"$f":"IFERROR(VLOOKUP(D1681,Códigos!B:C,2,0),\" \")","v":" "}]
[null,null,null,null,{"$f":"IFERROR(VLOOKUP(D1682,Códigos!B:C,2,0),\" \")","v":" "}]
[null,null,null,null,{"$f":"IFERROR(VLOOKUP(D1683,Códigos!B:C,2,0),\" \")","v":" "}]
[null,null,null,null,{"$f":"IFERROR(VLOOKUP(D1684,Códigos!B:C,2,0),\" \")","v":" "}]
[null,null,null,null,{"$f":"IFERROR(VLOOKUP(D1685,Códigos!B:C,2,0),\" \")","v":" "}]
[null,null,null,null,{"$f":"IFERROR(VLOOKUP(D1686,Códigos!B:C,2,0),\" \")","v":" "}]
[null,null,null,null,{"$f":"IFERROR(VLOOKUP(D1687,Códigos!B:C,2,0),\" \")","v":" "}]
[null,null,null,null,{"$f":"IFERROR(VLOOKUP(D1688,Códigos!B:C,2,0),\" \")","v":" "}]
[null,null,null,null,{"$f":"IFERROR(VLOOKUP(D1689,Códigos!B:C,2,0),\" \")","v":" "}]
[null,null,null,null,{"$f":"IFERROR(VLOOKUP(D1690,Códigos!B:C,2,0),\" \")","v":" "}]
[null,null,null,null,{"$f":"IFERROR(VLOOKUP(D1691,Códigos!B:C,2,0),\" \")","v":" "}]
[null,null,null,null,{"$f":"IFERROR(VLOOKUP(D1692,Códigos!B:C,2,0),\" \")","v":" "}]
[null,null,null,null,{"$f":"IFERROR(VLOOKUP(D1693,Códigos!B:C,2,0),\" \")","v":" "}]
[null,null,null,null,{"$f":"IFERROR(VLOOKUP(D1694,Códigos!B:C,2,0),\" \")","v":" "}]
[null,null,null,null,{"$f":"IFERROR(VLOOKUP(D1695,Códigos!B:C,2,0),\" \")","v":" "}]
[null,null,null,null,{"$f":"IFERROR(VLOOKUP(D1696,Códigos!B:C,2,0),\" \")","v":" "}]
[null,null,null,null,{"$f":"IFERROR(VLOOKUP(D1697,Códigos!B:C,2,0),\" \")","v":" "}]
[null,null,null,null,{"$f":"IFERROR(VLOOKUP(D1698,Códigos!B:C,2,0),\" \")","v":" "}]
[null,null,null,null,{"$f":"IFERROR(VLOOKUP(D1699,Códigos!B:C,2,0),\" \")","v":" "}]
[null,null,null,null,{"$f":"IFERROR(VLOOKUP(D1700,Códigos!B:C,2,0),\" \")","v":" "}]
[null,null,null,null,{"$f":"IFERROR(VLOOKUP(D1701,Códigos!B:C,2,0),\" \")","v":" "}]
[null,null,null,null,{"$f":"IFERROR(VLOOKUP(D1702,Códigos!B:C,2,0),\" \")","v":" "}]
[null,null,null,null,{"$f":"IFERROR(VLOOKUP(D1703,Códigos!B:C,2,0),\" \")","v":" "}]
[null,null,null,null,{"$f":"IFERROR(VLOOKUP(D1704,Códigos!B:C,2,0),\" \")","v":" "}]
[null,null,null,null,{"$f":"IFERROR(VLOOKUP(D1705,Códigos!B:C,2,0),\" \")","v":" "}]
[null,null,null,null,{"$f":"IFERROR(VLOOKUP(D1706,Códigos!B:C,2,0),\" \")","v":" "}]
[null,null,null,null,{"$f":"IFERROR(VLOOKUP(D1707,Códigos!B:C,2,0),\" \")","v":" "}]
[null,null,null,null,{"$f":"IFERROR(VLOOKUP(D1708,Códigos!B:C,2,0),\" \")","v":" "}]
[null,null,null,null,{"$f":"IFERROR(VLOOKUP(D1709,Códigos!B:C,2,0),\" \")","v":" "}]
[null,null,null,null,{"$f":"IFERROR(VLOOKUP(D1710,Códigos!B:C,2,0),\" \")","v":" "}]
[null,null,null,null,{"$f":"IFERROR(VLOOKUP(D1711,Códigos!B:C,2,0),\" \")","v":" "}]
[null,null,null,null,{"$f":"IFERROR(VLOOKUP(D1712,Códigos!B:C,2,0),\" \")","v":" "}]
[null,null,null,null,{"$f":"IFERROR(VLOOKUP(D1713,Códigos!B:C,2,0),\" \")","v":" "}]
[null,null,null,null,{"$f":"IFERROR(VLOOKUP(D1714,Códigos!B:C,2,0),\" \")","v":" "}]
[null,null,null,null,{"$f":"IFERROR(VLOOKUP(D1715,Códigos!B:C,2,0),\" \")","v":" "}]
[null,null,null,null,{"$f":"IFERROR(VLOOKUP(D1716,Códigos!B:C,2,0),\" \")","v":" "}]
[null,null,null,null,{"$f":"IFERROR(VLOOKUP(D1717,Códigos!B:C,2,0),\" \")","v":" "}]
[null,null,null,null,{"$f":"IFERROR(VLOOKUP(D1718,Códigos!B:C,2,0),\" \")","v":" "}]
[null,null,null,null,{"$f":"IFERROR(VLOOKUP(D1719,Códigos!B:C,2,0),\" \")","v":" "}]
[null,null,null,null,{"$f":"IFERROR(VLOOKUP(D1720,Códigos!B:C,2,0),\" \")","v":" "}]
[null,null,null,null,{"$f":"IFERROR(VLOOKUP(D1721,Códigos!B:C,2,0),\" \")","v":" "}]
[null,null,null,null,{"$f":"IFERROR(VLOOKUP(D1722,Códigos!B:C,2,0),\" \")","v":" "}]
[null,null,null,null,{"$f":"IFERROR(VLOOKUP(D1723,Códigos!B:C,2,0),\" \")","v":" "}]
[null,null,null,null,{"$f":"IFERROR(VLOOKUP(D1724,Códigos!B:C,2,0),\" \")","v":" "}]
[null,null,null,null,{"$f":"IFERROR(VLOOKUP(D1725,Códigos!B:C,2,0),\" \")","v":" "}]
[null,null,null,null,{"$f":"IFERROR(VLOOKUP(D1726,Códigos!B:C,2,0),\" \")","v":" "}]
[null,null,null,null,{"$f":"IFERROR(VLOOKUP(D1727,Códigos!B:C,2,0),\" \")","v":" "}]
[null,null,null,null,{"$f":"IFERROR(VLOOKUP(D1728,Códigos!B:C,2,0),\" \")","v":" "}]
[null,null,null,null,{"$f":"IFERROR(VLOOKUP(D1729,Códigos!B:C,2,0),\" \")","v":" "}]
[null,null,null,null,{"$f":"IFERROR(VLOOKUP(D1730,Códigos!B:C,2,0),\" \")","v":" "}]
[null,null,null,null,{"$f":"IFERROR(VLOOKUP(D1731,Códigos!B:C,2,0),\" \")","v":" "}]
[null,null,null,null,{"$f":"IFERROR(VLOOKUP(D1732,Códigos!B:C,2,0),\" \")","v":" "}]
[null,null,null,null,{"$f":"IFERROR(VLOOKUP(D1733,Códigos!B:C,2,0),\" \")","v":" "}]
[null,null,null,null,{"$f":"IFERROR(VLOOKUP(D1734,Códigos!B:C,2,0),\" \")","v":" "}]
[null,null,null,null,{"$f":"IFERROR(VLOOKUP(D1735,Códigos!B:C,2,0),\" \")","v":" "}]
[null,null,null,null,{"$f":"IFERROR(VLOOKUP(D1736,Códigos!B:C,2,0),\" \")","v":" "}]
[null,null,null,null,{"$f":"IFERROR(VLOOKUP(D1737,Códigos!B:C,2,0),\" \")","v":" "}]
[null,null,null,null,{"$f":"IFERROR(VLOOKUP(D1738,Códigos!B:C,2,0),\" \")","v":" "}]
[null,null,null,null,{"$f":"IFERROR(VLOOKUP(D1739,Códigos!B:C,2,0),\" \")","v":" "}]
[null,null,null,null,{"$f":"IFERROR(VLOOKUP(D1740,Códigos!B:C,2,0),\" \")","v":" "}]
[null,null,null,null,{"$f":"IFERROR(VLOOKUP(D1741,Códigos!B:C,2,0),\" \")","v":" "}]
[null,null,null,null,{"$f":"IFERROR(VLOOKUP(D1742,Códigos!B:C,2,0),\" \")","v":" "}]
[null,null,null,null,{"$f":"IFERROR(VLOOKUP(D1743,Códigos!B:C,2,0),\" \")","v":" "}]
[null,null,null,null,{"$f":"IFERROR(VLOOKUP(D1744,Códigos!B:C,2,0),\" \")","v":" "}]
[null,null,null,null,{"$f":"IFERROR(VLOOKUP(D1745,Códigos!B:C,2,0),\" \")","v":" "}]
[null,null,null,null,{"$f":"IFERROR(VLOOKUP(D1746,Códigos!B:C,2,0),\" \")","v":" "}]
[null,null,null,null,{"$f":"IFERROR(VLOOKUP(D1747,Códigos!B:C,2,0),\" \")","v":" "}]
[null,null,null,null,{"$f":"IFERROR(VLOOKUP(D1748,Códigos!B:C,2,0),\" \")","v":" "}]
[null,null,null,null,{"$f":"IFERROR(VLOOKUP(D1749,Códigos!B:C,2,0),\" \")","v":" "}]
[null,null,null,null,{"$f":"IFERROR(VLOOKUP(D1750,Códigos!B:C,2,0),\" \")","v":" "}]
[null,null,null,null,{"$f":"IFERROR(VLOOKUP(D1751,Códigos!B:C,2,0),\" \")","v":" "}]
[null,null,null,null,{"$f":"IFERROR(VLOOKUP(D1752,Códigos!B:C,2,0),\" \")","v":" "}]
[null,null,null,null,{"$f":"IFERROR(VLOOKUP(D1753,Códigos!B:C,2,0),\" \")","v":" "}]
[null,null,null,null,{"$f":"IFERROR(VLOOKUP(D1754,Códigos!B:C,2,0),\" \")","v":" "}]
[null,null,null,null,{"$f":"IFERROR(VLOOKUP(D1755,Códigos!B:C,2,0),\" \")","v":" "}]
[null,null,null,null,{"$f":"IFERROR(VLOOKUP(D1756,Códigos!B:C,2,0),\" \")","v":" "}]
[null,null,null,null,{"$f":"IFERROR(VLOOKUP(D1757,Códigos!B:C,2,0),\" \")","v":" "}]
[null,null,null,null,{"$f":"IFERROR(VLOOKUP(D1758,Códigos!B:C,2,0),\" \")","v":" "}]
[null,null,null,null,{"$f":"IFERROR(VLOOKUP(D1759,Códigos!B:C,2,0),\" \")","v":" "}]
[null,null,null,null,{"$f":"IFERROR(VLOOKUP(D1760,Códigos!B:C,2,0),\" \")","v":" "}]
[null,null,null,null,{"$f":"IFERROR(VLOOKUP(D1761,Códigos!B:C,2,0),\" \")","v":" "}]
[null,null,null,null,{"$f":"IFERROR(VLOOKUP(D1762,Códigos!B:C,2,0),\" \")","v":" "}]
[null,null,null,null,{"$f":"IFERROR(VLOOKUP(D1763,Códigos!B:C,2,0),\" \")","v":" "}]
[null,null,null,null,{"$f":"IFERROR(VLOOKUP(D1764,Códigos!B:C,2,0),\" \")","v":" "}]
[null,null,null,null,{"$f":"IFERROR(VLOOKUP(D1765,Códigos!B:C,2,0),\" \")","v":" "}]
[null,null,null,null,{"$f":"IFERROR(VLOOKUP(D1766,Códigos!B:C,2,0),\" \")","v":" "}]
[null,null,null,null,{"$f":"IFERROR(VLOOKUP(D1767,Códigos!B:C,2,0),\" \")","v":" "}]
[null,null,null,null,{"$f":"IFERROR(VLOOKUP(D1768,Códigos!B:C,2,0),\" \")","v":" "}]
[null,null,null,null,{"$f":"IFERROR(VLOOKUP(D1769,Códigos!B:C,2,0),\" \")","v":" "}]
[null,null,null,null,{"$f":"IFERROR(VLOOKUP(D1770,Códigos!B:C,2,0),\" \")","v":" "}]
[null,null,null,null,{"$f":"IFERROR(VLOOKUP(D1771,Códigos!B:C,2,0),\" \")","v":" "}]
[null,null,null,null,{"$f":"IFERROR(VLOOKUP(D1772,Códigos!B:C,2,0),\" \")","v":" "}]
[null,null,null,null,{"$f":"IFERROR(VLOOKUP(D1773,Códigos!B:C,2,0),\" \")","v":" "}]
[null,null,null,null,{"$f":"IFERROR(VLOOKUP(D1774,Códigos!B:C,2,0),\" \")","v":" "}]
[null,null,null,null,{"$f":"IFERROR(VLOOKUP(D1775,Códigos!B:C,2,0),\" \")","v":" "}]
[null,null,null,null,{"$f":"IFERROR(VLOOKUP(D1776,Códigos!B:C,2,0),\" \")","v":" "}]
[null,null,null,null,{"$f":"IFERROR(VLOOKUP(D1777,Códigos!B:C,2,0),\" \")","v":" "}]
[null,null,null,null,{"$f":"IFERROR(VLOOKUP(D1778,Códigos!B:C,2,0),\" \")","v":" "}]
[null,null,null,null,{"$f":"IFERROR(VLOOKUP(D1779,Códigos!B:C,2,0),\" \")","v":" "}]
[null,null,null,null,{"$f":"IFERROR(VLOOKUP(D1780,Códigos!B:C,2,0),\" \")","v":" "}]
[null,null,null,null,{"$f":"IFERROR(VLOOKUP(D1781,Códigos!B:C,2,0),\" \")","v":" "}]
[null,null,null,null,{"$f":"IFERROR(VLOOKUP(D1782,Códigos!B:C,2,0),\" \")","v":" "}]
[null,null,null,null,{"$f":"IFERROR(VLOOKUP(D1783,Códigos!B:C,2,0),\" \")","v":" "}]
[null,null,null,null,{"$f":"IFERROR(VLOOKUP(D1784,Códigos!B:C,2,0),\" \")","v":" "}]
[null,null,null,null,{"$f":"IFERROR(VLOOKUP(D1785,Códigos!B:C,2,0),\" \")","v":" "}]
[null,null,null,null,{"$f":"IFERROR(VLOOKUP(D1786,Códigos!B:C,2,0),\" \")","v":" "}]
[null,null,null,null,{"$f":"IFERROR(VLOOKUP(D1787,Códigos!B:C,2,0),\" \")","v":" "}]
[null,null,null,null,{"$f":"IFERROR(VLOOKUP(D1788,Códigos!B:C,2,0),\" \")","v":" "}]
[null,null,null,null,{"$f":"IFERROR(VLOOKUP(D1789,Códigos!B:C,2,0),\" \")","v":" "}]
[null,null,null,null,{"$f":"IFERROR(VLOOKUP(D1790,Códigos!B:C,2,0),\" \")","v":" "}]
[null,null,null,null,{"$f":"IFERROR(VLOOKUP(D1791,Códigos!B:C,2,0),\" \")","v":" "}]
[null,null,null,null,{"$f":"IFERROR(VLOOKUP(D1792,Códigos!B:C,2,0),\" \")","v":" "}]
[null,null,null,null,{"$f":"IFERROR(VLOOKUP(D1793,Códigos!B:C,2,0),\" \")","v":" "}]
[null,null,null,null,{"$f":"IFERROR(VLOOKUP(D1794,Códigos!B:C,2,0),\" \")","v":" "}]
[null,null,null,null,{"$f":"IFERROR(VLOOKUP(D1795,Códigos!B:C,2,0),\" \")","v":" "}]
[null,null,null,null,{"$f":"IFERROR(VLOOKUP(D1796,Códigos!B:C,2,0),\" \")","v":" "}]
[null,null,null,null,{"$f":"IFERROR(VLOOKUP(D1797,Códigos!B:C,2,0),\" \")","v":" "}]
[null,null,null,null,{"$f":"IFERROR(VLOOKUP(D1798,Códigos!B:C,2,0),\" \")","v":" "}]
[null,null,null,null,{"$f":"IFERROR(VLOOKUP(D1799,Códigos!B:C,2,0),\" \")","v":" "}]
[null,null,null,null,{"$f":"IFERROR(VLOOKUP(D1800,Códigos!B:C,2,0),\" \")","v":" "}]
[null,null,null,null,{"$f":"IFERROR(VLOOKUP(D1801,Códigos!B:C,2,0),\" \")","v":" "}]
[null,null,null,null,{"$f":"IFERROR(VLOOKUP(D1802,Códigos!B:C,2,0),\" \")","v":" "}]
[null,null,null,null,{"$f":"IFERROR(VLOOKUP(D1803,Códigos!B:C,2,0),\" \")","v":" "}]
[null,null,null,null,{"$f":"IFERROR(VLOOKUP(D1804,Códigos!B:C,2,0),\" \")","v":" "}]
[null,null,null,null,{"$f":"IFERROR(VLOOKUP(D1805,Códigos!B:C,2,0),\" \")","v":" "}]
[null,null,null,null,{"$f":"IFERROR(VLOOKUP(D1806,Códigos!B:C,2,0),\" \")","v":" "}]
[null,null,null,null,{"$f":"IFERROR(VLOOKUP(D1807,Códigos!B:C,2,0),\" \")","v":" "}]
[null,null,null,null,{"$f":"IFERROR(VLOOKUP(D1808,Códigos!B:C,2,0),\" \")","v":" "}]
[null,null,null,null,{"$f":"IFERROR(VLOOKUP(D1809,Códigos!B:C,2,0),\" \")","v":" "}]
[null,null,null,null,{"$f":"IFERROR(VLOOKUP(D1810,Códigos!B:C,2,0),\" \")","v":" "}]
[null,null,null,null,{"$f":"IFERROR(VLOOKUP(D1811,Códigos!B:C,2,0),\" \")","v":" "}]
[null,null,null,null,{"$f":"IFERROR(VLOOKUP(D1812,Códigos!B:C,2,0),\" \")","v":" "}]
[null,null,null,null,{"$f":"IFERROR(VLOOKUP(D1813,Códigos!B:C,2,0),\" \")","v":" "}]
[null,null,null,null,{"$f":"IFERROR(VLOOKUP(D1814,Códigos!B:C,2,0),\" \")","v":" "}]
[null,null,null,null,{"$f":"IFERROR(VLOOKUP(D1815,Códigos!B:C,2,0),\" \")","v":" "}]
[null,null,null,null,{"$f":"IFERROR(VLOOKUP(D1816,Códigos!B:C,2,0),\" \")","v":" "}]
[null,null,null,null,{"$f":"IFERROR(VLOOKUP(D1817,Códigos!B:C,2,0),\" \")","v":" "}]
[null,null,null,null,{"$f":"IFERROR(VLOOKUP(D1818,Códigos!B:C,2,0),\" \")","v":" "}]
[null,null,null,null,{"$f":"IFERROR(VLOOKUP(D1819,Códigos!B:C,2,0),\" \")","v":" "}]
[null,null,null,null,{"$f":"IFERROR(VLOOKUP(D1820,Códigos!B:C,2,0),\" \")","v":" "}]
[null,null,null,null,{"$f":"IFERROR(VLOOKUP(D1821,Códigos!B:C,2,0),\" \")","v":" "}]
[null,null,null,null,{"$f":"IFERROR(VLOOKUP(D1822,Códigos!B:C,2,0),\" \")","v":" "}]
[null,null,null,null,{"$f":"IFERROR(VLOOKUP(D1823,Códigos!B:C,2,0),\" \")","v":" "}]
[null,null,null,null,{"$f":"IFERROR(VLOOKUP(D1824,Códigos!B:C,2,0),\" \")","v":" "}]
[null,null,null,null,{"$f":"IFERROR(VLOOKUP(D1825,Códigos!B:C,2,0),\" \")","v":" "}]
[null,null,null,null,{"$f":"IFERROR(VLOOKUP(D1826,Códigos!B:C,2,0),\" \")","v":" "}]
[null,null,null,null,{"$f":"IFERROR(VLOOKUP(D1827,Códigos!B:C,2,0),\" \")","v":" "}]
[null,null,null,null,{"$f":"IFERROR(VLOOKUP(D1828,Códigos!B:C,2,0),\" \")","v":" "}]
[null,null,null,null,{"$f":"IFERROR(VLOOKUP(D1829,Códigos!B:C,2,0),\" \")","v":" "}]
[null,null,null,null,{"$f":"IFERROR(VLOOKUP(D1830,Códigos!B:C,2,0),\" \")","v":" "}]
[null,null,null,null,{"$f":"IFERROR(VLOOKUP(D1831,Códigos!B:C,2,0),\" \")","v":" "}]
[null,null,null,null,{"$f":"IFERROR(VLOOKUP(D1832,Códigos!B:C,2,0),\" \")","v":" "}]
[null,null,null,null,{"$f":"IFERROR(VLOOKUP(D1833,Códigos!B:C,2,0),\" \")","v":" "}]
[null,null,null,null,{"$f":"IFERROR(VLOOKUP(D1834,Códigos!B:C,2,0),\" \")","v":" "}]
[null,null,null,null,{"$f":"IFERROR(VLOOKUP(D1835,Códigos!B:C,2,0),\" \")","v":" "}]
[null,null,null,null,{"$f":"IFERROR(VLOOKUP(D1836,Códigos!B:C,2,0),\" \")","v":" "}]
[null,null,null,null,{"$f":"IFERROR(VLOOKUP(D1837,Códigos!B:C,2,0),\" \")","v":" "}]
[null,null,null,null,{"$f":"IFERROR(VLOOKUP(D1838,Códigos!B:C,2,0),\" \")","v":" "}]
[null,null,null,null,{"$f":"IFERROR(VLOOKUP(D1839,Códigos!B:C,2,0),\" \")","v":" "}]
[null,null,null,null,{"$f":"IFERROR(VLOOKUP(D1840,Códigos!B:C,2,0),\" \")","v":" "}]
[null,null,null,null,{"$f":"IFERROR(VLOOKUP(D1841,Códigos!B:C,2,0),\" \")","v":" "}]
[null,null,null,null,{"$f":"IFERROR(VLOOKUP(D1842,Códigos!B:C,2,0),\" \")","v":" "}]
[null,null,null,null,{"$f":"IFERROR(VLOOKUP(D1843,Códigos!B:C,2,0),\" \")","v":" "}]
[null,null,null,null,{"$f":"IFERROR(VLOOKUP(D1844,Códigos!B:C,2,0),\" \")","v":" "}]
[null,null,null,null,{"$f":"IFERROR(VLOOKUP(D1845,Códigos!B:C,2,0),\" \")","v":" "}]
[null,null,null,null,{"$f":"IFERROR(VLOOKUP(D1846,Códigos!B:C,2,0),\" \")","v":" "}]
[null,null,null,null,{"$f":"IFERROR(VLOOKUP(D1847,Códigos!B:C,2,0),\" \")","v":" "}]
[null,null,null,null,{"$f":"IFERROR(VLOOKUP(D1848,Códigos!B:C,2,0),\" \")","v":" "}]
[null,null,null,null,{"$f":"IFERROR(VLOOKUP(D1849,Códigos!B:C,2,0),\" \")","v":" "}]
[null,null,null,null,{"$f":"IFERROR(VLOOKUP(D1850,Códigos!B:C,2,0),\" \")","v":" "}]
[null,null,null,null,{"$f":"IFERROR(VLOOKUP(D1851,Códigos!B:C,2,0),\" \")","v":" "}]
[null,null,null,null,{"$f":"IFERROR(VLOOKUP(D1852,Códigos!B:C,2,0),\" \")","v":" "}]
[null,null,null,null,{"$f":"IFERROR(VLOOKUP(D1853,Códigos!B:C,2,0),\" \")","v":" "}]
[null,null,null,null,{"$f":"IFERROR(VLOOKUP(D1854,Códigos!B:C,2,0),\" \")","v":" "}]
[null,null,null,null,{"$f":"IFERROR(VLOOKUP(D1855,Códigos!B:C,2,0),\" \")","v":" "}]
[null,null,null,null,{"$f":"IFERROR(VLOOKUP(D1856,Códigos!B:C,2,0),\" \")","v":" "}]
[null,null,null,null,{"$f":"IFERROR(VLOOKUP(D1857,Códigos!B:C,2,0),\" \")","v":" "}]
[null,null,null,null,{"$f":"IFERROR(VLOOKUP(D1858,Códigos!B:C,2,0),\" \")","v":" "}]
[null,null,null,null,{"$f":"IFERROR(VLOOKUP(D1859,Códigos!B:C,2,0),\" \")","v":" "}]
[null,null,null,null,{"$f":"IFERROR(VLOOKUP(D1860,Códigos!B:C,2,0),\" \")","v":" "}]
[null,null,null,null,{"$f":"IFERROR(VLOOKUP(D1861,Códigos!B:C,2,0),\" \")","v":" "}]
[null,null,null,null,{"$f":"IFERROR(VLOOKUP(D1862,Códigos!B:C,2,0),\" \")","v":" "}]
[null,null,null,null,{"$f":"IFERROR(VLOOKUP(D1863,Códigos!B:C,2,0),\" \")","v":" "}]
[null,null,null,null,{"$f":"IFERROR(VLOOKUP(D1864,Códigos!B:C,2,0),\" \")","v":" "}]
[null,null,null,null,{"$f":"IFERROR(VLOOKUP(D1865,Códigos!B:C,2,0),\" \")","v":" "}]
[null,null,null,null,{"$f":"IFERROR(VLOOKUP(D1866,Códigos!B:C,2,0),\" \")","v":" "}]
[null,null,null,null,{"$f":"IFERROR(VLOOKUP(D1867,Códigos!B:C,2,0),\" \")","v":" "}]
[null,null,null,null,{"$f":"IFERROR(VLOOKUP(D1868,Códigos!B:C,2,0),\" \")","v":" "}]
[null,null,null,null,{"$f":"IFERROR(VLOOKUP(D1869,Códigos!B:C,2,0),\" \")","v":" "}]
[null,null,null,null,{"$f":"IFERROR(VLOOKUP(D1870,Códigos!B:C,2,0),\" \")","v":" "}]
[null,null,null,null,{"$f":"IFERROR(VLOOKUP(D1871,Códigos!B:C,2,0),\" \")","v":" "}]
[null,null,null,null,{"$f":"IFERROR(VLOOKUP(D1872,Códigos!B:C,2,0),\" \")","v":" "}]
[null,null,null,null,{"$f":"IFERROR(VLOOKUP(D1873,Códigos!B:C,2,0),\" \")","v":" "}]
[null,null,null,null,{"$f":"IFERROR(VLOOKUP(D1874,Códigos!B:C,2,0),\" \")","v":" "}]
[null,null,null,null,{"$f":"IFERROR(VLOOKUP(D1875,Códigos!B:C,2,0),\" \")","v":" "}]
[null,null,null,null,{"$f":"IFERROR(VLOOKUP(D1876,Códigos!B:C,2,0),\" \")","v":" "}]
[null,null,null,null,{"$f":"IFERROR(VLOOKUP(D1877,Códigos!B:C,2,0),\" \")","v":" "}]
[null,null,null,null,{"$f":"IFERROR(VLOOKUP(D1878,Códigos!B:C,2,0),\" \")","v":" "}]
[null,null,null,null,{"$f":"IFERROR(VLOOKUP(D1879,Códigos!B:C,2,0),\" \")","v":" "}]
[null,null,null,null,{"$f":"IFERROR(VLOOKUP(D1880,Códigos!B:C,2,0),\" \")","v":" "}]
[null,null,null,null,{"$f":"IFERROR(VLOOKUP(D1881,Códigos!B:C,2,0),\" \")","v":" "}]
[null,null,null,null,{"$f":"IFERROR(VLOOKUP(D1882,Códigos!B:C,2,0),\" \")","v":" "}]
[null,null,null,null,{"$f":"IFERROR(VLOOKUP(D1883,Códigos!B:C,2,0),\" \")","v":" "}]
[null,null,null,null,{"$f":"IFERROR(VLOOKUP(D1884,Códigos!B:C,2,0),\" \")","v":" "}]
[null,null,null,null,{"$f":"IFERROR(VLOOKUP(D1885,Códigos!B:C,2,0),\" \")","v":" "}]
[null,null,null,null,{"$f":"IFERROR(VLOOKUP(D1886,Códigos!B:C,2,0),\" \")","v":" "}]
[null,null,null,null,{"$f":"IFERROR(VLOOKUP(D1887,Códigos!B:C,2,0),\" \")","v":" "}]
[null,null,null,null,{"$f":"IFERROR(VLOOKUP(D1888,Códigos!B:C,2,0),\" \")","v":" "}]
[null,null,null,null,{"$f":"IFERROR(VLOOKUP(D1889,Códigos!B:C,2,0),\" \")","v":" "}]
[null,null,null,null,{"$f":"IFERROR(VLOOKUP(D1890,Códigos!B:C,2,0),\" \")","v":" "}]
[null,null,null,null,{"$f":"IFERROR(VLOOKUP(D1891,Códigos!B:C,2,0),\" \")","v":" "}]
[null,null,null,null,{"$f":"IFERROR(VLOOKUP(D1892,Códigos!B:C,2,0),\" \")","v":" "}]
[null,null,null,null,{"$f":"IFERROR(VLOOKUP(D1893,Códigos!B:C,2,0),\" \")","v":" "}]
[null,null,null,null,{"$f":"IFERROR(VLOOKUP(D1894,Códigos!B:C,2,0),\" \")","v":" "}]
[null,null,null,null,{"$f":"IFERROR(VLOOKUP(D1895,Códigos!B:C,2,0),\" \")","v":" "}]
[null,null,null,null,{"$f":"IFERROR(VLOOKUP(D1896,Códigos!B:C,2,0),\" \")","v":" "}]
[null,null,null,null,{"$f":"IFERROR(VLOOKUP(D1897,Códigos!B:C,2,0),\" \")","v":" "}]
[null,null,null,null,{"$f":"IFERROR(VLOOKUP(D1898,Códigos!B:C,2,0),\" \")","v":" "}]
[null,null,null,null,{"$f":"IFERROR(VLOOKUP(D1899,Códigos!B:C,2,0),\" \")","v":" "}]
[null,null,null,null,{"$f":"IFERROR(VLOOKUP(D1900,Códigos!B:C,2,0),\" \")","v":" "}]
[null,null,null,null,{"$f":"IFERROR(VLOOKUP(D1901,Códigos!B:C,2,0),\" \")","v":" "}]
[null,null,null,null,{"$f":"IFERROR(VLOOKUP(D1902,Códigos!B:C,2,0),\" \")","v":" "}]
[null,null,null,null,{"$f":"IFERROR(VLOOKUP(D1903,Códigos!B:C,2,0),\" \")","v":" "}]
[null,null,null,null,{"$f":"IFERROR(VLOOKUP(D1904,Códigos!B:C,2,0),\" \")","v":" "}]
[null,null,null,null,{"$f":"IFERROR(VLOOKUP(D1905,Códigos!B:C,2,0),\" \")","v":" "}]
[null,null,null,null,{"$f":"IFERROR(VLOOKUP(D1906,Códigos!B:C,2,0),\" \")","v":" "}]
[null,null,null,null,{"$f":"IFERROR(VLOOKUP(D1907,Códigos!B:C,2,0),\" \")","v":" "}]
[null,null,null,null,{"$f":"IFERROR(VLOOKUP(D1908,Códigos!B:C,2,0),\" \")","v":" "}]
[null,null,null,null,{"$f":"IFERROR(VLOOKUP(D1909,Códigos!B:C,2,0),\" \")","v":" "}]
[null,null,null,null,{"$f":"IFERROR(VLOOKUP(D1910,Códigos!B:C,2,0),\" \")","v":" "}]
[null,null,null,null,{"$f":"IFERROR(VLOOKUP(D1911,Códigos!B:C,2,0),\" \")","v":" "}]
[null,null,null,null,{"$f":"IFERROR(VLOOKUP(D1912,Códigos!B:C,2,0),\" \")","v":" "}]
[null,null,null,null,{"$f":"IFERROR(VLOOKUP(D1913,Códigos!B:C,2,0),\" \")","v":" "}]
[null,null,null,null,{"$f":"IFERROR(VLOOKUP(D1914,Códigos!B:C,2,0),\" \")","v":" "}]
[null,null,null,null,{"$f":"IFERROR(VLOOKUP(D1915,Códigos!B:C,2,0),\" \")","v":" "}]
[null,null,null,null,{"$f":"IFERROR(VLOOKUP(D1916,Códigos!B:C,2,0),\" \")","v":" "}]
[null,null,null,null,{"$f":"IFERROR(VLOOKUP(D1917,Códigos!B:C,2,0),\" \")","v":" "}]
[null,null,null,null,{"$f":"IFERROR(VLOOKUP(D1918,Códigos!B:C,2,0),\" \")","v":" "}]
[null,null,null,null,{"$f":"IFERROR(VLOOKUP(D1919,Códigos!B:C,2,0),\" \")","v":" "}]
[null,null,null,null,{"$f":"IFERROR(VLOOKUP(D1920,Códigos!B:C,2,0),\" \")","v":" "}]
[null,null,null,null,{"$f":"IFERROR(VLOOKUP(D1921,Códigos!B:C,2,0),\" \")","v":" "}]
[null,null,null,null,{"$f":"IFERROR(VLOOKUP(D1922,Códigos!B:C,2,0),\" \")","v":" "}]
[null,null,null,null,{"$f":"IFERROR(VLOOKUP(D1923,Códigos!B:C,2,0),\" \")","v":" "}]
[null,null,null,null,{"$f":"IFERROR(VLOOKUP(D1924,Códigos!B:C,2,0),\" \")","v":" "}]
[null,null,null,null,{"$f":"IFERROR(VLOOKUP(D1925,Códigos!B:C,2,0),\" \")","v":" "}]
[null,null,null,null,{"$f":"IFERROR(VLOOKUP(D1926,Códigos!B:C,2,0),\" \")","v":" "}]
[null,null,null,null,{"$f":"IFERROR(VLOOKUP(D1927,Códigos!B:C,2,0),\" \")","v":" "}]
[null,null,null,null,{"$f":"IFERROR(VLOOKUP(D1928,Códigos!B:C,2,0),\" \")","v":" "}]
[null,null,null,null,{"$f":"IFERROR(VLOOKUP(D1929,Códigos!B:C,2,0),\" \")","v":" "}]
[null,null,null,null,{"$f":"IFERROR(VLOOKUP(D1930,Códigos!B:C,2,0),\" \")","v":" "}]
[null,null,null,null,{"$f":"IFERROR(VLOOKUP(D1931,Códigos!B:C,2,0),\" \")","v":" "}]
[null,null,null,null,{"$f":"IFERROR(VLOOKUP(D1932,Códigos!B:C,2,0),\" \")","v":" "}]
[null,null,null,null,{"$f":"IFERROR(VLOOKUP(D1933,Códigos!B:C,2,0),\" \")","v":" "}]
[null,null,null,null,{"$f":"IFERROR(VLOOKUP(D1934,Códigos!B:C,2,0),\" \")","v":" "}]
[null,null,null,null,{"$f":"IFERROR(VLOOKUP(D1935,Códigos!B:C,2,0),\" \")","v":" "}]
[null,null,null,null,{"$f":"IFERROR(VLOOKUP(D1936,Códigos!B:C,2,0),\" \")","v":" "}]
[null,null,null,null,{"$f":"IFERROR(VLOOKUP(D1937,Códigos!B:C,2,0),\" \")","v":" "}]
[null,null,null,null,{"$f":"IFERROR(VLOOKUP(D1938,Códigos!B:C,2,0),\" \")","v":" "}]
[null,null,null,null,{"$f":"IFERROR(VLOOKUP(D1939,Códigos!B:C,2,0),\" \")","v":" "}]
[null,null,null,null,{"$f":"IFERROR(VLOOKUP(D1940,Códigos!B:C,2,0),\" \")","v":" "}]
[null,null,null,null,{"$f":"IFERROR(VLOOKUP(D1941,Códigos!B:C,2,0),\" \")","v":" "}]
[null,null,null,null,{"$f":"IFERROR(VLOOKUP(D1942,Códigos!B:C,2,0),\" \")","v":" "}]
[null,null,null,null,{"$f":"IFERROR(VLOOKUP(D1943,Códigos!B:C,2,0),\" \")","v":" "}]
[null,null,null,null,{"$f":"IFERROR(VLOOKUP(D1944,Códigos!B:C,2,0),\" \")","v":" "}]
[null,null,null,null,{"$f":"IFERROR(VLOOKUP(D1945,Códigos!B:C,2,0),\" \")","v":" "}]
[null,null,null,null,{"$f":"IFERROR(VLOOKUP(D1946,Códigos!B:C,2,0),\" \")","v":" "}]
[null,null,null,null,{"$f":"IFERROR(VLOOKUP(D1947,Códigos!B:C,2,0),\" \")","v":" "}]
[null,null,null,null,{"$f":"IFERROR(VLOOKUP(D1948,Códigos!B:C,2,0),\" \")","v":" "}]
[null,null,null,null,{"$f":"IFERROR(VLOOKUP(D1949,Códigos!B:C,2,0),\" \")","v":" "}]
[null,null,null,null,{"$f":"IFERROR(VLOOKUP(D1950,Códigos!B:C,2,0),\" \")","v":" "}]
[null,null,null,null,{"$f":"IFERROR(VLOOKUP(D1951,Códigos!B:C,2,0),\" \")","v":" "}]
[null,null,null,null,{"$f":"IFERROR(VLOOKUP(D1952,Códigos!B:C,2,0),\" \")","v":" "}]
[null,null,null,null,{"$f":"IFERROR(VLOOKUP(D1953,Códigos!B:C,2,0),\" \")","v":" "}]
[null,null,null,null,{"$f":"IFERROR(VLOOKUP(D1954,Códigos!B:C,2,0),\" \")","v":" "}]
[null,null,null,null,{"$f":"IFERROR(VLOOKUP(D1955,Códigos!B:C,2,0),\" \")","v":" "}]
[null,null,null,null,{"$f":"IFERROR(VLOOKUP(D1956,Códigos!B:C,2,0),\" \")","v":" "}]
[null,null,null,null,{"$f":"IFERROR(VLOOKUP(D1957,Códigos!B:C,2,0),\" \")","v":" "}]
[null,null,null,null,{"$f":"IFERROR(VLOOKUP(D1958,Códigos!B:C,2,0),\" \")","v":" "}]
[null,null,null,null,{"$f":"IFERROR(VLOOKUP(D1959,Códigos!B:C,2,0),\" \")","v":" "}]
[null,null,null,null,{"$f":"IFERROR(VLOOKUP(D1960,Códigos!B:C,2,0),\" \")","v":" "}]
[null,null,null,null,{"$f":"IFERROR(VLOOKUP(D1961,Códigos!B:C,2,0),\" \")","v":" "}]
[null,null,null,null,{"$f":"IFERROR(VLOOKUP(D1962,Códigos!B:C,2,0),\" \")","v":" "}]
[null,null,null,null,{"$f":"IFERROR(VLOOKUP(D1963,Códigos!B:C,2,0),\" \")","v":" "}]
[null,null,null,null,{"$f":"IFERROR(VLOOKUP(D1964,Códigos!B:C,2,0),\" \")","v":" "}]
[null,null,null,null,{"$f":"IFERROR(VLOOKUP(D1965,Códigos!B:C,2,0),\" \")","v":" "}]
[null,null,null,null,{"$f":"IFERROR(VLOOKUP(D1966,Códigos!B:C,2,0),\" \")","v":" "}]
[null,null,null,null,{"$f":"IFERROR(VLOOKUP(D1967,Códigos!B:C,2,0),\" \")","v":" "}]
[null,null,null,null,{"$f":"IFERROR(VLOOKUP(D1968,Códigos!B:C,2,0),\" \")","v":" "}]
[null,null,null,null,{"$f":"IFERROR(VLOOKUP(D1969,Códigos!B:C,2,0),\" \")","v":" "}]
[null,null,null,null,{"$f":"IFERROR(VLOOKUP(D1970,Códigos!B:C,2,0),\" \")","v":" "}]
[null,null,null,null,{"$f":"IFERROR(VLOOKUP(D1971,Códigos!B:C,2,0),\" \")","v":" "}]
[null,null,null,null,{"$f":"IFERROR(VLOOKUP(D1972,Códigos!B:C,2,0),\" \")","v":" "}]
[null,null,null,null,{"$f":"IFERROR(VLOOKUP(D1973,Códigos!B:C,2,0),\" \")","v":" "}]
[null,null,null,null,{"$f":"IFERROR(VLOOKUP(D1974,Códigos!B:C,2,0),\" \")","v":" "}]
[null,null,null,null,{"$f":"IFERROR(VLOOKUP(D1975,Códigos!B:C,2,0),\" \")","v":" "}]
[null,null,null,null,{"$f":"IFERROR(VLOOKUP(D1976,Códigos!B:C,2,0),\" \")","v":" "}]
[null,null,null,null,{"$f":"IFERROR(VLOOKUP(D1977,Códigos!B:C,2,0),\" \")","v":" "}]
[null,null,null,null,{"$f":"IFERROR(VLOOKUP(D1978,Códigos!B:C,2,0),\" \")","v":" "}]
[null,null,null,null,{"$f":"IFERROR(VLOOKUP(D1979,Códigos!B:C,2,0),\" \")","v":" "}]
[null,null,null,null,{"$f":"IFERROR(VLOOKUP(D1980,Códigos!B:C,2,0),\" \")","v":" "}]
[null,null,null,null,{"$f":"IFERROR(VLOOKUP(D1981,Códigos!B:C,2,0),\" \")","v":" "}]
[null,null,null,null,{"$f":"IFERROR(VLOOKUP(D1982,Códigos!B:C,2,0),\" \")","v":" "}]
[null,null,null,null,{"$f":"IFERROR(VLOOKUP(D1983,Códigos!B:C,2,0),\" \")","v":" "}]
[null,null,null,null,{"$f":"IFERROR(VLOOKUP(D1984,Códigos!B:C,2,0),\" \")","v":" "}]
[null,null,null,null,{"$f":"IFERROR(VLOOKUP(D1985,Códigos!B:C,2,0),\" \")","v":" "}]
[null,null,null,null,{"$f":"IFERROR(VLOOKUP(D1986,Códigos!B:C,2,0),\" \")","v":" "}]
[null,null,null,null,{"$f":"IFERROR(VLOOKUP(D1987,Códigos!B:C,2,0),\" \")","v":" "}]
[null,null,null,null,{"$f":"IFERROR(VLOOKUP(D1988,Códigos!B:C,2,0),\" \")","v":" "}]
[null,null,null,null,{"$f":"IFERROR(VLOOKUP(D1989,Códigos!B:C,2,0),\" \")","v":" "}]
[null,null,null,null,{"$f":"IFERROR(VLOOKUP(D1990,Códigos!B:C,2,0),\" \")","v":" "}]
[null,null,null,null,{"$f":"IFERROR(VLOOKUP(D1991,Códigos!B:C,2,0),\" \")","v":" "}]
[null,null,null,null,{"$f":"IFERROR(VLOOKUP(D1992,Códigos!B:C,2,0),\" \")","v":" "}]
[null,null,null,null,{"$f":"IFERROR(VLOOKUP(D1993,Códigos!B:C,2,0),\" \")","v":" "}]
[null,null,null,null,{"$f":"IFERROR(VLOOKUP(D1994,Códigos!B:C,2,0),\" \")","v":" "}]
[null,null,null,null,{"$f":"IFERROR(VLOOKUP(D1995,Códigos!B:C,2,0),\" \")","v":" "}]
[null,null,null,null,{"$f":"IFERROR(VLOOKUP(D1996,Códigos!B:C,2,0),\" \")","v":" "}]
[null,null,null,null,{"$f":"IFERROR(VLOOKUP(D1997,Códigos!B:C,2,0),\" \")","v":" "}]
[null,null,null,null,{"$f":"IFERROR(VLOOKUP(D1998,Códigos!B:C,2,0),\" \")","v":" "}]
[null,null,null,null,{"$f":"IFERROR(VLOOKUP(D1999,Códigos!B:C,2,0),\" \")","v":" "}]
[null,null,null,null,{"$f":"IFERROR(VLOOKUP(D2000,Códigos!B:C,2,0),\" \")","v":" "}]
[null,null,null,null,{"$f":"IFERROR(VLOOKUP(D2001,Códigos!B:C,2,0),\" \")","v":" "}]
[null,null,null,null,{"$f":"IFERROR(VLOOKUP(D2002,Códigos!B:C,2,0),\" \")","v":" "}]
[null,null,null,null,{"$f":"IFERROR(VLOOKUP(D2003,Códigos!B:C,2,0),\" \")","v":" "}]
[null,null,null,null,{"$f":"IFERROR(VLOOKUP(D2004,Códigos!B:C,2,0),\" \")","v":" "}]
[null,null,null,null,{"$f":"IFERROR(VLOOKUP(D2005,Códigos!B:C,2,0),\" \")","v":" "}]
[null,null,null,null,{"$f":"IFERROR(VLOOKUP(D2006,Códigos!B:C,2,0),\" \")","v":" "}]
[null,null,null,null,{"$f":"IFERROR(VLOOKUP(D2007,Códigos!B:C,2,0),\" \")","v":" "}]
[null,null,null,null,{"$f":"IFERROR(VLOOKUP(D2008,Códigos!B:C,2,0),\" \")","v":" "}]
[null,null,null,null,{"$f":"IFERROR(VLOOKUP(D2009,Códigos!B:C,2,0),\" \")","v":" "}]
[null,null,null,null,{"$f":"IFERROR(VLOOKUP(D2010,Códigos!B:C,2,0),\" \")","v":" "}]
[null,null,null,null,{"$f":"IFERROR(VLOOKUP(D2011,Códigos!B:C,2,0),\" \")","v":" "}]
[null,null,null,null,{"$f":"IFERROR(VLOOKUP(D2012,Códigos!B:C,2,0),\" \")","v":" "}]
[null,null,null,null,{"$f":"IFERROR(VLOOKUP(D2013,Códigos!B:C,2,0),\" \")","v":" "}]
[null,null,null,null,{"$f":"IFERROR(VLOOKUP(D2014,Códigos!B:C,2,0),\" \")","v":" "}]
[null,null,null,null,{"$f":"IFERROR(VLOOKUP(D2015,Códigos!B:C,2,0),\" \")","v":" "}]
[null,null,null,null,{"$f":"IFERROR(VLOOKUP(D2016,Códigos!B:C,2,0),\" \")","v":" "}]
[null,null,null,null,{"$f":"IFERROR(VLOOKUP(D2017,Códigos!B:C,2,0),\" \")","v":" "}]
[null,null,null,null,{"$f":"IFERROR(VLOOKUP(D2018,Códigos!B:C,2,0),\" \")","v":" "}]
[null,null,null,null,{"$f":"IFERROR(VLOOKUP(D2019,Códigos!B:C,2,0),\" \")","v":" "}]
[null,null,null,null,{"$f":"IFERROR(VLOOKUP(D2020,Códigos!B:C,2,0),\" \")","v":" "}]
[null,null,null,null,{"$f":"IFERROR(VLOOKUP(D2021,Códigos!B:C,2,0),\" \")","v":" "}]
[null,null,null,null,{"$f":"IFERROR(VLOOKUP(D2022,Códigos!B:C,2,0),\" \")","v":" "}]
[null,null,null,null,{"$f":"IFERROR(VLOOKUP(D2023,Códigos!B:C,2,0),\" \")","v":" "}]
[null,null,null,null,{"$f":"IFERROR(VLOOKUP(D2024,Códigos!B:C,2,0),\" \")","v":" "}]
[null,null,null,null,{"$f":"IFERROR(VLOOKUP(D2025,Códigos!B:C,2,0),\" \")","v":" "}]
[null,null,null,null,{"$f":"IFERROR(VLOOKUP(D2026,Códigos!B:C,2,0),\" \")","v":" "}]
[null,null,null,null,{"$f":"IFERROR(VLOOKUP(D2027,Códigos!B:C,2,0),\" \")","v":" "}]
[null,null,null,null,{"$f":"IFERROR(VLOOKUP(D2028,Códigos!B:C,2,0),\" \")","v":" "}]
[null,null,null,null,{"$f":"IFERROR(VLOOKUP(D2029,Códigos!B:C,2,0),\" \")","v":" "}]
[null,null,null,null,{"$f":"IFERROR(VLOOKUP(D2030,Códigos!B:C,2,0),\" \")","v":" "}]
[null,null,null,null,{"$f":"IFERROR(VLOOKUP(D2031,Códigos!B:C,2,0),\" \")","v":" "}]
[null,null,null,null,{"$f":"IFERROR(VLOOKUP(D2032,Códigos!B:C,2,0),\" \")","v":" "}]
[null,null,null,null,{"$f":"IFERROR(VLOOKUP(D2033,Códigos!B:C,2,0),\" \")","v":" "}]
[null,null,null,null,{"$f":"IFERROR(VLOOKUP(D2034,Códigos!B:C,2,0),\" \")","v":" "}]
[null,null,null,null,{"$f":"IFERROR(VLOOKUP(D2035,Códigos!B:C,2,0),\" \")","v":" "}]
[null,null,null,null,{"$f":"IFERROR(VLOOKUP(D2036,Códigos!B:C,2,0),\" \")","v":" "}]
[null,null,null,null,{"$f":"IFERROR(VLOOKUP(D2037,Códigos!B:C,2,0),\" \")","v":" "}]
[null,null,null,null,{"$f":"IFERROR(VLOOKUP(D2038,Códigos!B:C,2,0),\" \")","v":" "}]
[null,null,null,null,{"$f":"IFERROR(VLOOKUP(D2039,Códigos!B:C,2,0),\" \")","v":" "}]
[null,null,null,null,{"$f":"IFERROR(VLOOKUP(D2040,Códigos!B:C,2,0),\" \")","v":" "}]
[null,null,null,null,{"$f":"IFERROR(VLOOKUP(D2041,Códigos!B:C,2,0),\" \")","v":" "}]
[null,null,null,null,{"$f":"IFERROR(VLOOKUP(D2042,Códigos!B:C,2,0),\" \")","v":" "}]
[null,null,null,null,{"$f":"IFERROR(VLOOKUP(D2043,Códigos!B:C,2,0),\" \")","v":" "}]
[null,null,null,null,{"$f":"IFERROR(VLOOKUP(D2044,Códigos!B:C,2,0),\" \")","v":" "}]
[null,null,null,null,{"$f":"IFERROR(VLOOKUP(D2045,Códigos!B:C,2,0),\" \")","v":" "}]
[null,null,null,null,{"$f":"IFERROR(VLOOKUP(D2046,Códigos!B:C,2,0),\" \")","v":" "}]
[null,null,null,null,{"$f":"IFERROR(VLOOKUP(D2047,Códigos!B:C,2,0),\" \")","v":" "}]
[null,null,null,null,{"$f":"IFERROR(VLOOKUP(D2048,Códigos!B:C,2,0),\" \")","v":" "}]
[null,null,null,null,{"$f":"IFERROR(VLOOKUP(D2049,Códigos!B:C,2,0),\" \")","v":" "}]
[null,null,null,null,{"$f":"IFERROR(VLOOKUP(D2050,Códigos!B:C,2,0),\" \")","v":" "}]
[null,null,null,null,{"$f":"IFERROR(VLOOKUP(D2051,Códigos!B:C,2,0),\" \")","v":" "}]
[null,null,null,null,{"$f":"IFERROR(VLOOKUP(D2052,Códigos!B:C,2,0),\" \")","v":" "}]
[null,null,null,null,{"$f":"IFERROR(VLOOKUP(D2053,Códigos!B:C,2,0),\" \")","v":" "}]
[null,null,null,null,{"$f":"IFERROR(VLOOKUP(D2054,Códigos!B:C,2,0),\" \")","v":" "}]
[null,null,null,null,{"$f":"IFERROR(VLOOKUP(D2055,Códigos!B:C,2,0),\" \")","v":" "}]
[null,null,null,null,{"$f":"IFERROR(VLOOKUP(D2056,Códigos!B:C,2,0),\" \")","v":" "}]
[null,null,null,null,{"$f":"IFERROR(VLOOKUP(D2057,Códigos!B:C,2,0),\" \")","v":" "}]
[null,null,null,null,{"$f":"IFERROR(VLOOKUP(D2058,Códigos!B:C,2,0),\" \")","v":" "}]
[null,null,null,null,{"$f":"IFERROR(VLOOKUP(D2059,Códigos!B:C,2,0),\" \")","v":" "}]
[null,null,null,null,{"$f":"IFERROR(VLOOKUP(D2060,Códigos!B:C,2,0),\" \")","v":" "}]
[null,null,null,null,{"$f":"IFERROR(VLOOKUP(D2061,Códigos!B:C,2,0),\" \")","v":" "}]
[null,null,null,null,{"$f":"IFERROR(VLOOKUP(D2062,Códigos!B:C,2,0),\" \")","v":" "}]
[null,null,null,null,{"$f":"IFERROR(VLOOKUP(D2063,Códigos!B:C,2,0),\" \")","v":" "}]
[null,null,null,null,{"$f":"IFERROR(VLOOKUP(D2064,Códigos!B:C,2,0),\" \")","v":" "}]
[null,null,null,null,{"$f":"IFERROR(VLOOKUP(D2065,Códigos!B:C,2,0),\" \")","v":" "}]
[null,null,null,null,{"$f":"IFERROR(VLOOKUP(D2066,Códigos!B:C,2,0),\" \")","v":" "}]
[null,null,null,null,{"$f":"IFERROR(VLOOKUP(D2067,Códigos!B:C,2,0),\" \")","v":" "}]
[null,null,null,null,{"$f":"IFERROR(VLOOKUP(D2068,Códigos!B:C,2,0),\" \")","v":" "}]
[null,null,null,null,{"$f":"IFERROR(VLOOKUP(D2069,Códigos!B:C,2,0),\" \")","v":" "}]
[null,null,null,null,{"$f":"IFERROR(VLOOKUP(D2070,Códigos!B:C,2,0),\" \")","v":" "}]
[null,null,null,null,{"$f":"IFERROR(VLOOKUP(D2071,Códigos!B:C,2,0),\" \")","v":" "}]
[null,null,null,null,{"$f":"IFERROR(VLOOKUP(D2072,Códigos!B:C,2,0),\" \")","v":" "}]
[null,null,null,null,{"$f":"IFERROR(VLOOKUP(D2073,Códigos!B:C,2,0),\" \")","v":" "}]
[null,null,null,null,{"$f":"IFERROR(VLOOKUP(D2074,Códigos!B:C,2,0),\" \")","v":" "}]
[null,null,null,null,{"$f":"IFERROR(VLOOKUP(D2075,Códigos!B:C,2,0),\" \")","v":" "}]
[null,null,null,null,{"$f":"IFERROR(VLOOKUP(D2076,Códigos!B:C,2,0),\" \")","v":" "}]
[null,null,null,null,{"$f":"IFERROR(VLOOKUP(D2077,Códigos!B:C,2,0),\" \")","v":" "}]
[null,null,null,null,{"$f":"IFERROR(VLOOKUP(D2078,Códigos!B:C,2,0),\" \")","v":" "}]
[null,null,null,null,{"$f":"IFERROR(VLOOKUP(D2079,Códigos!B:C,2,0),\" \")","v":" "}]
[null,null,null,null,{"$f":"IFERROR(VLOOKUP(D2080,Códigos!B:C,2,0),\" \")","v":" "}]
[null,null,null,null,{"$f":"IFERROR(VLOOKUP(D2081,Códigos!B:C,2,0),\" \")","v":" "}]
[null,null,null,null,{"$f":"IFERROR(VLOOKUP(D2082,Códigos!B:C,2,0),\" \")","v":" "}]
[null,null,null,null,{"$f":"IFERROR(VLOOKUP(D2083,Códigos!B:C,2,0),\" \")","v":" "}]
[null,null,null,null,{"$f":"IFERROR(VLOOKUP(D2084,Códigos!B:C,2,0),\" \")","v":" "}]
[null,null,null,null,{"$f":"IFERROR(VLOOKUP(D2085,Códigos!B:C,2,0),\" \")","v":" "}]
[null,null,null,null,{"$f":"IFERROR(VLOOKUP(D2086,Códigos!B:C,2,0),\" \")","v":" "}]
[null,null,null,null,{"$f":"IFERROR(VLOOKUP(D2087,Códigos!B:C,2,0),\" \")","v":" "}]
[null,null,null,null,{"$f":"IFERROR(VLOOKUP(D2088,Códigos!B:C,2,0),\" \")","v":" "}]
[null,null,null,null,{"$f":"IFERROR(VLOOKUP(D2089,Códigos!B:C,2,0),\" \")","v":" "}]
[null,null,null,null,{"$f":"IFERROR(VLOOKUP(D2090,Códigos!B:C,2,0),\" \")","v":" "}]
[null,null,null,null,{"$f":"IFERROR(VLOOKUP(D2091,Códigos!B:C,2,0),\" \")","v":" "}]
[null,null,null,null,{"$f":"IFERROR(VLOOKUP(D2092,Códigos!B:C,2,0),\" \")","v":" "}]
[null,null,null,null,{"$f":"IFERROR(VLOOKUP(D2093,Códigos!B:C,2,0),\" \")","v":" "}]
[null,null,null,null,{"$f":"IFERROR(VLOOKUP(D2094,Códigos!B:C,2,0),\" \")","v":" "}]
[null,null,null,null,{"$f":"IFERROR(VLOOKUP(D2095,Códigos!B:C,2,0),\" \")","v":" "}]
[null,null,null,null,{"$f":"IFERROR(VLOOKUP(D2096,Códigos!B:C,2,0),\" \")","v":" "}]
[null,null,null,null,{"$f":"IFERROR(VLOOKUP(D2097,Códigos!B:C,2,0),\" \")","v":" "}]
[null,null,null,null,{"$f":"IFERROR(VLOOKUP(D2098,Códigos!B:C,2,0),\" \")","v":" "}]
[null,null,null,null,{"$f":"IFERROR(VLOOKUP(D2099,Códigos!B:C,2,0),\" \")","v":" "}]
[null,null,null,null,{"$f":"IFERROR(VLOOKUP(D2100,Códigos!B:C,2,0),\" \")","v":" "}]
[null,null,null,null,{"$f":"IFERROR(VLOOKUP(D2101,Códigos!B:C,2,0),\" \")","v":" "}]
[null,null,null,null,{"$f":"IFERROR(VLOOKUP(D2102,Códigos!B:C,2,0),\" \")","v":" "}]
[null,null,null,null,{"$f":"IFERROR(VLOOKUP(D2103,Códigos!B:C,2,0),\" \")","v":" "}]
[null,null,null,null,{"$f":"IFERROR(VLOOKUP(D2104,Códigos!B:C,2,0),\" \")","v":" "}]
[null,null,null,null,{"$f":"IFERROR(VLOOKUP(D2105,Códigos!B:C,2,0),\" \")","v":" "}]
[null,null,null,null,{"$f":"IFERROR(VLOOKUP(D2106,Códigos!B:C,2,0),\" \")","v":" "}]
[null,null,null,null,{"$f":"IFERROR(VLOOKUP(D2107,Códigos!B:C,2,0),\" \")","v":" "}]
[null,null,null,null,{"$f":"IFERROR(VLOOKUP(D2108,Códigos!B:C,2,0),\" \")","v":" "}]
[null,null,null,null,{"$f":"IFERROR(VLOOKUP(D2109,Códigos!B:C,2,0),\" \")","v":" "}]
[null,null,null,null,{"$f":"IFERROR(VLOOKUP(D2110,Códigos!B:C,2,0),\" \")","v":" "}]
[null,null,null,null,{"$f":"IFERROR(VLOOKUP(D2111,Códigos!B:C,2,0),\" \")","v":" "}]
[null,null,null,null,{"$f":"IFERROR(VLOOKUP(D2112,Códigos!B:C,2,0),\" \")","v":" "}]
[null,null,null,null,{"$f":"IFERROR(VLOOKUP(D2113,Códigos!B:C,2,0),\" \")","v":" "}]
[null,null,null,null,{"$f":"IFERROR(VLOOKUP(D2114,Códigos!B:C,2,0),\" \")","v":" "}]
[null,null,null,null,{"$f":"IFERROR(VLOOKUP(D2115,Códigos!B:C,2,0),\" \")","v":" "}]
[null,null,null,null,{"$f":"IFERROR(VLOOKUP(D2116,Códigos!B:C,2,0),\" \")","v":" "}]
[null,null,null,null,{"$f":"IFERROR(VLOOKUP(D2117,Códigos!B:C,2,0),\" \")","v":" "}]
[null,null,null,null,{"$f":"IFERROR(VLOOKUP(D2118,Códigos!B:C,2,0),\" \")","v":" "}]
[null,null,null,null,{"$f":"IFERROR(VLOOKUP(D2119,Códigos!B:C,2,0),\" \")","v":" "}]
[null,null,null,null,{"$f":"IFERROR(VLOOKUP(D2120,Códigos!B:C,2,0),\" \")","v":" "}]
[null,null,null,null,{"$f":"IFERROR(VLOOKUP(D2121,Códigos!B:C,2,0),\" \")","v":" "}]
[null,null,null,null,{"$f":"IFERROR(VLOOKUP(D2122,Códigos!B:C,2,0),\" \")","v":" "}]
[null,null,null,null,{"$f":"IFERROR(VLOOKUP(D2123,Códigos!B:C,2,0),\" \")","v":" "}]
[null,null,null,null,{"$f":"IFERROR(VLOOKUP(D2124,Códigos!B:C,2,0),\" \")","v":" "}]
[null,null,null,null,{"$f":"IFERROR(VLOOKUP(D2125,Códigos!B:C,2,0),\" \")","v":" "}]
[null,null,null,null,{"$f":"IFERROR(VLOOKUP(D2126,Códigos!B:C,2,0),\" \")","v":" "}]
[null,null,null,null,{"$f":"IFERROR(VLOOKUP(D2127,Códigos!B:C,2,0),\" \")","v":" "}]
[null,null,null,null,{"$f":"IFERROR(VLOOKUP(D2128,Códigos!B:C,2,0),\" \")","v":" "}]
[null,null,null,null,{"$f":"IFERROR(VLOOKUP(D2129,Códigos!B:C,2,0),\" \")","v":" "}]
[null,null,null,null,{"$f":"IFERROR(VLOOKUP(D2130,Códigos!B:C,2,0),\" \")","v":" "}]
[null,null,null,null,{"$f":"IFERROR(VLOOKUP(D2131,Códigos!B:C,2,0),\" \")","v":" "}]
[null,null,null,null,{"$f":"IFERROR(VLOOKUP(D2132,Códigos!B:C,2,0),\" \")","v":" "}]
[null,null,null,null,{"$f":"IFERROR(VLOOKUP(D2133,Códigos!B:C,2,0),\" \")","v":" "}]
[null,null,null,null,{"$f":"IFERROR(VLOOKUP(D2134,Códigos!B:C,2,0),\" \")","v":" "}]
[null,null,null,null,{"$f":"IFERROR(VLOOKUP(D2135,Códigos!B:C,2,0),\" \")","v":" "}]
[null,null,null,null,{"$f":"IFERROR(VLOOKUP(D2136,Códigos!B:C,2,0),\" \")","v":" "}]
[null,null,null,null,{"$f":"IFERROR(VLOOKUP(D2137,Códigos!B:C,2,0),\" \")","v":" "}]
[null,null,null,null,{"$f":"IFERROR(VLOOKUP(D2138,Códigos!B:C,2,0),\" \")","v":" "}]
[null,null,null,null,{"$f":"IFERROR(VLOOKUP(D2139,Códigos!B:C,2,0),\" \")","v":" "}]
[null,null,null,null,{"$f":"IFERROR(VLOOKUP(D2140,Códigos!B:C,2,0),\" \")","v":" "}]
[null,null,null,null,{"$f":"IFERROR(VLOOKUP(D2141,Códigos!B:C,2,0),\" \")","v":" "}]
[null,null,null,null,{"$f":"IFERROR(VLOOKUP(D2142,Códigos!B:C,2,0),\" \")","v":" "}]
[null,null,null,null,{"$f":"IFERROR(VLOOKUP(D2143,Códigos!B:C,2,0),\" \")","v":" "}]
[null,null,null,null,{"$f":"IFERROR(VLOOKUP(D2144,Códigos!B:C,2,0),\" \")","v":" "}]
[null,null,null,null,{"$f":"IFERROR(VLOOKUP(D2145,Códigos!B:C,2,0),\" \")","v":" "}]
[null,null,null,null,{"$f":"IFERROR(VLOOKUP(D2146,Códigos!B:C,2,0),\" \")","v":" "}]
[null,null,null,null,{"$f":"IFERROR(VLOOKUP(D2147,Códigos!B:C,2,0),\" \")","v":" "}]
[null,null,null,null,{"$f":"IFERROR(VLOOKUP(D2148,Códigos!B:C,2,0),\" \")","v":" "}]
[null,null,null,null,{"$f":"IFERROR(VLOOKUP(D2149,Códigos!B:C,2,0),\" \")","v":" "}]
[null,null,null,null,{"$f":"IFERROR(VLOOKUP(D2150,Códigos!B:C,2,0),\" \")","v":" "}]
[null,null,null,null,{"$f":"IFERROR(VLOOKUP(D2151,Códigos!B:C,2,0),\" \")","v":" "}]
[null,null,null,null,{"$f":"IFERROR(VLOOKUP(D2152,Códigos!B:C,2,0),\" \")","v":" "}]
[null,null,null,null,{"$f":"IFERROR(VLOOKUP(D2153,Códigos!B:C,2,0),\" \")","v":" "}]
[null,null,null,null,{"$f":"IFERROR(VLOOKUP(D2154,Códigos!B:C,2,0),\" \")","v":" "}]
[null,null,null,null,{"$f":"IFERROR(VLOOKUP(D2155,Códigos!B:C,2,0),\" \")","v":" "}]
[null,null,null,null,{"$f":"IFERROR(VLOOKUP(D2156,Códigos!B:C,2,0),\" \")","v":" "}]
[null,null,null,null,{"$f":"IFERROR(VLOOKUP(D2157,Códigos!B:C,2,0),\" \")","v":" "}]
[null,null,null,null,{"$f":"IFERROR(VLOOKUP(D2158,Códigos!B:C,2,0),\" \")","v":" "}]
[null,null,null,null,{"$f":"IFERROR(VLOOKUP(D2159,Códigos!B:C,2,0),\" \")","v":" "}]
[null,null,null,null,{"$f":"IFERROR(VLOOKUP(D2160,Códigos!B:C,2,0),\" \")","v":" "}]
[null,null,null,null,{"$f":"IFERROR(VLOOKUP(D2161,Códigos!B:C,2,0),\" \")","v":" "}]
[null,null,null,null,{"$f":"IFERROR(VLOOKUP(D2162,Códigos!B:C,2,0),\" \")","v":" "}]
[null,null,null,null,{"$f":"IFERROR(VLOOKUP(D2163,Códigos!B:C,2,0),\" \")","v":" "}]
[null,null,null,null,{"$f":"IFERROR(VLOOKUP(D2164,Códigos!B:C,2,0),\" \")","v":" "}]
[null,null,null,null,{"$f":"IFERROR(VLOOKUP(D2165,Códigos!B:C,2,0),\" \")","v":" "}]
[null,null,null,null,{"$f":"IFERROR(VLOOKUP(D2166,Códigos!B:C,2,0),\" \")","v":" "}]
[null,null,null,null,{"$f":"IFERROR(VLOOKUP(D2167,Códigos!B:C,2,0),\" \")","v":" "}]
[null,null,null,null,{"$f":"IFERROR(VLOOKUP(D2168,Códigos!B:C,2,0),\" \")","v":" "}]
[null,null,null,null,{"$f":"IFERROR(VLOOKUP(D2169,Códigos!B:C,2,0),\" \")","v":" "}]
[null,null,null,null,{"$f":"IFERROR(VLOOKUP(D2170,Códigos!B:C,2,0),\" \")","v":" "}]
[null,null,null,null,{"$f":"IFERROR(VLOOKUP(D2171,Códigos!B:C,2,0),\" \")","v":" "}]
[null,null,null,null,{"$f":"IFERROR(VLOOKUP(D2172,Códigos!B:C,2,0),\" \")","v":" "}]
[null,null,null,null,{"$f":"IFERROR(VLOOKUP(D2173,Códigos!B:C,2,0),\" \")","v":" "}]
[null,null,null,null,{"$f":"IFERROR(VLOOKUP(D2174,Códigos!B:C,2,0),\" \")","v":" "}]
[null,null,null,null,{"$f":"IFERROR(VLOOKUP(D2175,Códigos!B:C,2,0),\" \")","v":" "}]
[null,null,null,null,{"$f":"IFERROR(VLOOKUP(D2176,Códigos!B:C,2,0),\" \")","v":" "}]
[null,null,null,null,{"$f":"IFERROR(VLOOKUP(D2177,Códigos!B:C,2,0),\" \")","v":" "}]
[null,null,null,null,{"$f":"IFERROR(VLOOKUP(D2178,Códigos!B:C,2,0),\" \")","v":" "}]
[null,null,null,null,{"$f":"IFERROR(VLOOKUP(D2179,Códigos!B:C,2,0),\" \")","v":" "}]
[null,null,null,null,{"$f":"IFERROR(VLOOKUP(D2180,Códigos!B:C,2,0),\" \")","v":" "}]
[null,null,null,null,{"$f":"IFERROR(VLOOKUP(D2181,Códigos!B:C,2,0),\" \")","v":" "}]
[null,null,null,null,{"$f":"IFERROR(VLOOKUP(D2182,Códigos!B:C,2,0),\" \")","v":" "}]
[null,null,null,null,{"$f":"IFERROR(VLOOKUP(D2183,Códigos!B:C,2,0),\" \")","v":" "}]
[null,null,null,null,{"$f":"IFERROR(VLOOKUP(D2184,Códigos!B:C,2,0),\" \")","v":" "}]
[null,null,null,null,{"$f":"IFERROR(VLOOKUP(D2185,Códigos!B:C,2,0),\" \")","v":" "}]
[null,null,null,null,{"$f":"IFERROR(VLOOKUP(D2186,Códigos!B:C,2,0),\" \")","v":" "}]
[null,null,null,null,{"$f":"IFERROR(VLOOKUP(D2187,Códigos!B:C,2,0),\" \")","v":" "}]
[null,null,null,null,{"$f":"IFERROR(VLOOKUP(D2188,Códigos!B:C,2,0),\" \")","v":" "}]
[null,null,null,null,{"$f":"IFERROR(VLOOKUP(D2189,Códigos!B:C,2,0),\" \")","v":" "}]
[null,null,null,null,{"$f":"IFERROR(VLOOKUP(D2190,Códigos!B:C,2,0),\" \")","v":" "}]
[null,null,null,null,{"$f":"IFERROR(VLOOKUP(D2191,Códigos!B:C,2,0),\" \")","v":" "}]
[null,null,null,null,{"$f":"IFERROR(VLOOKUP(D2192,Códigos!B:C,2,0),\" \")","v":" "}]
[null,null,null,null,{"$f":"IFERROR(VLOOKUP(D2193,Códigos!B:C,2,0),\" \")","v":" "}]
[null,null,null,null,{"$f":"IFERROR(VLOOKUP(D2194,Códigos!B:C,2,0),\" \")","v":" "}]
[null,null,null,null,{"$f":"IFERROR(VLOOKUP(D2195,Códigos!B:C,2,0),\" \")","v":" "}]
[null,null,null,null,{"$f":"IFERROR(VLOOKUP(D2196,Códigos!B:C,2,0),\" \")","v":" "}]
[null,null,null,null,{"$f":"IFERROR(VLOOKUP(D2197,Códigos!B:C,2,0),\" \")","v":" "}]
[null,null,null,null,{"$f":"IFERROR(VLOOKUP(D2198,Códigos!B:C,2,0),\" \")","v":" "}]
[null,null,null,null,{"$f":"IFERROR(VLOOKUP(D2199,Códigos!B:C,2,0),\" \")","v":" "}]
[null,null,null,null,{"$f":"IFERROR(VLOOKUP(D2200,Códigos!B:C,2,0),\" \")","v":" "}]
[null,null,null,null,{"$f":"IFERROR(VLOOKUP(D2201,Códigos!B:C,2,0),\" \")","v":" "}]
[null,null,null,null,{"$f":"IFERROR(VLOOKUP(D2202,Códigos!B:C,2,0),\" \")","v":" "}]
[null,null,null,null,{"$f":"IFERROR(VLOOKUP(D2203,Códigos!B:C,2,0),\" \")","v":" "}]
[null,null,null,null,{"$f":"IFERROR(VLOOKUP(D2204,Códigos!B:C,2,0),\" \")","v":" "}]
[null,null,null,null,{"$f":"IFERROR(VLOOKUP(D2205,Códigos!B:C,2,0),\" \")","v":" "}]
[null,null,null,null,{"$f":"IFERROR(VLOOKUP(D2206,Códigos!B:C,2,0),\" \")","v":" "}]
[null,null,null,null,{"$f":"IFERROR(VLOOKUP(D2207,Códigos!B:C,2,0),\" \")","v":" "}]
[null,null,null,null,{"$f":"IFERROR(VLOOKUP(D2208,Códigos!B:C,2,0),\" \")","v":" "}]
[null,null,null,null,{"$f":"IFERROR(VLOOKUP(D2209,Códigos!B:C,2,0),\" \")","v":" "}]
[null,null,null,null,{"$f":"IFERROR(VLOOKUP(D2210,Códigos!B:C,2,0),\" \")","v":" "}]
[null,null,null,null,{"$f":"IFERROR(VLOOKUP(D2211,Códigos!B:C,2,0),\" \")","v":" "}]
[null,null,null,null,{"$f":"IFERROR(VLOOKUP(D2212,Códigos!B:C,2,0),\" \")","v":" "}]
[null,null,null,null,{"$f":"IFERROR(VLOOKUP(D2213,Códigos!B:C,2,0),\" \")","v":" "}]
[null,null,null,null,{"$f":"IFERROR(VLOOKUP(D2214,Códigos!B:C,2,0),\" \")","v":" "}]
[null,null,null,null,{"$f":"IFERROR(VLOOKUP(D2215,Códigos!B:C,2,0),\" \")","v":" "}]
[null,null,null,null,{"$f":"IFERROR(VLOOKUP(D2216,Códigos!B:C,2,0),\" \")","v":" "}]
[null,null,null,null,{"$f":"IFERROR(VLOOKUP(D2217,Códigos!B:C,2,0),\" \")","v":" "}]
[null,null,null,null,{"$f":"IFERROR(VLOOKUP(D2218,Códigos!B:C,2,0),\" \")","v":" "}]
[null,null,null,null,{"$f":"IFERROR(VLOOKUP(D2219,Códigos!B:C,2,0),\" \")","v":" "}]
[null,null,null,null,{"$f":"IFERROR(VLOOKUP(D2220,Códigos!B:C,2,0),\" \")","v":" "}]
[null,null,null,null,{"$f":"IFERROR(VLOOKUP(D2221,Códigos!B:C,2,0),\" \")","v":" "}]
[null,null,null,null,{"$f":"IFERROR(VLOOKUP(D2222,Códigos!B:C,2,0),\" \")","v":" "}]
[null,null,null,null,{"$f":"IFERROR(VLOOKUP(D2223,Códigos!B:C,2,0),\" \")","v":" "}]
[null,null,null,null,{"$f":"IFERROR(VLOOKUP(D2224,Códigos!B:C,2,0),\" \")","v":" "}]
[null,null,null,null,{"$f":"IFERROR(VLOOKUP(D2225,Códigos!B:C,2,0),\" \")","v":" "}]
[null,null,null,null,{"$f":"IFERROR(VLOOKUP(D2226,Códigos!B:C,2,0),\" \")","v":" "}]
[null,null,null,null,{"$f":"IFERROR(VLOOKUP(D2227,Códigos!B:C,2,0),\" \")","v":" "}]
[null,null,null,null,{"$f":"IFERROR(VLOOKUP(D2228,Códigos!B:C,2,0),\" \")","v":" "}]
[null,null,null,null,{"$f":"IFERROR(VLOOKUP(D2229,Códigos!B:C,2,0),\" \")","v":" "}]
[null,null,null,null,{"$f":"IFERROR(VLOOKUP(D2230,Códigos!B:C,2,0),\" \")","v":" "}]
[null,null,null,null,{"$f":"IFERROR(VLOOKUP(D2231,Códigos!B:C,2,0),\" \")","v":" "}]
[null,null,null,null,{"$f":"IFERROR(VLOOKUP(D2232,Códigos!B:C,2,0),\" \")","v":" "}]
[null,null,null,null,{"$f":"IFERROR(VLOOKUP(D2233,Códigos!B:C,2,0),\" \")","v":" "}]
[null,null,null,null,{"$f":"IFERROR(VLOOKUP(D2234,Códigos!B:C,2,0),\" \")","v":" "}]
[null,null,null,null,{"$f":"IFERROR(VLOOKUP(D2235,Códigos!B:C,2,0),\" \")","v":" "}]
[null,null,null,null,{"$f":"IFERROR(VLOOKUP(D2236,Códigos!B:C,2,0),\" \")","v":" "}]
[null,null,null,null,{"$f":"IFERROR(VLOOKUP(D2237,Códigos!B:C,2,0),\" \")","v":" "}]
[null,null,null,null,{"$f":"IFERROR(VLOOKUP(D2238,Códigos!B:C,2,0),\" \")","v":" "}]
[null,null,null,null,{"$f":"IFERROR(VLOOKUP(D2239,Códigos!B:C,2,0),\" \")","v":" "}]
[null,null,null,null,{"$f":"IFERROR(VLOOKUP(D2240,Códigos!B:C,2,0),\" \")","v":" "}]
[null,null,null,null,{"$f":"IFERROR(VLOOKUP(D2241,Códigos!B:C,2,0),\" \")","v":" "}]
[null,null,null,null,{"$f":"IFERROR(VLOOKUP(D2242,Códigos!B:C,2,0),\" \")","v":" "}]
[null,null,null,null,{"$f":"IFERROR(VLOOKUP(D2243,Códigos!B:C,2,0),\" \")","v":" "}]
[null,null,null,null,{"$f":"IFERROR(VLOOKUP(D2244,Códigos!B:C,2,0),\" \")","v":" "}]
[null,null,null,null,{"$f":"IFERROR(VLOOKUP(D2245,Códigos!B:C,2,0),\" \")","v":" "}]
[null,null,null,null,{"$f":"IFERROR(VLOOKUP(D2246,Códigos!B:C,2,0),\" \")","v":" "}]
[null,null,null,null,{"$f":"IFERROR(VLOOKUP(D2247,Códigos!B:C,2,0),\" \")","v":" "}]
[null,null,null,null,{"$f":"IFERROR(VLOOKUP(D2248,Códigos!B:C,2,0),\" \")","v":" "}]
[null,null,null,null,{"$f":"IFERROR(VLOOKUP(D2249,Códigos!B:C,2,0),\" \")","v":" "}]
[null,null,null,null,{"$f":"IFERROR(VLOOKUP(D2250,Códigos!B:C,2,0),\" \")","v":" "}]
[null,null,null,null,{"$f":"IFERROR(VLOOKUP(D2251,Códigos!B:C,2,0),\" \")","v":" "}]
[null,null,null,null,{"$f":"IFERROR(VLOOKUP(D2252,Códigos!B:C,2,0),\" \")","v":" "}]
[null,null,null,null,{"$f":"IFERROR(VLOOKUP(D2253,Códigos!B:C,2,0),\" \")","v":" "}]
[null,null,null,null,{"$f":"IFERROR(VLOOKUP(D2254,Códigos!B:C,2,0),\" \")","v":" "}]
[null,null,null,null,{"$f":"IFERROR(VLOOKUP(D2255,Códigos!B:C,2,0),\" \")","v":" "}]
[null,null,null,null,{"$f":"IFERROR(VLOOKUP(D2256,Códigos!B:C,2,0),\" \")","v":" "}]
[null,null,null,null,{"$f":"IFERROR(VLOOKUP(D2257,Códigos!B:C,2,0),\" \")","v":" "}]
[null,null,null,null,{"$f":"IFERROR(VLOOKUP(D2258,Códigos!B:C,2,0),\" \")","v":" "}]
[null,null,null,null,{"$f":"IFERROR(VLOOKUP(D2259,Códigos!B:C,2,0),\" \")","v":" "}]
[null,null,null,null,{"$f":"IFERROR(VLOOKUP(D2260,Códigos!B:C,2,0),\" \")","v":" "}]
[null,null,null,null,{"$f":"IFERROR(VLOOKUP(D2261,Códigos!B:C,2,0),\" \")","v":" "}]
[null,null,null,null,{"$f":"IFERROR(VLOOKUP(D2262,Códigos!B:C,2,0),\" \")","v":" "}]
[null,null,null,null,{"$f":"IFERROR(VLOOKUP(D2263,Códigos!B:C,2,0),\" \")","v":" "}]
[null,null,null,null,{"$f":"IFERROR(VLOOKUP(D2264,Códigos!B:C,2,0),\" \")","v":" "}]
[null,null,null,null,{"$f":"IFERROR(VLOOKUP(D2265,Códigos!B:C,2,0),\" \")","v":" "}]
[null,null,null,null,{"$f":"IFERROR(VLOOKUP(D2266,Códigos!B:C,2,0),\" \")","v":" "}]
[null,null,null,null,{"$f":"IFERROR(VLOOKUP(D2267,Códigos!B:C,2,0),\" \")","v":" "}]
[null,null,null,null,{"$f":"IFERROR(VLOOKUP(D2268,Códigos!B:C,2,0),\" \")","v":" "}]
[null,null,null,null,{"$f":"IFERROR(VLOOKUP(D2269,Códigos!B:C,2,0),\" \")","v":" "}]
[null,null,null,null,{"$f":"IFERROR(VLOOKUP(D2270,Códigos!B:C,2,0),\" \")","v":" "}]
[null,null,null,null,{"$f":"IFERROR(VLOOKUP(D2271,Códigos!B:C,2,0),\" \")","v":" "}]
[null,null,null,null,{"$f":"IFERROR(VLOOKUP(D2272,Códigos!B:C,2,0),\" \")","v":" "}]
[null,null,null,null,{"$f":"IFERROR(VLOOKUP(D2273,Códigos!B:C,2,0),\" \")","v":" "}]
[null,null,null,null,{"$f":"IFERROR(VLOOKUP(D2274,Códigos!B:C,2,0),\" \")","v":" "}]
[null,null,null,null,{"$f":"IFERROR(VLOOKUP(D2275,Códigos!B:C,2,0),\" \")","v":" "}]
[null,null,null,null,{"$f":"IFERROR(VLOOKUP(D2276,Códigos!B:C,2,0),\" \")","v":" "}]
[null,null,null,null,{"$f":"IFERROR(VLOOKUP(D2277,Códigos!B:C,2,0),\" \")","v":" "}]
[null,null,null,null,{"$f":"IFERROR(VLOOKUP(D2278,Códigos!B:C,2,0),\" \")","v":" "}]
[null,null,null,null,{"$f":"IFERROR(VLOOKUP(D2279,Códigos!B:C,2,0),\" \")","v":" "}]
[null,null,null,null,{"$f":"IFERROR(VLOOKUP(D2280,Códigos!B:C,2,0),\" \")","v":" "}]
[null,null,null,null,{"$f":"IFERROR(VLOOKUP(D2281,Códigos!B:C,2,0),\" \")","v":" "}]
[null,null,null,null,{"$f":"IFERROR(VLOOKUP(D2282,Códigos!B:C,2,0),\" \")","v":" "}]
[null,null,null,null,{"$f":"IFERROR(VLOOKUP(D2283,Códigos!B:C,2,0),\" \")","v":" "}]
[null,null,null,null,{"$f":"IFERROR(VLOOKUP(D2284,Códigos!B:C,2,0),\" \")","v":" "}]
[null,null,null,null,{"$f":"IFERROR(VLOOKUP(D2285,Códigos!B:C,2,0),\" \")","v":" "}]
[null,null,null,null,{"$f":"IFERROR(VLOOKUP(D2286,Códigos!B:C,2,0),\" \")","v":" "}]
[null,null,null,null,{"$f":"IFERROR(VLOOKUP(D2287,Códigos!B:C,2,0),\" \")","v":" "}]
[null,null,null,null,{"$f":"IFERROR(VLOOKUP(D2288,Códigos!B:C,2,0),\" \")","v":" "}]
[null,null,null,null,{"$f":"IFERROR(VLOOKUP(D2289,Códigos!B:C,2,0),\" \")","v":" "}]
[null,null,null,null,{"$f":"IFERROR(VLOOKUP(D2290,Códigos!B:C,2,0),\" \")","v":" "}]
[null,null,null,null,{"$f":"IFERROR(VLOOKUP(D2291,Códigos!B:C,2,0),\" \")","v":" "}]
[null,null,null,null,{"$f":"IFERROR(VLOOKUP(D2292,Códigos!B:C,2,0),\" \")","v":" "}]
[null,null,null,null,{"$f":"IFERROR(VLOOKUP(D2293,Códigos!B:C,2,0),\" \")","v":" "}]
[null,null,null,null,{"$f":"IFERROR(VLOOKUP(D2294,Códigos!B:C,2,0),\" \")","v":" "}]
[null,null,null,null,{"$f":"IFERROR(VLOOKUP(D2295,Códigos!B:C,2,0),\" \")","v":" "}]
[null,null,null,null,{"$f":"IFERROR(VLOOKUP(D2296,Códigos!B:C,2,0),\" \")","v":" "}]
[null,null,null,null,{"$f":"IFERROR(VLOOKUP(D2297,Códigos!B:C,2,0),\" \")","v":" "}]
[null,null,null,null,{"$f":"IFERROR(VLOOKUP(D2298,Códigos!B:C,2,0),\" \")","v":" "}]
[null,null,null,null,{"$f":"IFERROR(VLOOKUP(D2299,Códigos!B:C,2,0),\" \")","v":" "}]
[null,null,null,null,{"$f":"IFERROR(VLOOKUP(D2300,Códigos!B:C,2,0),\" \")","v":" "}]
[null,null,null,null,{"$f":"IFERROR(VLOOKUP(D2301,Códigos!B:C,2,0),\" \")","v":" "}]
[null,null,null,null,{"$f":"IFERROR(VLOOKUP(D2302,Códigos!B:C,2,0),\" \")","v":" "}]
[null,null,null,null,{"$f":"IFERROR(VLOOKUP(D2303,Códigos!B:C,2,0),\" \")","v":" "}]
[null,null,null,null,{"$f":"IFERROR(VLOOKUP(D2304,Códigos!B:C,2,0),\" \")","v":" "}]
[null,null,null,null,{"$f":"IFERROR(VLOOKUP(D2305,Códigos!B:C,2,0),\" \")","v":" "}]
[null,null,null,null,{"$f":"IFERROR(VLOOKUP(D2306,Códigos!B:C,2,0),\" \")","v":" "}]
[null,null,null,null,{"$f":"IFERROR(VLOOKUP(D2307,Códigos!B:C,2,0),\" \")","v":" "}]
[null,null,null,null,{"$f":"IFERROR(VLOOKUP(D2308,Códigos!B:C,2,0),\" \")","v":" "}]
[null,null,null,null,{"$f":"IFERROR(VLOOKUP(D2309,Códigos!B:C,2,0),\" \")","v":" "}]
[null,null,null,null,{"$f":"IFERROR(VLOOKUP(D2310,Códigos!B:C,2,0),\" \")","v":" "}]
[null,null,null,null,{"$f":"IFERROR(VLOOKUP(D2311,Códigos!B:C,2,0),\" \")","v":" "}]
[null,null,null,null,{"$f":"IFERROR(VLOOKUP(D2312,Códigos!B:C,2,0),\" \")","v":" "}]
[null,null,null,null,{"$f":"IFERROR(VLOOKUP(D2313,Códigos!B:C,2,0),\" \")","v":" "}]
[null,null,null,null,{"$f":"IFERROR(VLOOKUP(D2314,Códigos!B:C,2,0),\" \")","v":" "}]
[null,null,null,null,{"$f":"IFERROR(VLOOKUP(D2315,Códigos!B:C,2,0),\" \")","v":" "}]
[null,null,null,null,{"$f":"IFERROR(VLOOKUP(D2316,Códigos!B:C,2,0),\" \")","v":" "}]
[null,null,null,null,{"$f":"IFERROR(VLOOKUP(D2317,Códigos!B:C,2,0),\" \")","v":" "}]
[null,null,null,null,{"$f":"IFERROR(VLOOKUP(D2318,Códigos!B:C,2,0),\" \")","v":" "}]
[null,null,null,null,{"$f":"IFERROR(VLOOKUP(D2319,Códigos!B:C,2,0),\" \")","v":" "}]
[null,null,null,null,{"$f":"IFERROR(VLOOKUP(D2320,Códigos!B:C,2,0),\" \")","v":" "}]
[null,null,null,null,{"$f":"IFERROR(VLOOKUP(D2321,Códigos!B:C,2,0),\" \")","v":" "}]
[null,null,null,null,{"$f":"IFERROR(VLOOKUP(D2322,Códigos!B:C,2,0),\" \")","v":" "}]
[null,null,null,null,{"$f":"IFERROR(VLOOKUP(D2323,Códigos!B:C,2,0),\" \")","v":" "}]
[null,null,null,null,{"$f":"IFERROR(VLOOKUP(D2324,Códigos!B:C,2,0),\" \")","v":" "}]
[null,null,null,null,{"$f":"IFERROR(VLOOKUP(D2325,Códigos!B:C,2,0),\" \")","v":" "}]
[null,null,null,null,{"$f":"IFERROR(VLOOKUP(D2326,Códigos!B:C,2,0),\" \")","v":" "}]
[null,null,null,null,{"$f":"IFERROR(VLOOKUP(D2327,Códigos!B:C,2,0),\" \")","v":" "}]
[null,null,null,null,{"$f":"IFERROR(VLOOKUP(D2328,Códigos!B:C,2,0),\" \")","v":" "}]
[null,null,null,null,{"$f":"IFERROR(VLOOKUP(D2329,Códigos!B:C,2,0),\" \")","v":" "}]
[null,null,null,null,{"$f":"IFERROR(VLOOKUP(D2330,Códigos!B:C,2,0),\" \")","v":" "}]
[null,null,null,null,{"$f":"IFERROR(VLOOKUP(D2331,Códigos!B:C,2,0),\" \")","v":" "}]
[null,null,null,null,{"$f":"IFERROR(VLOOKUP(D2332,Códigos!B:C,2,0),\" \")","v":" "}]
[null,null,null,null,{"$f":"IFERROR(VLOOKUP(D2333,Códigos!B:C,2,0),\" \")","v":" "}]
[null,null,null,null,{"$f":"IFERROR(VLOOKUP(D2334,Códigos!B:C,2,0),\" \")","v":" "}]
[null,null,null,null,{"$f":"IFERROR(VLOOKUP(D2335,Códigos!B:C,2,0),\" \")","v":" "}]
[null,null,null,null,{"$f":"IFERROR(VLOOKUP(D2336,Códigos!B:C,2,0),\" \")","v":" "}]
[null,null,null,null,{"$f":"IFERROR(VLOOKUP(D2337,Códigos!B:C,2,0),\" \")","v":" "}]
[null,null,null,null,{"$f":"IFERROR(VLOOKUP(D2338,Códigos!B:C,2,0),\" \")","v":" "}]
[null,null,null,null,{"$f":"IFERROR(VLOOKUP(D2339,Códigos!B:C,2,0),\" \")","v":" "}]
[null,null,null,null,{"$f":"IFERROR(VLOOKUP(D2340,Códigos!B:C,2,0),\" \")","v":" "}]
[null,null,null,null,{"$f":"IFERROR(VLOOKUP(D2341,Códigos!B:C,2,0),\" \")","v":" "}]
[null,null,null,null,{"$f":"IFERROR(VLOOKUP(D2342,Códigos!B:C,2,0),\" \")","v":" "}]
[null,null,null,null,{"$f":"IFERROR(VLOOKUP(D2343,Códigos!B:C,2,0),\" \")","v":" "}]
[null,null,null,null,{"$f":"IFERROR(VLOOKUP(D2344,Códigos!B:C,2,0),\" \")","v":" "}]
[null,null,null,null,{"$f":"IFERROR(VLOOKUP(D2345,Códigos!B:C,2,0),\" \")","v":" "}]
[null,null,null,null,{"$f":"IFERROR(VLOOKUP(D2346,Códigos!B:C,2,0),\" \")","v":" "}]
[null,null,null,null,{"$f":"IFERROR(VLOOKUP(D2347,Códigos!B:C,2,0),\" \")","v":" "}]
[null,null,null,null,{"$f":"IFERROR(VLOOKUP(D2348,Códigos!B:C,2,0),\" \")","v":" "}]
[null,null,null,null,{"$f":"IFERROR(VLOOKUP(D2349,Códigos!B:C,2,0),\" \")","v":" "}]
[null,null,null,null,{"$f":"IFERROR(VLOOKUP(D2350,Códigos!B:C,2,0),\" \")","v":" "}]
[null,null,null,null,{"$f":"IFERROR(VLOOKUP(D2351,Códigos!B:C,2,0),\" \")","v":" "}]
[null,null,null,null,{"$f":"IFERROR(VLOOKUP(D2352,Códigos!B:C,2,0),\" \")","v":" "}]
[null,null,null,null,{"$f":"IFERROR(VLOOKUP(D2353,Códigos!B:C,2,0),\" \")","v":" "}]
[null,null,null,null,{"$f":"IFERROR(VLOOKUP(D2354,Códigos!B:C,2,0),\" \")","v":" "}]
[null,null,null,null,{"$f":"IFERROR(VLOOKUP(D2355,Códigos!B:C,2,0),\" \")","v":" "}]
[null,null,null,null,{"$f":"IFERROR(VLOOKUP(D2356,Códigos!B:C,2,0),\" \")","v":" "}]
[null,null,null,null,{"$f":"IFERROR(VLOOKUP(D2357,Códigos!B:C,2,0),\" \")","v":" "}]
[null,null,null,null,{"$f":"IFERROR(VLOOKUP(D2358,Códigos!B:C,2,0),\" \")","v":" "}]
[null,null,null,null,{"$f":"IFERROR(VLOOKUP(D2359,Códigos!B:C,2,0),\" \")","v":" "}]
[null,null,null,null,{"$f":"IFERROR(VLOOKUP(D2360,Códigos!B:C,2,0),\" \")","v":" "}]
[null,null,null,null,{"$f":"IFERROR(VLOOKUP(D2361,Códigos!B:C,2,0),\" \")","v":" "}]
[null,null,null,null,{"$f":"IFERROR(VLOOKUP(D2362,Códigos!B:C,2,0),\" \")","v":" "}]
[null,null,null,null,{"$f":"IFERROR(VLOOKUP(D2363,Códigos!B:C,2,0),\" \")","v":" "}]
[null,null,null,null,{"$f":"IFERROR(VLOOKUP(D2364,Códigos!B:C,2,0),\" \")","v":" "}]
[null,null,null,null,{"$f":"IFERROR(VLOOKUP(D2365,Códigos!B:C,2,0),\" \")","v":" "}]
[null,null,null,null,{"$f":"IFERROR(VLOOKUP(D2366,Códigos!B:C,2,0),\" \")","v":" "}]
[null,null,null,null,{"$f":"IFERROR(VLOOKUP(D2367,Códigos!B:C,2,0),\" \")","v":" "}]
[null,null,null,null,{"$f":"IFERROR(VLOOKUP(D2368,Códigos!B:C,2,0),\" \")","v":" "}]
[null,null,null,null,{"$f":"IFERROR(VLOOKUP(D2369,Códigos!B:C,2,0),\" \")","v":" "}]
[null,null,null,null,{"$f":"IFERROR(VLOOKUP(D2370,Códigos!B:C,2,0),\" \")","v":" "}]
[null,null,null,null,{"$f":"IFERROR(VLOOKUP(D2371,Códigos!B:C,2,0),\" \")","v":" "}]
[null,null,null,null,{"$f":"IFERROR(VLOOKUP(D2372,Códigos!B:C,2,0),\" \")","v":" "}]
[null,null,null,null,{"$f":"IFERROR(VLOOKUP(D2373,Códigos!B:C,2,0),\" \")","v":" "}]
[null,null,null,null,{"$f":"IFERROR(VLOOKUP(D2374,Códigos!B:C,2,0),\" \")","v":" "}]
[null,null,null,null,{"$f":"IFERROR(VLOOKUP(D2375,Códigos!B:C,2,0),\" \")","v":" "}]
[null,null,null,null,{"$f":"IFERROR(VLOOKUP(D2376,Códigos!B:C,2,0),\" \")","v":" "}]
[null,null,null,null,{"$f":"IFERROR(VLOOKUP(D2377,Códigos!B:C,2,0),\" \")","v":" "}]
[null,null,null,null,{"$f":"IFERROR(VLOOKUP(D2378,Códigos!B:C,2,0),\" \")","v":" "}]
[null,null,null,null,{"$f":"IFERROR(VLOOKUP(D2379,Códigos!B:C,2,0),\" \")","v":" "}]
[null,null,null,null,{"$f":"IFERROR(VLOOKUP(D2380,Códigos!B:C,2,0),\" \")","v":" "}]
[null,null,null,null,{"$f":"IFERROR(VLOOKUP(D2381,Códigos!B:C,2,0),\" \")","v":" "}]
[null,null,null,null,{"$f":"IFERROR(VLOOKUP(D2382,Códigos!B:C,2,0),\" \")","v":" "}]
[null,null,null,null,{"$f":"IFERROR(VLOOKUP(D2383,Códigos!B:C,2,0),\" \")","v":" "}]
[null,null,null,null,{"$f":"IFERROR(VLOOKUP(D2384,Códigos!B:C,2,0),\" \")","v":" "}]
[null,null,null,null,{"$f":"IFERROR(VLOOKUP(D2385,Códigos!B:C,2,0),\" \")","v":" "}]
[null,null,null,null,{"$f":"IFERROR(VLOOKUP(D2386,Códigos!B:C,2,0),\" \")","v":" "}]
[null,null,null,null,{"$f":"IFERROR(VLOOKUP(D2387,Códigos!B:C,2,0),\" \")","v":" "}]
[null,null,null,null,{"$f":"IFERROR(VLOOKUP(D2388,Códigos!B:C,2,0),\" \")","v":" "}]
[null,null,null,null,{"$f":"IFERROR(VLOOKUP(D2389,Códigos!B:C,2,0),\" \")","v":" "}]
[null,null,null,null,{"$f":"IFERROR(VLOOKUP(D2390,Códigos!B:C,2,0),\" \")","v":" "}]
[null,null,null,null,{"$f":"IFERROR(VLOOKUP(D2391,Códigos!B:C,2,0),\" \")","v":" "}]
[null,null,null,null,{"$f":"IFERROR(VLOOKUP(D2392,Códigos!B:C,2,0),\" \")","v":" "}]
[null,null,null,null,{"$f":"IFERROR(VLOOKUP(D2393,Códigos!B:C,2,0),\" \")","v":" "}]
[null,null,null,null,{"$f":"IFERROR(VLOOKUP(D2394,Códigos!B:C,2,0),\" \")","v":" "}]
[null,null,null,null,{"$f":"IFERROR(VLOOKUP(D2395,Códigos!B:C,2,0),\" \")","v":" "}]
[null,null,null,null,{"$f":"IFERROR(VLOOKUP(D2396,Códigos!B:C,2,0),\" \")","v":" "}]
[null,null,null,null,{"$f":"IFERROR(VLOOKUP(D2397,Códigos!B:C,2,0),\" \")","v":" "}]
[null,null,null,null,{"$f":"IFERROR(VLOOKUP(D2398,Códigos!B:C,2,0),\" \")","v":" "}]
[null,null,null,null,{"$f":"IFERROR(VLOOKUP(D2399,Códigos!B:C,2,0),\" \")","v":" "}]
[null,null,null,null,{"$f":"IFERROR(VLOOKUP(D2400,Códigos!B:C,2,0),\" \")","v":" "}]
[null,null,null,null,{"$f":"IFERROR(VLOOKUP(D2401,Códigos!B:C,2,0),\" \")","v":" "}]
[null,null,null,null,{"$f":"IFERROR(VLOOKUP(D2402,Códigos!B:C,2,0),\" \")","v":" "}]
[null,null,null,null,{"$f":"IFERROR(VLOOKUP(D2403,Códigos!B:C,2,0),\" \")","v":" "}]
[null,null,null,null,{"$f":"IFERROR(VLOOKUP(D2404,Códigos!B:C,2,0),\" \")","v":" "}]
[null,null,null,null,{"$f":"IFERROR(VLOOKUP(D2405,Códigos!B:C,2,0),\" \")","v":" "}]
[null,null,null,null,{"$f":"IFERROR(VLOOKUP(D2406,Códigos!B:C,2,0),\" \")","v":" "}]
[null,null,null,null,{"$f":"IFERROR(VLOOKUP(D2407,Códigos!B:C,2,0),\" \")","v":" "}]
[null,null,null,null,{"$f":"IFERROR(VLOOKUP(D2408,Códigos!B:C,2,0),\" \")","v":" "}]
[null,null,null,null,{"$f":"IFERROR(VLOOKUP(D2409,Códigos!B:C,2,0),\" \")","v":" "}]
[null,null,null,null,{"$f":"IFERROR(VLOOKUP(D2410,Códigos!B:C,2,0),\" \")","v":" "}]
[null,null,null,null,{"$f":"IFERROR(VLOOKUP(D2411,Códigos!B:C,2,0),\" \")","v":" "}]
[null,null,null,null,{"$f":"IFERROR(VLOOKUP(D2412,Códigos!B:C,2,0),\" \")","v":" "}]
[null,null,null,null,{"$f":"IFERROR(VLOOKUP(D2413,Códigos!B:C,2,0),\" \")","v":" "}]
[null,null,null,null,{"$f":"IFERROR(VLOOKUP(D2414,Códigos!B:C,2,0),\" \")","v":" "}]
[null,null,null,null,{"$f":"IFERROR(VLOOKUP(D2415,Códigos!B:C,2,0),\" \")","v":" "}]
[null,null,null,null,{"$f":"IFERROR(VLOOKUP(D2416,Códigos!B:C,2,0),\" \")","v":" "}]
[null,null,null,null,{"$f":"IFERROR(VLOOKUP(D2417,Códigos!B:C,2,0),\" \")","v":" "}]
[null,null,null,null,{"$f":"IFERROR(VLOOKUP(D2418,Códigos!B:C,2,0),\" \")","v":" "}]
[null,null,null,null,{"$f":"IFERROR(VLOOKUP(D2419,Códigos!B:C,2,0),\" \")","v":" "}]
[null,null,null,null,{"$f":"IFERROR(VLOOKUP(D2420,Códigos!B:C,2,0),\" \")","v":" "}]
[null,null,null,null,{"$f":"IFERROR(VLOOKUP(D2421,Códigos!B:C,2,0),\" \")","v":" "}]
[null,null,null,null,{"$f":"IFERROR(VLOOKUP(D2422,Códigos!B:C,2,0),\" \")","v":" "}]
[null,null,null,null,{"$f":"IFERROR(VLOOKUP(D2423,Códigos!B:C,2,0),\" \")","v":" "}]
[null,null,null,null,{"$f":"IFERROR(VLOOKUP(D2424,Códigos!B:C,2,0),\" \")","v":" "}]
[null,null,null,null,{"$f":"IFERROR(VLOOKUP(D2425,Códigos!B:C,2,0),\" \")","v":" "}]
[null,null,null,null,{"$f":"IFERROR(VLOOKUP(D2426,Códigos!B:C,2,0),\" \")","v":" "}]
[null,null,null,null,{"$f":"IFERROR(VLOOKUP(D2427,Códigos!B:C,2,0),\" \")","v":" "}]
[null,null,null,null,{"$f":"IFERROR(VLOOKUP(D2428,Códigos!B:C,2,0),\" \")","v":" "}]
[null,null,null,null,{"$f":"IFERROR(VLOOKUP(D2429,Códigos!B:C,2,0),\" \")","v":" "}]
[null,null,null,null,{"$f":"IFERROR(VLOOKUP(D2430,Códigos!B:C,2,0),\" \")","v":" "}]
[null,null,null,null,{"$f":"IFERROR(VLOOKUP(D2431,Códigos!B:C,2,0),\" \")","v":" "}]
[null,null,null,null,{"$f":"IFERROR(VLOOKUP(D2432,Códigos!B:C,2,0),\" \")","v":" "}]
[null,null,null,null,{"$f":"IFERROR(VLOOKUP(D2433,Códigos!B:C,2,0),\" \")","v":" "}]
[null,null,null,null,{"$f":"IFERROR(VLOOKUP(D2434,Códigos!B:C,2,0),\" \")","v":" "}]
[null,null,null,null,{"$f":"IFERROR(VLOOKUP(D2435,Códigos!B:C,2,0),\" \")","v":" "}]
[null,null,null,null,{"$f":"IFERROR(VLOOKUP(D2436,Códigos!B:C,2,0),\" \")","v":" "}]
[null,null,null,null,{"$f":"IFERROR(VLOOKUP(D2437,Códigos!B:C,2,0),\" \")","v":" "}]
[null,null,null,null,{"$f":"IFERROR(VLOOKUP(D2438,Códigos!B:C,2,0),\" \")","v":" "}]
[null,null,null,null,{"$f":"IFERROR(VLOOKUP(D2439,Códigos!B:C,2,0),\" \")","v":" "}]
[null,null,null,null,{"$f":"IFERROR(VLOOKUP(D2440,Códigos!B:C,2,0),\" \")","v":" "}]
[null,null,null,null,{"$f":"IFERROR(VLOOKUP(D2441,Códigos!B:C,2,0),\" \")","v":" "}]
[null,null,null,null,{"$f":"IFERROR(VLOOKUP(D2442,Códigos!B:C,2,0),\" \")","v":" "}]
[null,null,null,null,{"$f":"IFERROR(VLOOKUP(D2443,Códigos!B:C,2,0),\" \")","v":" "}]
[null,null,null,null,{"$f":"IFERROR(VLOOKUP(D2444,Códigos!B:C,2,0),\" \")","v":" "}]
[null,null,null,null,{"$f":"IFERROR(VLOOKUP(D2445,Códigos!B:C,2,0),\" \")","v":" "}]
[null,null,null,null,{"$f":"IFERROR(VLOOKUP(D2446,Códigos!B:C,2,0),\" \")","v":" "}]
[null,null,null,null,{"$f":"IFERROR(VLOOKUP(D2447,Códigos!B:C,2,0),\" \")","v":" "}]
[null,null,null,null,{"$f":"IFERROR(VLOOKUP(D2448,Códigos!B:C,2,0),\" \")","v":" "}]
[null,null,null,null,{"$f":"IFERROR(VLOOKUP(D2449,Códigos!B:C,2,0),\" \")","v":" "}]
[null,null,null,null,{"$f":"IFERROR(VLOOKUP(D2450,Códigos!B:C,2,0),\" \")","v":" "}]
[null,null,null,null,{"$f":"IFERROR(VLOOKUP(D2451,Códigos!B:C,2,0),\" \")","v":" "}]
[null,null,null,null,{"$f":"IFERROR(VLOOKUP(D2452,Códigos!B:C,2,0),\" \")","v":" "}]
[null,null,null,null,{"$f":"IFERROR(VLOOKUP(D2453,Códigos!B:C,2,0),\" \")","v":" "}]
[null,null,null,null,{"$f":"IFERROR(VLOOKUP(D2454,Códigos!B:C,2,0),\" \")","v":" "}]
[null,null,null,null,{"$f":"IFERROR(VLOOKUP(D2455,Códigos!B:C,2,0),\" \")","v":" "}]
[null,null,null,null,{"$f":"IFERROR(VLOOKUP(D2456,Códigos!B:C,2,0),\" \")","v":" "}]
[null,null,null,null,{"$f":"IFERROR(VLOOKUP(D2457,Códigos!B:C,2,0),\" \")","v":" "}]
[null,null,null,null,{"$f":"IFERROR(VLOOKUP(D2458,Códigos!B:C,2,0),\" \")","v":" "}]
[null,null,null,null,{"$f":"IFERROR(VLOOKUP(D2459,Códigos!B:C,2,0),\" \")","v":" "}]
[null,null,null,null,{"$f":"IFERROR(VLOOKUP(D2460,Códigos!B:C,2,0),\" \")","v":" "}]
[null,null,null,null,{"$f":"IFERROR(VLOOKUP(D2461,Códigos!B:C,2,0),\" \")","v":" "}]
[null,null,null,null,{"$f":"IFERROR(VLOOKUP(D2462,Códigos!B:C,2,0),\" \")","v":" "}]
[null,null,null,null,{"$f":"IFERROR(VLOOKUP(D2463,Códigos!B:C,2,0),\" \")","v":" "}]
[null,null,null,null,{"$f":"IFERROR(VLOOKUP(D2464,Códigos!B:C,2,0),\" \")","v":" "}]
[null,null,null,null,{"$f":"IFERROR(VLOOKUP(D2465,Códigos!B:C,2,0),\" \")","v":" "}]
[null,null,null,null,{"$f":"IFERROR(VLOOKUP(D2466,Códigos!B:C,2,0),\" \")","v":" "}]
[null,null,null,null,{"$f":"IFERROR(VLOOKUP(D2467,Códigos!B:C,2,0),\" \")","v":" "}]
[null,null,null,null,{"$f":"IFERROR(VLOOKUP(D2468,Códigos!B:C,2,0),\" \")","v":" "}]
[null,null,null,null,{"$f":"IFERROR(VLOOKUP(D2469,Códigos!B:C,2,0),\" \")","v":" "}]
[null,null,null,null,{"$f":"IFERROR(VLOOKUP(D2470,Códigos!B:C,2,0),\" \")","v":" "}]
[null,null,null,null,{"$f":"IFERROR(VLOOKUP(D2471,Códigos!B:C,2,0),\" \")","v":" "}]
[null,null,null,null,{"$f":"IFERROR(VLOOKUP(D2472,Códigos!B:C,2,0),\" \")","v":" "}]
[null,null,null,null,{"$f":"IFERROR(VLOOKUP(D2473,Códigos!B:C,2,0),\" \")","v":" "}]
[null,null,null,null,{"$f":"IFERROR(VLOOKUP(D2474,Códigos!B:C,2,0),\" \")","v":" "}]
[null,null,null,null,{"$f":"IFERROR(VLOOKUP(D2475,Códigos!B:C,2,0),\" \")","v":" "}]
[null,null,null,null,{"$f":"IFERROR(VLOOKUP(D2476,Códigos!B:C,2,0),\" \")","v":" "}]
[null,null,null,null,{"$f":"IFERROR(VLOOKUP(D2477,Códigos!B:C,2,0),\" \")","v":" "}]
[null,null,null,null,{"$f":"IFERROR(VLOOKUP(D2478,Códigos!B:C,2,0),\" \")","v":" "}]
[null,null,null,null,{"$f":"IFERROR(VLOOKUP(D2479,Códigos!B:C,2,0),\" \")","v":" "}]
[null,null,null,null,{"$f":"IFERROR(VLOOKUP(D2480,Códigos!B:C,2,0),\" \")","v":" "}]
[null,null,null,null,{"$f":"IFERROR(VLOOKUP(D2481,Códigos!B:C,2,0),\" \")","v":" "}]
[null,null,null,null,{"$f":"IFERROR(VLOOKUP(D2482,Códigos!B:C,2,0),\" \")","v":" "}]
[null,null,null,null,{"$f":"IFERROR(VLOOKUP(D2483,Códigos!B:C,2,0),\" \")","v":" "}]
[null,null,null,null,{"$f":"IFERROR(VLOOKUP(D2484,Códigos!B:C,2,0),\" \")","v":" "}]
[null,null,null,null,{"$f":"IFERROR(VLOOKUP(D2485,Códigos!B:C,2,0),\" \")","v":" "}]
[null,null,null,null,{"$f":"IFERROR(VLOOKUP(D2486,Códigos!B:C,2,0),\" \")","v":" "}]
[null,null,null,null,{"$f":"IFERROR(VLOOKUP(D2487,Códigos!B:C,2,0),\" \")","v":" "}]
[null,null,null,null,{"$f":"IFERROR(VLOOKUP(D2488,Códigos!B:C,2,0),\" \")","v":" "}]
[null,null,null,null,{"$f":"IFERROR(VLOOKUP(D2489,Códigos!B:C,2,0),\" \")","v":" "}]
[null,null,null,null,{"$f":"IFERROR(VLOOKUP(D2490,Códigos!B:C,2,0),\" \")","v":" "}]
[null,null,null,null,{"$f":"IFERROR(VLOOKUP(D2491,Códigos!B:C,2,0),\" \")","v":" "}]
[null,null,null,null,{"$f":"IFERROR(VLOOKUP(D2492,Códigos!B:C,2,0),\" \")","v":" "}]
[null,null,null,null,{"$f":"IFERROR(VLOOKUP(D2493,Códigos!B:C,2,0),\" \")","v":" "}]
[null,null,null,null,{"$f":"IFERROR(VLOOKUP(D2494,Códigos!B:C,2,0),\" \")","v":" "}]
[null,null,null,null,{"$f":"IFERROR(VLOOKUP(D2495,Códigos!B:C,2,0),\" \")","v":" "}]
[null,null,null,null,{"$f":"IFERROR(VLOOKUP(D2496,Códigos!B:C,2,0),\" \")","v":" "}]
[null,null,null,null,{"$f":"IFERROR(VLOOKUP(D2497,Códigos!B:C,2,0),\" \")","v":" "}]
[null,null,null,null,{"$f":"IFERROR(VLOOKUP(D2498,Códigos!B:C,2,0),\" \")","v":" "}]
[null,null,null,null,{"$f":"IFERROR(VLOOKUP(D2499,Códigos!B:C,2,0),\" \")","v":" "}]
[null,null,null,null,{"$f":"IFERROR(VLOOKUP(D2500,Códigos!B:C,2,0),\" \")","v":" "}]
[null,null,null,null,{"$f":"IFERROR(VLOOKUP(D2501,Códigos!B:C,2,0),\" \")","v":" "}]
[null,null,null,null,{"$f":"IFERROR(VLOOKUP(D2502,Códigos!B:C,2,0),\" \")","v":" "}]
[null,null,null,null,{"$f":"IFERROR(VLOOKUP(D2503,Códigos!B:C,2,0),\" \")","v":" "}]
[null,null,null,null,{"$f":"IFERROR(VLOOKUP(D2504,Códigos!B:C,2,0),\" \")","v":" "}]
[null,null,null,null,{"$f":"IFERROR(VLOOKUP(D2505,Códigos!B:C,2,0),\" \")","v":" "}]
[null,null,null,null,{"$f":"IFERROR(VLOOKUP(D2506,Códigos!B:C,2,0),\" \")","v":" "}]
[null,null,null,null,{"$f":"IFERROR(VLOOKUP(D2507,Códigos!B:C,2,0),\" \")","v":" "}]
[null,null,null,null,{"$f":"IFERROR(VLOOKUP(D2508,Códigos!B:C,2,0),\" \")","v":" "}]
[null,null,null,null,{"$f":"IFERROR(VLOOKUP(D2509,Códigos!B:C,2,0),\" \")","v":" "}]
[null,null,null,null,{"$f":"IFERROR(VLOOKUP(D2510,Códigos!B:C,2,0),\" \")","v":" "}]
[null,null,null,null,{"$f":"IFERROR(VLOOKUP(D2511,Códigos!B:C,2,0),\" \")","v":" "}]
[null,null,null,null,{"$f":"IFERROR(VLOOKUP(D2512,Códigos!B:C,2,0),\" \")","v":" "}]
[null,null,null,null,{"$f":"IFERROR(VLOOKUP(D2513,Códigos!B:C,2,0),\" \")","v":" "}]
[null,null,null,null,{"$f":"IFERROR(VLOOKUP(D2514,Códigos!B:C,2,0),\" \")","v":" "}]
[null,null,null,null,{"$f":"IFERROR(VLOOKUP(D2515,Códigos!B:C,2,0),\" \")","v":" "}]
[null,null,null,null,{"$f":"IFERROR(VLOOKUP(D2516,Códigos!B:C,2,0),\" \")","v":" "}]
[null,null,null,null,{"$f":"IFERROR(VLOOKUP(D2517,Códigos!B:C,2,0),\" \")","v":" "}]
[null,null,null,null,{"$f":"IFERROR(VLOOKUP(D2518,Códigos!B:C,2,0),\" \")","v":" "}]
[null,null,null,null,{"$f":"IFERROR(VLOOKUP(D2519,Códigos!B:C,2,0),\" \")","v":" "}]
[null,null,null,null,{"$f":"IFERROR(VLOOKUP(D2520,Códigos!B:C,2,0),\" \")","v":" "}]
[null,null,null,null,{"$f":"IFERROR(VLOOKUP(D2521,Códigos!B:C,2,0),\" \")","v":" "}]
[null,null,null,null,{"$f":"IFERROR(VLOOKUP(D2522,Códigos!B:C,2,0),\" \")","v":" "}]
[null,null,null,null,{"$f":"IFERROR(VLOOKUP(D2523,Códigos!B:C,2,0),\" \")","v":" "}]
[null,null,null,null,{"$f":"IFERROR(VLOOKUP(D2524,Códigos!B:C,2,0),\" \")","v":" "}]
[null,null,null,null,{"$f":"IFERROR(VLOOKUP(D2525,Códigos!B:C,2,0),\" \")","v":" "}]
[null,null,null,null,{"$f":"IFERROR(VLOOKUP(D2526,Códigos!B:C,2,0),\" \")","v":" "}]
[null,null,null,null,{"$f":"IFERROR(VLOOKUP(D2527,Códigos!B:C,2,0),\" \")","v":" "}]
[null,null,null,null,{"$f":"IFERROR(VLOOKUP(D2528,Códigos!B:C,2,0),\" \")","v":" "}]
[null,null,null,null,{"$f":"IFERROR(VLOOKUP(D2529,Códigos!B:C,2,0),\" \")","v":" "}]
[null,null,null,null,{"$f":"IFERROR(VLOOKUP(D2530,Códigos!B:C,2,0),\" \")","v":" "}]
[null,null,null,null,{"$f":"IFERROR(VLOOKUP(D2531,Códigos!B:C,2,0),\" \")","v":" "}]
[null,null,null,null,{"$f":"IFERROR(VLOOKUP(D2532,Códigos!B:C,2,0),\" \")","v":" "}]
[null,null,null,null,{"$f":"IFERROR(VLOOKUP(D2533,Códigos!B:C,2,0),\" \")","v":" "}]
[null,null,null,null,{"$f":"IFERROR(VLOOKUP(D2534,Códigos!B:C,2,0),\" \")","v":" "}]
[null,null,null,null,{"$f":"IFERROR(VLOOKUP(D2535,Códigos!B:C,2,0),\" \")","v":" "}]
[null,null,null,null,{"$f":"IFERROR(VLOOKUP(D2536,Códigos!B:C,2,0),\" \")","v":" "}]
[null,null,null,null,{"$f":"IFERROR(VLOOKUP(D2537,Códigos!B:C,2,0),\" \")","v":" "}]
[null,null,null,null,{"$f":"IFERROR(VLOOKUP(D2538,Códigos!B:C,2,0),\" \")","v":" "}]
[null,null,null,null,{"$f":"IFERROR(VLOOKUP(D2539,Códigos!B:C,2,0),\" \")","v":" "}]
[null,null,null,null,{"$f":"IFERROR(VLOOKUP(D2540,Códigos!B:C,2,0),\" \")","v":" "}]
[null,null,null,null,{"$f":"IFERROR(VLOOKUP(D2541,Códigos!B:C,2,0),\" \")","v":" "}]
[null,null,null,null,{"$f":"IFERROR(VLOOKUP(D2542,Códigos!B:C,2,0),\" \")","v":" "}]
[null,null,null,null,{"$f":"IFERROR(VLOOKUP(D2543,Códigos!B:C,2,0),\" \")","v":" "}]
[null,null,null,null,{"$f":"IFERROR(VLOOKUP(D2544,Códigos!B:C,2,0),\" \")","v":" "}]
[null,null,null,null,{"$f":"IFERROR(VLOOKUP(D2545,Códigos!B:C,2,0),\" \")","v":" "}]
[null,null,null,null,{"$f":"IFERROR(VLOOKUP(D2546,Códigos!B:C,2,0),\" \")","v":" "}]
[null,null,null,null,{"$f":"IFERROR(VLOOKUP(D2547,Códigos!B:C,2,0),\" \")","v":" "}]
[null,null,null,null,{"$f":"IFERROR(VLOOKUP(D2548,Códigos!B:C,2,0),\" \")","v":" "}]
[null,null,null,null,{"$f":"IFERROR(VLOOKUP(D2549,Códigos!B:C,2,0),\" \")","v":" "}]
[null,null,null,null,{"$f":"IFERROR(VLOOKUP(D2550,Códigos!B:C,2,0),\" \")","v":" "}]
[null,null,null,null,{"$f":"IFERROR(VLOOKUP(D2551,Códigos!B:C,2,0),\" \")","v":" "}]
[null,null,null,null,{"$f":"IFERROR(VLOOKUP(D2552,Códigos!B:C,2,0),\" \")","v":" "}]
[null,null,null,null,{"$f":"IFERROR(VLOOKUP(D2553,Códigos!B:C,2,0),\" \")","v":" "}]
[null,null,null,null,{"$f":"IFERROR(VLOOKUP(D2554,Códigos!B:C,2,0),\" \")","v":" "}]
[null,null,null,null,{"$f":"IFERROR(VLOOKUP(D2555,Códigos!B:C,2,0),\" \")","v":" "}]
[null,null,null,null,{"$f":"IFERROR(VLOOKUP(D2556,Códigos!B:C,2,0),\" \")","v":" "}]
[null,null,null,null,{"$f":"IFERROR(VLOOKUP(D2557,Códigos!B:C,2,0),\" \")","v":" "}]
[null,null,null,null,{"$f":"IFERROR(VLOOKUP(D2558,Códigos!B:C,2,0),\" \")","v":" "}]
[null,null,null,null,{"$f":"IFERROR(VLOOKUP(D2559,Códigos!B:C,2,0),\" \")","v":" "}]
[null,null,null,null,{"$f":"IFERROR(VLOOKUP(D2560,Códigos!B:C,2,0),\" \")","v":" "}]
[null,null,null,null,{"$f":"IFERROR(VLOOKUP(D2561,Códigos!B:C,2,0),\" \")","v":" "}]
[null,null,null,null,{"$f":"IFERROR(VLOOKUP(D2562,Códigos!B:C,2,0),\" \")","v":" "}]
[null,null,null,null,{"$f":"IFERROR(VLOOKUP(D2563,Códigos!B:C,2,0),\" \")","v":" "}]
[null,null,null,null,{"$f":"IFERROR(VLOOKUP(D2564,Códigos!B:C,2,0),\" \")","v":" "}]
[null,null,null,null,{"$f":"IFERROR(VLOOKUP(D2565,Códigos!B:C,2,0),\" \")","v":" "}]
[null,null,null,null,{"$f":"IFERROR(VLOOKUP(D2566,Códigos!B:C,2,0),\" \")","v":" "}]
[null,null,null,null,{"$f":"IFERROR(VLOOKUP(D2567,Códigos!B:C,2,0),\" \")","v":" "}]
[null,null,null,null,{"$f":"IFERROR(VLOOKUP(D2568,Códigos!B:C,2,0),\" \")","v":" "}]
[null,null,null,null,{"$f":"IFERROR(VLOOKUP(D2569,Códigos!B:C,2,0),\" \")","v":" "}]
[null,null,null,null,{"$f":"IFERROR(VLOOKUP(D2570,Códigos!B:C,2,0),\" \")","v":" "}]
[null,null,null,null,{"$f":"IFERROR(VLOOKUP(D2571,Códigos!B:C,2,0),\" \")","v":" "}]
[null,null,null,null,{"$f":"IFERROR(VLOOKUP(D2572,Códigos!B:C,2,0),\" \")","v":" "}]
[null,null,null,null,{"$f":"IFERROR(VLOOKUP(D2573,Códigos!B:C,2,0),\" \")","v":" "}]
[null,null,null,null,{"$f":"IFERROR(VLOOKUP(D2574,Códigos!B:C,2,0),\" \")","v":" "}]
[null,null,null,null,{"$f":"IFERROR(VLOOKUP(D2575,Códigos!B:C,2,0),\" \")","v":" "}]
[null,null,null,null,{"$f":"IFERROR(VLOOKUP(D2576,Códigos!B:C,2,0),\" \")","v":" "}]
[null,null,null,null,{"$f":"IFERROR(VLOOKUP(D2577,Códigos!B:C,2,0),\" \")","v":" "}]
[null,null,null,null,{"$f":"IFERROR(VLOOKUP(D2578,Códigos!B:C,2,0),\" \")","v":" "}]
[null,null,null,null,{"$f":"IFERROR(VLOOKUP(D2579,Códigos!B:C,2,0),\" \")","v":" "}]
[null,null,null,null,{"$f":"IFERROR(VLOOKUP(D2580,Códigos!B:C,2,0),\" \")","v":" "}]
[null,null,null,null,{"$f":"IFERROR(VLOOKUP(D2581,Códigos!B:C,2,0),\" \")","v":" "}]
[null,null,null,null,{"$f":"IFERROR(VLOOKUP(D2582,Códigos!B:C,2,0),\" \")","v":" "}]
[null,null,null,null,{"$f":"IFERROR(VLOOKUP(D2583,Códigos!B:C,2,0),\" \")","v":" "}]
[null,null,null,null,{"$f":"IFERROR(VLOOKUP(D2584,Códigos!B:C,2,0),\" \")","v":" "}]
[null,null,null,null,{"$f":"IFERROR(VLOOKUP(D2585,Códigos!B:C,2,0),\" \")","v":" "}]
[null,null,null,null,{"$f":"IFERROR(VLOOKUP(D2586,Códigos!B:C,2,0),\" \")","v":" "}]
[null,null,null,null,{"$f":"IFERROR(VLOOKUP(D2587,Códigos!B:C,2,0),\" \")","v":" "}]
[null,null,null,null,{"$f":"IFERROR(VLOOKUP(D2588,Códigos!B:C,2,0),\" \")","v":" "}]
[null,null,null,null,{"$f":"IFERROR(VLOOKUP(D2589,Códigos!B:C,2,0),\" \")","v":" "}]
[null,null,null,null,{"$f":"IFERROR(VLOOKUP(D2590,Códigos!B:C,2,0),\" \")","v":" "}]
[null,null,null,null,{"$f":"IFERROR(VLOOKUP(D2591,Códigos!B:C,2,0),\" \")","v":" "}]
[null,null,null,null,{"$f":"IFERROR(VLOOKUP(D2592,Códigos!B:C,2,0),\" \")","v":" "}]
[null,null,null,null,{"$f":"IFERROR(VLOOKUP(D2593,Códigos!B:C,2,0),\" \")","v":" "}]
[null,null,null,null,{"$f":"IFERROR(VLOOKUP(D2594,Códigos!B:C,2,0),\" \")","v":" "}]
[null,null,null,null,{"$f":"IFERROR(VLOOKUP(D2595,Códigos!B:C,2,0),\" \")","v":" "}]
[null,null,null,null,{"$f":"IFERROR(VLOOKUP(D2596,Códigos!B:C,2,0),\" \")","v":" "}]
[null,null,null,null,{"$f":"IFERROR(VLOOKUP(D2597,Códigos!B:C,2,0),\" \")","v":" "}]
[null,null,null,null,{"$f":"IFERROR(VLOOKUP(D2598,Códigos!B:C,2,0),\" \")","v":" "}]
[null,null,null,null,{"$f":"IFERROR(VLOOKUP(D2599,Códigos!B:C,2,0),\" \")","v":" "}]
[null,null,null,null,{"$f":"IFERROR(VLOOKUP(D2600,Códigos!B:C,2,0),\" \")","v":" "}]
[null,null,null,null,{"$f":"IFERROR(VLOOKUP(D2601,Códigos!B:C,2,0),\" \")","v":" "}]
[null,null,null,null,{"$f":"IFERROR(VLOOKUP(D2602,Códigos!B:C,2,0),\" \")","v":" "}]
[null,null,null,null,{"$f":"IFERROR(VLOOKUP(D2603,Códigos!B:C,2,0),\" \")","v":" "}]
[null,null,null,null,{"$f":"IFERROR(VLOOKUP(D2604,Códigos!B:C,2,0),\" \")","v":" "}]
[null,null,null,null,{"$f":"IFERROR(VLOOKUP(D2605,Códigos!B:C,2,0),\" \")","v":" "}]
[null,null,null,null,{"$f":"IFERROR(VLOOKUP(D2606,Códigos!B:C,2,0),\" \")","v":" "}]
[null,null,null,null,{"$f":"IFERROR(VLOOKUP(D2607,Códigos!B:C,2,0),\" \")","v":" "}]
[null,null,null,null,{"$f":"IFERROR(VLOOKUP(D2608,Códigos!B:C,2,0),\" \")","v":" "}]
[null,null,null,null,{"$f":"IFERROR(VLOOKUP(D2609,Códigos!B:C,2,0),\" \")","v":" "}]
[null,null,null,null,{"$f":"IFERROR(VLOOKUP(D2610,Códigos!B:C,2,0),\" \")","v":" "}]
[null,null,null,null,{"$f":"IFERROR(VLOOKUP(D2611,Códigos!B:C,2,0),\" \")","v":" "}]
[null,null,null,null,{"$f":"IFERROR(VLOOKUP(D2612,Códigos!B:C,2,0),\" \")","v":" "}]
[null,null,null,null,{"$f":"IFERROR(VLOOKUP(D2613,Códigos!B:C,2,0),\" \")","v":" "}]
[null,null,null,null,{"$f":"IFERROR(VLOOKUP(D2614,Códigos!B:C,2,0),\" \")","v":" "}]
[null,null,null,null,{"$f":"IFERROR(VLOOKUP(D2615,Códigos!B:C,2,0),\" \")","v":" "}]
[null,null,null,null,{"$f":"IFERROR(VLOOKUP(D2616,Códigos!B:C,2,0),\" \")","v":" "}]
[null,null,null,null,{"$f":"IFERROR(VLOOKUP(D2617,Códigos!B:C,2,0),\" \")","v":" "}]
[null,null,null,null,{"$f":"IFERROR(VLOOKUP(D2618,Códigos!B:C,2,0),\" \")","v":" "}]
[null,null,null,null,{"$f":"IFERROR(VLOOKUP(D2619,Códigos!B:C,2,0),\" \")","v":" "}]
[null,null,null,null,{"$f":"IFERROR(VLOOKUP(D2620,Códigos!B:C,2,0),\" \")","v":" "}]
[null,null,null,null,{"$f":"IFERROR(VLOOKUP(D2621,Códigos!B:C,2,0),\" \")","v":" "}]
[null,null,null,null,{"$f":"IFERROR(VLOOKUP(D2622,Códigos!B:C,2,0),\" \")","v":" "}]
[null,null,null,null,{"$f":"IFERROR(VLOOKUP(D2623,Códigos!B:C,2,0),\" \")","v":" "}]
[null,null,null,null,{"$f":"IFERROR(VLOOKUP(D2624,Códigos!B:C,2,0),\" \")","v":" "}]
[null,null,null,null,{"$f":"IFERROR(VLOOKUP(D2625,Códigos!B:C,2,0),\" \")","v":" "}]
[null,null,null,null,{"$f":"IFERROR(VLOOKUP(D2626,Códigos!B:C,2,0),\" \")","v":" "}]
[null,null,null,null,{"$f":"IFERROR(VLOOKUP(D2627,Códigos!B:C,2,0),\" \")","v":" "}]
[null,null,null,null,{"$f":"IFERROR(VLOOKUP(D2628,Códigos!B:C,2,0),\" \")","v":" "}]
[null,null,null,null,{"$f":"IFERROR(VLOOKUP(D2629,Códigos!B:C,2,0),\" \")","v":" "}]
[null,null,null,null,{"$f":"IFERROR(VLOOKUP(D2630,Códigos!B:C,2,0),\" \")","v":" "}]
[null,null,null,null,{"$f":"IFERROR(VLOOKUP(D2631,Códigos!B:C,2,0),\" \")","v":" "}]
[null,null,null,null,{"$f":"IFERROR(VLOOKUP(D2632,Códigos!B:C,2,0),\" \")","v":" "}]
[null,null,null,null,{"$f":"IFERROR(VLOOKUP(D2633,Códigos!B:C,2,0),\" \")","v":" "}]
[null,null,null,null,{"$f":"IFERROR(VLOOKUP(D2634,Códigos!B:C,2,0),\" \")","v":" "}]
[null,null,null,null,{"$f":"IFERROR(VLOOKUP(D2635,Códigos!B:C,2,0),\" \")","v":" "}]
[null,null,null,null,{"$f":"IFERROR(VLOOKUP(D2636,Códigos!B:C,2,0),\" \")","v":" "}]
[null,null,null,null,{"$f":"IFERROR(VLOOKUP(D2637,Códigos!B:C,2,0),\" \")","v":" "}]
[null,null,null,null,{"$f":"IFERROR(VLOOKUP(D2638,Códigos!B:C,2,0),\" \")","v":" "}]
[null,null,null,null,{"$f":"IFERROR(VLOOKUP(D2639,Códigos!B:C,2,0),\" \")","v":" "}]
[null,null,null,null,{"$f":"IFERROR(VLOOKUP(D2640,Códigos!B:C,2,0),\" \")","v":" "}]
[null,null,null,null,{"$f":"IFERROR(VLOOKUP(D2641,Códigos!B:C,2,0),\" \")","v":" "}]
[null,null,null,null,{"$f":"IFERROR(VLOOKUP(D2642,Códigos!B:C,2,0),\" \")","v":" "}]
[null,null,null,null,{"$f":"IFERROR(VLOOKUP(D2643,Códigos!B:C,2,0),\" \")","v":" "}]
[null,null,null,null,{"$f":"IFERROR(VLOOKUP(D2644,Códigos!B:C,2,0),\" \")","v":" "}]
[null,null,null,null,{"$f":"IFERROR(VLOOKUP(D2645,Códigos!B:C,2,0),\" \")","v":" "}]
[null,null,null,null,{"$f":"IFERROR(VLOOKUP(D2646,Códigos!B:C,2,0),\" \")","v":" "}]
[null,null,null,null,{"$f":"IFERROR(VLOOKUP(D2647,Códigos!B:C,2,0),\" \")","v":" "}]
[null,null,null,null,{"$f":"IFERROR(VLOOKUP(D2648,Códigos!B:C,2,0),\" \")","v":" "}]
[null,null,null,null,{"$f":"IFERROR(VLOOKUP(D2649,Códigos!B:C,2,0),\" \")","v":" "}]
[null,null,null,null,{"$f":"IFERROR(VLOOKUP(D2650,Códigos!B:C,2,0),\" \")","v":" "}]
[null,null,null,null,{"$f":"IFERROR(VLOOKUP(D2651,Códigos!B:C,2,0),\" \")","v":" "}]
[null,null,null,null,{"$f":"IFERROR(VLOOKUP(D2652,Códigos!B:C,2,0),\" \")","v":" "}]
[null,null,null,null,{"$f":"IFERROR(VLOOKUP(D2653,Códigos!B:C,2,0),\" \")","v":" "}]
[null,null,null,null,{"$f":"IFERROR(VLOOKUP(D2654,Códigos!B:C,2,0),\" \")","v":" "}]
[null,null,null,null,{"$f":"IFERROR(VLOOKUP(D2655,Códigos!B:C,2,0),\" \")","v":" "}]
[null,null,null,null,{"$f":"IFERROR(VLOOKUP(D2656,Códigos!B:C,2,0),\" \")","v":" "}]
[null,null,null,null,{"$f":"IFERROR(VLOOKUP(D2657,Códigos!B:C,2,0),\" \")","v":" "}]
[null,null,null,null,{"$f":"IFERROR(VLOOKUP(D2658,Códigos!B:C,2,0),\" \")","v":" "}]
[null,null,null,null,{"$f":"IFERROR(VLOOKUP(D2659,Códigos!B:C,2,0),\" \")","v":" "}]
[null,null,null,null,{"$f":"IFERROR(VLOOKUP(D2660,Códigos!B:C,2,0),\" \")","v":" "}]
[null,null,null,null,{"$f":"IFERROR(VLOOKUP(D2661,Códigos!B:C,2,0),\" \")","v":" "}]
[null,null,null,null,{"$f":"IFERROR(VLOOKUP(D2662,Códigos!B:C,2,0),\" \")","v":" "}]
[null,null,null,null,{"$f":"IFERROR(VLOOKUP(D2663,Códigos!B:C,2,0),\" \")","v":" "}]
[null,null,null,null,{"$f":"IFERROR(VLOOKUP(D2664,Códigos!B:C,2,0),\" \")","v":" "}]
[null,null,null,null,{"$f":"IFERROR(VLOOKUP(D2665,Códigos!B:C,2,0),\" \")","v":" "}]
[null,null,null,null,{"$f":"IFERROR(VLOOKUP(D2666,Códigos!B:C,2,0),\" \")","v":" "}]
[null,null,null,null,{"$f":"IFERROR(VLOOKUP(D2667,Códigos!B:C,2,0),\" \")","v":" "}]
[null,null,null,null,{"$f":"IFERROR(VLOOKUP(D2668,Códigos!B:C,2,0),\" \")","v":" "}]
[null,null,null,null,{"$f":"IFERROR(VLOOKUP(D2669,Códigos!B:C,2,0),\" \")","v":" "}]
[null,null,null,null,{"$f":"IFERROR(VLOOKUP(D2670,Códigos!B:C,2,0),\" \")","v":" "}]
[null,null,null,null,{"$f":"IFERROR(VLOOKUP(D2671,Códigos!B:C,2,0),\" \")","v":" "}]
[null,null,null,null,{"$f":"IFERROR(VLOOKUP(D2672,Códigos!B:C,2,0),\" \")","v":" "}]
[null,null,null,null,{"$f":"IFERROR(VLOOKUP(D2673,Códigos!B:C,2,0),\" \")","v":" "}]
[null,null,null,null,{"$f":"IFERROR(VLOOKUP(D2674,Códigos!B:C,2,0),\" \")","v":" "}]
[null,null,null,null,{"$f":"IFERROR(VLOOKUP(D2675,Códigos!B:C,2,0),\" \")","v":" "}]
[null,null,null,null,{"$f":"IFERROR(VLOOKUP(D2676,Códigos!B:C,2,0),\" \")","v":" "}]
[null,null,null,null,{"$f":"IFERROR(VLOOKUP(D2677,Códigos!B:C,2,0),\" \")","v":" "}]
[null,null,null,null,{"$f":"IFERROR(VLOOKUP(D2678,Códigos!B:C,2,0),\" \")","v":" "}]
[null,null,null,null,{"$f":"IFERROR(VLOOKUP(D2679,Códigos!B:C,2,0),\" \")","v":" "}]
[null,null,null,null,{"$f":"IFERROR(VLOOKUP(D2680,Códigos!B:C,2,0),\" \")","v":" "}]
[null,null,null,null,{"$f":"IFERROR(VLOOKUP(D2681,Códigos!B:C,2,0),\" \")","v":" "}]
[null,null,null,null,{"$f":"IFERROR(VLOOKUP(D2682,Códigos!B:C,2,0),\" \")","v":" "}]
[null,null,null,null,{"$f":"IFERROR(VLOOKUP(D2683,Códigos!B:C,2,0),\" \")","v":" "}]
[null,null,null,null,{"$f":"IFERROR(VLOOKUP(D2684,Códigos!B:C,2,0),\" \")","v":" "}]
[null,null,null,null,{"$f":"IFERROR(VLOOKUP(D2685,Códigos!B:C,2,0),\" \")","v":" "}]
[null,null,null,null,{"$f":"IFERROR(VLOOKUP(D2686,Códigos!B:C,2,0),\" \")","v":" "}]
[null,null,null,null,{"$f":"IFERROR(VLOOKUP(D2687,Códigos!B:C,2,0),\" \")","v":" "}]
[null,null,null,null,{"$f":"IFERROR(VLOOKUP(D2688,Códigos!B:C,2,0),\" \")","v":" "}]
[null,null,null,null,{"$f":"IFERROR(VLOOKUP(D2689,Códigos!B:C,2,0),\" \")","v":" "}]
[null,null,null,null,{"$f":"IFERROR(VLOOKUP(D2690,Códigos!B:C,2,0),\" \")","v":" "}]
[null,null,null,null,{"$f":"IFERROR(VLOOKUP(D2691,Códigos!B:C,2,0),\" \")","v":" "}]
[null,null,null,null,{"$f":"IFERROR(VLOOKUP(D2692,Códigos!B:C,2,0),\" \")","v":" "}]
[null,null,null,null,{"$f":"IFERROR(VLOOKUP(D2693,Códigos!B:C,2,0),\" \")","v":" "}]
[null,null,null,null,{"$f":"IFERROR(VLOOKUP(D2694,Códigos!B:C,2,0),\" \")","v":" "}]
[null,null,null,null,{"$f":"IFERROR(VLOOKUP(D2695,Códigos!B:C,2,0),\" \")","v":" "}]
[null,null,null,null,{"$f":"IFERROR(VLOOKUP(D2696,Códigos!B:C,2,0),\" \")","v":" "}]
[null,null,null,null,{"$f":"IFERROR(VLOOKUP(D2697,Códigos!B:C,2,0),\" \")","v":" "}]
[null,null,null,null,{"$f":"IFERROR(VLOOKUP(D2698,Códigos!B:C,2,0),\" \")","v":" "}]
[null,null,null,null,{"$f":"IFERROR(VLOOKUP(D2699,Códigos!B:C,2,0),\" \")","v":" "}]
[null,null,null,null,{"$f":"IFERROR(VLOOKUP(D2700,Códigos!B:C,2,0),\" \")","v":" "}]
[null,null,null,null,{"$f":"IFERROR(VLOOKUP(D2701,Códigos!B:C,2,0),\" \")","v":" "}]
[null,null,null,null,{"$f":"IFERROR(VLOOKUP(D2702,Códigos!B:C,2,0),\" \")","v":" "}]
[null,null,null,null,{"$f":"IFERROR(VLOOKUP(D2703,Códigos!B:C,2,0),\" \")","v":" "}]
[null,null,null,null,{"$f":"IFERROR(VLOOKUP(D2704,Códigos!B:C,2,0),\" \")","v":" "}]
[null,null,null,null,{"$f":"IFERROR(VLOOKUP(D2705,Códigos!B:C,2,0),\" \")","v":" "}]
[null,null,null,null,{"$f":"IFERROR(VLOOKUP(D2706,Códigos!B:C,2,0),\" \")","v":" "}]
[null,null,null,null,{"$f":"IFERROR(VLOOKUP(D2707,Códigos!B:C,2,0),\" \")","v":" "}]
[null,null,null,null,{"$f":"IFERROR(VLOOKUP(D2708,Códigos!B:C,2,0),\" \")","v":" "}]
[null,null,null,null,{"$f":"IFERROR(VLOOKUP(D2709,Códigos!B:C,2,0),\" \")","v":" "}]
[null,null,null,null,{"$f":"IFERROR(VLOOKUP(D2710,Códigos!B:C,2,0),\" \")","v":" "}]
[null,null,null,null,{"$f":"IFERROR(VLOOKUP(D2711,Códigos!B:C,2,0),\" \")","v":" "}]
[null,null,null,null,{"$f":"IFERROR(VLOOKUP(D2712,Códigos!B:C,2,0),\" \")","v":" "}]
[null,null,null,null,{"$f":"IFERROR(VLOOKUP(D2713,Códigos!B:C,2,0),\" \")","v":" "}]
[null,null,null,null,{"$f":"IFERROR(VLOOKUP(D2714,Códigos!B:C,2,0),\" \")","v":" "}]
[null,null,null,null,{"$f":"IFERROR(VLOOKUP(D2715,Códigos!B:C,2,0),\" \")","v":" "}]
[null,null,null,null,{"$f":"IFERROR(VLOOKUP(D2716,Códigos!B:C,2,0),\" \")","v":" "}]
[null,null,null,null,{"$f":"IFERROR(VLOOKUP(D2717,Códigos!B:C,2,0),\" \")","v":" "}]
[null,null,null,null,{"$f":"IFERROR(VLOOKUP(D2718,Códigos!B:C,2,0),\" \")","v":" "}]
[null,null,null,null,{"$f":"IFERROR(VLOOKUP(D2719,Códigos!B:C,2,0),\" \")","v":" "}]
[null,null,null,null,{"$f":"IFERROR(VLOOKUP(D2720,Códigos!B:C,2,0),\" \")","v":" "}]
[null,null,null,null,{"$f":"IFERROR(VLOOKUP(D2721,Códigos!B:C,2,0),\" \")","v":" "}]
[null,null,null,null,{"$f":"IFERROR(VLOOKUP(D2722,Códigos!B:C,2,0),\" \")","v":" "}]
[null,null,null,null,{"$f":"IFERROR(VLOOKUP(D2723,Códigos!B:C,2,0),\" \")","v":" "}]
[null,null,null,null,{"$f":"IFERROR(VLOOKUP(D2724,Códigos!B:C,2,0),\" \")","v":" "}]
[null,null,null,null,{"$f":"IFERROR(VLOOKUP(D2725,Códigos!B:C,2,0),\" \")","v":" "}]
[null,null,null,null,{"$f":"IFERROR(VLOOKUP(D2726,Códigos!B:C,2,0),\" \")","v":" "}]
[null,null,null,null,{"$f":"IFERROR(VLOOKUP(D2727,Códigos!B:C,2,0),\" \")","v":" "}]
[null,null,null,null,{"$f":"IFERROR(VLOOKUP(D2728,Códigos!B:C,2,0),\" \")","v":" "}]
[null,null,null,null,{"$f":"IFERROR(VLOOKUP(D2729,Códigos!B:C,2,0),\" \")","v":" "}]
[null,null,null,null,{"$f":"IFERROR(VLOOKUP(D2730,Códigos!B:C,2,0),\" \")","v":" "}]
[null,null,null,null,{"$f":"IFERROR(VLOOKUP(D2731,Códigos!B:C,2,0),\" \")","v":" "}]
[null,null,null,null,{"$f":"IFERROR(VLOOKUP(D2732,Códigos!B:C,2,0),\" \")","v":" "}]
[null,null,null,null,{"$f":"IFERROR(VLOOKUP(D2733,Códigos!B:C,2,0),\" \")","v":" "}]
[null,null,null,null,{"$f":"IFERROR(VLOOKUP(D2734,Códigos!B:C,2,0),\" \")","v":" "}]
[null,null,null,null,{"$f":"IFERROR(VLOOKUP(D2735,Códigos!B:C,2,0),\" \")","v":" "}]
[null,null,null,null,{"$f":"IFERROR(VLOOKUP(D2736,Códigos!B:C,2,0),\" \")","v":" "}]
[null,null,null,null,{"$f":"IFERROR(VLOOKUP(D2737,Códigos!B:C,2,0),\" \")","v":" "}]
[null,null,null,null,{"$f":"IFERROR(VLOOKUP(D2738,Códigos!B:C,2,0),\" \")","v":" "}]
[null,null,null,null,{"$f":"IFERROR(VLOOKUP(D2739,Códigos!B:C,2,0),\" \")","v":" "}]
[null,null,null,null,{"$f":"IFERROR(VLOOKUP(D2740,Códigos!B:C,2,0),\" \")","v":" "}]
[null,null,null,null,{"$f":"IFERROR(VLOOKUP(D2741,Códigos!B:C,2,0),\" \")","v":" "}]
[null,null,null,null,{"$f":"IFERROR(VLOOKUP(D2742,Códigos!B:C,2,0),\" \")","v":" "}]
[null,null,null,null,{"$f":"IFERROR(VLOOKUP(D2743,Códigos!B:C,2,0),\" \")","v":" "}]
[null,null,null,null,{"$f":"IFERROR(VLOOKUP(D2744,Códigos!B:C,2,0),\" \")","v":" "}]
[null,null,null,null,{"$f":"IFERROR(VLOOKUP(D2745,Códigos!B:C,2,0),\" \")","v":" "}]
[null,null,null,null,{"$f":"IFERROR(VLOOKUP(D2746,Códigos!B:C,2,0),\" \")","v":" "}]
[null,null,null,null,{"$f":"IFERROR(VLOOKUP(D2747,Códigos!B:C,2,0),\" \")","v":" "}]
[null,null,null,null,{"$f":"IFERROR(VLOOKUP(D2748,Códigos!B:C,2,0),\" \")","v":" "}]
[null,null,null,null,{"$f":"IFERROR(VLOOKUP(D2749,Códigos!B:C,2,0),\" \")","v":" "}]
[null,null,null,null,{"$f":"IFERROR(VLOOKUP(D2750,Códigos!B:C,2,0),\" \")","v":" "}]
[null,null,null,null,{"$f":"IFERROR(VLOOKUP(D2751,Códigos!B:C,2,0),\" \")","v":" "}]
[null,null,null,null,{"$f":"IFERROR(VLOOKUP(D2752,Códigos!B:C,2,0),\" \")","v":" "}]
[null,null,null,null,{"$f":"IFERROR(VLOOKUP(D2753,Códigos!B:C,2,0),\" \")","v":" "}]
[null,null,null,null,{"$f":"IFERROR(VLOOKUP(D2754,Códigos!B:C,2,0),\" \")","v":" "}]
[null,null,null,null,{"$f":"IFERROR(VLOOKUP(D2755,Códigos!B:C,2,0),\" \")","v":" "}]
[null,null,null,null,{"$f":"IFERROR(VLOOKUP(D2756,Códigos!B:C,2,0),\" \")","v":" "}]
[null,null,null,null,{"$f":"IFERROR(VLOOKUP(D2757,Códigos!B:C,2,0),\" \")","v":" "}]
[null,null,null,null,{"$f":"IFERROR(VLOOKUP(D2758,Códigos!B:C,2,0),\" \")","v":" "}]
[null,null,null,null,{"$f":"IFERROR(VLOOKUP(D2759,Códigos!B:C,2,0),\" \")","v":" "}]
[null,null,null,null,{"$f":"IFERROR(VLOOKUP(D2760,Códigos!B:C,2,0),\" \")","v":" "}]
[null,null,null,null,{"$f":"IFERROR(VLOOKUP(D2761,Códigos!B:C,2,0),\" \")","v":" "}]
[null,null,null,null,{"$f":"IFERROR(VLOOKUP(D2762,Códigos!B:C,2,0),\" \")","v":" "}]
[null,null,null,null,{"$f":"IFERROR(VLOOKUP(D2763,Códigos!B:C,2,0),\" \")","v":" "}]
[null,null,null,null,{"$f":"IFERROR(VLOOKUP(D2764,Códigos!B:C,2,0),\" \")","v":" "}]
[null,null,null,null,{"$f":"IFERROR(VLOOKUP(D2765,Códigos!B:C,2,0),\" \")","v":" "}]
[null,null,null,null,{"$f":"IFERROR(VLOOKUP(D2766,Códigos!B:C,2,0),\" \")","v":" "}]
[null,null,null,null,{"$f":"IFERROR(VLOOKUP(D2767,Códigos!B:C,2,0),\" \")","v":" "}]
[null,null,null,null,{"$f":"IFERROR(VLOOKUP(D2768,Códigos!B:C,2,0),\" \")","v":" "}]
[null,null,null,null,{"$f":"IFERROR(VLOOKUP(D2769,Códigos!B:C,2,0),\" \")","v":" "}]
[null,null,null,null,{"$f":"IFERROR(VLOOKUP(D2770,Códigos!B:C,2,0),\" \")","v":" "}]
[null,null,null,null,{"$f":"IFERROR(VLOOKUP(D2771,Códigos!B:C,2,0),\" \")","v":" "}]
[null,null,null,null,{"$f":"IFERROR(VLOOKUP(D2772,Códigos!B:C,2,0),\" \")","v":" "}]
[null,null,null,null,{"$f":"IFERROR(VLOOKUP(D2773,Códigos!B:C,2,0),\" \")","v":" "}]
[null,null,null,null,{"$f":"IFERROR(VLOOKUP(D2774,Códigos!B:C,2,0),\" \")","v":" "}]
[null,null,null,null,{"$f":"IFERROR(VLOOKUP(D2775,Códigos!B:C,2,0),\" \")","v":" "}]
[null,null,null,null,{"$f":"IFERROR(VLOOKUP(D2776,Códigos!B:C,2,0),\" \")","v":" "}]
[null,null,null,null,{"$f":"IFERROR(VLOOKUP(D2777,Códigos!B:C,2,0),\" \")","v":" "}]
[null,null,null,null,{"$f":"IFERROR(VLOOKUP(D2778,Códigos!B:C,2,0),\" \")","v":" "}]
[null,null,null,null,{"$f":"IFERROR(VLOOKUP(D2779,Códigos!B:C,2,0),\" \")","v":" "}]
[null,null,null,null,{"$f":"IFERROR(VLOOKUP(D2780,Códigos!B:C,2,0),\" \")","v":" "}]
[null,null,null,null,{"$f":"IFERROR(VLOOKUP(D2781,Códigos!B:C,2,0),\" \")","v":" "}]
[null,null,null,null,{"$f":"IFERROR(VLOOKUP(D2782,Códigos!B:C,2,0),\" \")","v":" "}]
[null,null,null,null,{"$f":"IFERROR(VLOOKUP(D2783,Códigos!B:C,2,0),\" \")","v":" "}]
[null,null,null,null,{"$f":"IFERROR(VLOOKUP(D2784,Códigos!B:C,2,0),\" \")","v":" "}]
[null,null,null,null,{"$f":"IFERROR(VLOOKUP(D2785,Códigos!B:C,2,0),\" \")","v":" "}]
[null,null,null,null,{"$f":"IFERROR(VLOOKUP(D2786,Códigos!B:C,2,0),\" \")","v":" "}]
[null,null,null,null,{"$f":"IFERROR(VLOOKUP(D2787,Códigos!B:C,2,0),\" \")","v":" "}]
[null,null,null,null,{"$f":"IFERROR(VLOOKUP(D2788,Códigos!B:C,2,0),\" \")","v":" "}]
[null,null,null,null,{"$f":"IFERROR(VLOOKUP(D2789,Códigos!B:C,2,0),\" \")","v":" "}]
[null,null,null,null,{"$f":"IFERROR(VLOOKUP(D2790,Códigos!B:C,2,0),\" \")","v":" "}]
[null,null,null,null,{"$f":"IFERROR(VLOOKUP(D2791,Códigos!B:C,2,0),\" \")","v":" "}]
[null,null,null,null,{"$f":"IFERROR(VLOOKUP(D2792,Códigos!B:C,2,0),\" \")","v":" "}]
[null,null,null,null,{"$f":"IFERROR(VLOOKUP(D2793,Códigos!B:C,2,0),\" \")","v":" "}]
[null,null,null,null,{"$f":"IFERROR(VLOOKUP(D2794,Códigos!B:C,2,0),\" \")","v":" "}]
[null,null,null,null,{"$f":"IFERROR(VLOOKUP(D2795,Códigos!B:C,2,0),\" \")","v":" "}]
[null,null,null,null,{"$f":"IFERROR(VLOOKUP(D2796,Códigos!B:C,2,0),\" \")","v":" "}]
[null,null,null,null,{"$f":"IFERROR(VLOOKUP(D2797,Códigos!B:C,2,0),\" \")","v":" "}]
[null,null,null,null,{"$f":"IFERROR(VLOOKUP(D2798,Códigos!B:C,2,0),\" \")","v":" "}]
[null,null,null,null,{"$f":"IFERROR(VLOOKUP(D2799,Códigos!B:C,2,0),\" \")","v":" "}]
[null,null,null,null,{"$f":"IFERROR(VLOOKUP(D2800,Códigos!B:C,2,0),\" \")","v":" "}]
[null,null,null,null,{"$f":"IFERROR(VLOOKUP(D2801,Códigos!B:C,2,0),\" \")","v":" "}]
[null,null,null,null,{"$f":"IFERROR(VLOOKUP(D2802,Códigos!B:C,2,0),\" \")","v":" "}]
[null,null,null,null,{"$f":"IFERROR(VLOOKUP(D2803,Códigos!B:C,2,0),\" \")","v":" "}]
[null,null,null,null,{"$f":"IFERROR(VLOOKUP(D2804,Códigos!B:C,2,0),\" \")","v":" "}]
[null,null,null,null,{"$f":"IFERROR(VLOOKUP(D2805,Códigos!B:C,2,0),\" \")","v":" "}]
[null,null,null,null,{"$f":"IFERROR(VLOOKUP(D2806,Códigos!B:C,2,0),\" \")","v":" "}]
[null,null,null,null,{"$f":"IFERROR(VLOOKUP(D2807,Códigos!B:C,2,0),\" \")","v":" "}]
[null,null,null,null,{"$f":"IFERROR(VLOOKUP(D2808,Códigos!B:C,2,0),\" \")","v":" "}]
[null,null,null,null,{"$f":"IFERROR(VLOOKUP(D2809,Códigos!B:C,2,0),\" \")","v":" "}]
[null,null,null,null,{"$f":"IFERROR(VLOOKUP(D2810,Códigos!B:C,2,0),\" \")","v":" "}]
[null,null,null,null,{"$f":"IFERROR(VLOOKUP(D2811,Códigos!B:C,2,0),\" \")","v":" "}]
[null,null,null,null,{"$f":"IFERROR(VLOOKUP(D2812,Códigos!B:C,2,0),\" \")","v":" "}]
[null,null,null,null,{"$f":"IFERROR(VLOOKUP(D2813,Códigos!B:C,2,0),\" \")","v":" "}]
[null,null,null,null,{"$f":"IFERROR(VLOOKUP(D2814,Códigos!B:C,2,0),\" \")","v":" "}]
[null,null,null,null,{"$f":"IFERROR(VLOOKUP(D2815,Códigos!B:C,2,0),\" \")","v":" "}]
[null,null,null,null,{"$f":"IFERROR(VLOOKUP(D2816,Códigos!B:C,2,0),\" \")","v":" "}]
[null,null,null,null,{"$f":"IFERROR(VLOOKUP(D2817,Códigos!B:C,2,0),\" \")","v":" "}]
[null,null,null,null,{"$f":"IFERROR(VLOOKUP(D2818,Códigos!B:C,2,0),\" \")","v":" "}]
[null,null,null,null,{"$f":"IFERROR(VLOOKUP(D2819,Códigos!B:C,2,0),\" \")","v":" "}]
[null,null,null,null,{"$f":"IFERROR(VLOOKUP(D2820,Códigos!B:C,2,0),\" \")","v":" "}]
[null,null,null,null,{"$f":"IFERROR(VLOOKUP(D2821,Códigos!B:C,2,0),\" \")","v":" "}]
[null,null,null,null,{"$f":"IFERROR(VLOOKUP(D2822,Códigos!B:C,2,0),\" \")","v":" "}]
[null,null,null,null,{"$f":"IFERROR(VLOOKUP(D2823,Códigos!B:C,2,0),\" \")","v":" "}]
[null,null,null,null,{"$f":"IFERROR(VLOOKUP(D2824,Códigos!B:C,2,0),\" \")","v":" "}]
[null,null,null,null,{"$f":"IFERROR(VLOOKUP(D2825,Códigos!B:C,2,0),\" \")","v":" "}]
[null,null,null,null,{"$f":"IFERROR(VLOOKUP(D2826,Códigos!B:C,2,0),\" \")","v":" "}]
[null,null,null,null,{"$f":"IFERROR(VLOOKUP(D2827,Códigos!B:C,2,0),\" \")","v":" "}]
[null,null,null,null,{"$f":"IFERROR(VLOOKUP(D2828,Códigos!B:C,2,0),\" \")","v":" "}]
[null,null,null,null,{"$f":"IFERROR(VLOOKUP(D2829,Códigos!B:C,2,0),\" \")","v":" "}]
[null,null,null,null,{"$f":"IFERROR(VLOOKUP(D2830,Códigos!B:C,2,0),\" \")","v":" "}]
[null,null,null,null,{"$f":"IFERROR(VLOOKUP(D2831,Códigos!B:C,2,0),\" \")","v":" "}]
[null,null,null,null,{"$f":"IFERROR(VLOOKUP(D2832,Códigos!B:C,2,0),\" \")","v":" "}]
[null,null,null,null,{"$f":"IFERROR(VLOOKUP(D2833,Códigos!B:C,2,0),\" \")","v":" "}]
[null,null,null,null,{"$f":"IFERROR(VLOOKUP(D2834,Códigos!B:C,2,0),\" \")","v":" "}]
[null,null,null,null,{"$f":"IFERROR(VLOOKUP(D2835,Códigos!B:C,2,0),\" \")","v":" "}]
[null,null,null,null,{"$f":"IFERROR(VLOOKUP(D2836,Códigos!B:C,2,0),\" \")","v":" "}]
[null,null,null,null,{"$f":"IFERROR(VLOOKUP(D2837,Códigos!B:C,2,0),\" \")","v":" "}]
[null,null,null,null,{"$f":"IFERROR(VLOOKUP(D2838,Códigos!B:C,2,0),\" \")","v":" "}]
[null,null,null,null,{"$f":"IFERROR(VLOOKUP(D2839,Códigos!B:C,2,0),\" \")","v":" "}]
[null,null,null,null,{"$f":"IFERROR(VLOOKUP(D2840,Códigos!B:C,2,0),\" \")","v":" "}]
[null,null,null,null,{"$f":"IFERROR(VLOOKUP(D2841,Códigos!B:C,2,0),\" \")","v":" "}]
[null,null,null,null,{"$f":"IFERROR(VLOOKUP(D2842,Códigos!B:C,2,0),\" \")","v":" "}]
[null,null,null,null,{"$f":"IFERROR(VLOOKUP(D2843,Códigos!B:C,2,0),\" \")","v":" "}]
[null,null,null,null,{"$f":"IFERROR(VLOOKUP(D2844,Códigos!B:C,2,0),\" \")","v":" "}]
[null,null,null,null,{"$f":"IFERROR(VLOOKUP(D2845,Códigos!B:C,2,0),\" \")","v":" "}]
[null,null,null,null,{"$f":"IFERROR(VLOOKUP(D2846,Códigos!B:C,2,0),\" \")","v":" "}]
[null,null,null,null,{"$f":"IFERROR(VLOOKUP(D2847,Códigos!B:C,2,0),\" \")","v":" "}]
[null,null,null,null,{"$f":"IFERROR(VLOOKUP(D2848,Códigos!B:C,2,0),\" \")","v":" "}]
[null,null,null,null,{"$f":"IFERROR(VLOOKUP(D2849,Códigos!B:C,2,0),\" \")","v":" "}]
[null,null,null,null,{"$f":"IFERROR(VLOOKUP(D2850,Códigos!B:C,2,0),\" \")","v":" "}]
[null,null,null,null,{"$f":"IFERROR(VLOOKUP(D2851,Códigos!B:C,2,0),\" \")","v":" "}]
[null,null,null,null,{"$f":"IFERROR(VLOOKUP(D2852,Códigos!B:C,2,0),\" \")","v":" "}]
[null,null,null,null,{"$f":"IFERROR(VLOOKUP(D2853,Códigos!B:C,2,0),\" \")","v":" "}]
[null,null,null,null,{"$f":"IFERROR(VLOOKUP(D2854,Códigos!B:C,2,0),\" \")","v":" "}]
[null,null,null,null,{"$f":"IFERROR(VLOOKUP(D2855,Códigos!B:C,2,0),\" \")","v":" "}]
[null,null,null,null,{"$f":"IFERROR(VLOOKUP(D2856,Códigos!B:C,2,0),\" \")","v":" "}]
[null,null,null,null,{"$f":"IFERROR(VLOOKUP(D2857,Códigos!B:C,2,0),\" \")","v":" "}]
[null,null,null,null,{"$f":"IFERROR(VLOOKUP(D2858,Códigos!B:C,2,0),\" \")","v":" "}]
[null,null,null,null,{"$f":"IFERROR(VLOOKUP(D2859,Códigos!B:C,2,0),\" \")","v":" "}]
[null,null,null,null,{"$f":"IFERROR(VLOOKUP(D2860,Códigos!B:C,2,0),\" \")","v":" "}]
[null,null,null,null,{"$f":"IFERROR(VLOOKUP(D2861,Códigos!B:C,2,0),\" \")","v":" "}]
[null,null,null,null,{"$f":"IFERROR(VLOOKUP(D2862,Códigos!B:C,2,0),\" \")","v":" "}]
[null,null,null,null,{"$f":"IFERROR(VLOOKUP(D2863,Códigos!B:C,2,0),\" \")","v":" "}]
[null,null,null,null,{"$f":"IFERROR(VLOOKUP(D2864,Códigos!B:C,2,0),\" \")","v":" "}]
[null,null,null,null,{"$f":"IFERROR(VLOOKUP(D2865,Códigos!B:C,2,0),\" \")","v":" "}]
[null,null,null,null,{"$f":"IFERROR(VLOOKUP(D2866,Códigos!B:C,2,0),\" \")","v":" "}]
[null,null,null,null,{"$f":"IFERROR(VLOOKUP(D2867,Códigos!B:C,2,0),\" \")","v":" "}]
[null,null,null,null,{"$f":"IFERROR(VLOOKUP(D2868,Códigos!B:C,2,0),\" \")","v":" "}]
[null,null,null,null,{"$f":"IFERROR(VLOOKUP(D2869,Códigos!B:C,2,0),\" \")","v":" "}]
[null,null,null,null,{"$f":"IFERROR(VLOOKUP(D2870,Códigos!B:C,2,0),\" \")","v":" "}]
[null,null,null,null,{"$f":"IFERROR(VLOOKUP(D2871,Códigos!B:C,2,0),\" \")","v":" "}]
[null,null,null,null,{"$f":"IFERROR(VLOOKUP(D2872,Códigos!B:C,2,0),\" \")","v":" "}]
[null,null,null,null,{"$f":"IFERROR(VLOOKUP(D2873,Códigos!B:C,2,0),\" \")","v":" "}]
[null,null,null,null,{"$f":"IFERROR(VLOOKUP(D2874,Códigos!B:C,2,0),\" \")","v":" "}]
[null,null,null,null,{"$f":"IFERROR(VLOOKUP(D2875,Códigos!B:C,2,0),\" \")","v":" "}]
[null,null,null,null,{"$f":"IFERROR(VLOOKUP(D2876,Códigos!B:C,2,0),\" \")","v":" "}]
[null,null,null,null,{"$f":"IFERROR(VLOOKUP(D2877,Códigos!B:C,2,0),\" \")","v":" "}]
[null,null,null,null,{"$f":"IFERROR(VLOOKUP(D2878,Códigos!B:C,2,0),\" \")","v":" "}]
[null,null,null,null,{"$f":"IFERROR(VLOOKUP(D2879,Códigos!B:C,2,0),\" \")","v":" "}]
[null,null,null,null,{"$f":"IFERROR(VLOOKUP(D2880,Códigos!B:C,2,0),\" \")","v":" "}]
[null,null,null,null,{"$f":"IFERROR(VLOOKUP(D2881,Códigos!B:C,2,0),\" \")","v":" "}]
[null,null,null,null,{"$f":"IFERROR(VLOOKUP(D2882,Códigos!B:C,2,0),\" \")","v":" "}]
[null,null,null,null,{"$f":"IFERROR(VLOOKUP(D2883,Códigos!B:C,2,0),\" \")","v":" "}]
[null,null,null,null,{"$f":"IFERROR(VLOOKUP(D2884,Códigos!B:C,2,0),\" \")","v":" "}]
[null,null,null,null,{"$f":"IFERROR(VLOOKUP(D2885,Códigos!B:C,2,0),\" \")","v":" "}]
[null,null,null,null,{"$f":"IFERROR(VLOOKUP(D2886,Códigos!B:C,2,0),\" \")","v":" "}]
[null,null,null,null,{"$f":"IFERROR(VLOOKUP(D2887,Códigos!B:C,2,0),\" \")","v":" "}]
[null,null,null,null,{"$f":"IFERROR(VLOOKUP(D2888,Códigos!B:C,2,0),\" \")","v":" "}]
[null,null,null,null,{"$f":"IFERROR(VLOOKUP(D2889,Códigos!B:C,2,0),\" \")","v":" "}]
[null,null,null,null,{"$f":"IFERROR(VLOOKUP(D2890,Códigos!B:C,2,0),\" \")","v":" "}]
[null,null,null,null,{"$f":"IFERROR(VLOOKUP(D2891,Códigos!B:C,2,0),\" \")","v":" "}]
[null,null,null,null,{"$f":"IFERROR(VLOOKUP(D2892,Códigos!B:C,2,0),\" \")","v":" "}]
[null,null,null,null,{"$f":"IFERROR(VLOOKUP(D2893,Códigos!B:C,2,0),\" \")","v":" "}]
[null,null,null,null,{"$f":"IFERROR(VLOOKUP(D2894,Códigos!B:C,2,0),\" \")","v":" "}]
[null,null,null,null,{"$f":"IFERROR(VLOOKUP(D2895,Códigos!B:C,2,0),\" \")","v":" "}]
[null,null,null,null,{"$f":"IFERROR(VLOOKUP(D2896,Códigos!B:C,2,0),\" \")","v":" "}]
[null,null,null,null,{"$f":"IFERROR(VLOOKUP(D2897,Códigos!B:C,2,0),\" \")","v":" "}]
[null,null,null,null,{"$f":"IFERROR(VLOOKUP(D2898,Códigos!B:C,2,0),\" \")","v":" "}]
[null,null,null,null,{"$f":"IFERROR(VLOOKUP(D2899,Códigos!B:C,2,0),\" \")","v":" "}]
[null,null,null,null,{"$f":"IFERROR(VLOOKUP(D2900,Códigos!B:C,2,0),\" \")","v":" "}]
[null,null,null,null,{"$f":"IFERROR(VLOOKUP(D2901,Códigos!B:C,2,0),\" \")","v":" "}]
[null,null,null,null,{"$f":"IFERROR(VLOOKUP(D2902,Códigos!B:C,2,0),\" \")","v":" "}]
[null,null,null,null,{"$f":"IFERROR(VLOOKUP(D2903,Códigos!B:C,2,0),\" \")","v":" "}]
[null,null,null,null,{"$f":"IFERROR(VLOOKUP(D2904,Códigos!B:C,2,0),\" \")","v":" "}]
[null,null,null,null,{"$f":"IFERROR(VLOOKUP(D2905,Códigos!B:C,2,0),\" \")","v":" "}]
[null,null,null,null,{"$f":"IFERROR(VLOOKUP(D2906,Códigos!B:C,2,0),\" \")","v":" "}]
[null,null,null,null,{"$f":"IFERROR(VLOOKUP(D2907,Códigos!B:C,2,0),\" \")","v":" "}]
[null,null,null,null,{"$f":"IFERROR(VLOOKUP(D2908,Códigos!B:C,2,0),\" \")","v":" "}]
[null,null,null,null,{"$f":"IFERROR(VLOOKUP(D2909,Códigos!B:C,2,0),\" \")","v":" "}]
[null,null,null,null,{"$f":"IFERROR(VLOOKUP(D2910,Códigos!B:C,2,0),\" \")","v":" "}]
[null,null,null,null,{"$f":"IFERROR(VLOOKUP(D2911,Códigos!B:C,2,0),\" \")","v":" "}]
[null,null,null,null,{"$f":"IFERROR(VLOOKUP(D2912,Códigos!B:C,2,0),\" \")","v":" "}]
[null,null,null,null,{"$f":"IFERROR(VLOOKUP(D2913,Códigos!B:C,2,0),\" \")","v":" "}]
[null,null,null,null,{"$f":"IFERROR(VLOOKUP(D2914,Códigos!B:C,2,0),\" \")","v":" "}]
[null,null,null,null,{"$f":"IFERROR(VLOOKUP(D2915,Códigos!B:C,2,0),\" \")","v":" "}]
[null,null,null,null,{"$f":"IFERROR(VLOOKUP(D2916,Códigos!B:C,2,0),\" \")","v":" "}]
[null,null,null,null,{"$f":"IFERROR(VLOOKUP(D2917,Códigos!B:C,2,0),\" \")","v":" "}]
[null,null,null,null,{"$f":"IFERROR(VLOOKUP(D2918,Códigos!B:C,2,0),\" \")","v":" "}]
[null,null,null,null,{"$f":"IFERROR(VLOOKUP(D2919,Códigos!B:C,2,0),\" \")","v":" "}]
[null,null,null,null,{"$f":"IFERROR(VLOOKUP(D2920,Códigos!B:C,2,0),\" \")","v":" "}]
[null,null,null,null,{"$f":"IFERROR(VLOOKUP(D2921,Códigos!B:C,2,0),\" \")","v":" "}]
[null,null,null,null,{"$f":"IFERROR(VLOOKUP(D2922,Códigos!B:C,2,0),\" \")","v":" "}]
[null,null,null,null,{"$f":"IFERROR(VLOOKUP(D2923,Códigos!B:C,2,0),\" \")","v":" "}]
[null,null,null,null,{"$f":"IFERROR(VLOOKUP(D2924,Códigos!B:C,2,0),\" \")","v":" "}]
[null,null,null,null,{"$f":"IFERROR(VLOOKUP(D2925,Códigos!B:C,2,0),\" \")","v":" "}]
[null,null,null,null,{"$f":"IFERROR(VLOOKUP(D2926,Códigos!B:C,2,0),\" \")","v":" "}]
[null,null,null,null,{"$f":"IFERROR(VLOOKUP(D2927,Códigos!B:C,2,0),\" \")","v":" "}]
[null,null,null,null,{"$f":"IFERROR(VLOOKUP(D2928,Códigos!B:C,2,0),\" \")","v":" "}]
[null,null,null,null,{"$f":"IFERROR(VLOOKUP(D2929,Códigos!B:C,2,0),\" \")","v":" "}]
[null,null,null,null,{"$f":"IFERROR(VLOOKUP(D2930,Códigos!B:C,2,0),\" \")","v":" "}]
[null,null,null,null,{"$f":"IFERROR(VLOOKUP(D2931,Códigos!B:C,2,0),\" \")","v":" "}]
[null,null,null,null,{"$f":"IFERROR(VLOOKUP(D2932,Códigos!B:C,2,0),\" \")","v":" "}]
[null,null,null,null,{"$f":"IFERROR(VLOOKUP(D2933,Códigos!B:C,2,0),\" \")","v":" "}]
[null,null,null,null,{"$f":"IFERROR(VLOOKUP(D2934,Códigos!B:C,2,0),\" \")","v":" "}]
[null,null,null,null,{"$f":"IFERROR(VLOOKUP(D2935,Códigos!B:C,2,0),\" \")","v":" "}]
[null,null,null,null,{"$f":"IFERROR(VLOOKUP(D2936,Códigos!B:C,2,0),\" \")","v":" "}]
[null,null,null,null,{"$f":"IFERROR(VLOOKUP(D2937,Códigos!B:C,2,0),\" \")","v":" "}]
[null,null,null,null,{"$f":"IFERROR(VLOOKUP(D2938,Códigos!B:C,2,0),\" \")","v":" "}]
[null,null,null,null,{"$f":"IFERROR(VLOOKUP(D2939,Códigos!B:C,2,0),\" \")","v":" "}]
[null,null,null,null,{"$f":"IFERROR(VLOOKUP(D2940,Códigos!B:C,2,0),\" \")","v":" "}]
[null,null,null,null,{"$f":"IFERROR(VLOOKUP(D2941,Códigos!B:C,2,0),\" \")","v":" "}]
[null,null,null,null,{"$f":"IFERROR(VLOOKUP(D2942,Códigos!B:C,2,0),\" \")","v":" "}]
[null,null,null,null,{"$f":"IFERROR(VLOOKUP(D2943,Códigos!B:C,2,0),\" \")","v":" "}]
[null,null,null,null,{"$f":"IFERROR(VLOOKUP(D2944,Códigos!B:C,2,0),\" \")","v":" "}]
[null,null,null,null,{"$f":"IFERROR(VLOOKUP(D2945,Códigos!B:C,2,0),\" \")","v":" "}]
[null,null,null,null,{"$f":"IFERROR(VLOOKUP(D2946,Códigos!B:C,2,0),\" \")","v":" "}]
[null,null,null,null,{"$f":"IFERROR(VLOOKUP(D2947,Códigos!B:C,2,0),\" \")","v":" "}]
[null,null,null,null,{"$f":"IFERROR(VLOOKUP(D2948,Códigos!B:C,2,0),\" \")","v":" "}]
[null,null,null,null,{"$f":"IFERROR(VLOOKUP(D2949,Códigos!B:C,2,0),\" \")","v":" "}]
[null,null,null,null,{"$f":"IFERROR(VLOOKUP(D2950,Códigos!B:C,2,0),\" \")","v":" "}]
[null,null,null,null,{"$f":"IFERROR(VLOOKUP(D2951,Códigos!B:C,2,0),\" \")","v":" "}]
[null,null,null,null,{"$f":"IFERROR(VLOOKUP(D2952,Códigos!B:C,2,0),\" \")","v":" "}]
[null,null,null,null,{"$f":"IFERROR(VLOOKUP(D2953,Códigos!B:C,2,0),\" \")","v":" "}]
[null,null,null,null,{"$f":"IFERROR(VLOOKUP(D2954,Códigos!B:C,2,0),\" \")","v":" "}]
[null,null,null,null,{"$f":"IFERROR(VLOOKUP(D2955,Códigos!B:C,2,0),\" \")","v":" "}]
[null,null,null,null,{"$f":"IFERROR(VLOOKUP(D2956,Códigos!B:C,2,0),\" \")","v":" "}]
[null,null,null,null,{"$f":"IFERROR(VLOOKUP(D2957,Códigos!B:C,2,0),\" \")","v":" "}]
[null,null,null,null,{"$f":"IFERROR(VLOOKUP(D2958,Códigos!B:C,2,0),\" \")","v":" "}]
[null,null,null,null,{"$f":"IFERROR(VLOOKUP(D2959,Códigos!B:C,2,0),\" \")","v":" "}]
[null,null,null,null,{"$f":"IFERROR(VLOOKUP(D2960,Códigos!B:C,2,0),\" \")","v":" "}]
[null,null,null,null,{"$f":"IFERROR(VLOOKUP(D2961,Códigos!B:C,2,0),\" \")","v":" "}]
[null,null,null,null,{"$f":"IFERROR(VLOOKUP(D2962,Códigos!B:C,2,0),\" \")","v":" "}]
[null,null,null,null,{"$f":"IFERROR(VLOOKUP(D2963,Códigos!B:C,2,0),\" \")","v":" "}]
[null,null,null,null,{"$f":"IFERROR(VLOOKUP(D2964,Códigos!B:C,2,0),\" \")","v":" "}]
[null,null,null,null,{"$f":"IFERROR(VLOOKUP(D2965,Códigos!B:C,2,0),\" \")","v":" "}]
[null,null,null,null,{"$f":"IFERROR(VLOOKUP(D2966,Códigos!B:C,2,0),\" \")","v":" "}]
[null,null,null,null,{"$f":"IFERROR(VLOOKUP(D2967,Códigos!B:C,2,0),\" \")","v":" "}]
[null,null,null,null,{"$f":"IFERROR(VLOOKUP(D2968,Códigos!B:C,2,0),\" \")","v":" "}]
[null,null,null,null,{"$f":"IFERROR(VLOOKUP(D2969,Códigos!B:C,2,0),\" \")","v":" "}]
[null,null,null,null,{"$f":"IFERROR(VLOOKUP(D2970,Códigos!B:C,2,0),\" \")","v":" "}]
[null,null,null,null,{"$f":"IFERROR(VLOOKUP(D2971,Códigos!B:C,2,0),\" \")","v":" "}]
[null,null,null,null,{"$f":"IFERROR(VLOOKUP(D2972,Códigos!B:C,2,0),\" \")","v":" "}]
[null,null,null,null,{"$f":"IFERROR(VLOOKUP(D2973,Códigos!B:C,2,0),\" \")","v":" "}]
[null,null,null,null,{"$f":"IFERROR(VLOOKUP(D2974,Códigos!B:C,2,0),\" \")","v":" "}]
[null,null,null,null,{"$f":"IFERROR(VLOOKUP(D2975,Códigos!B:C,2,0),\" \")","v":" "}]
[null,null,null,null,{"$f":"IFERROR(VLOOKUP(D2976,Códigos!B:C,2,0),\" \")","v":" "}]
[null,null,null,null,{"$f":"IFERROR(VLOOKUP(D2977,Códigos!B:C,2,0),\" \")","v":" "}]
[null,null,null,null,{"$f":"IFERROR(VLOOKUP(D2978,Códigos!B:C,2,0),\" \")","v":" "}]
[null,null,null,null,{"$f":"IFERROR(VLOOKUP(D2979,Códigos!B:C,2,0),\" \")","v":" "}]
[null,null,null,null,{"$f":"IFERROR(VLOOKUP(D2980,Códigos!B:C,2,0),\" \")","v":" "}]
[null,null,null,null,{"$f":"IFERROR(VLOOKUP(D2981,Códigos!B:C,2,0),\" \")","v":" "}]
[null,null,null,null,{"$f":"IFERROR(VLOOKUP(D2982,Códigos!B:C,2,0),\" \")","v":" "}]
[null,null,null,null,{"$f":"IFERROR(VLOOKUP(D2983,Códigos!B:C,2,0),\" \")","v":" "}]
[null,null,null,null,{"$f":"IFERROR(VLOOKUP(D2984,Códigos!B:C,2,0),\" \")","v":" "}]
[null,null,null,null,{"$f":"IFERROR(VLOOKUP(D2985,Códigos!B:C,2,0),\" \")","v":" "}]
[null,null,null,null,{"$f":"IFERROR(VLOOKUP(D2986,Códigos!B:C,2,0),\" \")","v":" "}]
[null,null,null,null,{"$f":"IFERROR(VLOOKUP(D2987,Códigos!B:C,2,0),\" \")","v":" "}]
[null,null,null,null,{"$f":"IFERROR(VLOOKUP(D2988,Códigos!B:C,2,0),\" \")","v":" "}]
[null,null,null,null,{"$f":"IFERROR(VLOOKUP(D2989,Códigos!B:C,2,0),\" \")","v":" "}]
[null,null,null,null,{"$f":"IFERROR(VLOOKUP(D2990,Códigos!B:C,2,0),\" \")","v":" "}]
[null,null,null,null,{"$f":"IFERROR(VLOOKUP(D2991,Códigos!B:C,2,0),\" \")","v":" "}]
[null,null,null,null,{"$f":"IFERROR(VLOOKUP(D2992,Códigos!B:C,2,0),\" \")","v":" "}]
[null,null,null,null,{"$f":"IFERROR(VLOOKUP(D2993,Códigos!B:C,2,0),\" \")","v":" "}]
[null,null,null,null,{"$f":"IFERROR(VLOOKUP(D2994,Códigos!B:C,2,0),\" \")","v":" "}]
[null,null,null,null,{"$f":"IFERROR(VLOOKUP(D2995,Códigos!B:C,2,0),\" \")","v":" "}]
[null,null,null,null,{"$f":"IFERROR(VLOOKUP(D2996,Códigos!B:C,2,0),\" \")","v":" "}]
[null,null,null,null,{"$f":"IFERROR(VLOOKUP(D2997,Códigos!B:C,2,0),\" \")","v":" "}]
[null,null,null,null,{"$f":"IFERROR(VLOOKUP(D2998,Códigos!B:C,2,0),\" \")","v":" "}]
[null,null,null,null,{"$f":"IFERROR(VLOOKUP(D2999,Códigos!B:C,2,0),\" \")","v":" "}]
[null,null,null,null,{"$f":"IFERROR(VLOOKUP(D3000,Códigos!B:C,2,0),\" \")","v":" "}]
[null,null,null,null,{"$f":"IFERROR(VLOOKUP(D3001,Códigos!B:C,2,0),\" \")","v":" "}]
[null,null,null,null,{"$f":"IFERROR(VLOOKUP(D3002,Códigos!B:C,2,0),\" \")","v":" "}]
[null,null,null,null,{"$f":"IFERROR(VLOOKUP(D3003,Códigos!B:C,2,0),\" \")","v":" "}]
[null,null,null,null,{"$f":"IFERROR(VLOOKUP(D3004,Códigos!B:C,2,0),\" \")","v":" "}]
[null,null,null,null,{"$f":"IFERROR(VLOOKUP(D3005,Códigos!B:C,2,0),\" \")","v":" "}]
[null,null,null,null,{"$f":"IFERROR(VLOOKUP(D3006,Códigos!B:C,2,0),\" \")","v":" "}]
[null,null,null,null,{"$f":"IFERROR(VLOOKUP(D3007,Códigos!B:C,2,0),\" \")","v":" "}]
[null,null,null,null,{"$f":"IFERROR(VLOOKUP(D3008,Códigos!B:C,2,0),\" \")","v":" "}]
[null,null,null,null,{"$f":"IFERROR(VLOOKUP(D3009,Códigos!B:C,2,0),\" \")","v":" "}]
[null,null,null,null,{"$f":"IFERROR(VLOOKUP(D3010,Códigos!B:C,2,0),\" \")","v":" "}]
[null,null,null,null,{"$f":"IFERROR(VLOOKUP(D3011,Códigos!B:C,2,0),\" \")","v":" "}]
[null,null,null,null,{"$f":"IFERROR(VLOOKUP(D3012,Códigos!B:C,2,0),\" \")","v":" "}]
[null,null,null,null,{"$f":"IFERROR(VLOOKUP(D3013,Códigos!B:C,2,0),\" \")","v":" "}]
[null,null,null,null,{"$f":"IFERROR(VLOOKUP(D3014,Códigos!B:C,2,0),\" \")","v":" "}]
[null,null,null,null,{"$f":"IFERROR(VLOOKUP(D3015,Códigos!B:C,2,0),\" \")","v":" "}]
[null,null,null,null,{"$f":"IFERROR(VLOOKUP(D3016,Códigos!B:C,2,0),\" \")","v":" "}]
[null,null,null,null,{"$f":"IFERROR(VLOOKUP(D3017,Códigos!B:C,2,0),\" \")","v":" "}]
[null,null,null,null,{"$f":"IFERROR(VLOOKUP(D3018,Códigos!B:C,2,0),\" \")","v":" "}]
[null,null,null,null,{"$f":"IFERROR(VLOOKUP(D3019,Códigos!B:C,2,0),\" \")","v":" "}]
[null,null,null,null,{"$f":"IFERROR(VLOOKUP(D3020,Códigos!B:C,2,0),\" \")","v":" "}]
[null,null,null,null,{"$f":"IFERROR(VLOOKUP(D3021,Códigos!B:C,2,0),\" \")","v":" "}]
[null,null,null,null,{"$f":"IFERROR(VLOOKUP(D3022,Códigos!B:C,2,0),\" \")","v":" "}]
[null,null,null,null,{"$f":"IFERROR(VLOOKUP(D3023,Códigos!B:C,2,0),\" \")","v":" "}]
[null,null,null,null,{"$f":"IFERROR(VLOOKUP(D3024,Códigos!B:C,2,0),\" \")","v":" "}]
[null,null,null,null,{"$f":"IFERROR(VLOOKUP(D3025,Códigos!B:C,2,0),\" \")","v":" "}]
[null,null,null,null,{"$f":"IFERROR(VLOOKUP(D3026,Códigos!B:C,2,0),\" \")","v":" "}]
[null,null,null,null,{"$f":"IFERROR(VLOOKUP(D3027,Códigos!B:C,2,0),\" \")","v":" "}]
[null,null,null,null,{"$f":"IFERROR(VLOOKUP(D3028,Códigos!B:C,2,0),\" \")","v":" "}]
[null,null,null,null,{"$f":"IFERROR(VLOOKUP(D3029,Códigos!B:C,2,0),\" \")","v":" "}]
[null,null,null,null,{"$f":"IFERROR(VLOOKUP(D3030,Códigos!B:C,2,0),\" \")","v":" "}]
[null,null,null,null,{"$f":"IFERROR(VLOOKUP(D3031,Códigos!B:C,2,0),\" \")","v":" "}]
[null,null,null,null,{"$f":"IFERROR(VLOOKUP(D3032,Códigos!B:C,2,0),\" \")","v":" "}]
[null,null,null,null,{"$f":"IFERROR(VLOOKUP(D3033,Códigos!B:C,2,0),\" \")","v":" "}]
[null,null,null,null,{"$f":"IFERROR(VLOOKUP(D3034,Códigos!B:C,2,0),\" \")","v":" "}]
[null,null,null,null,{"$f":"IFERROR(VLOOKUP(D3035,Códigos!B:C,2,0),\" \")","v":" "}]
[null,null,null,null,{"$f":"IFERROR(VLOOKUP(D3036,Códigos!B:C,2,0),\" \")","v":" "}]
[null,null,null,null,{"$f":"IFERROR(VLOOKUP(D3037,Códigos!B:C,2,0),\" \")","v":" "}]
[null,null,null,null,{"$f":"IFERROR(VLOOKUP(D3038,Códigos!B:C,2,0),\" \")","v":" "}]
[null,null,null,null,{"$f":"IFERROR(VLOOKUP(D3039,Códigos!B:C,2,0),\" \")","v":" "}]
[null,null,null,null,{"$f":"IFERROR(VLOOKUP(D3040,Códigos!B:C,2,0),\" \")","v":" "}]
[null,null,null,null,{"$f":"IFERROR(VLOOKUP(D3041,Códigos!B:C,2,0),\" \")","v":" "}]
[null,null,null,null,{"$f":"IFERROR(VLOOKUP(D3042,Códigos!B:C,2,0),\" \")","v":" "}]
[null,null,null,null,{"$f":"IFERROR(VLOOKUP(D3043,Códigos!B:C,2,0),\" \")","v":" "}]
[null,null,null,null,{"$f":"IFERROR(VLOOKUP(D3044,Códigos!B:C,2,0),\" \")","v":" "}]
[null,null,null,null,{"$f":"IFERROR(VLOOKUP(D3045,Códigos!B:C,2,0),\" \")","v":" "}]
[null,null,null,null,{"$f":"IFERROR(VLOOKUP(D3046,Códigos!B:C,2,0),\" \")","v":" "}]
[null,null,null,null,{"$f":"IFERROR(VLOOKUP(D3047,Códigos!B:C,2,0),\" \")","v":" "}]
[null,null,null,null,{"$f":"IFERROR(VLOOKUP(D3048,Códigos!B:C,2,0),\" \")","v":" "}]
[null,null,null,null,{"$f":"IFERROR(VLOOKUP(D3049,Códigos!B:C,2,0),\" \")","v":" "}]
[null,null,null,null,{"$f":"IFERROR(VLOOKUP(D3050,Códigos!B:C,2,0),\" \")","v":" "}]
[null,null,null,null,{"$f":"IFERROR(VLOOKUP(D3051,Códigos!B:C,2,0),\" \")","v":" "}]
[null,null,null,null,{"$f":"IFERROR(VLOOKUP(D3052,Códigos!B:C,2,0),\" \")","v":" "}]
[null,null,null,null,{"$f":"IFERROR(VLOOKUP(D3053,Códigos!B:C,2,0),\" \")","v":" "}]
[null,null,null,null,{"$f":"IFERROR(VLOOKUP(D3054,Códigos!B:C,2,0),\" \")","v":" "}]
[null,null,null,null,{"$f":"IFERROR(VLOOKUP(D3055,Códigos!B:C,2,0),\" \")","v":" "}]
[null,null,null,null,{"$f":"IFERROR(VLOOKUP(D3056,Códigos!B:C,2,0),\" \")","v":" "}]
[null,null,null,null,{"$f":"IFERROR(VLOOKUP(D3057,Códigos!B:C,2,0),\" \")","v":" "}]
[null,null,null,null,{"$f":"IFERROR(VLOOKUP(D3058,Códigos!B:C,2,0),\" \")","v":" "}]
[null,null,null,null,{"$f":"IFERROR(VLOOKUP(D3059,Códigos!B:C,2,0),\" \")","v":" "}]
[null,null,null,null,{"$f":"IFERROR(VLOOKUP(D3060,Códigos!B:C,2,0),\" \")","v":" "}]
[null,null,null,null,{"$f":"IFERROR(VLOOKUP(D3061,Códigos!B:C,2,0),\" \")","v":" "}]
[null,null,null,null,{"$f":"IFERROR(VLOOKUP(D3062,Códigos!B:C,2,0),\" \")","v":" "}]
[null,null,null,null,{"$f":"IFERROR(VLOOKUP(D3063,Códigos!B:C,2,0),\" \")","v":" "}]
[null,null,null,null,{"$f":"IFERROR(VLOOKUP(D3064,Códigos!B:C,2,0),\" \")","v":" "}]
[null,null,null,null,{"$f":"IFERROR(VLOOKUP(D3065,Códigos!B:C,2,0),\" \")","v":" "}]
[null,null,null,null,{"$f":"IFERROR(VLOOKUP(D3066,Códigos!B:C,2,0),\" \")","v":" "}]
[null,null,null,null,{"$f":"IFERROR(VLOOKUP(D3067,Códigos!B:C,2,0),\" \")","v":" "}]
[null,null,null,null,{"$f":"IFERROR(VLOOKUP(D3068,Códigos!B:C,2,0),\" \")","v":" "}]
[null,null,null,null,{"$f":"IFERROR(VLOOKUP(D3069,Códigos!B:C,2,0),\" \")","v":" "}]
[null,null,null,null,{"$f":"IFERROR(VLOOKUP(D3070,Códigos!B:C,2,0),\" \")","v":" "}]
[null,null,null,null,{"$f":"IFERROR(VLOOKUP(D3071,Códigos!B:C,2,0),\" \")","v":" "}]
[null,null,null,null,{"$f":"IFERROR(VLOOKUP(D3072,Códigos!B:C,2,0),\" \")","v":" "}]
[null,null,null,null,{"$f":"IFERROR(VLOOKUP(D3073,Códigos!B:C,2,0),\" \")","v":" "}]
[null,null,null,null,{"$f":"IFERROR(VLOOKUP(D3074,Códigos!B:C,2,0),\" \")","v":" "}]
[null,null,null,null,{"$f":"IFERROR(VLOOKUP(D3075,Códigos!B:C,2,0),\" \")","v":" "}]
[null,null,null,null,{"$f":"IFERROR(VLOOKUP(D3076,Códigos!B:C,2,0),\" \")","v":" "}]
[null,null,null,null,{"$f":"IFERROR(VLOOKUP(D3077,Códigos!B:C,2,0),\" \")","v":" "}]
[null,null,null,null,{"$f":"IFERROR(VLOOKUP(D3078,Códigos!B:C,2,0),\" \")","v":" "}]
[null,null,null,null,{"$f":"IFERROR(VLOOKUP(D3079,Códigos!B:C,2,0),\" \")","v":" "}]
[null,null,null,null,{"$f":"IFERROR(VLOOKUP(D3080,Códigos!B:C,2,0),\" \")","v":" "}]
[null,null,null,null,{"$f":"IFERROR(VLOOKUP(D3081,Códigos!B:C,2,0),\" \")","v":" "}]
[null,null,null,null,{"$f":"IFERROR(VLOOKUP(D3082,Códigos!B:C,2,0),\" \")","v":" "}]
[null,null,null,null,{"$f":"IFERROR(VLOOKUP(D3083,Códigos!B:C,2,0),\" \")","v":" "}]
[null,null,null,null,{"$f":"IFERROR(VLOOKUP(D3084,Códigos!B:C,2,0),\" \")","v":" "}]
[null,null,null,null,{"$f":"IFERROR(VLOOKUP(D3085,Códigos!B:C,2,0),\" \")","v":" "}]
[null,null,null,null,{"$f":"IFERROR(VLOOKUP(D3086,Códigos!B:C,2,0),\" \")","v":" "}]
[null,null,null,null,{"$f":"IFERROR(VLOOKUP(D3087,Códigos!B:C,2,0),\" \")","v":" "}]
[null,null,null,null,{"$f":"IFERROR(VLOOKUP(D3088,Códigos!B:C,2,0),\" \")","v":" "}]
[null,null,null,null,{"$f":"IFERROR(VLOOKUP(D3089,Códigos!B:C,2,0),\" \")","v":" "}]
[null,null,null,null,{"$f":"IFERROR(VLOOKUP(D3090,Códigos!B:C,2,0),\" \")","v":" "}]
[null,null,null,null,{"$f":"IFERROR(VLOOKUP(D3091,Códigos!B:C,2,0),\" \")","v":" "}]
[null,null,null,null,{"$f":"IFERROR(VLOOKUP(D3092,Códigos!B:C,2,0),\" \")","v":" "}]
[null,null,null,null,{"$f":"IFERROR(VLOOKUP(D3093,Códigos!B:C,2,0),\" \")","v":" "}]
[null,null,null,null,{"$f":"IFERROR(VLOOKUP(D3094,Códigos!B:C,2,0),\" \")","v":" "}]
[null,null,null,null,{"$f":"IFERROR(VLOOKUP(D3095,Códigos!B:C,2,0),\" \")","v":" "}]
[null,null,null,null,{"$f":"IFERROR(VLOOKUP(D3096,Códigos!B:C,2,0),\" \")","v":" "}]
[null,null,null,null,{"$f":"IFERROR(VLOOKUP(D3097,Códigos!B:C,2,0),\" \")","v":" "}]
[null,null,null,null,{"$f":"IFERROR(VLOOKUP(D3098,Códigos!B:C,2,0),\" \")","v":" "}]
[null,null,null,null,{"$f":"IFERROR(VLOOKUP(D3099,Códigos!B:C,2,0),\" \")","v":" "}]
[null,null,null,null,{"$f":"IFERROR(VLOOKUP(D3100,Códigos!B:C,2,0),\" \")","v":" "}]
[null,null,null,null,{"$f":"IFERROR(VLOOKUP(D3101,Códigos!B:C,2,0),\" \")","v":" "}]
[null,null,null,null,{"$f":"IFERROR(VLOOKUP(D3102,Códigos!B:C,2,0),\" \")","v":" "}]
[null,null,null,null,{"$f":"IFERROR(VLOOKUP(D3103,Códigos!B:C,2,0),\" \")","v":" "}]
[null,null,null,null,{"$f":"IFERROR(VLOOKUP(D3104,Códigos!B:C,2,0),\" \")","v":" "}]
[null,null,null,null,{"$f":"IFERROR(VLOOKUP(D3105,Códigos!B:C,2,0),\" \")","v":" "}]
[null,null,null,null,{"$f":"IFERROR(VLOOKUP(D3106,Códigos!B:C,2,0),\" \")","v":" "}]
[null,null,null,null,{"$f":"IFERROR(VLOOKUP(D3107,Códigos!B:C,2,0),\" \")","v":" "}]
[null,null,null,null,{"$f":"IFERROR(VLOOKUP(D3108,Códigos!B:C,2,0),\" \")","v":" "}]
[null,null,null,null,{"$f":"IFERROR(VLOOKUP(D3109,Códigos!B:C,2,0),\" \")","v":" "}]
[null,null,null,null,{"$f":"IFERROR(VLOOKUP(D3110,Códigos!B:C,2,0),\" \")","v":" "}]
[null,null,null,null,{"$f":"IFERROR(VLOOKUP(D3111,Códigos!B:C,2,0),\" \")","v":" "}]
[null,null,null,null,{"$f":"IFERROR(VLOOKUP(D3112,Códigos!B:C,2,0),\" \")","v":" "}]
[null,null,null,null,{"$f":"IFERROR(VLOOKUP(D3113,Códigos!B:C,2,0),\" \")","v":" "}]
[null,null,null,null,{"$f":"IFERROR(VLOOKUP(D3114,Códigos!B:C,2,0),\" \")","v":" "}]
[null,null,null,null,{"$f":"IFERROR(VLOOKUP(D3115,Códigos!B:C,2,0),\" \")","v":" "}]
[null,null,null,null,{"$f":"IFERROR(VLOOKUP(D3116,Códigos!B:C,2,0),\" \")","v":" "}]
[null,null,null,null,{"$f":"IFERROR(VLOOKUP(D3117,Códigos!B:C,2,0),\" \")","v":" "}]
[null,null,null,null,{"$f":"IFERROR(VLOOKUP(D3118,Códigos!B:C,2,0),\" \")","v":" "}]
[null,null,null,null,{"$f":"IFERROR(VLOOKUP(D3119,Códigos!B:C,2,0),\" \")","v":" "}]
[null,null,null,null,{"$f":"IFERROR(VLOOKUP(D3120,Códigos!B:C,2,0),\" \")","v":" "}]
[null,null,null,null,{"$f":"IFERROR(VLOOKUP(D3121,Códigos!B:C,2,0),\" \")","v":" "}]
[null,null,null,null,{"$f":"IFERROR(VLOOKUP(D3122,Códigos!B:C,2,0),\" \")","v":" "}]
[null,null,null,null,{"$f":"IFERROR(VLOOKUP(D3123,Códigos!B:C,2,0),\" \")","v":" "}]
[null,null,null,null,{"$f":"IFERROR(VLOOKUP(D3124,Códigos!B:C,2,0),\" \")","v":" "}]
[null,null,null,null,{"$f":"IFERROR(VLOOKUP(D3125,Códigos!B:C,2,0),\" \")","v":" "}]
[null,null,null,null,{"$f":"IFERROR(VLOOKUP(D3126,Códigos!B:C,2,0),\" \")","v":" "}]
[null,null,null,null,{"$f":"IFERROR(VLOOKUP(D3127,Códigos!B:C,2,0),\" \")","v":" "}]
[null,null,null,null,{"$f":"IFERROR(VLOOKUP(D3128,Códigos!B:C,2,0),\" \")","v":" "}]
[null,null,null,null,{"$f":"IFERROR(VLOOKUP(D3129,Códigos!B:C,2,0),\" \")","v":" "}]
[null,null,null,null,{"$f":"IFERROR(VLOOKUP(D3130,Códigos!B:C,2,0),\" \")","v":" "}]
[null,null,null,null,{"$f":"IFERROR(VLOOKUP(D3131,Códigos!B:C,2,0),\" \")","v":" "}]
[null,null,null,null,{"$f":"IFERROR(VLOOKUP(D3132,Códigos!B:C,2,0),\" \")","v":" "}]
[null,null,null,null,{"$f":"IFERROR(VLOOKUP(D3133,Códigos!B:C,2,0),\" \")","v":" "}]
[null,null,null,null,{"$f":"IFERROR(VLOOKUP(D3134,Códigos!B:C,2,0),\" \")","v":" "}]
[null,null,null,null,{"$f":"IFERROR(VLOOKUP(D3135,Códigos!B:C,2,0),\" \")","v":" "}]
[null,null,null,null,{"$f":"IFERROR(VLOOKUP(D3136,Códigos!B:C,2,0),\" \")","v":" "}]
[null,null,null,null,{"$f":"IFERROR(VLOOKUP(D3137,Códigos!B:C,2,0),\" \")","v":" "}]
[null,null,null,null,{"$f":"IFERROR(VLOOKUP(D3138,Códigos!B:C,2,0),\" \")","v":" "}]
[null,null,null,null,{"$f":"IFERROR(VLOOKUP(D3139,Códigos!B:C,2,0),\" \")","v":" "}]
[null,null,null,null,{"$f":"IFERROR(VLOOKUP(D3140,Códigos!B:C,2,0),\" \")","v":" "}]
[null,null,null,null,{"$f":"IFERROR(VLOOKUP(D3141,Códigos!B:C,2,0),\" \")","v":" "}]
[null,null,null,null,{"$f":"IFERROR(VLOOKUP(D3142,Códigos!B:C,2,0),\" \")","v":" "}]
[null,null,null,null,{"$f":"IFERROR(VLOOKUP(D3143,Códigos!B:C,2,0),\" \")","v":" "}]
[null,null,null,null,{"$f":"IFERROR(VLOOKUP(D3144,Códigos!B:C,2,0),\" \")","v":" "}]
[null,null,null,null,{"$f":"IFERROR(VLOOKUP(D3145,Códigos!B:C,2,0),\" \")","v":" "}]
[null,null,null,null,{"$f":"IFERROR(VLOOKUP(D3146,Códigos!B:C,2,0),\" \")","v":" "}]
[null,null,null,null,{"$f":"IFERROR(VLOOKUP(D3147,Códigos!B:C,2,0),\" \")","v":" "}]
[null,null,null,null,{"$f":"IFERROR(VLOOKUP(D3148,Códigos!B:C,2,0),\" \")","v":" "}]
[null,null,null,null,{"$f":"IFERROR(VLOOKUP(D3149,Códigos!B:C,2,0),\" \")","v":" "}]
[null,null,null,null,{"$f":"IFERROR(VLOOKUP(D3150,Códigos!B:C,2,0),\" \")","v":" "}]
[null,null,null,null,{"$f":"IFERROR(VLOOKUP(D3151,Códigos!B:C,2,0),\" \")","v":" "}]
[null,null,null,null,{"$f":"IFERROR(VLOOKUP(D3152,Códigos!B:C,2,0),\" \")","v":" "}]
[null,null,null,null,{"$f":"IFERROR(VLOOKUP(D3153,Códigos!B:C,2,0),\" \")","v":" "}]
[null,null,null,null,{"$f":"IFERROR(VLOOKUP(D3154,Códigos!B:C,2,0),\" \")","v":" "}]
[null,null,null,null,{"$f":"IFERROR(VLOOKUP(D3155,Códigos!B:C,2,0),\" \")","v":" "}]
[null,null,null,null,{"$f":"IFERROR(VLOOKUP(D3156,Códigos!B:C,2,0),\" \")","v":" "}]
[null,null,null,null,{"$f":"IFERROR(VLOOKUP(D3157,Códigos!B:C,2,0),\" \")","v":" "}]
[null,null,null,null,{"$f":"IFERROR(VLOOKUP(D3158,Códigos!B:C,2,0),\" \")","v":" "}]
[null,null,null,null,{"$f":"IFERROR(VLOOKUP(D3159,Códigos!B:C,2,0),\" \")","v":" "}]
[null,null,null,null,{"$f":"IFERROR(VLOOKUP(D3160,Códigos!B:C,2,0),\" \")","v":" "}]
[null,null,null,null,{"$f":"IFERROR(VLOOKUP(D3161,Códigos!B:C,2,0),\" \")","v":" "}]
[null,null,null,null,{"$f":"IFERROR(VLOOKUP(D3162,Códigos!B:C,2,0),\" \")","v":" "}]
[null,null,null,null,{"$f":"IFERROR(VLOOKUP(D3163,Códigos!B:C,2,0),\" \")","v":" "}]
[null,null,null,null,{"$f":"IFERROR(VLOOKUP(D3164,Códigos!B:C,2,0),\" \")","v":" "}]
[null,null,null,null,{"$f":"IFERROR(VLOOKUP(D3165,Códigos!B:C,2,0),\" \")","v":" "}]
[null,null,null,null,{"$f":"IFERROR(VLOOKUP(D3166,Códigos!B:C,2,0),\" \")","v":" "}]
[null,null,null,null,{"$f":"IFERROR(VLOOKUP(D3167,Códigos!B:C,2,0),\" \")","v":" "}]
[null,null,null,null,{"$f":"IFERROR(VLOOKUP(D3168,Códigos!B:C,2,0),\" \")","v":" "}]
[null,null,null,null,{"$f":"IFERROR(VLOOKUP(D3169,Códigos!B:C,2,0),\" \")","v":" "}]
[null,null,null,null,{"$f":"IFERROR(VLOOKUP(D3170,Códigos!B:C,2,0),\" \")","v":" "}]
[null,null,null,null,{"$f":"IFERROR(VLOOKUP(D3171,Códigos!B:C,2,0),\" \")","v":" "}]
[null,null,null,null,{"$f":"IFERROR(VLOOKUP(D3172,Códigos!B:C,2,0),\" \")","v":" "}]
[null,null,null,null,{"$f":"IFERROR(VLOOKUP(D3173,Códigos!B:C,2,0),\" \")","v":" "}]
[null,null,null,null,{"$f":"IFERROR(VLOOKUP(D3174,Códigos!B:C,2,0),\" \")","v":" "}]
[null,null,null,null,{"$f":"IFERROR(VLOOKUP(D3175,Códigos!B:C,2,0),\" \")","v":" "}]
[null,null,null,null,{"$f":"IFERROR(VLOOKUP(D3176,Códigos!B:C,2,0),\" \")","v":" "}]
[null,null,null,null,{"$f":"IFERROR(VLOOKUP(D3177,Códigos!B:C,2,0),\" \")","v":" "}]
[null,null,null,null,{"$f":"IFERROR(VLOOKUP(D3178,Códigos!B:C,2,0),\" \")","v":" "}]
[null,null,null,null,{"$f":"IFERROR(VLOOKUP(D3179,Códigos!B:C,2,0),\" \")","v":" "}]
[null,null,null,null,{"$f":"IFERROR(VLOOKUP(D3180,Códigos!B:C,2,0),\" \")","v":" "}]
[null,null,null,null,{"$f":"IFERROR(VLOOKUP(D3181,Códigos!B:C,2,0),\" \")","v":" "}]
[null,null,null,null,{"$f":"IFERROR(VLOOKUP(D3182,Códigos!B:C,2,0),\" \")","v":" "}]
[null,null,null,null,{"$f":"IFERROR(VLOOKUP(D3183,Códigos!B:C,2,0),\" \")","v":" "}]
[null,null,null,null,{"$f":"IFERROR(VLOOKUP(D3184,Códigos!B:C,2,0),\" \")","v":" "}]
[null,null,null,null,{"$f":"IFERROR(VLOOKUP(D3185,Códigos!B:C,2,0),\" \")","v":" "}]
[null,null,null,null,{"$f":"IFERROR(VLOOKUP(D3186,Códigos!B:C,2,0),\" \")","v":" "}]
[null,null,null,null,{"$f":"IFERROR(VLOOKUP(D3187,Códigos!B:C,2,0),\" \")","v":" "}]
[null,null,null,null,{"$f":"IFERROR(VLOOKUP(D3188,Códigos!B:C,2,0),\" \")","v":" "}]
[null,null,null,null,{"$f":"IFERROR(VLOOKUP(D3189,Códigos!B:C,2,0),\" \")","v":" "}]
[null,null,null,null,{"$f":"IFERROR(VLOOKUP(D3190,Códigos!B:C,2,0),\" \")","v":" "}]
[null,null,null,null,{"$f":"IFERROR(VLOOKUP(D3191,Códigos!B:C,2,0),\" \")","v":" "}]
[null,null,null,null,{"$f":"IFERROR(VLOOKUP(D3192,Códigos!B:C,2,0),\" \")","v":" "}]
[null,null,null,null,{"$f":"IFERROR(VLOOKUP(D3193,Códigos!B:C,2,0),\" \")","v":" "}]
[null,null,null,null,{"$f":"IFERROR(VLOOKUP(D3194,Códigos!B:C,2,0),\" \")","v":" "}]
[null,null,null,null,{"$f":"IFERROR(VLOOKUP(D3195,Códigos!B:C,2,0),\" \")","v":" "}]
[null,null,null,null,{"$f":"IFERROR(VLOOKUP(D3196,Códigos!B:C,2,0),\" \")","v":" "}]
[null,null,null,null,{"$f":"IFERROR(VLOOKUP(D3197,Códigos!B:C,2,0),\" \")","v":" "}]
[null,null,null,null,{"$f":"IFERROR(VLOOKUP(D3198,Códigos!B:C,2,0),\" \")","v":" "}]
[null,null,null,null,{"$f":"IFERROR(VLOOKUP(D3199,Códigos!B:C,2,0),\" \")","v":" "}]
[null,null,null,null,{"$f":"IFERROR(VLOOKUP(D3200,Códigos!B:C,2,0),\" \")","v":" "}]
[null,null,null,null,{"$f":"IFERROR(VLOOKUP(D3201,Códigos!B:C,2,0),\" \")","v":" "}]
[null,null,null,null,{"$f":"IFERROR(VLOOKUP(D3202,Códigos!B:C,2,0),\" \")","v":" "}]
[null,null,null,null,{"$f":"IFERROR(VLOOKUP(D3203,Códigos!B:C,2,0),\" \")","v":" "}]
[null,null,null,null,{"$f":"IFERROR(VLOOKUP(D3204,Códigos!B:C,2,0),\" \")","v":" "}]
[null,null,null,null,{"$f":"IFERROR(VLOOKUP(D3205,Códigos!B:C,2,0),\" \")","v":" "}]
[null,null,null,null,{"$f":"IFERROR(VLOOKUP(D3206,Códigos!B:C,2,0),\" \")","v":" "}]
[null,null,null,null,{"$f":"IFERROR(VLOOKUP(D3207,Códigos!B:C,2,0),\" \")","v":" "}]
[null,null,null,null,{"$f":"IFERROR(VLOOKUP(D3208,Códigos!B:C,2,0),\" \")","v":" "}]
[null,null,null,null,{"$f":"IFERROR(VLOOKUP(D3209,Códigos!B:C,2,0),\" \")","v":" "}]
[null,null,null,null,{"$f":"IFERROR(VLOOKUP(D3210,Códigos!B:C,2,0),\" \")","v":" "}]
[null,null,null,null,{"$f":"IFERROR(VLOOKUP(D3211,Códigos!B:C,2,0),\" \")","v":" "}]
[null,null,null,null,{"$f":"IFERROR(VLOOKUP(D3212,Códigos!B:C,2,0),\" \")","v":" "}]
[null,null,null,null,{"$f":"IFERROR(VLOOKUP(D3213,Códigos!B:C,2,0),\" \")","v":" "}]
[null,null,null,null,{"$f":"IFERROR(VLOOKUP(D3214,Códigos!B:C,2,0),\" \")","v":" "}]
[null,null,null,null,{"$f":"IFERROR(VLOOKUP(D3215,Códigos!B:C,2,0),\" \")","v":" "}]
[null,null,null,null,{"$f":"IFERROR(VLOOKUP(D3216,Códigos!B:C,2,0),\" \")","v":" "}]
[null,null,null,null,{"$f":"IFERROR(VLOOKUP(D3217,Códigos!B:C,2,0),\" \")","v":" "}]
[null,null,null,null,{"$f":"IFERROR(VLOOKUP(D3218,Códigos!B:C,2,0),\" \")","v":" "}]
[null,null,null,null,{"$f":"IFERROR(VLOOKUP(D3219,Códigos!B:C,2,0),\" \")","v":" "}]
[null,null,null,null,{"$f":"IFERROR(VLOOKUP(D3220,Códigos!B:C,2,0),\" \")","v":" "}]
[null,null,null,null,{"$f":"IFERROR(VLOOKUP(D3221,Códigos!B:C,2,0),\" \")","v":" "}]
[null,null,null,null,{"$f":"IFERROR(VLOOKUP(D3222,Códigos!B:C,2,0),\" \")","v":" "}]
[null,null,null,null,{"$f":"IFERROR(VLOOKUP(D3223,Códigos!B:C,2,0),\" \")","v":" "}]
[null,null,null,null,{"$f":"IFERROR(VLOOKUP(D3224,Códigos!B:C,2,0),\" \")","v":" "}]
[null,null,null,null,{"$f":"IFERROR(VLOOKUP(D3225,Códigos!B:C,2,0),\" \")","v":" "}]
[null,null,null,null,{"$f":"IFERROR(VLOOKUP(D3226,Códigos!B:C,2,0),\" \")","v":" "}]
[null,null,null,null,{"$f":"IFERROR(VLOOKUP(D3227,Códigos!B:C,2,0),\" \")","v":" "}]
[null,null,null,null,{"$f":"IFERROR(VLOOKUP(D3228,Códigos!B:C,2,0),\" \")","v":" "}]
[null,null,null,null,{"$f":"IFERROR(VLOOKUP(D3229,Códigos!B:C,2,0),\" \")","v":" "}]
[null,null,null,null,{"$f":"IFERROR(VLOOKUP(D3230,Códigos!B:C,2,0),\" \")","v":" "}]
[null,null,null,null,{"$f":"IFERROR(VLOOKUP(D3231,Códigos!B:C,2,0),\" \")","v":" "}]
[null,null,null,null,{"$f":"IFERROR(VLOOKUP(D3232,Códigos!B:C,2,0),\" \")","v":" "}]
[null,null,null,null,{"$f":"IFERROR(VLOOKUP(D3233,Códigos!B:C,2,0),\" \")","v":" "}]
[null,null,null,null,{"$f":"IFERROR(VLOOKUP(D3234,Códigos!B:C,2,0),\" \")","v":" "}]
[null,null,null,null,{"$f":"IFERROR(VLOOKUP(D3235,Códigos!B:C,2,0),\" \")","v":" "}]
[null,null,null,null,{"$f":"IFERROR(VLOOKUP(D3236,Códigos!B:C,2,0),\" \")","v":" "}]
[null,null,null,null,{"$f":"IFERROR(VLOOKUP(D3237,Códigos!B:C,2,0),\" \")","v":" "}]
[null,null,null,null,{"$f":"IFERROR(VLOOKUP(D3238,Códigos!B:C,2,0),\" \")","v":" "}]
[null,null,null,null,{"$f":"IFERROR(VLOOKUP(D3239,Códigos!B:C,2,0),\" \")","v":" "}]
[null,null,null,null,{"$f":"IFERROR(VLOOKUP(D3240,Códigos!B:C,2,0),\" \")","v":" "}]
[null,null,null,null,{"$f":"IFERROR(VLOOKUP(D3241,Códigos!B:C,2,0),\" \")","v":" "}]
[null,null,null,null,{"$f":"IFERROR(VLOOKUP(D3242,Códigos!B:C,2,0),\" \")","v":" "}]
[null,null,null,null,{"$f":"IFERROR(VLOOKUP(D3243,Códigos!B:C,2,0),\" \")","v":" "}]
[null,null,null,null,{"$f":"IFERROR(VLOOKUP(D3244,Códigos!B:C,2,0),\" \")","v":" "}]
[null,null,null,null,{"$f":"IFERROR(VLOOKUP(D3245,Códigos!B:C,2,0),\" \")","v":" "}]
[null,null,null,null,{"$f":"IFERROR(VLOOKUP(D3246,Códigos!B:C,2,0),\" \")","v":" "}]
[null,null,null,null,{"$f":"IFERROR(VLOOKUP(D3247,Códigos!B:C,2,0),\" \")","v":" "}]
[null,null,null,null,{"$f":"IFERROR(VLOOKUP(D3248,Códigos!B:C,2,0),\" \")","v":" "}]
[null,null,null,null,{"$f":"IFERROR(VLOOKUP(D3249,Códigos!B:C,2,0),\" \")","v":" "}]
[null,null,null,null,{"$f":"IFERROR(VLOOKUP(D3250,Códigos!B:C,2,0),\" \")","v":" "}]
[null,null,null,null,{"$f":"IFERROR(VLOOKUP(D3251,Códigos!B:C,2,0),\" \")","v":" "}]
[null,null,null,null,{"$f":"IFERROR(VLOOKUP(D3252,Códigos!B:C,2,0),\" \")","v":" "}]
[null,null,null,null,{"$f":"IFERROR(VLOOKUP(D3253,Códigos!B:C,2,0),\" \")","v":" "}]
[null,null,null,null,{"$f":"IFERROR(VLOOKUP(D3254,Códigos!B:C,2,0),\" \")","v":" "}]
[null,null,null,null,{"$f":"IFERROR(VLOOKUP(D3255,Códigos!B:C,2,0),\" \")","v":" "}]
[null,null,null,null,{"$f":"IFERROR(VLOOKUP(D3256,Códigos!B:C,2,0),\" \")","v":" "}]
[null,null,null,null,{"$f":"IFERROR(VLOOKUP(D3257,Códigos!B:C,2,0),\" \")","v":" "}]
[null,null,null,null,{"$f":"IFERROR(VLOOKUP(D3258,Códigos!B:C,2,0),\" \")","v":" "}]
[null,null,null,null,{"$f":"IFERROR(VLOOKUP(D3259,Códigos!B:C,2,0),\" \")","v":" "}]
[null,null,null,null,{"$f":"IFERROR(VLOOKUP(D3260,Códigos!B:C,2,0),\" \")","v":" "}]
[null,null,null,null,{"$f":"IFERROR(VLOOKUP(D3261,Códigos!B:C,2,0),\" \")","v":" "}]
[null,null,null,null,{"$f":"IFERROR(VLOOKUP(D3262,Códigos!B:C,2,0),\" \")","v":" "}]
[null,null,null,null,{"$f":"IFERROR(VLOOKUP(D3263,Códigos!B:C,2,0),\" \")","v":" "}]
[null,null,null,null,{"$f":"IFERROR(VLOOKUP(D3264,Códigos!B:C,2,0),\" \")","v":" "}]
[null,null,null,null,{"$f":"IFERROR(VLOOKUP(D3265,Códigos!B:C,2,0),\" \")","v":" "}]
[null,null,null,null,{"$f":"IFERROR(VLOOKUP(D3266,Códigos!B:C,2,0),\" \")","v":" "}]
[null,null,null,null,{"$f":"IFERROR(VLOOKUP(D3267,Códigos!B:C,2,0),\" \")","v":" "}]
[null,null,null,null,{"$f":"IFERROR(VLOOKUP(D3268,Códigos!B:C,2,0),\" \")","v":" "}]
[null,null,null,null,{"$f":"IFERROR(VLOOKUP(D3269,Códigos!B:C,2,0),\" \")","v":" "}]
[null,null,null,null,{"$f":"IFERROR(VLOOKUP(D3270,Códigos!B:C,2,0),\" \")","v":" "}]
[null,null,null,null,{"$f":"IFERROR(VLOOKUP(D3271,Códigos!B:C,2,0),\" \")","v":" "}]
[null,null,null,null,{"$f":"IFERROR(VLOOKUP(D3272,Códigos!B:C,2,0),\" \")","v":" "}]
[null,null,null,null,{"$f":"IFERROR(VLOOKUP(D3273,Códigos!B:C,2,0),\" \")","v":" "}]
[null,null,null,null,{"$f":"IFERROR(VLOOKUP(D3274,Códigos!B:C,2,0),\" \")","v":" "}]
[null,null,null,null,{"$f":"IFERROR(VLOOKUP(D3275,Códigos!B:C,2,0),\" \")","v":" "}]
[null,null,null,null,{"$f":"IFERROR(VLOOKUP(D3276,Códigos!B:C,2,0),\" \")","v":" "}]
[null,null,null,null,{"$f":"IFERROR(VLOOKUP(D3277,Códigos!B:C,2,0),\" \")","v":" "}]
[null,null,null,null,{"$f":"IFERROR(VLOOKUP(D3278,Códigos!B:C,2,0),\" \")","v":" "}]
[null,null,null,null,{"$f":"IFERROR(VLOOKUP(D3279,Códigos!B:C,2,0),\" \")","v":" "}]
[null,null,null,null,{"$f":"IFERROR(VLOOKUP(D3280,Códigos!B:C,2,0),\" \")","v":" "}]
[null,null,null,null,{"$f":"IFERROR(VLOOKUP(D3281,Códigos!B:C,2,0),\" \")","v":" "}]
[null,null,null,null,{"$f":"IFERROR(VLOOKUP(D3282,Códigos!B:C,2,0),\" \")","v":" "}]
[null,null,null,null,{"$f":"IFERROR(VLOOKUP(D3283,Códigos!B:C,2,0),\" \")","v":" "}]
[null,null,null,null,{"$f":"IFERROR(VLOOKUP(D3284,Códigos!B:C,2,0),\" \")","v":" "}]
[null,null,null,null,{"$f":"IFERROR(VLOOKUP(D3285,Códigos!B:C,2,0),\" \")","v":" "}]
[null,null,null,null,{"$f":"IFERROR(VLOOKUP(D3286,Códigos!B:C,2,0),\" \")","v":" "}]
[null,null,null,null,{"$f":"IFERROR(VLOOKUP(D3287,Códigos!B:C,2,0),\" \")","v":" "}]
[null,null,null,null,{"$f":"IFERROR(VLOOKUP(D3288,Códigos!B:C,2,0),\" \")","v":" "}]
[null,null,null,null,{"$f":"IFERROR(VLOOKUP(D3289,Códigos!B:C,2,0),\" \")","v":" "}]
[null,null,null,null,{"$f":"IFERROR(VLOOKUP(D3290,Códigos!B:C,2,0),\" \")","v":" "}]
[null,null,null,null,{"$f":"IFERROR(VLOOKUP(D3291,Códigos!B:C,2,0),\" \")","v":" "}]
[null,null,null,null,{"$f":"IFERROR(VLOOKUP(D3292,Códigos!B:C,2,0),\" \")","v":" "}]
[null,null,null,null,{"$f":"IFERROR(VLOOKUP(D3293,Códigos!B:C,2,0),\" \")","v":" "}]
[null,null,null,null,{"$f":"IFERROR(VLOOKUP(D3294,Códigos!B:C,2,0),\" \")","v":" "}]
[null,null,null,null,{"$f":"IFERROR(VLOOKUP(D3295,Códigos!B:C,2,0),\" \")","v":" "}]
[null,null,null,null,{"$f":"IFERROR(VLOOKUP(D3296,Códigos!B:C,2,0),\" \")","v":" "}]
[null,null,null,null,{"$f":"IFERROR(VLOOKUP(D3297,Códigos!B:C,2,0),\" \")","v":" "}]
[null,null,null,null,{"$f":"IFERROR(VLOOKUP(D3298,Códigos!B:C,2,0),\" \")","v":" "}]
[null,null,null,null,{"$f":"IFERROR(VLOOKUP(D3299,Códigos!B:C,2,0),\" \")","v":" "}]
[null,null,null,null,{"$f":"IFERROR(VLOOKUP(D3300,Códigos!B:C,2,0),\" \")","v":" "}]
[null,null,null,null,{"$f":"IFERROR(VLOOKUP(D3301,Códigos!B:C,2,0),\" \")","v":" "}]
[null,null,null,null,{"$f":"IFERROR(VLOOKUP(D3302,Códigos!B:C,2,0),\" \")","v":" "}]
[null,null,null,null,{"$f":"IFERROR(VLOOKUP(D3303,Códigos!B:C,2,0),\" \")","v":" "}]
[null,null,null,null,{"$f":"IFERROR(VLOOKUP(D3304,Códigos!B:C,2,0),\" \")","v":" "}]
[null,null,null,null,{"$f":"IFERROR(VLOOKUP(D3305,Códigos!B:C,2,0),\" \")","v":" "}]
[null,null,null,null,{"$f":"IFERROR(VLOOKUP(D3306,Códigos!B:C,2,0),\" \")","v":" "}]
[null,null,null,null,{"$f":"IFERROR(VLOOKUP(D3307,Códigos!B:C,2,0),\" \")","v":" "}]
[null,null,null,null,{"$f":"IFERROR(VLOOKUP(D3308,Códigos!B:C,2,0),\" \")","v":" "}]
[null,null,null,null,{"$f":"IFERROR(VLOOKUP(D3309,Códigos!B:C,2,0),\" \")","v":" "}]
[null,null,null,null,{"$f":"IFERROR(VLOOKUP(D3310,Códigos!B:C,2,0),\" \")","v":" "}]
[null,null,null,null,{"$f":"IFERROR(VLOOKUP(D3311,Códigos!B:C,2,0),\" \")","v":" "}]
[null,null,null,null,{"$f":"IFERROR(VLOOKUP(D3312,Códigos!B:C,2,0),\" \")","v":" "}]
[null,null,null,null,{"$f":"IFERROR(VLOOKUP(D3313,Códigos!B:C,2,0),\" \")","v":" "}]
[null,null,null,null,{"$f":"IFERROR(VLOOKUP(D3314,Códigos!B:C,2,0),\" \")","v":" "}]
[null,null,null,null,{"$f":"IFERROR(VLOOKUP(D3315,Códigos!B:C,2,0),\" \")","v":" "}]
[null,null,null,null,{"$f":"IFERROR(VLOOKUP(D3316,Códigos!B:C,2,0),\" \")","v":" "}]
[null,null,null,null,{"$f":"IFERROR(VLOOKUP(D3317,Códigos!B:C,2,0),\" \")","v":" "}]
[null,null,null,null,{"$f":"IFERROR(VLOOKUP(D3318,Códigos!B:C,2,0),\" \")","v":" "}]
[null,null,null,null,{"$f":"IFERROR(VLOOKUP(D3319,Códigos!B:C,2,0),\" \")","v":" "}]
[null,null,null,null,{"$f":"IFERROR(VLOOKUP(D3320,Códigos!B:C,2,0),\" \")","v":" "}]
[null,null,null,null,{"$f":"IFERROR(VLOOKUP(D3321,Códigos!B:C,2,0),\" \")","v":" "}]
[null,null,null,null,{"$f":"IFERROR(VLOOKUP(D3322,Códigos!B:C,2,0),\" \")","v":" "}]
[null,null,null,null,{"$f":"IFERROR(VLOOKUP(D3323,Códigos!B:C,2,0),\" \")","v":" "}]
[null,null,null,null,{"$f":"IFERROR(VLOOKUP(D3324,Códigos!B:C,2,0),\" \")","v":" "}]
[null,null,null,null,{"$f":"IFERROR(VLOOKUP(D3325,Códigos!B:C,2,0),\" \")","v":" "}]
[null,null,null,null,{"$f":"IFERROR(VLOOKUP(D3326,Códigos!B:C,2,0),\" \")","v":" "}]
[null,null,null,null,{"$f":"IFERROR(VLOOKUP(D3327,Códigos!B:C,2,0),\" \")","v":" "}]
[null,null,null,null,{"$f":"IFERROR(VLOOKUP(D3328,Códigos!B:C,2,0),\" \")","v":" "}]
[null,null,null,null,{"$f":"IFERROR(VLOOKUP(D3329,Códigos!B:C,2,0),\" \")","v":" "}]
[null,null,null,null,{"$f":"IFERROR(VLOOKUP(D3330,Códigos!B:C,2,0),\" \")","v":" "}]
[null,null,null,null,{"$f":"IFERROR(VLOOKUP(D3331,Códigos!B:C,2,0),\" \")","v":" "}]
[null,null,null,null,{"$f":"IFERROR(VLOOKUP(D3332,Códigos!B:C,2,0),\" \")","v":" "}]
[null,null,null,null,{"$f":"IFERROR(VLOOKUP(D3333,Códigos!B:C,2,0),\" \")","v":" "}]
[null,null,null,null,{"$f":"IFERROR(VLOOKUP(D3334,Códigos!B:C,2,0),\" \")","v":" "}]
[null,null,null,null,{"$f":"IFERROR(VLOOKUP(D3335,Códigos!B:C,2,0),\" \")","v":" "}]
[null,null,null,null,{"$f":"IFERROR(VLOOKUP(D3336,Códigos!B:C,2,0),\" \")","v":" "}]
[null,null,null,null,{"$f":"IFERROR(VLOOKUP(D3337,Códigos!B:C,2,0),\" \")","v":" "}]
[null,null,null,null,{"$f":"IFERROR(VLOOKUP(D3338,Códigos!B:C,2,0),\" \")","v":" "}]
[null,null,null,null,{"$f":"IFERROR(VLOOKUP(D3339,Códigos!B:C,2,0),\" \")","v":" "}]
[null,null,null,null,{"$f":"IFERROR(VLOOKUP(D3340,Códigos!B:C,2,0),\" \")","v":" "}]
[null,null,null,null,{"$f":"IFERROR(VLOOKUP(D3341,Códigos!B:C,2,0),\" \")","v":" "}]
[null,null,null,null,{"$f":"IFERROR(VLOOKUP(D3342,Códigos!B:C,2,0),\" \")","v":" "}]
[null,null,null,null,{"$f":"IFERROR(VLOOKUP(D3343,Códigos!B:C,2,0),\" \")","v":" "}]
[null,null,null,null,{"$f":"IFERROR(VLOOKUP(D3344,Códigos!B:C,2,0),\" \")","v":" "}]
[null,null,null,null,{"$f":"IFERROR(VLOOKUP(D3345,Códigos!B:C,2,0),\" \")","v":" "}]
[null,null,null,null,{"$f":"IFERROR(VLOOKUP(D3346,Códigos!B:C,2,0),\" \")","v":" "}]
[null,null,null,null,{"$f":"IFERROR(VLOOKUP(D3347,Códigos!B:C,2,0),\" \")","v":" "}]
[null,null,null,null,{"$f":"IFERROR(VLOOKUP(D3348,Códigos!B:C,2,0),\" \")","v":" "}]
[null,null,null,null,{"$f":"IFERROR(VLOOKUP(D3349,Códigos!B:C,2,0),\" \")","v":" "}]
[null,null,null,null,{"$f":"IFERROR(VLOOKUP(D3350,Códigos!B:C,2,0),\" \")","v":" "}]
[null,null,null,null,{"$f":"IFERROR(VLOOKUP(D3351,Códigos!B:C,2,0),\" \")","v":" "}]
[null,null,null,null,{"$f":"IFERROR(VLOOKUP(D3352,Códigos!B:C,2,0),\" \")","v":" "}]
[null,null,null,null,{"$f":"IFERROR(VLOOKUP(D3353,Códigos!B:C,2,0),\" \")","v":" "}]
[null,null,null,null,{"$f":"IFERROR(VLOOKUP(D3354,Códigos!B:C,2,0),\" \")","v":" "}]
[null,null,null,null,{"$f":"IFERROR(VLOOKUP(D3355,Códigos!B:C,2,0),\" \")","v":" "}]
[null,null,null,null,{"$f":"IFERROR(VLOOKUP(D3356,Códigos!B:C,2,0),\" \")","v":" "}]
[null,null,null,null,{"$f":"IFERROR(VLOOKUP(D3357,Códigos!B:C,2,0),\" \")","v":" "}]
[null,null,null,null,{"$f":"IFERROR(VLOOKUP(D3358,Códigos!B:C,2,0),\" \")","v":" "}]
[null,null,null,null,{"$f":"IFERROR(VLOOKUP(D3359,Códigos!B:C,2,0),\" \")","v":" "}]
[null,null,null,null,{"$f":"IFERROR(VLOOKUP(D3360,Códigos!B:C,2,0),\" \")","v":" "}]
[null,null,null,null,{"$f":"IFERROR(VLOOKUP(D3361,Códigos!B:C,2,0),\" \")","v":" "}]
[null,null,null,null,{"$f":"IFERROR(VLOOKUP(D3362,Códigos!B:C,2,0),\" \")","v":" "}]
[null,null,null,null,{"$f":"IFERROR(VLOOKUP(D3363,Códigos!B:C,2,0),\" \")","v":" "}]
[null,null,null,null,{"$f":"IFERROR(VLOOKUP(D3364,Códigos!B:C,2,0),\" \")","v":" "}]
[null,null,null,null,{"$f":"IFERROR(VLOOKUP(D3365,Códigos!B:C,2,0),\" \")","v":" "}]
[null,null,null,null,{"$f":"IFERROR(VLOOKUP(D3366,Códigos!B:C,2,0),\" \")","v":" "}]
[null,null,null,null,{"$f":"IFERROR(VLOOKUP(D3367,Códigos!B:C,2,0),\" \")","v":" "}]
[null,null,null,null,{"$f":"IFERROR(VLOOKUP(D3368,Códigos!B:C,2,0),\" \")","v":" "}]
[null,null,null,null,{"$f":"IFERROR(VLOOKUP(D3369,Códigos!B:C,2,0),\" \")","v":" "}]
[null,null,null,null,{"$f":"IFERROR(VLOOKUP(D3370,Códigos!B:C,2,0),\" \")","v":" "}]
[null,null,null,null,{"$f":"IFERROR(VLOOKUP(D3371,Códigos!B:C,2,0),\" \")","v":" "}]
[null,null,null,null,{"$f":"IFERROR(VLOOKUP(D3372,Códigos!B:C,2,0),\" \")","v":" "}]
[null,null,null,null,{"$f":"IFERROR(VLOOKUP(D3373,Códigos!B:C,2,0),\" \")","v":" "}]
[null,null,null,null,{"$f":"IFERROR(VLOOKUP(D3374,Códigos!B:C,2,0),\" \")","v":" "}]
[null,null,null,null,{"$f":"IFERROR(VLOOKUP(D3375,Códigos!B:C,2,0),\" \")","v":" "}]
[null,null,null,null,{"$f":"IFERROR(VLOOKUP(D3376,Códigos!B:C,2,0),\" \")","v":" "}]
[null,null,null,null,{"$f":"IFERROR(VLOOKUP(D3377,Códigos!B:C,2,0),\" \")","v":" "}]
[null,null,null,null,{"$f":"IFERROR(VLOOKUP(D3378,Códigos!B:C,2,0),\" \")","v":" "}]
[null,null,null,null,{"$f":"IFERROR(VLOOKUP(D3379,Códigos!B:C,2,0),\" \")","v":" "}]
[null,null,null,null,{"$f":"IFERROR(VLOOKUP(D3380,Códigos!B:C,2,0),\" \")","v":" "}]
[null,null,null,null,{"$f":"IFERROR(VLOOKUP(D3381,Códigos!B:C,2,0),\" \")","v":" "}]
[null,null,null,null,{"$f":"IFERROR(VLOOKUP(D3382,Códigos!B:C,2,0),\" \")","v":" "}]
[null,null,null,null,{"$f":"IFERROR(VLOOKUP(D3383,Códigos!B:C,2,0),\" \")","v":" "}]
[null,null,null,null,{"$f":"IFERROR(VLOOKUP(D3384,Códigos!B:C,2,0),\" \")","v":" "}]
[null,null,null,null,{"$f":"IFERROR(VLOOKUP(D3385,Códigos!B:C,2,0),\" \")","v":" "}]
[null,null,null,null,{"$f":"IFERROR(VLOOKUP(D3386,Códigos!B:C,2,0),\" \")","v":" "}]
[null,null,null,null,{"$f":"IFERROR(VLOOKUP(D3387,Códigos!B:C,2,0),\" \")","v":" "}]
[null,null,null,null,{"$f":"IFERROR(VLOOKUP(D3388,Códigos!B:C,2,0),\" \")","v":" "}]
[null,null,null,null,{"$f":"IFERROR(VLOOKUP(D3389,Códigos!B:C,2,0),\" \")","v":" "}]
[null,null,null,null,{"$f":"IFERROR(VLOOKUP(D3390,Códigos!B:C,2,0),\" \")","v":" "}]
[null,null,null,null,{"$f":"IFERROR(VLOOKUP(D3391,Códigos!B:C,2,0),\" \")","v":" "}]
[null,null,null,null,{"$f":"IFERROR(VLOOKUP(D3392,Códigos!B:C,2,0),\" \")","v":" "}]
[null,null,null,null,{"$f":"IFERROR(VLOOKUP(D3393,Códigos!B:C,2,0),\" \")","v":" "}]
[null,null,null,null,{"$f":"IFERROR(VLOOKUP(D3394,Códigos!B:C,2,0),\" \")","v":" "}]
[null,null,null,null,{"$f":"IFERROR(VLOOKUP(D3395,Códigos!B:C,2,0),\" \")","v":" "}]
[null,null,null,null,{"$f":"IFERROR(VLOOKUP(D3396,Códigos!B:C,2,0),\" \")","v":" "}]
[null,null,null,null,{"$f":"IFERROR(VLOOKUP(D3397,Códigos!B:C,2,0),\" \")","v":" "}]
[null,null,null,null,{"$f":"IFERROR(VLOOKUP(D3398,Códigos!B:C,2,0),\" \")","v":" "}]
[null,null,null,null,{"$f":"IFERROR(VLOOKUP(D3399,Códigos!B:C,2,0),\" \")","v":" "}]
[null,null,null,null,{"$f":"IFERROR(VLOOKUP(D3400,Códigos!B:C,2,0),\" \")","v":" "}]
[null,null,null,null,{"$f":"IFERROR(VLOOKUP(D3401,Códigos!B:C,2,0),\" \")","v":" "}]
[null,null,null,null,{"$f":"IFERROR(VLOOKUP(D3402,Códigos!B:C,2,0),\" \")","v":" "}]
[null,null,null,null,{"$f":"IFERROR(VLOOKUP(D3403,Códigos!B:C,2,0),\" \")","v":" "}]
[null,null,null,null,{"$f":"IFERROR(VLOOKUP(D3404,Códigos!B:C,2,0),\" \")","v":" "}]
[null,null,null,null,{"$f":"IFERROR(VLOOKUP(D3405,Códigos!B:C,2,0),\" \")","v":" "}]
[null,null,null,null,{"$f":"IFERROR(VLOOKUP(D3406,Códigos!B:C,2,0),\" \")","v":" "}]
[null,null,null,null,{"$f":"IFERROR(VLOOKUP(D3407,Códigos!B:C,2,0),\" \")","v":" "}]
[null,null,null,null,{"$f":"IFERROR(VLOOKUP(D3408,Códigos!B:C,2,0),\" \")","v":" "}]
[null,null,null,null,{"$f":"IFERROR(VLOOKUP(D3409,Códigos!B:C,2,0),\" \")","v":" "}]
[null,null,null,null,{"$f":"IFERROR(VLOOKUP(D3410,Códigos!B:C,2,0),\" \")","v":" "}]
[null,null,null,null,{"$f":"IFERROR(VLOOKUP(D3411,Códigos!B:C,2,0),\" \")","v":" "}]
[null,null,null,null,{"$f":"IFERROR(VLOOKUP(D3412,Códigos!B:C,2,0),\" \")","v":" "}]
[null,null,null,null,{"$f":"IFERROR(VLOOKUP(D3413,Códigos!B:C,2,0),\" \")","v":" "}]
[null,null,null,null,{"$f":"IFERROR(VLOOKUP(D3414,Códigos!B:C,2,0),\" \")","v":" "}]
[null,null,null,null,{"$f":"IFERROR(VLOOKUP(D3415,Códigos!B:C,2,0),\" \")","v":" "}]
[null,null,null,null,{"$f":"IFERROR(VLOOKUP(D3416,Códigos!B:C,2,0),\" \")","v":" "}]
[null,null,null,null,{"$f":"IFERROR(VLOOKUP(D3417,Códigos!B:C,2,0),\" \")","v":" "}]
[null,null,null,null,{"$f":"IFERROR(VLOOKUP(D3418,Códigos!B:C,2,0),\" \")","v":" "}]
[null,null,null,null,{"$f":"IFERROR(VLOOKUP(D3419,Códigos!B:C,2,0),\" \")","v":" "}]
[null,null,null,null,{"$f":"IFERROR(VLOOKUP(D3420,Códigos!B:C,2,0),\" \")","v":" "}]
[null,null,null,null,{"$f":"IFERROR(VLOOKUP(D3421,Códigos!B:C,2,0),\" \")","v":" "}]
[null,null,null,null,{"$f":"IFERROR(VLOOKUP(D3422,Códigos!B:C,2,0),\" \")","v":" "}]
[null,null,null,null,{"$f":"IFERROR(VLOOKUP(D3423,Códigos!B:C,2,0),\" \")","v":" "}]
[null,null,null,null,{"$f":"IFERROR(VLOOKUP(D3424,Códigos!B:C,2,0),\" \")","v":" "}]
[null,null,null,null,{"$f":"IFERROR(VLOOKUP(D3425,Códigos!B:C,2,0),\" \")","v":" "}]
[null,null,null,null,{"$f":"IFERROR(VLOOKUP(D3426,Códigos!B:C,2,0),\" \")","v":" "}]
[null,null,null,null,{"$f":"IFERROR(VLOOKUP(D3427,Códigos!B:C,2,0),\" \")","v":" "}]
[null,null,null,null,{"$f":"IFERROR(VLOOKUP(D3428,Códigos!B:C,2,0),\" \")","v":" "}]
[null,null,null,null,{"$f":"IFERROR(VLOOKUP(D3429,Códigos!B:C,2,0),\" \")","v":" "}]
[null,null,null,null,{"$f":"IFERROR(VLOOKUP(D3430,Códigos!B:C,2,0),\" \")","v":" "}]
[null,null,null,null,{"$f":"IFERROR(VLOOKUP(D3431,Códigos!B:C,2,0),\" \")","v":" "}]
[null,null,null,null,{"$f":"IFERROR(VLOOKUP(D3432,Códigos!B:C,2,0),\" \")","v":" "}]
[null,null,null,null,{"$f":"IFERROR(VLOOKUP(D3433,Códigos!B:C,2,0),\" \")","v":" "}]
[null,null,null,null,{"$f":"IFERROR(VLOOKUP(D3434,Códigos!B:C,2,0),\" \")","v":" "}]
[null,null,null,null,{"$f":"IFERROR(VLOOKUP(D3435,Códigos!B:C,2,0),\" \")","v":" "}]
[null,null,null,null,{"$f":"IFERROR(VLOOKUP(D3436,Códigos!B:C,2,0),\" \")","v":" "}]
[null,null,null,null,{"$f":"IFERROR(VLOOKUP(D3437,Códigos!B:C,2,0),\" \")","v":" "}]
[null,null,null,null,{"$f":"IFERROR(VLOOKUP(D3438,Códigos!B:C,2,0),\" \")","v":" "}]
[null,null,null,null,{"$f":"IFERROR(VLOOKUP(D3439,Códigos!B:C,2,0),\" \")","v":" "}]
[null,null,null,null,{"$f":"IFERROR(VLOOKUP(D3440,Códigos!B:C,2,0),\" \")","v":" "}]
[null,null,null,null,{"$f":"IFERROR(VLOOKUP(D3441,Códigos!B:C,2,0),\" \")","v":" "}]
[null,null,null,null,{"$f":"IFERROR(VLOOKUP(D3442,Códigos!B:C,2,0),\" \")","v":" "}]
[null,null,null,null,{"$f":"IFERROR(VLOOKUP(D3443,Códigos!B:C,2,0),\" \")","v":" "}]
[null,null,null,null,{"$f":"IFERROR(VLOOKUP(D3444,Códigos!B:C,2,0),\" \")","v":" "}]
[null,null,null,null,{"$f":"IFERROR(VLOOKUP(D3445,Códigos!B:C,2,0),\" \")","v":" "}]
[null,null,null,null,{"$f":"IFERROR(VLOOKUP(D3446,Códigos!B:C,2,0),\" \")","v":" "}]
[null,null,null,null,{"$f":"IFERROR(VLOOKUP(D3447,Códigos!B:C,2,0),\" \")","v":" "}]
[null,null,null,null,{"$f":"IFERROR(VLOOKUP(D3448,Códigos!B:C,2,0),\" \")","v":" "}]
[null,null,null,null,{"$f":"IFERROR(VLOOKUP(D3449,Códigos!B:C,2,0),\" \")","v":" "}]
[null,null,null,null,{"$f":"IFERROR(VLOOKUP(D3450,Códigos!B:C,2,0),\" \")","v":" "}]
[null,null,null,null,{"$f":"IFERROR(VLOOKUP(D3451,Códigos!B:C,2,0),\" \")","v":" "}]
[null,null,null,null,{"$f":"IFERROR(VLOOKUP(D3452,Códigos!B:C,2,0),\" \")","v":" "}]
[null,null,null,null,{"$f":"IFERROR(VLOOKUP(D3453,Códigos!B:C,2,0),\" \")","v":" "}]
[null,null,null,null,{"$f":"IFERROR(VLOOKUP(D3454,Códigos!B:C,2,0),\" \")","v":" "}]
[null,null,null,null,{"$f":"IFERROR(VLOOKUP(D3455,Códigos!B:C,2,0),\" \")","v":" "}]
[null,null,null,null,{"$f":"IFERROR(VLOOKUP(D3456,Códigos!B:C,2,0),\" \")","v":" "}]
[null,null,null,null,{"$f":"IFERROR(VLOOKUP(D3457,Códigos!B:C,2,0),\" \")","v":" "}]
[null,null,null,null,{"$f":"IFERROR(VLOOKUP(D3458,Códigos!B:C,2,0),\" \")","v":" "}]
[null,null,null,null,{"$f":"IFERROR(VLOOKUP(D3459,Códigos!B:C,2,0),\" \")","v":" "}]
[null,null,null,null,{"$f":"IFERROR(VLOOKUP(D3460,Códigos!B:C,2,0),\" \")","v":" "}]
[null,null,null,null,{"$f":"IFERROR(VLOOKUP(D3461,Códigos!B:C,2,0),\" \")","v":" "}]
[null,null,null,null,{"$f":"IFERROR(VLOOKUP(D3462,Códigos!B:C,2,0),\" \")","v":" "}]
[null,null,null,null,{"$f":"IFERROR(VLOOKUP(D3463,Códigos!B:C,2,0),\" \")","v":" "}]
[null,null,null,null,{"$f":"IFERROR(VLOOKUP(D3464,Códigos!B:C,2,0),\" \")","v":" "}]
[null,null,null,null,{"$f":"IFERROR(VLOOKUP(D3465,Códigos!B:C,2,0),\" \")","v":" "}]
[null,null,null,null,{"$f":"IFERROR(VLOOKUP(D3466,Códigos!B:C,2,0),\" \")","v":" "}]
[null,null,null,null,{"$f":"IFERROR(VLOOKUP(D3467,Códigos!B:C,2,0),\" \")","v":" "}]
[null,null,null,null,{"$f":"IFERROR(VLOOKUP(D3468,Códigos!B:C,2,0),\" \")","v":" "}]
[null,null,null,null,{"$f":"IFERROR(VLOOKUP(D3469,Códigos!B:C,2,0),\" \")","v":" "}]
[null,null,null,null,{"$f":"IFERROR(VLOOKUP(D3470,Códigos!B:C,2,0),\" \")","v":" "}]
[null,null,null,null,{"$f":"IFERROR(VLOOKUP(D3471,Códigos!B:C,2,0),\" \")","v":" "}]
[null,null,null,null,{"$f":"IFERROR(VLOOKUP(D3472,Códigos!B:C,2,0),\" \")","v":" "}]
[null,null,null,null,{"$f":"IFERROR(VLOOKUP(D3473,Códigos!B:C,2,0),\" \")","v":" "}]
[null,null,null,null,{"$f":"IFERROR(VLOOKUP(D3474,Códigos!B:C,2,0),\" \")","v":" "}]
[null,null,null,null,{"$f":"IFERROR(VLOOKUP(D3475,Códigos!B:C,2,0),\" \")","v":" "}]
[null,null,null,null,{"$f":"IFERROR(VLOOKUP(D3476,Códigos!B:C,2,0),\" \")","v":" "}]
[null,null,null,null,{"$f":"IFERROR(VLOOKUP(D3477,Códigos!B:C,2,0),\" \")","v":" "}]
[null,null,null,null,{"$f":"IFERROR(VLOOKUP(D3478,Códigos!B:C,2,0),\" \")","v":" "}]
[null,null,null,null,{"$f":"IFERROR(VLOOKUP(D3479,Códigos!B:C,2,0),\" \")","v":" "}]
[null,null,null,null,{"$f":"IFERROR(VLOOKUP(D3480,Códigos!B:C,2,0),\" \")","v":" "}]
[null,null,null,null,{"$f":"IFERROR(VLOOKUP(D3481,Códigos!B:C,2,0),\" \")","v":" "}]
[null,null,null,null,{"$f":"IFERROR(VLOOKUP(D3482,Códigos!B:C,2,0),\" \")","v":" "}]
[null,null,null,null,{"$f":"IFERROR(VLOOKUP(D3483,Códigos!B:C,2,0),\" \")","v":" "}]
[null,null,null,null,{"$f":"IFERROR(VLOOKUP(D3484,Códigos!B:C,2,0),\" \")","v":" "}]
[null,null,null,null,{"$f":"IFERROR(VLOOKUP(D3485,Códigos!B:C,2,0),\" \")","v":" "}]
[null,null,null,null,{"$f":"IFERROR(VLOOKUP(D3486,Códigos!B:C,2,0),\" \")","v":" "}]
[null,null,null,null,{"$f":"IFERROR(VLOOKUP(D3487,Códigos!B:C,2,0),\" \")","v":" "}]
[null,null,null,null,{"$f":"IFERROR(VLOOKUP(D3488,Códigos!B:C,2,0),\" \")","v":" "}]
[null,null,null,null,{"$f":"IFERROR(VLOOKUP(D3489,Códigos!B:C,2,0),\" \")","v":" "}]
[null,null,null,null,{"$f":"IFERROR(VLOOKUP(D3490,Códigos!B:C,2,0),\" \")","v":" "}]
[null,null,null,null,{"$f":"IFERROR(VLOOKUP(D3491,Códigos!B:C,2,0),\" \")","v":" "}]
[null,null,null,null,{"$f":"IFERROR(VLOOKUP(D3492,Códigos!B:C,2,0),\" \")","v":" "}]
[null,null,null,null,{"$f":"IFERROR(VLOOKUP(D3493,Códigos!B:C,2,0),\" \")","v":" "}]
[null,null,null,null,{"$f":"IFERROR(VLOOKUP(D3494,Códigos!B:C,2,0),\" \")","v":" "}]
[null,null,null,null,{"$f":"IFERROR(VLOOKUP(D3495,Códigos!B:C,2,0),\" \")","v":" "}]
[null,null,null,null,{"$f":"IFERROR(VLOOKUP(D3496,Códigos!B:C,2,0),\" \")","v":" "}]
[null,null,null,null,{"$f":"IFERROR(VLOOKUP(D3497,Códigos!B:C,2,0),\" \")","v":" "}]
[null,null,null,null,{"$f":"IFERROR(VLOOKUP(D3498,Códigos!B:C,2,0),\" \")","v":" "}]
[null,null,null,null,{"$f":"IFERROR(VLOOKUP(D3499,Códigos!B:C,2,0),\" \")","v":" "}]
[null,null,null,null,{"$f":"IFERROR(VLOOKUP(D3500,Códigos!B:C,2,0),\" \")","v":" "}]
[null,null,null,null,{"$f":"IFERROR(VLOOKUP(D3501,Códigos!B:C,2,0),\" \")","v":" "}]
[null,null,null,null,{"$f":"IFERROR(VLOOKUP(D3502,Códigos!B:C,2,0),\" \")","v":" "}]
[null,null,null,null,{"$f":"IFERROR(VLOOKUP(D3503,Códigos!B:C,2,0),\" \")","v":" "}]
[null,null,null,null,{"$f":"IFERROR(VLOOKUP(D3504,Códigos!B:C,2,0),\" \")","v":" "}]
[null,null,null,null,{"$f":"IFERROR(VLOOKUP(D3505,Códigos!B:C,2,0),\" \")","v":" "}]
[null,null,null,null,{"$f":"IFERROR(VLOOKUP(D3506,Códigos!B:C,2,0),\" \")","v":" "}]
[null,null,null,null,{"$f":"IFERROR(VLOOKUP(D3507,Códigos!B:C,2,0),\" \")","v":" "}]
[null,null,null,null,{"$f":"IFERROR(VLOOKUP(D3508,Códigos!B:C,2,0),\" \")","v":" "}]
[null,null,null,null,{"$f":"IFERROR(VLOOKUP(D3509,Códigos!B:C,2,0),\" \")","v":" "}]
[null,null,null,null,{"$f":"IFERROR(VLOOKUP(D3510,Códigos!B:C,2,0),\" \")","v":" "}]
[null,null,null,null,{"$f":"IFERROR(VLOOKUP(D3511,Códigos!B:C,2,0),\" \")","v":" "}]
[null,null,null,null,{"$f":"IFERROR(VLOOKUP(D3512,Códigos!B:C,2,0),\" \")","v":" "}]
[null,null,null,null,{"$f":"IFERROR(VLOOKUP(D3513,Códigos!B:C,2,0),\" \")","v":" "}]
[null,null,null,null,{"$f":"IFERROR(VLOOKUP(D3514,Códigos!B:C,2,0),\" \")","v":" "}]
[null,null,null,null,{"$f":"IFERROR(VLOOKUP(D3515,Códigos!B:C,2,0),\" \")","v":" "}]
[null,null,null,null,{"$f":"IFERROR(VLOOKUP(D3516,Códigos!B:C,2,0),\" \")","v":" "}]
[null,null,null,null,{"$f":"IFERROR(VLOOKUP(D3517,Códigos!B:C,2,0),\" \")","v":" "}]
[null,null,null,null,{"$f":"IFERROR(VLOOKUP(D3518,Códigos!B:C,2,0),\" \")","v":" "}]
[null,null,null,null,{"$f":"IFERROR(VLOOKUP(D3519,Códigos!B:C,2,0),\" \")","v":" "}]
[null,null,null,null,{"$f":"IFERROR(VLOOKUP(D3520,Códigos!B:C,2,0),\" \")","v":" "}]
[null,null,null,null,{"$f":"IFERROR(VLOOKUP(D3521,Códigos!B:C,2,0),\" \")","v":" "}]
[null,null,null,null,{"$f":"IFERROR(VLOOKUP(D3522,Códigos!B:C,2,0),\" \")","v":" "}]
[null,null,null,null,{"$f":"IFERROR(VLOOKUP(D3523,Códigos!B:C,2,0),\" \")","v":" "}]
[null,null,null,null,{"$f":"IFERROR(VLOOKUP(D3524,Códigos!B:C,2,0),\" \")","v":" "}]
[null,null,null,null,{"$f":"IFERROR(VLOOKUP(D3525,Códigos!B:C,2,0),\" \")","v":" "}]
[null,null,null,null,{"$f":"IFERROR(VLOOKUP(D3526,Códigos!B:C,2,0),\" \")","v":" "}]
[null,null,null,null,{"$f":"IFERROR(VLOOKUP(D3527,Códigos!B:C,2,0),\" \")","v":" "}]
[null,null,null,null,{"$f":"IFERROR(VLOOKUP(D3528,Códigos!B:C,2,0),\" \")","v":" "}]
[null,null,null,null,{"$f":"IFERROR(VLOOKUP(D3529,Códigos!B:C,2,0),\" \")","v":" "}]
[null,null,null,null,{"$f":"IFERROR(VLOOKUP(D3530,Códigos!B:C,2,0),\" \")","v":" "}]
[null,null,null,null,{"$f":"IFERROR(VLOOKUP(D3531,Códigos!B:C,2,0),\" \")","v":" "}]
[null,null,null,null,{"$f":"IFERROR(VLOOKUP(D3532,Códigos!B:C,2,0),\" \")","v":" "}]
[null,null,null,null,{"$f":"IFERROR(VLOOKUP(D3533,Códigos!B:C,2,0),\" \")","v":" "}]
[null,null,null,null,{"$f":"IFERROR(VLOOKUP(D3534,Códigos!B:C,2,0),\" \")","v":" "}]
[null,null,null,null,{"$f":"IFERROR(VLOOKUP(D3535,Códigos!B:C,2,0),\" \")","v":" "}]
[null,null,null,null,{"$f":"IFERROR(VLOOKUP(D3536,Códigos!B:C,2,0),\" \")","v":" "}]
[null,null,null,null,{"$f":"IFERROR(VLOOKUP(D3537,Códigos!B:C,2,0),\" \")","v":" "}]
[null,null,null,null,{"$f":"IFERROR(VLOOKUP(D3538,Códigos!B:C,2,0),\" \")","v":" "}]
[null,null,null,null,{"$f":"IFERROR(VLOOKUP(D3539,Códigos!B:C,2,0),\" \")","v":" "}]
[null,null,null,null,{"$f":"IFERROR(VLOOKUP(D3540,Códigos!B:C,2,0),\" \")","v":" "}]
[null,null,null,null,{"$f":"IFERROR(VLOOKUP(D3541,Códigos!B:C,2,0),\" \")","v":" "}]
[null,null,null,null,{"$f":"IFERROR(VLOOKUP(D3542,Códigos!B:C,2,0),\" \")","v":" "}]
[null,null,null,null,{"$f":"IFERROR(VLOOKUP(D3543,Códigos!B:C,2,0),\" \")","v":" "}]
[null,null,null,null,{"$f":"IFERROR(VLOOKUP(D3544,Códigos!B:C,2,0),\" \")","v":" "}]
[null,null,null,null,{"$f":"IFERROR(VLOOKUP(D3545,Códigos!B:C,2,0),\" \")","v":" "}]
[null,null,null,null,{"$f":"IFERROR(VLOOKUP(D3546,Códigos!B:C,2,0),\" \")","v":" "}]
[null,null,null,null,{"$f":"IFERROR(VLOOKUP(D3547,Códigos!B:C,2,0),\" \")","v":" "}]
[null,null,null,null,{"$f":"IFERROR(VLOOKUP(D3548,Códigos!B:C,2,0),\" \")","v":" "}]
[null,null,null,null,{"$f":"IFERROR(VLOOKUP(D3549,Códigos!B:C,2,0),\" \")","v":" "}]
[null,null,null,null,{"$f":"IFERROR(VLOOKUP(D3550,Códigos!B:C,2,0),\" \")","v":" "}]
[null,null,null,null,{"$f":"IFERROR(VLOOKUP(D3551,Códigos!B:C,2,0),\" \")","v":" "}]
[null,null,null,null,{"$f":"IFERROR(VLOOKUP(D3552,Códigos!B:C,2,0),\" \")","v":" "}]
[null,null,null,null,{"$f":"IFERROR(VLOOKUP(D3553,Códigos!B:C,2,0),\" \")","v":" "}]
[null,null,null,null,{"$f":"IFERROR(VLOOKUP(D3554,Códigos!B:C,2,0),\" \")","v":" "}]
[null,null,null,null,{"$f":"IFERROR(VLOOKUP(D3555,Códigos!B:C,2,0),\" \")","v":" "}]
[null,null,null,null,{"$f":"IFERROR(VLOOKUP(D3556,Códigos!B:C,2,0),\" \")","v":" "}]
[null,null,null,null,{"$f":"IFERROR(VLOOKUP(D3557,Códigos!B:C,2,0),\" \")","v":" "}]
[null,null,null,null,{"$f":"IFERROR(VLOOKUP(D3558,Códigos!B:C,2,0),\" \")","v":" "}]
[null,null,null,null,{"$f":"IFERROR(VLOOKUP(D3559,Códigos!B:C,2,0),\" \")","v":" "}]
[null,null,null,null,{"$f":"IFERROR(VLOOKUP(D3560,Códigos!B:C,2,0),\" \")","v":" "}]
[null,null,null,null,{"$f":"IFERROR(VLOOKUP(D3561,Códigos!B:C,2,0),\" \")","v":" "}]
[null,null,null,null,{"$f":"IFERROR(VLOOKUP(D3562,Códigos!B:C,2,0),\" \")","v":" "}]
[null,null,null,null,{"$f":"IFERROR(VLOOKUP(D3563,Códigos!B:C,2,0),\" \")","v":" "}]
[null,null,null,null,{"$f":"IFERROR(VLOOKUP(D3564,Códigos!B:C,2,0),\" \")","v":" "}]
[null,null,null,null,{"$f":"IFERROR(VLOOKUP(D3565,Códigos!B:C,2,0),\" \")","v":" "}]
[null,null,null,null,{"$f":"IFERROR(VLOOKUP(D3566,Códigos!B:C,2,0),\" \")","v":" "}]
[null,null,null,null,{"$f":"IFERROR(VLOOKUP(D3567,Códigos!B:C,2,0),\" \")","v":" "}]
[null,null,null,null,{"$f":"IFERROR(VLOOKUP(D3568,Códigos!B:C,2,0),\" \")","v":" "}]
[null,null,null,null,{"$f":"IFERROR(VLOOKUP(D3569,Códigos!B:C,2,0),\" \")","v":" "}]
[null,null,null,null,{"$f":"IFERROR(VLOOKUP(D3570,Códigos!B:C,2,0),\" \")","v":" "}]
[null,null,null,null,{"$f":"IFERROR(VLOOKUP(D3571,Códigos!B:C,2,0),\" \")","v":" "}]
[null,null,null,null,{"$f":"IFERROR(VLOOKUP(D3572,Códigos!B:C,2,0),\" \")","v":" "}]
[null,null,null,null,{"$f":"IFERROR(VLOOKUP(D3573,Códigos!B:C,2,0),\" \")","v":" "}]
[null,null,null,null,{"$f":"IFERROR(VLOOKUP(D3574,Códigos!B:C,2,0),\" \")","v":" "}]
[null,null,null,null,{"$f":"IFERROR(VLOOKUP(D3575,Códigos!B:C,2,0),\" \")","v":" "}]
[null,null,null,null,{"$f":"IFERROR(VLOOKUP(D3576,Códigos!B:C,2,0),\" \")","v":" "}]
[null,null,null,null,{"$f":"IFERROR(VLOOKUP(D3577,Códigos!B:C,2,0),\" \")","v":" "}]
[null,null,null,null,{"$f":"IFERROR(VLOOKUP(D3578,Códigos!B:C,2,0),\" \")","v":" "}]
[null,null,null,null,{"$f":"IFERROR(VLOOKUP(D3579,Códigos!B:C,2,0),\" \")","v":" "}]
[null,null,null,null,{"$f":"IFERROR(VLOOKUP(D3580,Códigos!B:C,2,0),\" \")","v":" "}]
[null,null,null,null,{"$f":"IFERROR(VLOOKUP(D3581,Códigos!B:C,2,0),\" \")","v":" "}]
[null,null,null,null,{"$f":"IFERROR(VLOOKUP(D3582,Códigos!B:C,2,0),\" \")","v":" "}]
[null,null,null,null,{"$f":"IFERROR(VLOOKUP(D3583,Códigos!B:C,2,0),\" \")","v":" "}]
[null,null,null,null,{"$f":"IFERROR(VLOOKUP(D3584,Códigos!B:C,2,0),\" \")","v":" "}]
[null,null,null,null,{"$f":"IFERROR(VLOOKUP(D3585,Códigos!B:C,2,0),\" \")","v":" "}]
[null,null,null,null,{"$f":"IFERROR(VLOOKUP(D3586,Códigos!B:C,2,0),\" \")","v":" "}]
[null,null,null,null,{"$f":"IFERROR(VLOOKUP(D3587,Códigos!B:C,2,0),\" \")","v":" "}]
[null,null,null,null,{"$f":"IFERROR(VLOOKUP(D3588,Códigos!B:C,2,0),\" \")","v":" "}]
[null,null,null,null,{"$f":"IFERROR(VLOOKUP(D3589,Códigos!B:C,2,0),\" \")","v":" "}]
[null,null,null,null,{"$f":"IFERROR(VLOOKUP(D3590,Códigos!B:C,2,0),\" \")","v":" "}]
[null,null,null,null,{"$f":"IFERROR(VLOOKUP(D3591,Códigos!B:C,2,0),\" \")","v":" "}]
[null,null,null,null,{"$f":"IFERROR(VLOOKUP(D3592,Códigos!B:C,2,0),\" \")","v":" "}]
[null,null,null,null,{"$f":"IFERROR(VLOOKUP(D3593,Códigos!B:C,2,0),\" \")","v":" "}]
[null,null,null,null,{"$f":"IFERROR(VLOOKUP(D3594,Códigos!B:C,2,0),\" \")","v":" "}]
[null,null,null,null,{"$f":"IFERROR(VLOOKUP(D3595,Códigos!B:C,2,0),\" \")","v":" "}]
[null,null,null,null,{"$f":"IFERROR(VLOOKUP(D3596,Códigos!B:C,2,0),\" \")","v":" "}]
[null,null,null,null,{"$f":"IFERROR(VLOOKUP(D3597,Códigos!B:C,2,0),\" \")","v":" "}]
[null,null,null,null,{"$f":"IFERROR(VLOOKUP(D3598,Códigos!B:C,2,0),\" \")","v":" "}]
[null,null,null,null,{"$f":"IFERROR(VLOOKUP(D3599,Códigos!B:C,2,0),\" \")","v":" "}]
[null,null,null,null,{"$f":"IFERROR(VLOOKUP(D3600,Códigos!B:C,2,0),\" \")","v":" "}]
[null,null,null,null,{"$f":"IFERROR(VLOOKUP(D3601,Códigos!B:C,2,0),\" \")","v":" "}]
[null,null,null,null,{"$f":"IFERROR(VLOOKUP(D3602,Códigos!B:C,2,0),\" \")","v":" "}]
[null,null,null,null,{"$f":"IFERROR(VLOOKUP(D3603,Códigos!B:C,2,0),\" \")","v":" "}]
[null,null,null,null,{"$f":"IFERROR(VLOOKUP(D3604,Códigos!B:C,2,0),\" \")","v":" "}]
[null,null,null,null,{"$f":"IFERROR(VLOOKUP(D3605,Códigos!B:C,2,0),\" \")","v":" "}]
[null,null,null,null,{"$f":"IFERROR(VLOOKUP(D3606,Códigos!B:C,2,0),\" \")","v":" "}]
[null,null,null,null,{"$f":"IFERROR(VLOOKUP(D3607,Códigos!B:C,2,0),\" \")","v":" "}]
[null,null,null,null,{"$f":"IFERROR(VLOOKUP(D3608,Códigos!B:C,2,0),\" \")","v":" "}]
[null,null,null,null,{"$f":"IFERROR(VLOOKUP(D3609,Códigos!B:C,2,0),\" \")","v":" "}]
[null,null,null,null,{"$f":"IFERROR(VLOOKUP(D3610,Códigos!B:C,2,0),\" \")","v":" "}]
[null,null,null,null,{"$f":"IFERROR(VLOOKUP(D3611,Códigos!B:C,2,0),\" \")","v":" "}]
[null,null,null,null,{"$f":"IFERROR(VLOOKUP(D3612,Códigos!B:C,2,0),\" \")","v":" "}]
[null,null,null,null,{"$f":"IFERROR(VLOOKUP(D3613,Códigos!B:C,2,0),\" \")","v":" "}]
[null,null,null,null,{"$f":"IFERROR(VLOOKUP(D3614,Códigos!B:C,2,0),\" \")","v":" "}]
[null,null,null,null,{"$f":"IFERROR(VLOOKUP(D3615,Códigos!B:C,2,0),\" \")","v":" "}]
[null,null,null,null,{"$f":"IFERROR(VLOOKUP(D3616,Códigos!B:C,2,0),\" \")","v":" "}]
[null,null,null,null,{"$f":"IFERROR(VLOOKUP(D3617,Códigos!B:C,2,0),\" \")","v":" "}]
[null,null,null,null,{"$f":"IFERROR(VLOOKUP(D3618,Códigos!B:C,2,0),\" \")","v":" "}]
[null,null,null,null,{"$f":"IFERROR(VLOOKUP(D3619,Códigos!B:C,2,0),\" \")","v":" "}]
[null,null,null,null,{"$f":"IFERROR(VLOOKUP(D3620,Códigos!B:C,2,0),\" \")","v":" "}]
[null,null,null,null,{"$f":"IFERROR(VLOOKUP(D3621,Códigos!B:C,2,0),\" \")","v":" "}]
[null,null,null,null,{"$f":"IFERROR(VLOOKUP(D3622,Códigos!B:C,2,0),\" \")","v":" "}]
[null,null,null,null,{"$f":"IFERROR(VLOOKUP(D3623,Códigos!B:C,2,0),\" \")","v":" "}]
[null,null,null,null,{"$f":"IFERROR(VLOOKUP(D3624,Códigos!B:C,2,0),\" \")","v":" "}]
[null,null,null,null,{"$f":"IFERROR(VLOOKUP(D3625,Códigos!B:C,2,0),\" \")","v":" "}]
[null,null,null,null,{"$f":"IFERROR(VLOOKUP(D3626,Códigos!B:C,2,0),\" \")","v":" "}]
[null,null,null,null,{"$f":"IFERROR(VLOOKUP(D3627,Códigos!B:C,2,0),\" \")","v":" "}]
[null,null,null,null,{"$f":"IFERROR(VLOOKUP(D3628,Códigos!B:C,2,0),\" \")","v":" "}]
[null,null,null,null,{"$f":"IFERROR(VLOOKUP(D3629,Códigos!B:C,2,0),\" \")","v":" "}]
[null,null,null,null,{"$f":"IFERROR(VLOOKUP(D3630,Códigos!B:C,2,0),\" \")","v":" "}]
[null,null,null,null,{"$f":"IFERROR(VLOOKUP(D3631,Códigos!B:C,2,0),\" \")","v":" "}]
[null,null,null,null,{"$f":"IFERROR(VLOOKUP(D3632,Códigos!B:C,2,0),\" \")","v":" "}]
[null,null,null,null,{"$f":"IFERROR(VLOOKUP(D3633,Códigos!B:C,2,0),\" \")","v":" "}]
[null,null,null,null,{"$f":"IFERROR(VLOOKUP(D3634,Códigos!B:C,2,0),\" \")","v":" "}]
[null,null,null,null,{"$f":"IFERROR(VLOOKUP(D3635,Códigos!B:C,2,0),\" \")","v":" "}]
[null,null,null,null,{"$f":"IFERROR(VLOOKUP(D3636,Códigos!B:C,2,0),\" \")","v":" "}]
[null,null,null,null,{"$f":"IFERROR(VLOOKUP(D3637,Códigos!B:C,2,0),\" \")","v":" "}]
[null,null,null,null,{"$f":"IFERROR(VLOOKUP(D3638,Códigos!B:C,2,0),\" \")","v":" "}]
[null,null,null,null,{"$f":"IFERROR(VLOOKUP(D3639,Códigos!B:C,2,0),\" \")","v":" "}]
[null,null,null,null,{"$f":"IFERROR(VLOOKUP(D3640,Códigos!B:C,2,0),\" \")","v":" "}]
[null,null,null,null,{"$f":"IFERROR(VLOOKUP(D3641,Códigos!B:C,2,0),\" \")","v":" "}]
[null,null,null,null,{"$f":"IFERROR(VLOOKUP(D3642,Códigos!B:C,2,0),\" \")","v":" "}]
[null,null,null,null,{"$f":"IFERROR(VLOOKUP(D3643,Códigos!B:C,2,0),\" \")","v":" "}]
[null,null,null,null,{"$f":"IFERROR(VLOOKUP(D3644,Códigos!B:C,2,0),\" \")","v":" "}]
[null,null,null,null,{"$f":"IFERROR(VLOOKUP(D3645,Códigos!B:C,2,0),\" \")","v":" "}]
[null,null,null,null,{"$f":"IFERROR(VLOOKUP(D3646,Códigos!B:C,2,0),\" \")","v":" "}]
[null,null,null,null,{"$f":"IFERROR(VLOOKUP(D3647,Códigos!B:C,2,0),\" \")","v":" "}]
[null,null,null,null,{"$f":"IFERROR(VLOOKUP(D3648,Códigos!B:C,2,0),\" \")","v":" "}]
[null,null,null,null,{"$f":"IFERROR(VLOOKUP(D3649,Códigos!B:C,2,0),\" \")","v":" "}]
[null,null,null,null,{"$f":"IFERROR(VLOOKUP(D3650,Códigos!B:C,2,0),\" \")","v":" "}]
[null,null,null,null,{"$f":"IFERROR(VLOOKUP(D3651,Códigos!B:C,2,0),\" \")","v":" "}]
[null,null,null,null,{"$f":"IFERROR(VLOOKUP(D3652,Códigos!B:C,2,0),\" \")","v":" "}]
[null,null,null,null,{"$f":"IFERROR(VLOOKUP(D3653,Códigos!B:C,2,0),\" \")","v":" "}]
[null,null,null,null,{"$f":"IFERROR(VLOOKUP(D3654,Códigos!B:C,2,0),\" \")","v":" "}]
[null,null,null,null,{"$f":"IFERROR(VLOOKUP(D3655,Códigos!B:C,2,0),\" \")","v":" "}]
[null,null,null,null,{"$f":"IFERROR(VLOOKUP(D3656,Códigos!B:C,2,0),\" \")","v":" "}]
[null,null,null,null,{"$f":"IFERROR(VLOOKUP(D3657,Códigos!B:C,2,0),\" \")","v":" "}]
[null,null,null,null,{"$f":"IFERROR(VLOOKUP(D3658,Códigos!B:C,2,0),\" \")","v":" "}]
[null,null,null,null,{"$f":"IFERROR(VLOOKUP(D3659,Códigos!B:C,2,0),\" \")","v":" "}]
[null,null,null,null,{"$f":"IFERROR(VLOOKUP(D3660,Códigos!B:C,2,0),\" \")","v":" "}]
[null,null,null,null,{"$f":"IFERROR(VLOOKUP(D3661,Códigos!B:C,2,0),\" \")","v":" "}]
[null,null,null,null,{"$f":"IFERROR(VLOOKUP(D3662,Códigos!B:C,2,0),\" \")","v":" "}]
[null,null,null,null,{"$f":"IFERROR(VLOOKUP(D3663,Códigos!B:C,2,0),\" \")","v":" "}]
[null,null,null,null,{"$f":"IFERROR(VLOOKUP(D3664,Códigos!B:C,2,0),\" \")","v":" "}]
[null,null,null,null,{"$f":"IFERROR(VLOOKUP(D3665,Códigos!B:C,2,0),\" \")","v":" "}]
[null,null,null,null,{"$f":"IFERROR(VLOOKUP(D3666,Códigos!B:C,2,0),\" \")","v":" "}]
[null,null,null,null,{"$f":"IFERROR(VLOOKUP(D3667,Códigos!B:C,2,0),\" \")","v":" "}]
[null,null,null,null,{"$f":"IFERROR(VLOOKUP(D3668,Códigos!B:C,2,0),\" \")","v":" "}]
[null,null,null,null,{"$f":"IFERROR(VLOOKUP(D3669,Códigos!B:C,2,0),\" \")","v":" "}]
[null,null,null,null,{"$f":"IFERROR(VLOOKUP(D3670,Códigos!B:C,2,0),\" \")","v":" "}]
[null,null,null,null,{"$f":"IFERROR(VLOOKUP(D3671,Códigos!B:C,2,0),\" \")","v":" "}]
[null,null,null,null,{"$f":"IFERROR(VLOOKUP(D3672,Códigos!B:C,2,0),\" \")","v":" "}]
[null,null,null,null,{"$f":"IFERROR(VLOOKUP(D3673,Códigos!B:C,2,0),\" \")","v":" "}]
[null,null,null,null,{"$f":"IFERROR(VLOOKUP(D3674,Códigos!B:C,2,0),\" \")","v":" "}]
[null,null,null,null,{"$f":"IFERROR(VLOOKUP(D3675,Códigos!B:C,2,0),\" \")","v":" "}]
[null,null,null,null,{"$f":"IFERROR(VLOOKUP(D3676,Códigos!B:C,2,0),\" \")","v":" "}]
[null,null,null,null,{"$f":"IFERROR(VLOOKUP(D3677,Códigos!B:C,2,0),\" \")","v":" "}]
[null,null,null,null,{"$f":"IFERROR(VLOOKUP(D3678,Códigos!B:C,2,0),\" \")","v":" "}]
[null,null,null,null,{"$f":"IFERROR(VLOOKUP(D3679,Códigos!B:C,2,0),\" \")","v":" "}]
[null,null,null,null,{"$f":"IFERROR(VLOOKUP(D3680,Códigos!B:C,2,0),\" \")","v":" "}]
[null,null,null,null,{"$f":"IFERROR(VLOOKUP(D3681,Códigos!B:C,2,0),\" \")","v":" "}]
[null,null,null,null,{"$f":"IFERROR(VLOOKUP(D3682,Códigos!B:C,2,0),\" \")","v":" "}]
[null,null,null,null,{"$f":"IFERROR(VLOOKUP(D3683,Códigos!B:C,2,0),\" \")","v":" "}]
[null,null,null,null,{"$f":"IFERROR(VLOOKUP(D3684,Códigos!B:C,2,0),\" \")","v":" "}]
[null,null,null,null,{"$f":"IFERROR(VLOOKUP(D3685,Códigos!B:C,2,0),\" \")","v":" "}]
[null,null,null,null,{"$f":"IFERROR(VLOOKUP(D3686,Códigos!B:C,2,0),\" \")","v":" "}]
[null,null,null,null,{"$f":"IFERROR(VLOOKUP(D3687,Códigos!B:C,2,0),\" \")","v":" "}]
[null,null,null,null,{"$f":"IFERROR(VLOOKUP(D3688,Códigos!B:C,2,0),\" \")","v":" "}]
[null,null,null,null,{"$f":"IFERROR(VLOOKUP(D3689,Códigos!B:C,2,0),\" \")","v":" "}]
[null,null,null,null,{"$f":"IFERROR(VLOOKUP(D3690,Códigos!B:C,2,0),\" \")","v":" "}]
[null,null,null,null,{"$f":"IFERROR(VLOOKUP(D3691,Códigos!B:C,2,0),\" \")","v":" "}]
[null,null,null,null,{"$f":"IFERROR(VLOOKUP(D3692,Códigos!B:C,2,0),\" \")","v":" "}]
[null,null,null,null,{"$f":"IFERROR(VLOOKUP(D3693,Códigos!B:C,2,0),\" \")","v":" "}]
[null,null,null,null,{"$f":"IFERROR(VLOOKUP(D3694,Códigos!B:C,2,0),\" \")","v":" "}]
[null,null,null,null,{"$f":"IFERROR(VLOOKUP(D3695,Códigos!B:C,2,0),\" \")","v":" "}]
[null,null,null,null,{"$f":"IFERROR(VLOOKUP(D3696,Códigos!B:C,2,0),\" \")","v":" "}]
[null,null,null,null,{"$f":"IFERROR(VLOOKUP(D3697,Códigos!B:C,2,0),\" \")","v":" "}]
[null,null,null,null,{"$f":"IFERROR(VLOOKUP(D3698,Códigos!B:C,2,0),\" \")","v":" "}]
[null,null,null,null,{"$f":"IFERROR(VLOOKUP(D3699,Códigos!B:C,2,0),\" \")","v":" "}]
[null,null,null,null,{"$f":"IFERROR(VLOOKUP(D3700,Códigos!B:C,2,0),\" \")","v":" "}]
[null,null,null,null,{"$f":"IFERROR(VLOOKUP(D3701,Códigos!B:C,2,0),\" \")","v":" "}]
[null,null,null,null,{"$f":"IFERROR(VLOOKUP(D3702,Códigos!B:C,2,0),\" \")","v":" "}]
[null,null,null,null,{"$f":"IFERROR(VLOOKUP(D3703,Códigos!B:C,2,0),\" \")","v":" "}]
[null,null,null,null,{"$f":"IFERROR(VLOOKUP(D3704,Códigos!B:C,2,0),\" \")","v":" "}]
[null,null,null,null,{"$f":"IFERROR(VLOOKUP(D3705,Códigos!B:C,2,0),\" \")","v":" "}]
[null,null,null,null,{"$f":"IFERROR(VLOOKUP(D3706,Códigos!B:C,2,0),\" \")","v":" "}]
[null,null,null,null,{"$f":"IFERROR(VLOOKUP(D3707,Códigos!B:C,2,0),\" \")","v":" "}]
[null,null,null,null,{"$f":"IFERROR(VLOOKUP(D3708,Códigos!B:C,2,0),\" \")","v":" "}]
[null,null,null,null,{"$f":"IFERROR(VLOOKUP(D3709,Códigos!B:C,2,0),\" \")","v":" "}]
[null,null,null,null,{"$f":"IFERROR(VLOOKUP(D3710,Códigos!B:C,2,0),\" \")","v":" "}]
[null,null,null,null,{"$f":"IFERROR(VLOOKUP(D3711,Códigos!B:C,2,0),\" \")","v":" "}]
[null,null,null,null,{"$f":"IFERROR(VLOOKUP(D3712,Códigos!B:C,2,0),\" \")","v":" "}]
[null,null,null,null,{"$f":"IFERROR(VLOOKUP(D3713,Códigos!B:C,2,0),\" \")","v":" "}]
[null,null,null,null,{"$f":"IFERROR(VLOOKUP(D3714,Códigos!B:C,2,0),\" \")","v":" "}]
[null,null,null,null,{"$f":"IFERROR(VLOOKUP(D3715,Códigos!B:C,2,0),\" \")","v":" "}]
[null,null,null,null,{"$f":"IFERROR(VLOOKUP(D3716,Códigos!B:C,2,0),\" \")","v":" "}]
[null,null,null,null,{"$f":"IFERROR(VLOOKUP(D3717,Códigos!B:C,2,0),\" \")","v":" "}]
[null,null,null,null,{"$f":"IFERROR(VLOOKUP(D3718,Códigos!B:C,2,0),\" \")","v":" "}]
[null,null,null,null,{"$f":"IFERROR(VLOOKUP(D3719,Códigos!B:C,2,0),\" \")","v":" "}]
[null,null,null,null,{"$f":"IFERROR(VLOOKUP(D3720,Códigos!B:C,2,0),\" \")","v":" "}]
[null,null,null,null,{"$f":"IFERROR(VLOOKUP(D3721,Códigos!B:C,2,0),\" \")","v":" "}]
[null,null,null,null,{"$f":"IFERROR(VLOOKUP(D3722,Códigos!B:C,2,0),\" \")","v":" "}]
[null,null,null,null,{"$f":"IFERROR(VLOOKUP(D3723,Códigos!B:C,2,0),\" \")","v":" "}]
[null,null,null,null,{"$f":"IFERROR(VLOOKUP(D3724,Códigos!B:C,2,0),\" \")","v":" "}]
[null,null,null,null,{"$f":"IFERROR(VLOOKUP(D3725,Códigos!B:C,2,0),\" \")","v":" "}]
[null,null,null,null,{"$f":"IFERROR(VLOOKUP(D3726,Códigos!B:C,2,0),\" \")","v":" "}]
[null,null,null,null,{"$f":"IFERROR(VLOOKUP(D3727,Códigos!B:C,2,0),\" \")","v":" "}]
[null,null,null,null,{"$f":"IFERROR(VLOOKUP(D3728,Códigos!B:C,2,0),\" \")","v":" "}]
[null,null,null,null,{"$f":"IFERROR(VLOOKUP(D3729,Códigos!B:C,2,0),\" \")","v":" "}]
[null,null,null,null,{"$f":"IFERROR(VLOOKUP(D3730,Códigos!B:C,2,0),\" \")","v":" "}]
[null,null,null,null,{"$f":"IFERROR(VLOOKUP(D3731,Códigos!B:C,2,0),\" \")","v":" "}]
[null,null,null,null,{"$f":"IFERROR(VLOOKUP(D3732,Códigos!B:C,2,0),\" \")","v":" "}]
[null,null,null,null,{"$f":"IFERROR(VLOOKUP(D3733,Códigos!B:C,2,0),\" \")","v":" "}]
[null,null,null,null,{"$f":"IFERROR(VLOOKUP(D3734,Códigos!B:C,2,0),\" \")","v":" "}]
[null,null,null,null,{"$f":"IFERROR(VLOOKUP(D3735,Códigos!B:C,2,0),\" \")","v":" "}]
[null,null,null,null,{"$f":"IFERROR(VLOOKUP(D3736,Códigos!B:C,2,0),\" \")","v":" "}]
[null,null,null,null,{"$f":"IFERROR(VLOOKUP(D3737,Códigos!B:C,2,0),\" \")","v":" "}]
[null,null,null,null,{"$f":"IFERROR(VLOOKUP(D3738,Códigos!B:C,2,0),\" \")","v":" "}]
[null,null,null,null,{"$f":"IFERROR(VLOOKUP(D3739,Códigos!B:C,2,0),\" \")","v":" "}]
[null,null,null,null,{"$f":"IFERROR(VLOOKUP(D3740,Códigos!B:C,2,0),\" \")","v":" "}]
[null,null,null,null,{"$f":"IFERROR(VLOOKUP(D3741,Códigos!B:C,2,0),\" \")","v":" "}]
[null,null,null,null,{"$f":"IFERROR(VLOOKUP(D3742,Códigos!B:C,2,0),\" \")","v":" "}]
[null,null,null,null,{"$f":"IFERROR(VLOOKUP(D3743,Códigos!B:C,2,0),\" \")","v":" "}]
[null,null,null,null,{"$f":"IFERROR(VLOOKUP(D3744,Códigos!B:C,2,0),\" \")","v":" "}]
[null,null,null,null,{"$f":"IFERROR(VLOOKUP(D3745,Códigos!B:C,2,0),\" \")","v":" "}]
[null,null,null,null,{"$f":"IFERROR(VLOOKUP(D3746,Códigos!B:C,2,0),\" \")","v":" "}]
[null,null,null,null,{"$f":"IFERROR(VLOOKUP(D3747,Códigos!B:C,2,0),\" \")","v":" "}]
[null,null,null,null,{"$f":"IFERROR(VLOOKUP(D3748,Códigos!B:C,2,0),\" \")","v":" "}]
[null,null,null,null,{"$f":"IFERROR(VLOOKUP(D3749,Códigos!B:C,2,0),\" \")","v":" "}]
[null,null,null,null,{"$f":"IFERROR(VLOOKUP(D3750,Códigos!B:C,2,0),\" \")","v":" "}]
[null,null,null,null,{"$f":"IFERROR(VLOOKUP(D3751,Códigos!B:C,2,0),\" \")","v":" "}]
[null,null,null,null,{"$f":"IFERROR(VLOOKUP(D3752,Códigos!B:C,2,0),\" \")","v":" "}]
[null,null,null,null,{"$f":"IFERROR(VLOOKUP(D3753,Códigos!B:C,2,0),\" \")","v":" "}]
[null,null,null,null,{"$f":"IFERROR(VLOOKUP(D3754,Códigos!B:C,2,0),\" \")","v":" "}]
[null,null,null,null,{"$f":"IFERROR(VLOOKUP(D3755,Códigos!B:C,2,0),\" \")","v":" "}]
[null,null,null,null,{"$f":"IFERROR(VLOOKUP(D3756,Códigos!B:C,2,0),\" \")","v":" "}]
[null,null,null,null,{"$f":"IFERROR(VLOOKUP(D3757,Códigos!B:C,2,0),\" \")","v":" "}]
[null,null,null,null,{"$f":"IFERROR(VLOOKUP(D3758,Códigos!B:C,2,0),\" \")","v":" "}]
[null,null,null,null,{"$f":"IFERROR(VLOOKUP(D3759,Códigos!B:C,2,0),\" \")","v":" "}]
[null,null,null,null,{"$f":"IFERROR(VLOOKUP(D3760,Códigos!B:C,2,0),\" \")","v":" "}]
[null,null,null,null,{"$f":"IFERROR(VLOOKUP(D3761,Códigos!B:C,2,0),\" \")","v":" "}]
[null,null,null,null,{"$f":"IFERROR(VLOOKUP(D3762,Códigos!B:C,2,0),\" \")","v":" "}]
[null,null,null,null,{"$f":"IFERROR(VLOOKUP(D3763,Códigos!B:C,2,0),\" \")","v":" "}]
[null,null,null,null,{"$f":"IFERROR(VLOOKUP(D3764,Códigos!B:C,2,0),\" \")","v":" "}]
[null,null,null,null,{"$f":"IFERROR(VLOOKUP(D3765,Códigos!B:C,2,0),\" \")","v":" "}]
[null,null,null,null,{"$f":"IFERROR(VLOOKUP(D3766,Códigos!B:C,2,0),\" \")","v":" "}]
[null,null,null,null,{"$f":"IFERROR(VLOOKUP(D3767,Códigos!B:C,2,0),\" \")","v":" "}]
[null,null,null,null,{"$f":"IFERROR(VLOOKUP(D3768,Códigos!B:C,2,0),\" \")","v":" "}]
[null,null,null,null,{"$f":"IFERROR(VLOOKUP(D3769,Códigos!B:C,2,0),\" \")","v":" "}]
[null,null,null,null,{"$f":"IFERROR(VLOOKUP(D3770,Códigos!B:C,2,0),\" \")","v":" "}]
[null,null,null,null,{"$f":"IFERROR(VLOOKUP(D3771,Códigos!B:C,2,0),\" \")","v":" "}]
[null,null,null,null,{"$f":"IFERROR(VLOOKUP(D3772,Códigos!B:C,2,0),\" \")","v":" "}]
[null,null,null,null,{"$f":"IFERROR(VLOOKUP(D3773,Códigos!B:C,2,0),\" \")","v":" "}]
[null,null,null,null,{"$f":"IFERROR(VLOOKUP(D3774,Códigos!B:C,2,0),\" \")","v":" "}]
[null,null,null,null,{"$f":"IFERROR(VLOOKUP(D3775,Códigos!B:C,2,0),\" \")","v":" "}]
[null,null,null,null,{"$f":"IFERROR(VLOOKUP(D3776,Códigos!B:C,2,0),\" \")","v":" "}]
[null,null,null,null,{"$f":"IFERROR(VLOOKUP(D3777,Códigos!B:C,2,0),\" \")","v":" "}]
[null,null,null,null,{"$f":"IFERROR(VLOOKUP(D3778,Códigos!B:C,2,0),\" \")","v":" "}]
[null,null,null,null,{"$f":"IFERROR(VLOOKUP(D3779,Códigos!B:C,2,0),\" \")","v":" "}]
[null,null,null,null,{"$f":"IFERROR(VLOOKUP(D3780,Códigos!B:C,2,0),\" \")","v":" "}]
[null,null,null,null,{"$f":"IFERROR(VLOOKUP(D3781,Códigos!B:C,2,0),\" \")","v":" "}]
[null,null,null,null,{"$f":"IFERROR(VLOOKUP(D3782,Códigos!B:C,2,0),\" \")","v":" "}]
[null,null,null,null,{"$f":"IFERROR(VLOOKUP(D3783,Códigos!B:C,2,0),\" \")","v":" "}]
[null,null,null,null,{"$f":"IFERROR(VLOOKUP(D3784,Códigos!B:C,2,0),\" \")","v":" "}]
[null,null,null,null,{"$f":"IFERROR(VLOOKUP(D3785,Códigos!B:C,2,0),\" \")","v":" "}]
[null,null,null,null,{"$f":"IFERROR(VLOOKUP(D3786,Códigos!B:C,2,0),\" \")","v":" "}]
[null,null,null,null,{"$f":"IFERROR(VLOOKUP(D3787,Códigos!B:C,2,0),\" \")","v":" "}]
[null,null,null,null,{"$f":"IFERROR(VLOOKUP(D3788,Códigos!B:C,2,0),\" \")","v":" "}]
[null,null,null,null,{"$f":"IFERROR(VLOOKUP(D3789,Códigos!B:C,2,0),\" \")","v":" "}]
[null,null,null,null,{"$f":"IFERROR(VLOOKUP(D3790,Códigos!B:C,2,0),\" \")","v":" "}]
[null,null,null,null,{"$f":"IFERROR(VLOOKUP(D3791,Códigos!B:C,2,0),\" \")","v":" "}]
[null,null,null,null,{"$f":"IFERROR(VLOOKUP(D3792,Códigos!B:C,2,0),\" \")","v":" "}]
[null,null,null,null,{"$f":"IFERROR(VLOOKUP(D3793,Códigos!B:C,2,0),\" \")","v":" "}]
[null,null,null,null,{"$f":"IFERROR(VLOOKUP(D3794,Códigos!B:C,2,0),\" \")","v":" "}]
[null,null,null,null,{"$f":"IFERROR(VLOOKUP(D3795,Códigos!B:C,2,0),\" \")","v":" "}]
[null,null,null,null,{"$f":"IFERROR(VLOOKUP(D3796,Códigos!B:C,2,0),\" \")","v":" "}]
[null,null,null,null,{"$f":"IFERROR(VLOOKUP(D3797,Códigos!B:C,2,0),\" \")","v":" "}]
[null,null,null,null,{"$f":"IFERROR(VLOOKUP(D3798,Códigos!B:C,2,0),\" \")","v":" "}]
[null,null,null,null,{"$f":"IFERROR(VLOOKUP(D3799,Códigos!B:C,2,0),\" \")","v":" "}]
[null,null,null,null,{"$f":"IFERROR(VLOOKUP(D3800,Códigos!B:C,2,0),\" \")","v":" "}]
[null,null,null,null,{"$f":"IFERROR(VLOOKUP(D3801,Códigos!B:C,2,0),\" \")","v":" "}]
[null,null,null,null,{"$f":"IFERROR(VLOOKUP(D3802,Códigos!B:C,2,0),\" \")","v":" "}]
[null,null,null,null,{"$f":"IFERROR(VLOOKUP(D3803,Códigos!B:C,2,0),\" \")","v":" "}]
[null,null,null,null,{"$f":"IFERROR(VLOOKUP(D3804,Códigos!B:C,2,0),\" \")","v":" "}]
[null,null,null,null,{"$f":"IFERROR(VLOOKUP(D3805,Códigos!B:C,2,0),\" \")","v":" "}]
[null,null,null,null,{"$f":"IFERROR(VLOOKUP(D3806,Códigos!B:C,2,0),\" \")","v":" "}]
[null,null,null,null,{"$f":"IFERROR(VLOOKUP(D3807,Códigos!B:C,2,0),\" \")","v":" "}]
[null,null,null,null,{"$f":"IFERROR(VLOOKUP(D3808,Códigos!B:C,2,0),\" \")","v":" "}]
[null,null,null,null,{"$f":"IFERROR(VLOOKUP(D3809,Códigos!B:C,2,0),\" \")","v":" "}]
[null,null,null,null,{"$f":"IFERROR(VLOOKUP(D3810,Códigos!B:C,2,0),\" \")","v":" "}]
[null,null,null,null,{"$f":"IFERROR(VLOOKUP(D3811,Códigos!B:C,2,0),\" \")","v":" "}]
[null,null,null,null,{"$f":"IFERROR(VLOOKUP(D3812,Códigos!B:C,2,0),\" \")","v":" "}]
[null,null,null,null,{"$f":"IFERROR(VLOOKUP(D3813,Códigos!B:C,2,0),\" \")","v":" "}]
[null,null,null,null,{"$f":"IFERROR(VLOOKUP(D3814,Códigos!B:C,2,0),\" \")","v":" "}]
[null,null,null,null,{"$f":"IFERROR(VLOOKUP(D3815,Códigos!B:C,2,0),\" \")","v":" "}]
[null,null,null,null,{"$f":"IFERROR(VLOOKUP(D3816,Códigos!B:C,2,0),\" \")","v":" "}]
[null,null,null,null,{"$f":"IFERROR(VLOOKUP(D3817,Códigos!B:C,2,0),\" \")","v":" "}]
[null,null,null,null,{"$f":"IFERROR(VLOOKUP(D3818,Códigos!B:C,2,0),\" \")","v":" "}]
[null,null,null,null,{"$f":"IFERROR(VLOOKUP(D3819,Códigos!B:C,2,0),\" \")","v":" "}]
[null,null,null,null,{"$f":"IFERROR(VLOOKUP(D3820,Códigos!B:C,2,0),\" \")","v":" "}]
[null,null,null,null,{"$f":"IFERROR(VLOOKUP(D3821,Códigos!B:C,2,0),\" \")","v":" "}]
[null,null,null,null,{"$f":"IFERROR(VLOOKUP(D3822,Códigos!B:C,2,0),\" \")","v":" "}]
[null,null,null,null,{"$f":"IFERROR(VLOOKUP(D3823,Códigos!B:C,2,0),\" \")","v":" "}]
[null,null,null,null,{"$f":"IFERROR(VLOOKUP(D3824,Códigos!B:C,2,0),\" \")","v":" "}]
[null,null,null,null,{"$f":"IFERROR(VLOOKUP(D3825,Códigos!B:C,2,0),\" \")","v":" "}]
[null,null,null,null,{"$f":"IFERROR(VLOOKUP(D3826,Códigos!B:C,2,0),\" \")","v":" "}]
[null,null,null,null,{"$f":"IFERROR(VLOOKUP(D3827,Códigos!B:C,2,0),\" \")","v":" "}]
[null,null,null,null,{"$f":"IFERROR(VLOOKUP(D3828,Códigos!B:C,2,0),\" \")","v":" "}]
[null,null,null,null,{"$f":"IFERROR(VLOOKUP(D3829,Códigos!B:C,2,0),\" \")","v":" "}]
[null,null,null,null,{"$f":"IFERROR(VLOOKUP(D3830,Códigos!B:C,2,0),\" \")","v":" "}]
[null,null,null,null,{"$f":"IFERROR(VLOOKUP(D3831,Códigos!B:C,2,0),\" \")","v":" "}]
[null,null,null,null,{"$f":"IFERROR(VLOOKUP(D3832,Códigos!B:C,2,0),\" \")","v":" "}]
[null,null,null,null,{"$f":"IFERROR(VLOOKUP(D3833,Códigos!B:C,2,0),\" \")","v":" "}]
[null,null,null,null,{"$f":"IFERROR(VLOOKUP(D3834,Códigos!B:C,2,0),\" \")","v":" "}]
[null,null,null,null,{"$f":"IFERROR(VLOOKUP(D3835,Códigos!B:C,2,0),\" \")","v":" "}]
[null,null,null,null,{"$f":"IFERROR(VLOOKUP(D3836,Códigos!B:C,2,0),\" \")","v":" "}]
[null,null,null,null,{"$f":"IFERROR(VLOOKUP(D3837,Códigos!B:C,2,0),\" \")","v":" "}]
[null,null,null,null,{"$f":"IFERROR(VLOOKUP(D3838,Códigos!B:C,2,0),\" \")","v":" "}]
[null,null,null,null,{"$f":"IFERROR(VLOOKUP(D3839,Códigos!B:C,2,0),\" \")","v":" "}]
[null,null,null,null,{"$f":"IFERROR(VLOOKUP(D3840,Códigos!B:C,2,0),\" \")","v":" "}]
[null,null,null,null,{"$f":"IFERROR(VLOOKUP(D3841,Códigos!B:C,2,0),\" \")","v":" "}]
[null,null,null,null,{"$f":"IFERROR(VLOOKUP(D3842,Códigos!B:C,2,0),\" \")","v":" "}]
[null,null,null,null,{"$f":"IFERROR(VLOOKUP(D3843,Códigos!B:C,2,0),\" \")","v":" "}]
[null,null,null,null,{"$f":"IFERROR(VLOOKUP(D3844,Códigos!B:C,2,0),\" \")","v":" "}]
[null,null,null,null,{"$f":"IFERROR(VLOOKUP(D3845,Códigos!B:C,2,0),\" \")","v":" "}]
[null,null,null,null,{"$f":"IFERROR(VLOOKUP(D3846,Códigos!B:C,2,0),\" \")","v":" "}]
[null,null,null,null,{"$f":"IFERROR(VLOOKUP(D3847,Códigos!B:C,2,0),\" \")","v":" "}]
[null,null,null,null,{"$f":"IFERROR(VLOOKUP(D3848,Códigos!B:C,2,0),\" \")","v":" "}]
[null,null,null,null,{"$f":"IFERROR(VLOOKUP(D3849,Códigos!B:C,2,0),\" \")","v":" "}]
[null,null,null,null,{"$f":"IFERROR(VLOOKUP(D3850,Códigos!B:C,2,0),\" \")","v":" "}]
[null,null,null,null,{"$f":"IFERROR(VLOOKUP(D3851,Códigos!B:C,2,0),\" \")","v":" "}]
[null,null,null,null,{"$f":"IFERROR(VLOOKUP(D3852,Códigos!B:C,2,0),\" \")","v":" "}]
[null,null,null,null,{"$f":"IFERROR(VLOOKUP(D3853,Códigos!B:C,2,0),\" \")","v":" "}]
[null,null,null,null,{"$f":"IFERROR(VLOOKUP(D3854,Códigos!B:C,2,0),\" \")","v":" "}]
[null,null,null,null,{"$f":"IFERROR(VLOOKUP(D3855,Códigos!B:C,2,0),\" \")","v":" "}]
[null,null,null,null,{"$f":"IFERROR(VLOOKUP(D3856,Códigos!B:C,2,0),\" \")","v":" "}]
[null,null,null,null,{"$f":"IFERROR(VLOOKUP(D3857,Códigos!B:C,2,0),\" \")","v":" "}]
[null,null,null,null,{"$f":"IFERROR(VLOOKUP(D3858,Códigos!B:C,2,0),\" \")","v":" "}]
[null,null,null,null,{"$f":"IFERROR(VLOOKUP(D3859,Códigos!B:C,2,0),\" \")","v":" "}]
[null,null,null,null,{"$f":"IFERROR(VLOOKUP(D3860,Códigos!B:C,2,0),\" \")","v":" "}]
[null,null,null,null,{"$f":"IFERROR(VLOOKUP(D3861,Códigos!B:C,2,0),\" \")","v":" "}]
[null,null,null,null,{"$f":"IFERROR(VLOOKUP(D3862,Códigos!B:C,2,0),\" \")","v":" "}]
[null,null,null,null,{"$f":"IFERROR(VLOOKUP(D3863,Códigos!B:C,2,0),\" \")","v":" "}]
[null,null,null,null,{"$f":"IFERROR(VLOOKUP(D3864,Códigos!B:C,2,0),\" \")","v":" "}]
[null,null,null,null,{"$f":"IFERROR(VLOOKUP(D3865,Códigos!B:C,2,0),\" \")","v":" "}]
[null,null,null,null,{"$f":"IFERROR(VLOOKUP(D3866,Códigos!B:C,2,0),\" \")","v":" "}]
[null,null,null,null,{"$f":"IFERROR(VLOOKUP(D3867,Códigos!B:C,2,0),\" \")","v":" "}]
[null,null,null,null,{"$f":"IFERROR(VLOOKUP(D3868,Códigos!B:C,2,0),\" \")","v":" "}]
[null,null,null,null,{"$f":"IFERROR(VLOOKUP(D3869,Códigos!B:C,2,0),\" \")","v":" "}]
[null,null,null,null,{"$f":"IFERROR(VLOOKUP(D3870,Códigos!B:C,2,0),\" \")","v":" "}]
[null,null,null,null,{"$f":"IFERROR(VLOOKUP(D3871,Códigos!B:C,2,0),\" \")","v":" "}]
[null,null,null,null,{"$f":"IFERROR(VLOOKUP(D3872,Códigos!B:C,2,0),\" \")","v":" "}]
[null,null,null,null,{"$f":"IFERROR(VLOOKUP(D3873,Códigos!B:C,2,0),\" \")","v":" "}]
[null,null,null,null,{"$f":"IFERROR(VLOOKUP(D3874,Códigos!B:C,2,0),\" \")","v":" "}]
[null,null,null,null,{"$f":"IFERROR(VLOOKUP(D3875,Códigos!B:C,2,0),\" \")","v":" "}]
[null,null,null,null,{"$f":"IFERROR(VLOOKUP(D3876,Códigos!B:C,2,0),\" \")","v":" "}]
[null,null,null,null,{"$f":"IFERROR(VLOOKUP(D3877,Códigos!B:C,2,0),\" \")","v":" "}]
[null,null,null,null,{"$f":"IFERROR(VLOOKUP(D3878,Códigos!B:C,2,0),\" \")","v":" "}]
[null,null,null,null,{"$f":"IFERROR(VLOOKUP(D3879,Códigos!B:C,2,0),\" \")","v":" "}]
[null,null,null,null,{"$f":"IFERROR(VLOOKUP(D3880,Códigos!B:C,2,0),\" \")","v":" "}]
[null,null,null,null,{"$f":"IFERROR(VLOOKUP(D3881,Códigos!B:C,2,0),\" \")","v":" "}]
[null,null,null,null,{"$f":"IFERROR(VLOOKUP(D3882,Códigos!B:C,2,0),\" \")","v":" "}]
[null,null,null,null,{"$f":"IFERROR(VLOOKUP(D3883,Códigos!B:C,2,0),\" \")","v":" "}]
[null,null,null,null,{"$f":"IFERROR(VLOOKUP(D3884,Códigos!B:C,2,0),\" \")","v":" "}]
[null,null,null,null,{"$f":"IFERROR(VLOOKUP(D3885,Códigos!B:C,2,0),\" \")","v":" "}]
[null,null,null,null,{"$f":"IFERROR(VLOOKUP(D3886,Códigos!B:C,2,0),\" \")","v":" "}]
[null,null,null,null,{"$f":"IFERROR(VLOOKUP(D3887,Códigos!B:C,2,0),\" \")","v":" "}]
[null,null,null,null,{"$f":"IFERROR(VLOOKUP(D3888,Códigos!B:C,2,0),\" \")","v":" "}]
[null,null,null,null,{"$f":"IFERROR(VLOOKUP(D3889,Códigos!B:C,2,0),\" \")","v":" "}]
[null,null,null,null,{"$f":"IFERROR(VLOOKUP(D3890,Códigos!B:C,2,0),\" \")","v":" "}]
[null,null,null,null,{"$f":"IFERROR(VLOOKUP(D3891,Códigos!B:C,2,0),\" \")","v":" "}]
[null,null,null,null,{"$f":"IFERROR(VLOOKUP(D3892,Códigos!B:C,2,0),\" \")","v":" "}]
[null,null,null,null,{"$f":"IFERROR(VLOOKUP(D3893,Códigos!B:C,2,0),\" \")","v":" "}]
[null,null,null,null,{"$f":"IFERROR(VLOOKUP(D3894,Códigos!B:C,2,0),\" \")","v":" "}]
[null,null,null,null,{"$f":"IFERROR(VLOOKUP(D3895,Códigos!B:C,2,0),\" \")","v":" "}]
[null,null,null,null,{"$f":"IFERROR(VLOOKUP(D3896,Códigos!B:C,2,0),\" \")","v":" "}]
[null,null,null,null,{"$f":"IFERROR(VLOOKUP(D3897,Códigos!B:C,2,0),\" \")","v":" "}]
[null,null,null,null,{"$f":"IFERROR(VLOOKUP(D3898,Códigos!B:C,2,0),\" \")","v":" "}]
[null,null,null,null,{"$f":"IFERROR(VLOOKUP(D3899,Códigos!B:C,2,0),\" \")","v":" "}]
[null,null,null,null,{"$f":"IFERROR(VLOOKUP(D3900,Códigos!B:C,2,0),\" \")","v":" "}]
[null,null,null,null,{"$f":"IFERROR(VLOOKUP(D3901,Códigos!B:C,2,0),\" \")","v":" "}]
[null,null,null,null,{"$f":"IFERROR(VLOOKUP(D3902,Códigos!B:C,2,0),\" \")","v":" "}]
[null,null,null,null,{"$f":"IFERROR(VLOOKUP(D3903,Códigos!B:C,2,0),\" \")","v":" "}]
[null,null,null,null,{"$f":"IFERROR(VLOOKUP(D3904,Códigos!B:C,2,0),\" \")","v":" "}]
[null,null,null,null,{"$f":"IFERROR(VLOOKUP(D3905,Códigos!B:C,2,0),\" \")","v":" "}]
[null,null,null,null,{"$f":"IFERROR(VLOOKUP(D3906,Códigos!B:C,2,0),\" \")","v":" "}]
[null,null,null,null,{"$f":"IFERROR(VLOOKUP(D3907,Códigos!B:C,2,0),\" \")","v":" "}]
[null,null,null,null,{"$f":"IFERROR(VLOOKUP(D3908,Códigos!B:C,2,0),\" \")","v":" "}]
[null,null,null,null,{"$f":"IFERROR(VLOOKUP(D3909,Códigos!B:C,2,0),\" \")","v":" "}]
[null,null,null,null,{"$f":"IFERROR(VLOOKUP(D3910,Códigos!B:C,2,0),\" \")","v":" "}]
[null,null,null,null,{"$f":"IFERROR(VLOOKUP(D3911,Códigos!B:C,2,0),\" \")","v":" "}]
[null,null,null,null,{"$f":"IFERROR(VLOOKUP(D3912,Códigos!B:C,2,0),\" \")","v":" "}]
[null,null,null,null,{"$f":"IFERROR(VLOOKUP(D3913,Códigos!B:C,2,0),\" \")","v":" "}]
[null,null,null,null,{"$f":"IFERROR(VLOOKUP(D3914,Códigos!B:C,2,0),\" \")","v":" "}]
[null,null,null,null,{"$f":"IFERROR(VLOOKUP(D3915,Códigos!B:C,2,0),\" \")","v":" "}]
[null,null,null,null,{"$f":"IFERROR(VLOOKUP(D3916,Códigos!B:C,2,0),\" \")","v":" "}]
[null,null,null,null,{"$f":"IFERROR(VLOOKUP(D3917,Códigos!B:C,2,0),\" \")","v":" "}]
[null,null,null,null,{"$f":"IFERROR(VLOOKUP(D3918,Códigos!B:C,2,0),\" \")","v":" "}]
[null,null,null,null,{"$f":"IFERROR(VLOOKUP(D3919,Códigos!B:C,2,0),\" \")","v":" "}]
[null,null,null,null,{"$f":"IFERROR(VLOOKUP(D3920,Códigos!B:C,2,0),\" \")","v":" "}]
[null,null,null,null,{"$f":"IFERROR(VLOOKUP(D3921,Códigos!B:C,2,0),\" \")","v":" "}]
[null,null,null,null,{"$f":"IFERROR(VLOOKUP(D3922,Códigos!B:C,2,0),\" \")","v":" "}]
[null,null,null,null,{"$f":"IFERROR(VLOOKUP(D3923,Códigos!B:C,2,0),\" \")","v":" "}]
[null,null,null,null,{"$f":"IFERROR(VLOOKUP(D3924,Códigos!B:C,2,0),\" \")","v":" "}]
[null,null,null,null,{"$f":"IFERROR(VLOOKUP(D3925,Códigos!B:C,2,0),\" \")","v":" "}]
[null,null,null,null,{"$f":"IFERROR(VLOOKUP(D3926,Códigos!B:C,2,0),\" \")","v":" "}]
[null,null,null,null,{"$f":"IFERROR(VLOOKUP(D3927,Códigos!B:C,2,0),\" \")","v":" "}]
[null,null,null,null,{"$f":"IFERROR(VLOOKUP(D3928,Códigos!B:C,2,0),\" \")","v":" "}]
[null,null,null,null,{"$f":"IFERROR(VLOOKUP(D3929,Códigos!B:C,2,0),\" \")","v":" "}]
[null,null,null,null,{"$f":"IFERROR(VLOOKUP(D3930,Códigos!B:C,2,0),\" \")","v":" "}]
[null,null,null,null,{"$f":"IFERROR(VLOOKUP(D3931,Códigos!B:C,2,0),\" \")","v":" "}]
[null,null,null,null,{"$f":"IFERROR(VLOOKUP(D3932,Códigos!B:C,2,0),\" \")","v":" "}]
[null,null,null,null,{"$f":"IFERROR(VLOOKUP(D3933,Códigos!B:C,2,0),\" \")","v":" "}]
[null,null,null,null,{"$f":"IFERROR(VLOOKUP(D3934,Códigos!B:C,2,0),\" \")","v":" "}]
[null,null,null,null,{"$f":"IFERROR(VLOOKUP(D3935,Códigos!B:C,2,0),\" \")","v":" "}]
[null,null,null,null,{"$f":"IFERROR(VLOOKUP(D3936,Códigos!B:C,2,0),\" \")","v":" "}]
[null,null,null,null,{"$f":"IFERROR(VLOOKUP(D3937,Códigos!B:C,2,0),\" \")","v":" "}]
[null,null,null,null,{"$f":"IFERROR(VLOOKUP(D3938,Códigos!B:C,2,0),\" \")","v":" "}]
[null,null,null,null,{"$f":"IFERROR(VLOOKUP(D3939,Códigos!B:C,2,0),\" \")","v":" "}]
[null,null,null,null,{"$f":"IFERROR(VLOOKUP(D3940,Códigos!B:C,2,0),\" \")","v":" "}]
[null,null,null,null,{"$f":"IFERROR(VLOOKUP(D3941,Códigos!B:C,2,0),\" \")","v":" "}]
[null,null,null,null,{"$f":"IFERROR(VLOOKUP(D3942,Códigos!B:C,2,0),\" \")","v":" "}]
[null,null,null,null,{"$f":"IFERROR(VLOOKUP(D3943,Códigos!B:C,2,0),\" \")","v":" "}]
[null,null,null,null,{"$f":"IFERROR(VLOOKUP(D3944,Códigos!B:C,2,0),\" \")","v":" "}]
[null,null,null,null,{"$f":"IFERROR(VLOOKUP(D3945,Códigos!B:C,2,0),\" \")","v":" "}]
[null,null,null,null,{"$f":"IFERROR(VLOOKUP(D3946,Códigos!B:C,2,0),\" \")","v":" "}]
[null,null,null,null,{"$f":"IFERROR(VLOOKUP(D3947,Códigos!B:C,2,0),\" \")","v":" "}]
[null,null,null,null,{"$f":"IFERROR(VLOOKUP(D3948,Códigos!B:C,2,0),\" \")","v":" "}]
[null,null,null,null,{"$f":"IFERROR(VLOOKUP(D3949,Códigos!B:C,2,0),\" \")","v":" "}]
[null,null,null,null,{"$f":"IFERROR(VLOOKUP(D3950,Códigos!B:C,2,0),\" \")","v":" "}]
[null,null,null,null,{"$f":"IFERROR(VLOOKUP(D3951,Códigos!B:C,2,0),\" \")","v":" "}]
[null,null,null,null,{"$f":"IFERROR(VLOOKUP(D3952,Códigos!B:C,2,0),\" \")","v":" "}]
[null,null,null,null,{"$f":"IFERROR(VLOOKUP(D3953,Códigos!B:C,2,0),\" \")","v":" "}]
[null,null,null,null,{"$f":"IFERROR(VLOOKUP(D3954,Códigos!B:C,2,0),\" \")","v":" "}]
[null,null,null,null,{"$f":"IFERROR(VLOOKUP(D3955,Códigos!B:C,2,0),\" \")","v":" "}]
[null,null,null,null,{"$f":"IFERROR(VLOOKUP(D3956,Códigos!B:C,2,0),\" \")","v":" "}]
[null,null,null,null,{"$f":"IFERROR(VLOOKUP(D3957,Códigos!B:C,2,0),\" \")","v":" "}]
[null,null,null,null,{"$f":"IFERROR(VLOOKUP(D3958,Códigos!B:C,2,0),\" \")","v":" "}]
[null,null,null,null,{"$f":"IFERROR(VLOOKUP(D3959,Códigos!B:C,2,0),\" \")","v":" "}]
[null,null,null,null,{"$f":"IFERROR(VLOOKUP(D3960,Códigos!B:C,2,0),\" \")","v":" "}]
[null,null,null,null,{"$f":"IFERROR(VLOOKUP(D3961,Códigos!B:C,2,0),\" \")","v":" "}]
[null,null,null,null,{"$f":"IFERROR(VLOOKUP(D3962,Códigos!B:C,2,0),\" \")","v":" "}]
[null,null,null,null,{"$f":"IFERROR(VLOOKUP(D3963,Códigos!B:C,2,0),\" \")","v":" "}]
[null,null,null,null,{"$f":"IFERROR(VLOOKUP(D3964,Códigos!B:C,2,0),\" \")","v":" "}]
[null,null,null,null,{"$f":"IFERROR(VLOOKUP(D3965,Códigos!B:C,2,0),\" \")","v":" "}]
[null,null,null,null,{"$f":"IFERROR(VLOOKUP(D3966,Códigos!B:C,2,0),\" \")","v":" "}]
[null,null,null,null,{"$f":"IFERROR(VLOOKUP(D3967,Códigos!B:C,2,0),\" \")","v":" "}]
[null,null,null,null,{"$f":"IFERROR(VLOOKUP(D3968,Códigos!B:C,2,0),\" \")","v":" "}]
[null,null,null,null,{"$f":"IFERROR(VLOOKUP(D3969,Códigos!B:C,2,0),\" \")","v":" "}]
[null,null,null,null,{"$f":"IFERROR(VLOOKUP(D3970,Códigos!B:C,2,0),\" \")","v":" "}]
[null,null,null,null,{"$f":"IFERROR(VLOOKUP(D3971,Códigos!B:C,2,0),\" \")","v":" "}]
[null,null,null,null,{"$f":"IFERROR(VLOOKUP(D3972,Códigos!B:C,2,0),\" \")","v":" "}]
[null,null,null,null,{"$f":"IFERROR(VLOOKUP(D3973,Códigos!B:C,2,0),\" \")","v":" "}]
[null,null,null,null,{"$f":"IFERROR(VLOOKUP(D3974,Códigos!B:C,2,0),\" \")","v":" "}]
[null,null,null,null,{"$f":"IFERROR(VLOOKUP(D3975,Códigos!B:C,2,0),\" \")","v":" "}]
[null,null,null,null,{"$f":"IFERROR(VLOOKUP(D3976,Códigos!B:C,2,0),\" \")","v":" "}]
[null,null,null,null,{"$f":"IFERROR(VLOOKUP(D3977,Códigos!B:C,2,0),\" \")","v":" "}]
[null,null,null,null,{"$f":"IFERROR(VLOOKUP(D3978,Códigos!B:C,2,0),\" \")","v":" "}]
[null,null,null,null,{"$f":"IFERROR(VLOOKUP(D3979,Códigos!B:C,2,0),\" \")","v":" "}]
[null,null,null,null,{"$f":"IFERROR(VLOOKUP(D3980,Códigos!B:C,2,0),\" \")","v":" "}]
[null,null,null,null,{"$f":"IFERROR(VLOOKUP(D3981,Códigos!B:C,2,0),\" \")","v":" "}]
[null,null,null,null,{"$f":"IFERROR(VLOOKUP(D3982,Códigos!B:C,2,0),\" \")","v":" "}]
[null,null,null,null,{"$f":"IFERROR(VLOOKUP(D3983,Códigos!B:C,2,0),\" \")","v":" "}]
[null,null,null,null,{"$f":"IFERROR(VLOOKUP(D3984,Códigos!B:C,2,0),\" \")","v":" "}]
[null,null,null,null,{"$f":"IFERROR(VLOOKUP(D3985,Códigos!B:C,2,0),\" \")","v":" "}]
[null,null,null,null,{"$f":"IFERROR(VLOOKUP(D3986,Códigos!B:C,2,0),\" \")","v":" "}]
[null,null,null,null,{"$f":"IFERROR(VLOOKUP(D3987,Códigos!B:C,2,0),\" \")","v":" "}]
[null,null,null,null,{"$f":"IFERROR(VLOOKUP(D3988,Códigos!B:C,2,0),\" \")","v":" "}]
[null,null,null,null,{"$f":"IFERROR(VLOOKUP(D3989,Códigos!B:C,2,0),\" \")","v":" "}]
[null,null,null,null,{"$f":"IFERROR(VLOOKUP(D3990,Códigos!B:C,2,0),\" \")","v":" "}]
[null,null,null,null,{"$f":"IFERROR(VLOOKUP(D3991,Códigos!B:C,2,0),\" \")","v":" "}]
[null,null,null,null,{"$f":"IFERROR(VLOOKUP(D3992,Códigos!B:C,2,0),\" \")","v":" "}]
[null,null,null,null,{"$f":"IFERROR(VLOOKUP(D3993,Códigos!B:C,2,0),\" \")","v":" "}]
[null,null,null,null,{"$f":"IFERROR(VLOOKUP(D3994,Códigos!B:C,2,0),\" \")","v":" "}]
[null,null,null,null,{"$f":"IFERROR(VLOOKUP(D3995,Códigos!B:C,2,0),\" \")","v":" "}]
[null,null,null,null,{"$f":"IFERROR(VLOOKUP(D3996,Códigos!B:C,2,0),\" \")","v":" "}]
[null,null,null,null,{"$f":"IFERROR(VLOOKUP(D3997,Códigos!B:C,2,0),\" \")","v":" "}]
[null,null,null,null,{"$f":"IFERROR(VLOOKUP(D3998,Códigos!B:C,2,0),\" \")","v":" "}]
[null,null,null,null,{"$f":"IFERROR(VLOOKUP(D3999,Códigos!B:C,2,0),\" \")","v":" "}]
[null,null,null,null,{"$f":"IFERROR(VLOOKUP(D4000,Códigos!B:C,2,0),\" \")","v":" "}]
[null,null,null,null,{"$f":"IFERROR(VLOOKUP(D4001,Códigos!B:C,2,0),\" \")","v":" "}]
[null,null,null,null,{"$f":"IFERROR(VLOOKUP(D4002,Códigos!B:C,2,0),\" \")","v":" "}]
[null,null,null,null,{"$f":"IFERROR(VLOOKUP(D4003,Códigos!B:C,2,0),\" \")","v":" "}]
[null,null,null,null,{"$f":"IFERROR(VLOOKUP(D4004,Códigos!B:C,2,0),\" \")","v":" "}]
[null,null,null,null,{"$f":"IFERROR(VLOOKUP(D4005,Códigos!B:C,2,0),\" \")","v":" "}]
[null,null,null,null,{"$f":"IFERROR(VLOOKUP(D4006,Códigos!B:C,2,0),\" \")","v":" "}]
[null,null,null,null,{"$f":"IFERROR(VLOOKUP(D4007,Códigos!B:C,2,0),\" \")","v":" "}]
[null,null,null,null,{"$f":"IFERROR(VLOOKUP(D4008,Códigos!B:C,2,0),\" \")","v":" "}]
[null,null,null,null,{"$f":"IFERROR(VLOOKUP(D4009,Códigos!B:C,2,0),\" \")","v":" "}]
[null,null,null,null,{"$f":"IFERROR(VLOOKUP(D4010,Códigos!B:C,2,0),\" \")","v":" "}]
[null,null,null,null,{"$f":"IFERROR(VLOOKUP(D4011,Códigos!B:C,2,0),\" \")","v":" "}]
[null,null,null,null,{"$f":"IFERROR(VLOOKUP(D4012,Códigos!B:C,2,0),\" \")","v":" "}]
[null,null,null,null,{"$f":"IFERROR(VLOOKUP(D4013,Códigos!B:C,2,0),\" \")","v":" "}]
[null,null,null,null,{"$f":"IFERROR(VLOOKUP(D4014,Códigos!B:C,2,0),\" \")","v":" "}]
[null,null,null,null,{"$f":"IFERROR(VLOOKUP(D4015,Códigos!B:C,2,0),\" \")","v":" "}]
[null,null,null,null,{"$f":"IFERROR(VLOOKUP(D4016,Códigos!B:C,2,0),\" \")","v":" "}]
[null,null,null,null,{"$f":"IFERROR(VLOOKUP(D4017,Códigos!B:C,2,0),\" \")","v":" "}]
[null,null,null,null,{"$f":"IFERROR(VLOOKUP(D4018,Códigos!B:C,2,0),\" \")","v":" "}]
[null,null,null,null,{"$f":"IFERROR(VLOOKUP(D4019,Códigos!B:C,2,0),\" \")","v":" "}]
[null,null,null,null,{"$f":"IFERROR(VLOOKUP(D4020,Códigos!B:C,2,0),\" \")","v":" "}]
[null,null,null,null,{"$f":"IFERROR(VLOOKUP(D4021,Códigos!B:C,2,0),\" \")","v":" "}]
[null,null,null,null,{"$f":"IFERROR(VLOOKUP(D4022,Códigos!B:C,2,0),\" \")","v":" "}]
[null,null,null,null,{"$f":"IFERROR(VLOOKUP(D4023,Códigos!B:C,2,0),\" \")","v":" "}]
[null,null,null,null,{"$f":"IFERROR(VLOOKUP(D4024,Códigos!B:C,2,0),\" \")","v":" "}]
[null,null,null,null,{"$f":"IFERROR(VLOOKUP(D4025,Códigos!B:C,2,0),\" \")","v":" "}]
[null,null,null,null,{"$f":"IFERROR(VLOOKUP(D4026,Códigos!B:C,2,0),\" \")","v":" "}]
[null,null,null,null,{"$f":"IFERROR(VLOOKUP(D4027,Códigos!B:C,2,0),\" \")","v":" "}]
[null,null,null,null,{"$f":"IFERROR(VLOOKUP(D4028,Códigos!B:C,2,0),\" \")","v":" "}]
[null,null,null,null,{"$f":"IFERROR(VLOOKUP(D4029,Códigos!B:C,2,0),\" \")","v":" "}]
[null,null,null,null,{"$f":"IFERROR(VLOOKUP(D4030,Códigos!B:C,2,0),\" \")","v":" "}]
[null,null,null,null,{"$f":"IFERROR(VLOOKUP(D4031,Códigos!B:C,2,0),\" \")","v":" "}]
[null,null,null,null,{"$f":"IFERROR(VLOOKUP(D4032,Códigos!B:C,2,0),\" \")","v":" "}]
[null,null,null,null,{"$f":"IFERROR(VLOOKUP(D4033,Códigos!B:C,2,0),\" \")","v":" "}]
[null,null,null,null,{"$f":"IFERROR(VLOOKUP(D4034,Códigos!B:C,2,0),\" \")","v":" "}]
[null,null,null,null,{"$f":"IFERROR(VLOOKUP(D4035,Códigos!B:C,2,0),\" \")","v":" "}]
[null,null,null,null,{"$f":"IFERROR(VLOOKUP(D4036,Códigos!B:C,2,0),\" \")","v":" "}]
[null,null,null,null,{"$f":"IFERROR(VLOOKUP(D4037,Códigos!B:C,2,0),\" \")","v":" "}]
[null,null,null,null,{"$f":"IFERROR(VLOOKUP(D4038,Códigos!B:C,2,0),\" \")","v":" "}]
[null,null,null,null,{"$f":"IFERROR(VLOOKUP(D4039,Códigos!B:C,2,0),\" \")","v":" "}]
[null,null,null,null,{"$f":"IFERROR(VLOOKUP(D4040,Códigos!B:C,2,0),\" \")","v":" "}]
[null,null,null,null,{"$f":"IFERROR(VLOOKUP(D4041,Códigos!B:C,2,0),\" \")","v":" "}]
[null,null,null,null,{"$f":"IFERROR(VLOOKUP(D4042,Códigos!B:C,2,0),\" \")","v":" "}]
[null,null,null,null,{"$f":"IFERROR(VLOOKUP(D4043,Códigos!B:C,2,0),\" \")","v":" "}]
[null,null,null,null,{"$f":"IFERROR(VLOOKUP(D4044,Códigos!B:C,2,0),\" \")","v":" "}]
[null,null,null,null,{"$f":"IFERROR(VLOOKUP(D4045,Códigos!B:C,2,0),\" \")","v":" "}]
[null,null,null,null,{"$f":"IFERROR(VLOOKUP(D4046,Códigos!B:C,2,0),\" \")","v":" "}]
[null,null,null,null,{"$f":"IFERROR(VLOOKUP(D4047,Códigos!B:C,2,0),\" \")","v":" "}]
[null,null,null,null,{"$f":"IFERROR(VLOOKUP(D4048,Códigos!B:C,2,0),\" \")","v":" "}]
[null,null,null,null,{"$f":"IFERROR(VLOOKUP(D4049,Códigos!B:C,2,0),\" \")","v":" "}]
[null,null,null,null,{"$f":"IFERROR(VLOOKUP(D4050,Códigos!B:C,2,0),\" \")","v":" "}]
[null,null,null,null,{"$f":"IFERROR(VLOOKUP(D4051,Códigos!B:C,2,0),\" \")","v":" "}]
[null,null,null,null,{"$f":"IFERROR(VLOOKUP(D4052,Códigos!B:C,2,0),\" \")","v":" "}]
[null,null,null,null,{"$f":"IFERROR(VLOOKUP(D4053,Códigos!B:C,2,0),\" \")","v":" "}]
[null,null,null,null,{"$f":"IFERROR(VLOOKUP(D4054,Códigos!B:C,2,0),\" \")","v":" "}]
[null,null,null,null,{"$f":"IFERROR(VLOOKUP(D4055,Códigos!B:C,2,0),\" \")","v":" "}]
[null,null,null,null,{"$f":"IFERROR(VLOOKUP(D4056,Códigos!B:C,2,0),\" \")","v":" "}]
[null,null,null,null,{"$f":"IFERROR(VLOOKUP(D4057,Códigos!B:C,2,0),\" \")","v":" "}]
[null,null,null,null,{"$f":"IFERROR(VLOOKUP(D4058,Códigos!B:C,2,0),\" \")","v":" "}]
[null,null,null,null,{"$f":"IFERROR(VLOOKUP(D4059,Códigos!B:C,2,0),\" \")","v":" "}]
[null,null,null,null,{"$f":"IFERROR(VLOOKUP(D4060,Códigos!B:C,2,0),\" \")","v":" "}]
[null,null,null,null,{"$f":"IFERROR(VLOOKUP(D4061,Códigos!B:C,2,0),\" \")","v":" "}]
[null,null,null,null,{"$f":"IFERROR(VLOOKUP(D4062,Códigos!B:C,2,0),\" \")","v":" "}]
[null,null,null,null,{"$f":"IFERROR(VLOOKUP(D4063,Códigos!B:C,2,0),\" \")","v":" "}]
[null,null,null,null,{"$f":"IFERROR(VLOOKUP(D4064,Códigos!B:C,2,0),\" \")","v":" "}]
[null,null,null,null,{"$f":"IFERROR(VLOOKUP(D4065,Códigos!B:C,2,0),\" \")","v":" "}]
[null,null,null,null,{"$f":"IFERROR(VLOOKUP(D4066,Códigos!B:C,2,0),\" \")","v":" "}]
[null,null,null,null,{"$f":"IFERROR(VLOOKUP(D4067,Códigos!B:C,2,0),\" \")","v":" "}]
[null,null,null,null,{"$f":"IFERROR(VLOOKUP(D4068,Códigos!B:C,2,0),\" \")","v":" "}]
[null,null,null,null,{"$f":"IFERROR(VLOOKUP(D4069,Códigos!B:C,2,0),\" \")","v":" "}]
[null,null,null,null,{"$f":"IFERROR(VLOOKUP(D4070,Códigos!B:C,2,0),\" \")","v":" "}]
[null,null,null,null,{"$f":"IFERROR(VLOOKUP(D4071,Códigos!B:C,2,0),\" \")","v":" "}]
[null,null,null,null,{"$f":"IFERROR(VLOOKUP(D4072,Códigos!B:C,2,0),\" \")","v":" "}]
[null,null,null,null,{"$f":"IFERROR(VLOOKUP(D4073,Códigos!B:C,2,0),\" \")","v":" "}]
[null,null,null,null,{"$f":"IFERROR(VLOOKUP(D4074,Códigos!B:C,2,0),\" \")","v":" "}]
[null,null,null,null,{"$f":"IFERROR(VLOOKUP(D4075,Códigos!B:C,2,0),\" \")","v":" "}]
[null,null,null,null,{"$f":"IFERROR(VLOOKUP(D4076,Códigos!B:C,2,0),\" \")","v":" "}]
[null,null,null,null,{"$f":"IFERROR(VLOOKUP(D4077,Códigos!B:C,2,0),\" \")","v":" "}]
[null,null,null,null,{"$f":"IFERROR(VLOOKUP(D4078,Códigos!B:C,2,0),\" \")","v":" "}]
[null,null,null,null,{"$f":"IFERROR(VLOOKUP(D4079,Códigos!B:C,2,0),\" \")","v":" "}]
[null,null,null,null,{"$f":"IFERROR(VLOOKUP(D4080,Códigos!B:C,2,0),\" \")","v":" "}]
[null,null,null,null,{"$f":"IFERROR(VLOOKUP(D4081,Códigos!B:C,2,0),\" \")","v":" "}]
[null,null,null,null,{"$f":"IFERROR(VLOOKUP(D4082,Códigos!B:C,2,0),\" \")","v":" "}]
[null,null,null,null,{"$f":"IFERROR(VLOOKUP(D4083,Códigos!B:C,2,0),\" \")","v":" "}]
[null,null,null,null,{"$f":"IFERROR(VLOOKUP(D4084,Códigos!B:C,2,0),\" \")","v":" "}]
[null,null,null,null,{"$f":"IFERROR(VLOOKUP(D4085,Códigos!B:C,2,0),\" \")","v":" "}]
[null,null,null,null,{"$f":"IFERROR(VLOOKUP(D4086,Códigos!B:C,2,0),\" \")","v":" "}]
[null,null,null,null,{"$f":"IFERROR(VLOOKUP(D4087,Códigos!B:C,2,0),\" \")","v":" "}]
[null,null,null,null,{"$f":"IFERROR(VLOOKUP(D4088,Códigos!B:C,2,0),\" \")","v":" "}]
[null,null,null,null,{"$f":"IFERROR(VLOOKUP(D4089,Códigos!B:C,2,0),\" \")","v":" "}]
[null,null,null,null,{"$f":"IFERROR(VLOOKUP(D4090,Códigos!B:C,2,0),\" \")","v":" "}]
[null,null,null,null,{"$f":"IFERROR(VLOOKUP(D4091,Códigos!B:C,2,0),\" \")","v":" "}]
[null,null,null,null,{"$f":"IFERROR(VLOOKUP(D4092,Códigos!B:C,2,0),\" \")","v":" "}]
[null,null,null,null,{"$f":"IFERROR(VLOOKUP(D4093,Códigos!B:C,2,0),\" \")","v":" "}]
[null,null,null,null,{"$f":"IFERROR(VLOOKUP(D4094,Códigos!B:C,2,0),\" \")","v":" "}]
[null,null,null,null,{"$f":"IFERROR(VLOOKUP(D4095,Códigos!B:C,2,0),\" \")","v":" "}]
[null,null,null,null,{"$f":"IFERROR(VLOOKUP(D4096,Códigos!B:C,2,0),\" \")","v":" "}]
[null,null,null,null,{"$f":"IFERROR(VLOOKUP(D4097,Códigos!B:C,2,0),\" \")","v":" "}]
[null,null,null,null,{"$f":"IFERROR(VLOOKUP(D4098,Códigos!B:C,2,0),\" \")","v":" "}]
[null,null,null,null,{"$f":"IFERROR(VLOOKUP(D4099,Códigos!B:C,2,0),\" \")","v":" "}]
[null,null,null,null,{"$f":"IFERROR(VLOOKUP(D4100,Códigos!B:C,2,0),\" \")","v":" "}]
[null,null,null,null,{"$f":"IFERROR(VLOOKUP(D4101,Códigos!B:C,2,0),\" \")","v":" "}]
[null,null,null,null,{"$f":"IFERROR(VLOOKUP(D4102,Códigos!B:C,2,0),\" \")","v":" "}]
[null,null,null,null,{"$f":"IFERROR(VLOOKUP(D4103,Códigos!B:C,2,0),\" \")","v":" "}]
[null,null,null,null,{"$f":"IFERROR(VLOOKUP(D4104,Códigos!B:C,2,0),\" \")","v":" "}]
[null,null,null,null,{"$f":"IFERROR(VLOOKUP(D4105,Códigos!B:C,2,0),\" \")","v":" "}]
[null,null,null,null,{"$f":"IFERROR(VLOOKUP(D4106,Códigos!B:C,2,0),\" \")","v":" "}]
[null,null,null,null,{"$f":"IFERROR(VLOOKUP(D4107,Códigos!B:C,2,0),\" \")","v":" "}]
[null,null,null,null,{"$f":"IFERROR(VLOOKUP(D4108,Códigos!B:C,2,0),\" \")","v":" "}]
[null,null,null,null,{"$f":"IFERROR(VLOOKUP(D4109,Códigos!B:C,2,0),\" \")","v":" "}]
[null,null,null,null,{"$f":"IFERROR(VLOOKUP(D4110,Códigos!B:C,2,0),\" \")","v":" "}]
[null,null,null,null,{"$f":"IFERROR(VLOOKUP(D4111,Códigos!B:C,2,0),\" \")","v":" "}]
[null,null,null,null,{"$f":"IFERROR(VLOOKUP(D4112,Códigos!B:C,2,0),\" \")","v":" "}]
[null,null,null,null,{"$f":"IFERROR(VLOOKUP(D4113,Códigos!B:C,2,0),\" \")","v":" "}]
[null,null,null,null,{"$f":"IFERROR(VLOOKUP(D4114,Códigos!B:C,2,0),\" \")","v":" "}]
[null,null,null,null,{"$f":"IFERROR(VLOOKUP(D4115,Códigos!B:C,2,0),\" \")","v":" "}]
[null,null,null,null,{"$f":"IFERROR(VLOOKUP(D4116,Códigos!B:C,2,0),\" \")","v":" "}]
[null,null,null,null,{"$f":"IFERROR(VLOOKUP(D4117,Códigos!B:C,2,0),\" \")","v":" "}]
[null,null,null,null,{"$f":"IFERROR(VLOOKUP(D4118,Códigos!B:C,2,0),\" \")","v":" "}]
[null,null,null,null,{"$f":"IFERROR(VLOOKUP(D4119,Códigos!B:C,2,0),\" \")","v":" "}]
[null,null,null,null,{"$f":"IFERROR(VLOOKUP(D4120,Códigos!B:C,2,0),\" \")","v":" "}]
[null,null,null,null,{"$f":"IFERROR(VLOOKUP(D4121,Códigos!B:C,2,0),\" \")","v":" "}]
[null,null,null,null,{"$f":"IFERROR(VLOOKUP(D4122,Códigos!B:C,2,0),\" \")","v":" "}]
[null,null,null,null,{"$f":"IFERROR(VLOOKUP(D4123,Códigos!B:C,2,0),\" \")","v":" "}]
[null,null,null,null,{"$f":"IFERROR(VLOOKUP(D4124,Códigos!B:C,2,0),\" \")","v":" "}]
[null,null,null,null,{"$f":"IFERROR(VLOOKUP(D4125,Códigos!B:C,2,0),\" \")","v":" "}]
[null,null,null,null,{"$f":"IFERROR(VLOOKUP(D4126,Códigos!B:C,2,0),\" \")","v":" "}]
[null,null,null,null,{"$f":"IFERROR(VLOOKUP(D4127,Códigos!B:C,2,0),\" \")","v":" "}]
[null,null,null,null,{"$f":"IFERROR(VLOOKUP(D4128,Códigos!B:C,2,0),\" \")","v":" "}]
[null,null,null,null,{"$f":"IFERROR(VLOOKUP(D4129,Códigos!B:C,2,0),\" \")","v":" "}]
[null,null,null,null,{"$f":"IFERROR(VLOOKUP(D4130,Códigos!B:C,2,0),\" \")","v":" "}]
[null,null,null,null,{"$f":"IFERROR(VLOOKUP(D4131,Códigos!B:C,2,0),\" \")","v":" "}]
[null,null,null,null,{"$f":"IFERROR(VLOOKUP(D4132,Códigos!B:C,2,0),\" \")","v":" "}]
[null,null,null,null,{"$f":"IFERROR(VLOOKUP(D4133,Códigos!B:C,2,0),\" \")","v":" "}]
[null,null,null,null,{"$f":"IFERROR(VLOOKUP(D4134,Códigos!B:C,2,0),\" \")","v":" "}]
[null,null,null,null,{"$f":"IFERROR(VLOOKUP(D4135,Códigos!B:C,2,0),\" \")","v":" "}]
[null,null,null,null,{"$f":"IFERROR(VLOOKUP(D4136,Códigos!B:C,2,0),\" \")","v":" "}]
[null,null,null,null,{"$f":"IFERROR(VLOOKUP(D4137,Códigos!B:C,2,0),\" \")","v":" "}]
[null,null,null,null,{"$f":"IFERROR(VLOOKUP(D4138,Códigos!B:C,2,0),\" \")","v":" "}]
[null,null,null,null,{"$f":"IFERROR(VLOOKUP(D4139,Códigos!B:C,2,0),\" \")","v":" "}]
[null,null,null,null,{"$f":"IFERROR(VLOOKUP(D4140,Códigos!B:C,2,0),\" \")","v":" "}]
[null,null,null,null,{"$f":"IFERROR(VLOOKUP(D4141,Códigos!B:C,2,0),\" \")","v":" "}]
[null,null,null,null,{"$f":"IFERROR(VLOOKUP(D4142,Códigos!B:C,2,0),\" \")","v":" "}]
[null,null,null,null,{"$f":"IFERROR(VLOOKUP(D4143,Códigos!B:C,2,0),\" \")","v":" "}]
[null,null,null,null,{"$f":"IFERROR(VLOOKUP(D4144,Códigos!B:C,2,0),\" \")","v":" "}]
[null,null,null,null,{"$f":"IFERROR(VLOOKUP(D4145,Códigos!B:C,2,0),\" \")","v":" "}]
[null,null,null,null,{"$f":"IFERROR(VLOOKUP(D4146,Códigos!B:C,2,0),\" \")","v":" "}]
[null,null,null,null,{"$f":"IFERROR(VLOOKUP(D4147,Códigos!B:C,2,0),\" \")","v":" "}]
[null,null,null,null,{"$f":"IFERROR(VLOOKUP(D4148,Códigos!B:C,2,0),\" \")","v":" "}]
[null,null,null,null,{"$f":"IFERROR(VLOOKUP(D4149,Códigos!B:C,2,0),\" \")","v":" "}]
[null,null,null,null,{"$f":"IFERROR(VLOOKUP(D4150,Códigos!B:C,2,0),\" \")","v":" "}]
[null,null,null,null,{"$f":"IFERROR(VLOOKUP(D4151,Códigos!B:C,2,0),\" \")","v":" "}]
[null,null,null,null,{"$f":"IFERROR(VLOOKUP(D4152,Códigos!B:C,2,0),\" \")","v":" "}]
[null,null,null,null,{"$f":"IFERROR(VLOOKUP(D4153,Códigos!B:C,2,0),\" \")","v":" "}]
[null,null,null,null,{"$f":"IFERROR(VLOOKUP(D4154,Códigos!B:C,2,0),\" \")","v":" "}]
[null,null,null,null,{"$f":"IFERROR(VLOOKUP(D4155,Códigos!B:C,2,0),\" \")","v":" "}]
[null,null,null,null,{"$f":"IFERROR(VLOOKUP(D4156,Códigos!B:C,2,0),\" \")","v":" "}]
[null,null,null,null,{"$f":"IFERROR(VLOOKUP(D4157,Códigos!B:C,2,0),\" \")","v":" "}]
[null,null,null,null,{"$f":"IFERROR(VLOOKUP(D4158,Códigos!B:C,2,0),\" \")","v":" "}]
[null,null,null,null,{"$f":"IFERROR(VLOOKUP(D4159,Códigos!B:C,2,0),\" \")","v":" "}]
[null,null,null,null,{"$f":"IFERROR(VLOOKUP(D4160,Códigos!B:C,2,0),\" \")","v":" "}]
[null,null,null,null,{"$f":"IFERROR(VLOOKUP(D4161,Códigos!B:C,2,0),\" \")","v":" "}]
[null,null,null,null,{"$f":"IFERROR(VLOOKUP(D4162,Códigos!B:C,2,0),\" \")","v":" "}]
[null,null,null,null,{"$f":"IFERROR(VLOOKUP(D4163,Códigos!B:C,2,0),\" \")","v":" "}]
[null,null,null,null,{"$f":"IFERROR(VLOOKUP(D4164,Códigos!B:C,2,0),\" \")","v":" "}]
[null,null,null,null,{"$f":"IFERROR(VLOOKUP(D4165,Códigos!B:C,2,0),\" \")","v":" "}]
[null,null,null,null,{"$f":"IFERROR(VLOOKUP(D4166,Códigos!B:C,2,0),\" \")","v":" "}]
[null,null,null,null,{"$f":"IFERROR(VLOOKUP(D4167,Códigos!B:C,2,0),\" \")","v":" "}]
[null,null,null,null,{"$f":"IFERROR(VLOOKUP(D4168,Códigos!B:C,2,0),\" \")","v":" "}]
[null,null,null,null,{"$f":"IFERROR(VLOOKUP(D4169,Códigos!B:C,2,0),\" \")","v":" "}]
[null,null,null,null,{"$f":"IFERROR(VLOOKUP(D4170,Códigos!B:C,2,0),\" \")","v":" "}]
[null,null,null,null,{"$f":"IFERROR(VLOOKUP(D4171,Códigos!B:C,2,0),\" \")","v":" "}]
[null,null,null,null,{"$f":"IFERROR(VLOOKUP(D4172,Códigos!B:C,2,0),\" \")","v":" "}]
[null,null,null,null,{"$f":"IFERROR(VLOOKUP(D4173,Códigos!B:C,2,0),\" \")","v":" "}]
[null,null,null,null,{"$f":"IFERROR(VLOOKUP(D4174,Códigos!B:C,2,0),\" \")","v":" "}]
[null,null,null,null,{"$f":"IFERROR(VLOOKUP(D4175,Códigos!B:C,2,0),\" \")","v":" "}]
[null,null,null,null,{"$f":"IFERROR(VLOOKUP(D4176,Códigos!B:C,2,0),\" \")","v":" "}]
[null,null,null,null,{"$f":"IFERROR(VLOOKUP(D4177,Códigos!B:C,2,0),\" \")","v":" "}]
[null,null,null,null,{"$f":"IFERROR(VLOOKUP(D4178,Códigos!B:C,2,0),\" \")","v":" "}]
[null,null,null,null,{"$f":"IFERROR(VLOOKUP(D4179,Códigos!B:C,2,0),\" \")","v":" "}]
[null,null,null,null,{"$f":"IFERROR(VLOOKUP(D4180,Códigos!B:C,2,0),\" \")","v":" "}]
[null,null,null,null,{"$f":"IFERROR(VLOOKUP(D4181,Códigos!B:C,2,0),\" \")","v":" "}]
[null,null,null,null,{"$f":"IFERROR(VLOOKUP(D4182,Códigos!B:C,2,0),\" \")","v":" "}]
[null,null,null,null,{"$f":"IFERROR(VLOOKUP(D4183,Códigos!B:C,2,0),\" \")","v":" "}]
[null,null,null,null,{"$f":"IFERROR(VLOOKUP(D4184,Códigos!B:C,2,0),\" \")","v":" "}]
[null,null,null,null,{"$f":"IFERROR(VLOOKUP(D4185,Códigos!B:C,2,0),\" \")","v":" "}]
[null,null,null,null,{"$f":"IFERROR(VLOOKUP(D4186,Códigos!B:C,2,0),\" \")","v":" "}]
[null,null,null,null,{"$f":"IFERROR(VLOOKUP(D4187,Códigos!B:C,2,0),\" \")","v":" "}]
[null,null,null,null,{"$f":"IFERROR(VLOOKUP(D4188,Códigos!B:C,2,0),\" \")","v":" "}]
[null,null,null,null,{"$f":"IFERROR(VLOOKUP(D4189,Códigos!B:C,2,0),\" \")","v":" "}]
[null,null,null,null,{"$f":"IFERROR(VLOOKUP(D4190,Códigos!B:C,2,0),\" \")","v":" "}]
[null,null,null,null,{"$f":"IFERROR(VLOOKUP(D4191,Códigos!B:C,2,0),\" \")","v":" "}]
[null,null,null,null,{"$f":"IFERROR(VLOOKUP(D4192,Códigos!B:C,2,0),\" \")","v":" "}]
[null,null,null,null,{"$f":"IFERROR(VLOOKUP(D4193,Códigos!B:C,2,0),\" \")","v":" "}]
[null,null,null,null,{"$f":"IFERROR(VLOOKUP(D4194,Códigos!B:C,2,0),\" \")","v":" "}]
[null,null,null,null,{"$f":"IFERROR(VLOOKUP(D4195,Códigos!B:C,2,0),\" \")","v":" "}]
[null,null,null,null,{"$f":"IFERROR(VLOOKUP(D4196,Códigos!B:C,2,0),\" \")","v":" "}]
[null,null,null,null,{"$f":"IFERROR(VLOOKUP(D4197,Códigos!B:C,2,0),\" \")","v":" "}]
[null,null,null,null,{"$f":"IFERROR(VLOOKUP(D4198,Códigos!B:C,2,0),\" \")","v":" "}]
[null,null,null,null,{"$f":"IFERROR(VLOOKUP(D4199,Códigos!B:C,2,0),\" \")","v":" "}]
[null,null,null,null,{"$f":"IFERROR(VLOOKUP(D4200,Códigos!B:C,2,0),\" \")","v":" "}]
[null,null,null,null,{"$f":"IFERROR(VLOOKUP(D4201,Códigos!B:C,2,0),\" \")","v":" "}]
[null,null,null,null,{"$f":"IFERROR(VLOOKUP(D4202,Códigos!B:C,2,0),\" \")","v":" "}]
[null,null,null,null,{"$f":"IFERROR(VLOOKUP(D4203,Códigos!B:C,2,0),\" \")","v":" "}]
[null,null,null,null,{"$f":"IFERROR(VLOOKUP(D4204,Códigos!B:C,2,0),\" \")","v":" "}]
[null,null,null,null,{"$f":"IFERROR(VLOOKUP(D4205,Códigos!B:C,2,0),\" \")","v":" "}]
[null,null,null,null,{"$f":"IFERROR(VLOOKUP(D4206,Códigos!B:C,2,0),\" \")","v":" "}]
[null,null,null,null,{"$f":"IFERROR(VLOOKUP(D4207,Códigos!B:C,2,0),\" \")","v":" "}]
[null,null,null,null,{"$f":"IFERROR(VLOOKUP(D4208,Códigos!B:C,2,0),\" \")","v":" "}]
[null,null,null,null,{"$f":"IFERROR(VLOOKUP(D4209,Códigos!B:C,2,0),\" \")","v":" "}]
[null,null,null,null,{"$f":"IFERROR(VLOOKUP(D4210,Códigos!B:C,2,0),\" \")","v":" "}]
[null,null,null,null,{"$f":"IFERROR(VLOOKUP(D4211,Códigos!B:C,2,0),\" \")","v":" "}]
[null,null,null,null,{"$f":"IFERROR(VLOOKUP(D4212,Códigos!B:C,2,0),\" \")","v":" "}]
[null,null,null,null,{"$f":"IFERROR(VLOOKUP(D4213,Códigos!B:C,2,0),\" \")","v":" "}]
[null,null,null,null,{"$f":"IFERROR(VLOOKUP(D4214,Códigos!B:C,2,0),\" \")","v":" "}]
[null,null,null,null,{"$f":"IFERROR(VLOOKUP(D4215,Códigos!B:C,2,0),\" \")","v":" "}]
[null,null,null,null,{"$f":"IFERROR(VLOOKUP(D4216,Códigos!B:C,2,0),\" \")","v":" "}]
[null,null,null,null,{"$f":"IFERROR(VLOOKUP(D4217,Códigos!B:C,2,0),\" \")","v":" "}]
[null,null,null,null,{"$f":"IFERROR(VLOOKUP(D4218,Códigos!B:C,2,0),\" \")","v":" "}]
[null,null,null,null,{"$f":"IFERROR(VLOOKUP(D4219,Códigos!B:C,2,0),\" \")","v":" "}]
[null,null,null,null,{"$f":"IFERROR(VLOOKUP(D4220,Códigos!B:C,2,0),\" \")","v":" "}]
[null,null,null,null,{"$f":"IFERROR(VLOOKUP(D4221,Códigos!B:C,2,0),\" \")","v":" "}]
[null,null,null,null,{"$f":"IFERROR(VLOOKUP(D4222,Códigos!B:C,2,0),\" \")","v":" "}]
[null,null,null,null,{"$f":"IFERROR(VLOOKUP(D4223,Códigos!B:C,2,0),\" \")","v":" "}]
[null,null,null,null,{"$f":"IFERROR(VLOOKUP(D4224,Códigos!B:C,2,0),\" \")","v":" "}]
[null,null,null,null,{"$f":"IFERROR(VLOOKUP(D4225,Códigos!B:C,2,0),\" \")","v":" "}]
[null,null,null,null,{"$f":"IFERROR(VLOOKUP(D4226,Códigos!B:C,2,0),\" \")","v":" "}]
[null,null,null,null,{"$f":"IFERROR(VLOOKUP(D4227,Códigos!B:C,2,0),\" \")","v":" "}]
[null,null,null,null,{"$f":"IFERROR(VLOOKUP(D4228,Códigos!B:C,2,0),\" \")","v":" "}]
[null,null,null,null,{"$f":"IFERROR(VLOOKUP(D4229,Códigos!B:C,2,0),\" \")","v":" "}]
[null,null,null,null,{"$f":"IFERROR(VLOOKUP(D4230,Códigos!B:C,2,0),\" \")","v":" "}]
[null,null,null,null,{"$f":"IFERROR(VLOOKUP(D4231,Códigos!B:C,2,0),\" \")","v":" "}]
[null,null,null,null,{"$f":"IFERROR(VLOOKUP(D4232,Códigos!B:C,2,0),\" \")","v":" "}]
[null,null,null,null,{"$f":"IFERROR(VLOOKUP(D4233,Códigos!B:C,2,0),\" \")","v":" "}]
[null,null,null,null,{"$f":"IFERROR(VLOOKUP(D4234,Códigos!B:C,2,0),\" \")","v":" "}]
[null,null,null,null,{"$f":"IFERROR(VLOOKUP(D4235,Códigos!B:C,2,0),\" \")","v":" "}]
[null,null,null,null,{"$f":"IFERROR(VLOOKUP(D4236,Códigos!B:C,2,0),\" \")","v":" "}]
[null,null,null,null,{"$f":"IFERROR(VLOOKUP(D4237,Códigos!B:C,2,0),\" \")","v":" "}]
[null,null,null,null,{"$f":"IFERROR(VLOOKUP(D4238,Códigos!B:C,2,0),\" \")","v":" "}]
[null,null,null,null,{"$f":"IFERROR(VLOOKUP(D4239,Códigos!B:C,2,0),\" \")","v":" "}]
[null,null,null,null,{"$f":"IFERROR(VLOOKUP(D4240,Códigos!B:C,2,0),\" \")","v":" "}]
[null,null,null,null,{"$f":"IFERROR(VLOOKUP(D4241,Códigos!B:C,2,0),\" \")","v":" "}]
[null,null,null,null,{"$f":"IFERROR(VLOOKUP(D4242,Códigos!B:C,2,0),\" \")","v":" "}]
[null,null,null,null,{"$f":"IFERROR(VLOOKUP(D4243,Códigos!B:C,2,0),\" \")","v":" "}]
[null,null,null,null,{"$f":"IFERROR(VLOOKUP(D4244,Códigos!B:C,2,0),\" \")","v":" "}]
[null,null,null,null,{"$f":"IFERROR(VLOOKUP(D4245,Códigos!B:C,2,0),\" \")","v":" "}]
[null,null,null,null,{"$f":"IFERROR(VLOOKUP(D4246,Códigos!B:C,2,0),\" \")","v":" "}]
[null,null,null,null,{"$f":"IFERROR(VLOOKUP(D4247,Códigos!B:C,2,0),\" \")","v":" "}]
[null,null,null,null,{"$f":"IFERROR(VLOOKUP(D4248,Códigos!B:C,2,0),\" \")","v":" "}]
[null,null,null,null,{"$f":"IFERROR(VLOOKUP(D4249,Códigos!B:C,2,0),\" \")","v":" "}]
[null,null,null,null,{"$f":"IFERROR(VLOOKUP(D4250,Códigos!B:C,2,0),\" \")","v":" "}]
[null,null,null,null,{"$f":"IFERROR(VLOOKUP(D4251,Códigos!B:C,2,0),\" \")","v":" "}]
[null,null,null,null,{"$f":"IFERROR(VLOOKUP(D4252,Códigos!B:C,2,0),\" \")","v":" "}]
[null,null,null,null,{"$f":"IFERROR(VLOOKUP(D4253,Códigos!B:C,2,0),\" \")","v":" "}]
[null,null,null,null,{"$f":"IFERROR(VLOOKUP(D4254,Códigos!B:C,2,0),\" \")","v":" "}]
[null,null,null,null,{"$f":"IFERROR(VLOOKUP(D4255,Códigos!B:C,2,0),\" \")","v":" "}]
[null,null,null,null,{"$f":"IFERROR(VLOOKUP(D4256,Códigos!B:C,2,0),\" \")","v":" "}]
[null,null,null,null,{"$f":"IFERROR(VLOOKUP(D4257,Códigos!B:C,2,0),\" \")","v":" "}]
[null,null,null,null,{"$f":"IFERROR(VLOOKUP(D4258,Códigos!B:C,2,0),\" \")","v":" "}]
[null,null,null,null,{"$f":"IFERROR(VLOOKUP(D4259,Códigos!B:C,2,0),\" \")","v":" "}]
[null,null,null,null,{"$f":"IFERROR(VLOOKUP(D4260,Códigos!B:C,2,0),\" \")","v":" "}]
[null,null,null,null,{"$f":"IFERROR(VLOOKUP(D4261,Códigos!B:C,2,0),\" \")","v":" "}]
[null,null,null,null,{"$f":"IFERROR(VLOOKUP(D4262,Códigos!B:C,2,0),\" \")","v":" "}]
[null,null,null,null,{"$f":"IFERROR(VLOOKUP(D4263,Códigos!B:C,2,0),\" \")","v":" "}]
[null,null,null,null,{"$f":"IFERROR(VLOOKUP(D4264,Códigos!B:C,2,0),\" \")","v":" "}]
[null,null,null,null,{"$f":"IFERROR(VLOOKUP(D4265,Códigos!B:C,2,0),\" \")","v":" "}]
[null,null,null,null,{"$f":"IFERROR(VLOOKUP(D4266,Códigos!B:C,2,0),\" \")","v":" "}]
[null,null,null,null,{"$f":"IFERROR(VLOOKUP(D4267,Códigos!B:C,2,0),\" \")","v":" "}]
[null,null,null,null,{"$f":"IFERROR(VLOOKUP(D4268,Códigos!B:C,2,0),\" \")","v":" "}]
[null,null,null,null,{"$f":"IFERROR(VLOOKUP(D4269,Códigos!B:C,2,0),\" \")","v":" "}]
[null,null,null,null,{"$f":"IFERROR(VLOOKUP(D4270,Códigos!B:C,2,0),\" \")","v":" "}]
[null,null,null,null,{"$f":"IFERROR(VLOOKUP(D4271,Códigos!B:C,2,0),\" \")","v":" "}]
[null,null,null,null,{"$f":"IFERROR(VLOOKUP(D4272,Códigos!B:C,2,0),\" \")","v":" "}]
[null,null,null,null,{"$f":"IFERROR(VLOOKUP(D4273,Códigos!B:C,2,0),\" \")","v":" "}]
[null,null,null,null,{"$f":"IFERROR(VLOOKUP(D4274,Códigos!B:C,2,0),\" \")","v":" "}]
[null,null,null,null,{"$f":"IFERROR(VLOOKUP(D4275,Códigos!B:C,2,0),\" \")","v":" "}]
[null,null,null,null,{"$f":"IFERROR(VLOOKUP(D4276,Códigos!B:C,2,0),\" \")","v":" "}]
[null,null,null,null,{"$f":"IFERROR(VLOOKUP(D4277,Códigos!B:C,2,0),\" \")","v":" "}]
[null,null,null,null,{"$f":"IFERROR(VLOOKUP(D4278,Códigos!B:C,2,0),\" \")","v":" "}]
[null,null,null,null,{"$f":"IFERROR(VLOOKUP(D4279,Códigos!B:C,2,0),\" \")","v":" "}]
[null,null,null,null,{"$f":"IFERROR(VLOOKUP(D4280,Códigos!B:C,2,0),\" \")","v":" "}]
[null,null,null,null,{"$f":"IFERROR(VLOOKUP(D4281,Códigos!B:C,2,0),\" \")","v":" "}]
[null,null,null,null,{"$f":"IFERROR(VLOOKUP(D4282,Códigos!B:C,2,0),\" \")","v":" "}]
[null,null,null,null,{"$f":"IFERROR(VLOOKUP(D4283,Códigos!B:C,2,0),\" \")","v":" "}]
[null,null,null,null,{"$f":"IFERROR(VLOOKUP(D4284,Códigos!B:C,2,0),\" \")","v":" "}]
[null,null,null,null,{"$f":"IFERROR(VLOOKUP(D4285,Códigos!B:C,2,0),\" \")","v":" "}]
[null,null,null,null,{"$f":"IFERROR(VLOOKUP(D4286,Códigos!B:C,2,0),\" \")","v":" "}]
[null,null,null,null,{"$f":"IFERROR(VLOOKUP(D4287,Códigos!B:C,2,0),\" \")","v":" "}]
[null,null,null,null,{"$f":"IFERROR(VLOOKUP(D4288,Códigos!B:C,2,0),\" \")","v":" "}]
[null,null,null,null,{"$f":"IFERROR(VLOOKUP(D4289,Códigos!B:C,2,0),\" \")","v":" "}]
[null,null,null,null,{"$f":"IFERROR(VLOOKUP(D4290,Códigos!B:C,2,0),\" \")","v":" "}]
[null,null,null,null,{"$f":"IFERROR(VLOOKUP(D4291,Códigos!B:C,2,0),\" \")","v":" "}]
[null,null,null,null,{"$f":"IFERROR(VLOOKUP(D4292,Códigos!B:C,2,0),\" \")","v":" "}]
[null,null,null,null,{"$f":"IFERROR(VLOOKUP(D4293,Códigos!B:C,2,0),\" \")","v":" "}]
[null,null,null,null,{"$f":"IFERROR(VLOOKUP(D4294,Códigos!B:C,2,0),\" \")","v":" "}]
[null,null,null,null,{"$f":"IFERROR(VLOOKUP(D4295,Códigos!B:C,2,0),\" \")","v":" "}]
[null,null,null,null,{"$f":"IFERROR(VLOOKUP(D4296,Códigos!B:C,2,0),\" \")","v":" "}]
[null,null,null,null,{"$f":"IFERROR(VLOOKUP(D4297,Códigos!B:C,2,0),\" \")","v":" "}]
[null,null,null,null,{"$f":"IFERROR(VLOOKUP(D4298,Códigos!B:C,2,0),\" \")","v":" "}]
[null,null,null,null,{"$f":"IFERROR(VLOOKUP(D4299,Códigos!B:C,2,0),\" \")","v":" "}]
[null,null,null,null,{"$f":"IFERROR(VLOOKUP(D4300,Códigos!B:C,2,0),\" \")","v":" "}]
[null,null,null,null,{"$f":"IFERROR(VLOOKUP(D4301,Códigos!B:C,2,0),\" \")","v":" "}]
[null,null,null,null,{"$f":"IFERROR(VLOOKUP(D4302,Códigos!B:C,2,0),\" \")","v":" "}]
[null,null,null,null,{"$f":"IFERROR(VLOOKUP(D4303,Códigos!B:C,2,0),\" \")","v":" "}]
[null,null,null,null,{"$f":"IFERROR(VLOOKUP(D4304,Códigos!B:C,2,0),\" \")","v":" "}]
[null,null,null,null,{"$f":"IFERROR(VLOOKUP(D4305,Códigos!B:C,2,0),\" \")","v":" "}]
[null,null,null,null,{"$f":"IFERROR(VLOOKUP(D4306,Códigos!B:C,2,0),\" \")","v":" "}]
[null,null,null,null,{"$f":"IFERROR(VLOOKUP(D4307,Códigos!B:C,2,0),\" \")","v":" "}]
[null,null,null,null,{"$f":"IFERROR(VLOOKUP(D4308,Códigos!B:C,2,0),\" \")","v":" "}]
[null,null,null,null,{"$f":"IFERROR(VLOOKUP(D4309,Códigos!B:C,2,0),\" \")","v":" "}]
[null,null,null,null,{"$f":"IFERROR(VLOOKUP(D4310,Códigos!B:C,2,0),\" \")","v":" "}]
[null,null,null,null,{"$f":"IFERROR(VLOOKUP(D4311,Códigos!B:C,2,0),\" \")","v":" "}]
[null,null,null,null,{"$f":"IFERROR(VLOOKUP(D4312,Códigos!B:C,2,0),\" \")","v":" "}]
[null,null,null,null,{"$f":"IFERROR(VLOOKUP(D4313,Códigos!B:C,2,0),\" \")","v":" "}]
[null,null,null,null,{"$f":"IFERROR(VLOOKUP(D4314,Códigos!B:C,2,0),\" \")","v":" "}]
[null,null,null,null,{"$f":"IFERROR(VLOOKUP(D4315,Códigos!B:C,2,0),\" \")","v":" "}]
[null,null,null,null,{"$f":"IFERROR(VLOOKUP(D4316,Códigos!B:C,2,0),\" \")","v":" "}]
[null,null,null,null,{"$f":"IFERROR(VLOOKUP(D4317,Códigos!B:C,2,0),\" \")","v":" "}]
[null,null,null,null,{"$f":"IFERROR(VLOOKUP(D4318,Códigos!B:C,2,0),\" \")","v":" "}]
[null,null,null,null,{"$f":"IFERROR(VLOOKUP(D4319,Códigos!B:C,2,0),\" \")","v":" "}]
[null,null,null,null,{"$f":"IFERROR(VLOOKUP(D4320,Códigos!B:C,2,0),\" \")","v":" "}]
[null,null,null,null,{"$f":"IFERROR(VLOOKUP(D4321,Códigos!B:C,2,0),\" \")","v":" "}]
[null,null,null,null,{"$f":"IFERROR(VLOOKUP(D4322,Códigos!B:C,2,0),\" \")","v":" "}]
[null,null,null,null,{"$f":"IFERROR(VLOOKUP(D4323,Códigos!B:C,2,0),\" \")","v":" "}]
[null,null,null,null,{"$f":"IFERROR(VLOOKUP(D4324,Códigos!B:C,2,0),\" \")","v":" "}]
[null,null,null,null,{"$f":"IFERROR(VLOOKUP(D4325,Códigos!B:C,2,0),\" \")","v":" "}]
[null,null,null,null,{"$f":"IFERROR(VLOOKUP(D4326,Códigos!B:C,2,0),\" \")","v":" "}]
[null,null,null,null,{"$f":"IFERROR(VLOOKUP(D4327,Códigos!B:C,2,0),\" \")","v":" "}]
[null,null,null,null,{"$f":"IFERROR(VLOOKUP(D4328,Códigos!B:C,2,0),\" \")","v":" "}]
[null,null,null,null,{"$f":"IFERROR(VLOOKUP(D4329,Códigos!B:C,2,0),\" \")","v":" "}]
[null,null,null,null,{"$f":"IFERROR(VLOOKUP(D4330,Códigos!B:C,2,0),\" \")","v":" "}]
[null,null,null,null,{"$f":"IFERROR(VLOOKUP(D4331,Códigos!B:C,2,0),\" \")","v":" "}]
[null,null,null,null,{"$f":"IFERROR(VLOOKUP(D4332,Códigos!B:C,2,0),\" \")","v":" "}]
[null,null,null,null,{"$f":"IFERROR(VLOOKUP(D4333,Códigos!B:C,2,0),\" \")","v":" "}]
[null,null,null,null,{"$f":"IFERROR(VLOOKUP(D4334,Códigos!B:C,2,0),\" \")","v":" "}]
[null,null,null,null,{"$f":"IFERROR(VLOOKUP(D4335,Códigos!B:C,2,0),\" \")","v":" "}]
[null,null,null,null,{"$f":"IFERROR(VLOOKUP(D4336,Códigos!B:C,2,0),\" \")","v":" "}]
[null,null,null,null,{"$f":"IFERROR(VLOOKUP(D4337,Códigos!B:C,2,0),\" \")","v":" "}]
[null,null,null,null,{"$f":"IFERROR(VLOOKUP(D4338,Códigos!B:C,2,0),\" \")","v":" "}]
[null,null,null,null,{"$f":"IFERROR(VLOOKUP(D4339,Códigos!B:C,2,0),\" \")","v":" "}]
[null,null,null,null,{"$f":"IFERROR(VLOOKUP(D4340,Códigos!B:C,2,0),\" \")","v":" "}]
[null,null,null,null,{"$f":"IFERROR(VLOOKUP(D4341,Códigos!B:C,2,0),\" \")","v":" "}]
[null,null,null,null,{"$f":"IFERROR(VLOOKUP(D4342,Códigos!B:C,2,0),\" \")","v":" "}]
[null,null,null,null,{"$f":"IFERROR(VLOOKUP(D4343,Códigos!B:C,2,0),\" \")","v":" "}]
[null,null,null,null,{"$f":"IFERROR(VLOOKUP(D4344,Códigos!B:C,2,0),\" \")","v":" "}]
[null,null,null,null,{"$f":"IFERROR(VLOOKUP(D4345,Códigos!B:C,2,0),\" \")","v":" "}]
[null,null,null,null,{"$f":"IFERROR(VLOOKUP(D4346,Códigos!B:C,2,0),\" \")","v":" "}]
[null,null,null,null,{"$f":"IFERROR(VLOOKUP(D4347,Códigos!B:C,2,0),\" \")","v":" "}]
[null,null,null,null,{"$f":"IFERROR(VLOOKUP(D4348,Códigos!B:C,2,0),\" \")","v":" "}]
[null,null,null,null,{"$f":"IFERROR(VLOOKUP(D4349,Códigos!B:C,2,0),\" \")","v":" "}]
[null,null,null,null,{"$f":"IFERROR(VLOOKUP(D4350,Códigos!B:C,2,0),\" \")","v":" "}]
[null,null,null,null,{"$f":"IFERROR(VLOOKUP(D4351,Códigos!B:C,2,0),\" \")","v":" "}]
[null,null,null,null,{"$f":"IFERROR(VLOOKUP(D4352,Códigos!B:C,2,0),\" \")","v":" "}]
[null,null,null,null,{"$f":"IFERROR(VLOOKUP(D4353,Códigos!B:C,2,0),\" \")","v":" "}]
[null,null,null,null,{"$f":"IFERROR(VLOOKUP(D4354,Códigos!B:C,2,0),\" \")","v":" "}]
[null,null,null,null,{"$f":"IFERROR(VLOOKUP(D4355,Códigos!B:C,2,0),\" \")","v":" "}]
[null,null,null,null,{"$f":"IFERROR(VLOOKUP(D4356,Códigos!B:C,2,0),\" \")","v":" "}]
[null,null,null,null,{"$f":"IFERROR(VLOOKUP(D4357,Códigos!B:C,2,0),\" \")","v":" "}]
[null,null,null,null,{"$f":"IFERROR(VLOOKUP(D4358,Códigos!B:C,2,0),\" \")","v":" "}]
[null,null,null,null,{"$f":"IFERROR(VLOOKUP(D4359,Códigos!B:C,2,0),\" \")","v":" "}]
[null,null,null,null,{"$f":"IFERROR(VLOOKUP(D4360,Códigos!B:C,2,0),\" \")","v":" "}]
[null,null,null,null,{"$f":"IFERROR(VLOOKUP(D4361,Códigos!B:C,2,0),\" \")","v":" "}]
[null,null,null,null,{"$f":"IFERROR(VLOOKUP(D4362,Códigos!B:C,2,0),\" \")","v":" "}]
[null,null,null,null,{"$f":"IFERROR(VLOOKUP(D4363,Códigos!B:C,2,0),\" \")","v":" "}]
[null,null,null,null,{"$f":"IFERROR(VLOOKUP(D4364,Códigos!B:C,2,0),\" \")","v":" "}]
[null,null,null,null,{"$f":"IFERROR(VLOOKUP(D4365,Códigos!B:C,2,0),\" \")","v":" "}]
[null,null,null,null,{"$f":"IFERROR(VLOOKUP(D4366,Códigos!B:C,2,0),\" \")","v":" "}]
[null,null,null,null,{"$f":"IFERROR(VLOOKUP(D4367,Códigos!B:C,2,0),\" \")","v":" "}]
[null,null,null,null,{"$f":"IFERROR(VLOOKUP(D4368,Códigos!B:C,2,0),\" \")","v":" "}]
[null,null,null,null,{"$f":"IFERROR(VLOOKUP(D4369,Códigos!B:C,2,0),\" \")","v":" "}]
[null,null,null,null,{"$f":"IFERROR(VLOOKUP(D4370,Códigos!B:C,2,0),\" \")","v":" "}]
[null,null,null,null,{"$f":"IFERROR(VLOOKUP(D4371,Códigos!B:C,2,0),\" \")","v":" "}]
[null,null,null,null,{"$f":"IFERROR(VLOOKUP(D4372,Códigos!B:C,2,0),\" \")","v":" "}]
[null,null,null,null,{"$f":"IFERROR(VLOOKUP(D4373,Códigos!B:C,2,0),\" \")","v":" "}]
[null,null,null,null,{"$f":"IFERROR(VLOOKUP(D4374,Códigos!B:C,2,0),\" \")","v":" "}]
[null,null,null,null,{"$f":"IFERROR(VLOOKUP(D4375,Códigos!B:C,2,0),\" \")","v":" "}]
[null,null,null,null,{"$f":"IFERROR(VLOOKUP(D4376,Códigos!B:C,2,0),\" \")","v":" "}]
[null,null,null,null,{"$f":"IFERROR(VLOOKUP(D4377,Códigos!B:C,2,0),\" \")","v":" "}]
[null,null,null,null,{"$f":"IFERROR(VLOOKUP(D4378,Códigos!B:C,2,0),\" \")","v":" "}]
[null,null,null,null,{"$f":"IFERROR(VLOOKUP(D4379,Códigos!B:C,2,0),\" \")","v":" "}]
[null,null,null,null,{"$f":"IFERROR(VLOOKUP(D4380,Códigos!B:C,2,0),\" \")","v":" "}]
[null,null,null,null,{"$f":"IFERROR(VLOOKUP(D4381,Códigos!B:C,2,0),\" \")","v":" "}]
[null,null,null,null,{"$f":"IFERROR(VLOOKUP(D4382,Códigos!B:C,2,0),\" \")","v":" "}]
[null,null,null,null,{"$f":"IFERROR(VLOOKUP(D4383,Códigos!B:C,2,0),\" \")","v":" "}]
[null,null,null,null,{"$f":"IFERROR(VLOOKUP(D4384,Códigos!B:C,2,0),\" \")","v":" "}]
[null,null,null,null,{"$f":"IFERROR(VLOOKUP(D4385,Códigos!B:C,2,0),\" \")","v":" "}]
[null,null,null,null,{"$f":"IFERROR(VLOOKUP(D4386,Códigos!B:C,2,0),\" \")","v":" "}]
[null,null,null,null,{"$f":"IFERROR(VLOOKUP(D4387,Códigos!B:C,2,0),\" \")","v":" "}]
[null,null,null,null,{"$f":"IFERROR(VLOOKUP(D4388,Códigos!B:C,2,0),\" \")","v":" "}]
[null,null,null,null,{"$f":"IFERROR(VLOOKUP(D4389,Códigos!B:C,2,0),\" \")","v":" "}]
[null,null,null,null,{"$f":"IFERROR(VLOOKUP(D4390,Códigos!B:C,2,0),\" \")","v":" "}]
[null,null,null,null,{"$f":"IFERROR(VLOOKUP(D4391,Códigos!B:C,2,0),\" \")","v":" "}]
[null,null,null,null,{"$f":"IFERROR(VLOOKUP(D4392,Códigos!B:C,2,0),\" \")","v":" "}]
[null,null,null,null,{"$f":"IFERROR(VLOOKUP(D4393,Códigos!B:C,2,0),\" \")","v":" "}]
[null,null,null,null,{"$f":"IFERROR(VLOOKUP(D4394,Códigos!B:C,2,0),\" \")","v":" "}]
[null,null,null,null,{"$f":"IFERROR(VLOOKUP(D4395,Códigos!B:C,2,0),\" \")","v":" "}]
[null,null,null,null,{"$f":"IFERROR(VLOOKUP(D4396,Códigos!B:C,2,0),\" \")","v":" "}]
[null,null,null,null,{"$f":"IFERROR(VLOOKUP(D4397,Códigos!B:C,2,0),\" \")","v":" "}]
[null,null,null,null,{"$f":"IFERROR(VLOOKUP(D4398,Códigos!B:C,2,0),\" \")","v":" "}]
[null,null,null,null,{"$f":"IFERROR(VLOOKUP(D4399,Códigos!B:C,2,0),\" \")","v":" "}]
[null,null,null,null,{"$f":"IFERROR(VLOOKUP(D4400,Códigos!B:C,2,0),\" \")","v":" "}]
[null,null,null,null,{"$f":"IFERROR(VLOOKUP(D4401,Códigos!B:C,2,0),\" \")","v":" "}]
[null,null,null,null,{"$f":"IFERROR(VLOOKUP(D4402,Códigos!B:C,2,0),\" \")","v":" "}]
[null,null,null,null,{"$f":"IFERROR(VLOOKUP(D4403,Códigos!B:C,2,0),\" \")","v":" "}]
[null,null,null,null,{"$f":"IFERROR(VLOOKUP(D4404,Códigos!B:C,2,0),\" \")","v":" "}]
[null,null,null,null,{"$f":"IFERROR(VLOOKUP(D4405,Códigos!B:C,2,0),\" \")","v":" "}]
[null,null,null,null,{"$f":"IFERROR(VLOOKUP(D4406,Códigos!B:C,2,0),\" \")","v":" "}]
[null,null,null,null,{"$f":"IFERROR(VLOOKUP(D4407,Códigos!B:C,2,0),\" \")","v":" "}]
[null,null,null,null,{"$f":"IFERROR(VLOOKUP(D4408,Códigos!B:C,2,0),\" \")","v":" "}]
[null,null,null,null,{"$f":"IFERROR(VLOOKUP(D4409,Códigos!B:C,2,0),\" \")","v":" "}]
[null,null,null,null,{"$f":"IFERROR(VLOOKUP(D4410,Códigos!B:C,2,0),\" \")","v":" "}]
[null,null,null,null,{"$f":"IFERROR(VLOOKUP(D4411,Códigos!B:C,2,0),\" \")","v":" "}]
[null,null,null,null,{"$f":"IFERROR(VLOOKUP(D4412,Códigos!B:C,2,0),\" \")","v":" "}]
[null,null,null,null,{"$f":"IFERROR(VLOOKUP(D4413,Códigos!B:C,2,0),\" \")","v":" "}]
[null,null,null,null,{"$f":"IFERROR(VLOOKUP(D4414,Códigos!B:C,2,0),\" \")","v":" "}]
[null,null,null,null,{"$f":"IFERROR(VLOOKUP(D4415,Códigos!B:C,2,0),\" \")","v":" "}]
[null,null,null,null,{"$f":"IFERROR(VLOOKUP(D4416,Códigos!B:C,2,0),\" \")","v":" "}]
[null,null,null,null,{"$f":"IFERROR(VLOOKUP(D4417,Códigos!B:C,2,0),\" \")","v":" "}]
[null,null,null,null,{"$f":"IFERROR(VLOOKUP(D4418,Códigos!B:C,2,0),\" \")","v":" "}]
[null,null,null,null,{"$f":"IFERROR(VLOOKUP(D4419,Códigos!B:C,2,0),\" \")","v":" "}]
[null,null,null,null,{"$f":"IFERROR(VLOOKUP(D4420,Códigos!B:C,2,0),\" \")","v":" "}]
[null,null,null,null,{"$f":"IFERROR(VLOOKUP(D4421,Códigos!B:C,2,0),\" \")","v":" "}]
[null,null,null,null,{"$f":"IFERROR(VLOOKUP(D4422,Códigos!B:C,2,0),\" \")","v":" "}]
[null,null,null,null,{"$f":"IFERROR(VLOOKUP(D4423,Códigos!B:C,2,0),\" \")","v":" "}]
[null,null,null,null,{"$f":"IFERROR(VLOOKUP(D4424,Códigos!B:C,2,0),\" \")","v":" "}]
[null,null,null,null,{"$f":"IFERROR(VLOOKUP(D4425,Códigos!B:C,2,0),\" \")","v":" "}]
[null,null,null,null,{"$f":"IFERROR(VLOOKUP(D4426,Códigos!B:C,2,0),\" \")","v":" "}]
[null,null,null,null,{"$f":"IFERROR(VLOOKUP(D4427,Códigos!B:C,2,0),\" \")","v":" "}]
[null,null,null,null,{"$f":"IFERROR(VLOOKUP(D4428,Códigos!B:C,2,0),\" \")","v":" "}]
[null,null,null,null,{"$f":"IFERROR(VLOOKUP(D4429,Códigos!B:C,2,0),\" \")","v":" "}]
[null,null,null,null,{"$f":"IFERROR(VLOOKUP(D4430,Códigos!B:C,2,0),\" \")","v":" "}]
[null,null,null,null,{"$f":"IFERROR(VLOOKUP(D4431,Códigos!B:C,2,0),\" \")","v":" "}]
[null,null,null,null,{"$f":"IFERROR(VLOOKUP(D4432,Códigos!B:C,2,0),\" \")","v":" "}]
[null,null,null,null,{"$f":"IFERROR(VLOOKUP(D4433,Códigos!B:C,2,0),\" \")","v":" "}]
[null,null,null,null,{"$f":"IFERROR(VLOOKUP(D4434,Códigos!B:C,2,0),\" \")","v":" "}]
[null,null,null,null,{"$f":"IFERROR(VLOOKUP(D4435,Códigos!B:C,2,0),\" \")","v":" "}]
[null,null,null,null,{"$f":"IFERROR(VLOOKUP(D4436,Códigos!B:C,2,0),\" \")","v":" "}]
[null,null,null,null,{"$f":"IFERROR(VLOOKUP(D4437,Códigos!B:C,2,0),\" \")","v":" "}]
[null,null,null,null,{"$f":"IFERROR(VLOOKUP(D4438,Códigos!B:C,2,0),\" \")","v":" "}]
[null,null,null,null,{"$f":"IFERROR(VLOOKUP(D4439,Códigos!B:C,2,0),\" \")","v":" "}]
[null,null,null,null,{"$f":"IFERROR(VLOOKUP(D4440,Códigos!B:C,2,0),\" \")","v":" "}]
[null,null,null,null,{"$f":"IFERROR(VLOOKUP(D4441,Códigos!B:C,2,0),\" \")","v":" "}]
[null,null,null,null,{"$f":"IFERROR(VLOOKUP(D4442,Códigos!B:C,2,0),\" \")","v":" "}]
[null,null,null,null,{"$f":"IFERROR(VLOOKUP(D4443,Códigos!B:C,2,0),\" \")","v":" "}]
[null,null,null,null,{"$f":"IFERROR(VLOOKUP(D4444,Códigos!B:C,2,0),\" \")","v":" "}]
[null,null,null,null,{"$f":"IFERROR(VLOOKUP(D4445,Códigos!B:C,2,0),\" \")","v":" "}]
[null,null,null,null,{"$f":"IFERROR(VLOOKUP(D4446,Códigos!B:C,2,0),\" \")","v":" "}]
[null,null,null,null,{"$f":"IFERROR(VLOOKUP(D4447,Códigos!B:C,2,0),\" \")","v":" "}]
[null,null,null,null,{"$f":"IFERROR(VLOOKUP(D4448,Códigos!B:C,2,0),\" \")","v":" "}]
[null,null,null,null,{"$f":"IFERROR(VLOOKUP(D4449,Códigos!B:C,2,0),\" \")","v":" "}]
[null,null,null,null,{"$f":"IFERROR(VLOOKUP(D4450,Códigos!B:C,2,0),\" \")","v":" "}]
[null,null,null,null,{"$f":"IFERROR(VLOOKUP(D4451,Códigos!B:C,2,0),\" \")","v":" "}]
[null,null,null,null,{"$f":"IFERROR(VLOOKUP(D4452,Códigos!B:C,2,0),\" \")","v":" "}]
[null,null,null,null,{"$f":"IFERROR(VLOOKUP(D4453,Códigos!B:C,2,0),\" \")","v":" "}]
[null,null,null,null,{"$f":"IFERROR(VLOOKUP(D4454,Códigos!B:C,2,0),\" \")","v":" "}]
[null,null,null,null,{"$f":"IFERROR(VLOOKUP(D4455,Códigos!B:C,2,0),\" \")","v":" "}]
[null,null,null,null,{"$f":"IFERROR(VLOOKUP(D4456,Códigos!B:C,2,0),\" \")","v":" "}]
[null,null,null,null,{"$f":"IFERROR(VLOOKUP(D4457,Códigos!B:C,2,0),\" \")","v":" "}]
[null,null,null,null,{"$f":"IFERROR(VLOOKUP(D4458,Códigos!B:C,2,0),\" \")","v":" "}]
[null,null,null,null,{"$f":"IFERROR(VLOOKUP(D4459,Códigos!B:C,2,0),\" \")","v":" "}]
[null,null,null,null,{"$f":"IFERROR(VLOOKUP(D4460,Códigos!B:C,2,0),\" \")","v":" "}]
[null,null,null,null,{"$f":"IFERROR(VLOOKUP(D4461,Códigos!B:C,2,0),\" \")","v":" "}]
[null,null,null,null,{"$f":"IFERROR(VLOOKUP(D4462,Códigos!B:C,2,0),\" \")","v":" "}]
[null,null,null,null,{"$f":"IFERROR(VLOOKUP(D4463,Códigos!B:C,2,0),\" \")","v":" "}]
[null,null,null,null,{"$f":"IFERROR(VLOOKUP(D4464,Códigos!B:C,2,0),\" \")","v":" "}]
[null,null,null,null,{"$f":"IFERROR(VLOOKUP(D4465,Códigos!B:C,2,0),\" \")","v":" "}]
[null,null,null,null,{"$f":"IFERROR(VLOOKUP(D4466,Códigos!B:C,2,0),\" \")","v":" "}]
[null,null,null,null,{"$f":"IFERROR(VLOOKUP(D4467,Códigos!B:C,2,0),\" \")","v":" "}]
[null,null,null,null,{"$f":"IFERROR(VLOOKUP(D4468,Códigos!B:C,2,0),\" \")","v":" "}]
[null,null,null,null,{"$f":"IFERROR(VLOOKUP(D4469,Códigos!B:C,2,0),\" \")","v":" "}]
[null,null,null,null,{"$f":"IFERROR(VLOOKUP(D4470,Códigos!B:C,2,0),\" \")","v":" "}]
[null,null,null,null,{"$f":"IFERROR(VLOOKUP(D4471,Códigos!B:C,2,0),\" \")","v":" "}]
[null,null,null,null,{"$f":"IFERROR(VLOOKUP(D4472,Códigos!B:C,2,0),\" \")","v":" "}]
[null,null,null,null,{"$f":"IFERROR(VLOOKUP(D4473,Códigos!B:C,2,0),\" \")","v":" "}]
[null,null,null,null,{"$f":"IFERROR(VLOOKUP(D4474,Códigos!B:C,2,0),\" \")","v":" "}]
[null,null,null,null,{"$f":"IFERROR(VLOOKUP(D4475,Códigos!B:C,2,0),\" \")","v":" "}]
[null,null,null,null,{"$f":"IFERROR(VLOOKUP(D4476,Códigos!B:C,2,0),\" \")","v":" "}]
[null,null,null,null,{"$f":"IFERROR(VLOOKUP(D4477,Códigos!B:C,2,0),\" \")","v":" "}]
[null,null,null,null,{"$f":"IFERROR(VLOOKUP(D4478,Códigos!B:C,2,0),\" \")","v":" "}]
[null,null,null,null,{"$f":"IFERROR(VLOOKUP(D4479,Códigos!B:C,2,0),\" \")","v":" "}]
[null,null,null,null,{"$f":"IFERROR(VLOOKUP(D4480,Códigos!B:C,2,0),\" \")","v":" "}]
[null,null,null,null,{"$f":"IFERROR(VLOOKUP(D4481,Códigos!B:C,2,0),\" \")","v":" "}]
[null,null,null,null,{"$f":"IFERROR(VLOOKUP(D4482,Códigos!B:C,2,0),\" \")","v":" "}]
[null,null,null,null,{"$f":"IFERROR(VLOOKUP(D4483,Códigos!B:C,2,0),\" \")","v":" "}]
[null,null,null,null,{"$f":"IFERROR(VLOOKUP(D4484,Códigos!B:C,2,0),\" \")","v":" "}]
[null,null,null,null,{"$f":"IFERROR(VLOOKUP(D4485,Códigos!B:C,2,0),\" \")","v":" "}]
[null,null,null,null,{"$f":"IFERROR(VLOOKUP(D4486,Códigos!B:C,2,0),\" \")","v":" "}]
[null,null,null,null,{"$f":"IFERROR(VLOOKUP(D4487,Códigos!B:C,2,0),\" \")","v":" "}]
[null,null,null,null,{"$f":"IFERROR(VLOOKUP(D4488,Códigos!B:C,2,0),\" \")","v":" "}]
[null,null,null,null,{"$f":"IFERROR(VLOOKUP(D4489,Códigos!B:C,2,0),\" \")","v":" "}]
[null,null,null,null,{"$f":"IFERROR(VLOOKUP(D4490,Códigos!B:C,2,0),\" \")","v":" "}]
[null,null,null,null,{"$f":"IFERROR(VLOOKUP(D4491,Códigos!B:C,2,0),\" \")","v":" "}]
[null,null,null,null,{"$f":"IFERROR(VLOOKUP(D4492,Códigos!B:C,2,0),\" \")","v":" "}]
[null,null,null,null,{"$f":"IFERROR(VLOOKUP(D4493,Códigos!B:C,2,0),\" \")","v":" "}]
[null,null,null,null,{"$f":"IFERROR(VLOOKUP(D4494,Códigos!B:C,2,0),\" \")","v":" "}]
[null,null,null,null,{"$f":"IFERROR(VLOOKUP(D4495,Códigos!B:C,2,0),\" \")","v":" "}]
[null,null,null,null,{"$f":"IFERROR(VLOOKUP(D4496,Códigos!B:C,2,0),\" \")","v":" "}]
[null,null,null,null,{"$f":"IFERROR(VLOOKUP(D4497,Códigos!B:C,2,0),\" \")","v":" "}]
[null,null,null,null,{"$f":"IFERROR(VLOOKUP(D4498,Códigos!B:C,2,0),\" \")","v":" "}]
[null,null,null,null,{"$f":"IFERROR(VLOOKUP(D4499,Códigos!B:C,2,0),\" \")","v":" "}]
[null,null,null,null,{"$f":"IFERROR(VLOOKUP(D4500,Códigos!B:C,2,0),\" \")","v":" "}]
[null,null,null,null,{"$f":"IFERROR(VLOOKUP(D4501,Códigos!B:C,2,0),\" \")","v":" "}]
[null,null,null,null,{"$f":"IFERROR(VLOOKUP(D4502,Códigos!B:C,2,0),\" \")","v":" "}]
[null,null,null,null,{"$f":"IFERROR(VLOOKUP(D4503,Códigos!B:C,2,0),\" \")","v":" "}]
[null,null,null,null,{"$f":"IFERROR(VLOOKUP(D4504,Códigos!B:C,2,0),\" \")","v":" "}]
[null,null,null,null,{"$f":"IFERROR(VLOOKUP(D4505,Códigos!B:C,2,0),\" \")","v":" "}]
[null,null,null,null,{"$f":"IFERROR(VLOOKUP(D4506,Códigos!B:C,2,0),\" \")","v":" "}]
[null,null,null,null,{"$f":"IFERROR(VLOOKUP(D4507,Códigos!B:C,2,0),\" \")","v":" "}]
[null,null,null,null,{"$f":"IFERROR(VLOOKUP(D4508,Códigos!B:C,2,0),\" \")","v":" "}]
[null,null,null,null,{"$f":"IFERROR(VLOOKUP(D4509,Códigos!B:C,2,0),\" \")","v":" "}]
[null,null,null,null,{"$f":"IFERROR(VLOOKUP(D4510,Códigos!B:C,2,0),\" \")","v":" "}]
[null,null,null,null,{"$f":"IFERROR(VLOOKUP(D4511,Códigos!B:C,2,0),\" \")","v":" "}]
[null,null,null,null,{"$f":"IFERROR(VLOOKUP(D4512,Códigos!B:C,2,0),\" \")","v":" "}]
[null,null,null,null,{"$f":"IFERROR(VLOOKUP(D4513,Códigos!B:C,2,0),\" \")","v":" "}]
[null,null,null,null,{"$f":"IFERROR(VLOOKUP(D4514,Códigos!B:C,2,0),\" \")","v":" "}]
[null,null,null,null,{"$f":"IFERROR(VLOOKUP(D4515,Códigos!B:C,2,0),\" \")","v":" "}]
[null,null,null,null,{"$f":"IFERROR(VLOOKUP(D4516,Códigos!B:C,2,0),\" \")","v":" "}]
[null,null,null,null,{"$f":"IFERROR(VLOOKUP(D4517,Códigos!B:C,2,0),\" \")","v":" "}]
[null,null,null,null,{"$f":"IFERROR(VLOOKUP(D4518,Códigos!B:C,2,0),\" \")","v":" "}]
[null,null,null,null,{"$f":"IFERROR(VLOOKUP(D4519,Códigos!B:C,2,0),\" \")","v":" "}]
[null,null,null,null,{"$f":"IFERROR(VLOOKUP(D4520,Códigos!B:C,2,0),\" \")","v":" "}]
[null,null,null,null,{"$f":"IFERROR(VLOOKUP(D4521,Códigos!B:C,2,0),\" \")","v":" "}]
[null,null,null,null,{"$f":"IFERROR(VLOOKUP(D4522,Códigos!B:C,2,0),\" \")","v":" "}]
[null,null,null,null,{"$f":"IFERROR(VLOOKUP(D4523,Códigos!B:C,2,0),\" \")","v":" "}]
[null,null,null,null,{"$f":"IFERROR(VLOOKUP(D4524,Códigos!B:C,2,0),\" \")","v":" "}]
[null,null,null,null,{"$f":"IFERROR(VLOOKUP(D4525,Códigos!B:C,2,0),\" \")","v":" "}]
[null,null,null,null,{"$f":"IFERROR(VLOOKUP(D4526,Códigos!B:C,2,0),\" \")","v":" "}]
[null,null,null,null,{"$f":"IFERROR(VLOOKUP(D4527,Códigos!B:C,2,0),\" \")","v":" "}]
[null,null,null,null,{"$f":"IFERROR(VLOOKUP(D4528,Códigos!B:C,2,0),\" \")","v":" "}]
[null,null,null,null,{"$f":"IFERROR(VLOOKUP(D4529,Códigos!B:C,2,0),\" \")","v":" "}]
[null,null,null,null,{"$f":"IFERROR(VLOOKUP(D4530,Códigos!B:C,2,0),\" \")","v":" "}]
[null,null,null,null,{"$f":"IFERROR(VLOOKUP(D4531,Códigos!B:C,2,0),\" \")","v":" "}]
[null,null,null,null,{"$f":"IFERROR(VLOOKUP(D4532,Códigos!B:C,2,0),\" \")","v":" "}]
[null,null,null,null,{"$f":"IFERROR(VLOOKUP(D4533,Códigos!B:C,2,0),\" \")","v":" "}]
[null,null,null,null,{"$f":"IFERROR(VLOOKUP(D4534,Códigos!B:C,2,0),\" \")","v":" "}]
[null,null,null,null,{"$f":"IFERROR(VLOOKUP(D4535,Códigos!B:C,2,0),\" \")","v":" "}]
[null,null,null,null,{"$f":"IFERROR(VLOOKUP(D4536,Códigos!B:C,2,0),\" \")","v":" "}]
[null,null,null,null,{"$f":"IFERROR(VLOOKUP(D4537,Códigos!B:C,2,0),\" \")","v":" "}]
[null,null,null,null,{"$f":"IFERROR(VLOOKUP(D4538,Códigos!B:C,2,0),\" \")","v":" "}]
[null,null,null,null,{"$f":"IFERROR(VLOOKUP(D4539,Códigos!B:C,2,0),\" \")","v":" "}]
[null,null,null,null,{"$f":"IFERROR(VLOOKUP(D4540,Códigos!B:C,2,0),\" \")","v":" "}]
[null,null,null,null,{"$f":"IFERROR(VLOOKUP(D4541,Códigos!B:C,2,0),\" \")","v":" "}]
[null,null,null,null,{"$f":"IFERROR(VLOOKUP(D4542,Códigos!B:C,2,0),\" \")","v":" "}]
[null,null,null,null,{"$f":"IFERROR(VLOOKUP(D4543,Códigos!B:C,2,0),\" \")","v":" "}]
[null,null,null,null,{"$f":"IFERROR(VLOOKUP(D4544,Códigos!B:C,2,0),\" \")","v":" "}]
[null,null,null,null,{"$f":"IFERROR(VLOOKUP(D4545,Códigos!B:C,2,0),\" \")","v":" "}]
[null,null,null,null,{"$f":"IFERROR(VLOOKUP(D4546,Códigos!B:C,2,0),\" \")","v":" "}]
[null,null,null,null,{"$f":"IFERROR(VLOOKUP(D4547,Códigos!B:C,2,0),\" \")","v":" "}]
[null,null,null,null,{"$f":"IFERROR(VLOOKUP(D4548,Códigos!B:C,2,0),\" \")","v":" "}]
[null,null,null,null,{"$f":"IFERROR(VLOOKUP(D4549,Códigos!B:C,2,0),\" \")","v":" "}]
[null,null,null,null,{"$f":"IFERROR(VLOOKUP(D4550,Códigos!B:C,2,0),\" \")","v":" "}]
[null,null,null,null,{"$f":"IFERROR(VLOOKUP(D4551,Códigos!B:C,2,0),\" \")","v":" "}]
[null,null,null,null,{"$f":"IFERROR(VLOOKUP(D4552,Códigos!B:C,2,0),\" \")","v":" "}]
[null,null,null,null,{"$f":"IFERROR(VLOOKUP(D4553,Códigos!B:C,2,0),\" \")","v":" "}]
[null,null,null,null,{"$f":"IFERROR(VLOOKUP(D4554,Códigos!B:C,2,0),\" \")","v":" "}]
[null,null,null,null,{"$f":"IFERROR(VLOOKUP(D4555,Códigos!B:C,2,0),\" \")","v":" "}]
[null,null,null,null,{"$f":"IFERROR(VLOOKUP(D4556,Códigos!B:C,2,0),\" \")","v":" "}]
[null,null,null,null,{"$f":"IFERROR(VLOOKUP(D4557,Códigos!B:C,2,0),\" \")","v":" "}]
[null,null,null,null,{"$f":"IFERROR(VLOOKUP(D4558,Códigos!B:C,2,0),\" \")","v":" "}]
[null,null,null,null,{"$f":"IFERROR(VLOOKUP(D4559,Códigos!B:C,2,0),\" \")","v":" "}]
[null,null,null,null,{"$f":"IFERROR(VLOOKUP(D4560,Códigos!B:C,2,0),\" \")","v":" "}]
[null,null,null,null,{"$f":"IFERROR(VLOOKUP(D4561,Códigos!B:C,2,0),\" \")","v":" "}]
[null,null,null,null,{"$f":"IFERROR(VLOOKUP(D4562,Códigos!B:C,2,0),\" \")","v":" "}]
[null,null,null,null,{"$f":"IFERROR(VLOOKUP(D4563,Códigos!B:C,2,0),\" \")","v":" "}]
[null,null,null,null,{"$f":"IFERROR(VLOOKUP(D4564,Códigos!B:C,2,0),\" \")","v":" "}]
[null,null,null,null,{"$f":"IFERROR(VLOOKUP(D4565,Códigos!B:C,2,0),\" \")","v":" "}]
[null,null,null,null,{"$f":"IFERROR(VLOOKUP(D4566,Códigos!B:C,2,0),\" \")","v":" "}]
[null,null,null,null,{"$f":"IFERROR(VLOOKUP(D4567,Códigos!B:C,2,0),\" \")","v":" "}]
[null,null,null,null,{"$f":"IFERROR(VLOOKUP(D4568,Códigos!B:C,2,0),\" \")","v":" "}]
[null,null,null,null,{"$f":"IFERROR(VLOOKUP(D4569,Códigos!B:C,2,0),\" \")","v":" "}]
[null,null,null,null,{"$f":"IFERROR(VLOOKUP(D4570,Códigos!B:C,2,0),\" \")","v":" "}]
[null,null,null,null,{"$f":"IFERROR(VLOOKUP(D4571,Códigos!B:C,2,0),\" \")","v":" "}]
[null,null,null,null,{"$f":"IFERROR(VLOOKUP(D4572,Códigos!B:C,2,0),\" \")","v":" "}]
[null,null,null,null,{"$f":"IFERROR(VLOOKUP(D4573,Códigos!B:C,2,0),\" \")","v":" "}]
[null,null,null,null,{"$f":"IFERROR(VLOOKUP(D4574,Códigos!B:C,2,0),\" \")","v":" "}]
[null,null,null,null,{"$f":"IFERROR(VLOOKUP(D4575,Códigos!B:C,2,0),\" \")","v":" "}]
[null,null,null,null,{"$f":"IFERROR(VLOOKUP(D4576,Códigos!B:C,2,0),\" \")","v":" "}]
[null,null,null,null,{"$f":"IFERROR(VLOOKUP(D4577,Códigos!B:C,2,0),\" \")","v":" "}]
[null,null,null,null,{"$f":"IFERROR(VLOOKUP(D4578,Códigos!B:C,2,0),\" \")","v":" "}]
[null,null,null,null,{"$f":"IFERROR(VLOOKUP(D4579,Códigos!B:C,2,0),\" \")","v":" "}]
[null,null,null,null,{"$f":"IFERROR(VLOOKUP(D4580,Códigos!B:C,2,0),\" \")","v":" "}]
[null,null,null,null,{"$f":"IFERROR(VLOOKUP(D4581,Códigos!B:C,2,0),\" \")","v":" "}]
[null,null,null,null,{"$f":"IFERROR(VLOOKUP(D4582,Códigos!B:C,2,0),\" \")","v":" "}]
[null,null,null,null,{"$f":"IFERROR(VLOOKUP(D4583,Códigos!B:C,2,0),\" \")","v":" "}]
[null,null,null,null,{"$f":"IFERROR(VLOOKUP(D4584,Códigos!B:C,2,0),\" \")","v":" "}]
[null,null,null,null,{"$f":"IFERROR(VLOOKUP(D4585,Códigos!B:C,2,0),\" \")","v":" "}]
[null,null,null,null,{"$f":"IFERROR(VLOOKUP(D4586,Códigos!B:C,2,0),\" \")","v":" "}]
[null,null,null,null,{"$f":"IFERROR(VLOOKUP(D4587,Códigos!B:C,2,0),\" \")","v":" "}]
[null,null,null,null,{"$f":"IFERROR(VLOOKUP(D4588,Códigos!B:C,2,0),\" \")","v":" "}]
[null,null,null,null,{"$f":"IFERROR(VLOOKUP(D4589,Códigos!B:C,2,0),\" \")","v":" "}]
[null,null,null,null,{"$f":"IFERROR(VLOOKUP(D4590,Códigos!B:C,2,0),\" \")","v":" "}]
[null,null,null,null,{"$f":"IFERROR(VLOOKUP(D4591,Códigos!B:C,2,0),\" \")","v":" "}]
[null,null,null,null,{"$f":"IFERROR(VLOOKUP(D4592,Códigos!B:C,2,0),\" \")","v":" "}]
[null,null,null,null,{"$f":"IFERROR(VLOOKUP(D4593,Códigos!B:C,2,0),\" \")","v":" "}]
[null,null,null,null,{"$f":"IFERROR(VLOOKUP(D4594,Códigos!B:C,2,0),\" \")","v":" "}]
[null,null,null,null,{"$f":"IFERROR(VLOOKUP(D4595,Códigos!B:C,2,0),\" \")","v":" "}]
[null,null,null,null,{"$f":"IFERROR(VLOOKUP(D4596,Códigos!B:C,2,0),\" \")","v":" "}]
[null,null,null,null,{"$f":"IFERROR(VLOOKUP(D4597,Códigos!B:C,2,0),\" \")","v":" "}]
[null,null,null,null,{"$f":"IFERROR(VLOOKUP(D4598,Códigos!B:C,2,0),\" \")","v":" "}]
[null,null,null,null,{"$f":"IFERROR(VLOOKUP(D4599,Códigos!B:C,2,0),\" \")","v":" "}]
[null,null,null,null,{"$f":"IFERROR(VLOOKUP(D4600,Códigos!B:C,2,0),\" \")","v":" "}]
[null,null,null,null,{"$f":"IFERROR(VLOOKUP(D4601,Códigos!B:C,2,0),\" \")","v":" "}]
[null,null,null,null,{"$f":"IFERROR(VLOOKUP(D4602,Códigos!B:C,2,0),\" \")","v":" "}]
[null,null,null,null,{"$f":"IFERROR(VLOOKUP(D4603,Códigos!B:C,2,0),\" \")","v":" "}]
[null,null,null,null,{"$f":"IFERROR(VLOOKUP(D4604,Códigos!B:C,2,0),\" \")","v":" "}]
[null,null,null,null,{"$f":"IFERROR(VLOOKUP(D4605,Códigos!B:C,2,0),\" \")","v":" "}]
[null,null,null,null,{"$f":"IFERROR(VLOOKUP(D4606,Códigos!B:C,2,0),\" \")","v":" "}]
[null,null,null,null,{"$f":"IFERROR(VLOOKUP(D4607,Códigos!B:C,2,0),\" \")","v":" "}]
[null,null,null,null,{"$f":"IFERROR(VLOOKUP(D4608,Códigos!B:C,2,0),\" \")","v":" "}]
[null,null,null,null,{"$f":"IFERROR(VLOOKUP(D4609,Códigos!B:C,2,0),\" \")","v":" "}]
[null,null,null,null,{"$f":"IFERROR(VLOOKUP(D4610,Códigos!B:C,2,0),\" \")","v":" "}]
[null,null,null,null,{"$f":"IFERROR(VLOOKUP(D4611,Códigos!B:C,2,0),\" \")","v":" "}]
[null,null,null,null,{"$f":"IFERROR(VLOOKUP(D4612,Códigos!B:C,2,0),\" \")","v":" "}]
[null,null,null,null,{"$f":"IFERROR(VLOOKUP(D4613,Códigos!B:C,2,0),\" \")","v":" "}]
[null,null,null,null,{"$f":"IFERROR(VLOOKUP(D4614,Códigos!B:C,2,0),\" \")","v":" "}]
[null,null,null,null,{"$f":"IFERROR(VLOOKUP(D4615,Códigos!B:C,2,0),\" \")","v":" "}]
[null,null,null,null,{"$f":"IFERROR(VLOOKUP(D4616,Códigos!B:C,2,0),\" \")","v":" "}]
[null,null,null,null,{"$f":"IFERROR(VLOOKUP(D4617,Códigos!B:C,2,0),\" \")","v":" "}]
[null,null,null,null,{"$f":"IFERROR(VLOOKUP(D4618,Códigos!B:C,2,0),\" \")","v":" "}]
[null,null,null,null,{"$f":"IFERROR(VLOOKUP(D4619,Códigos!B:C,2,0),\" \")","v":" "}]
[null,null,null,null,{"$f":"IFERROR(VLOOKUP(D4620,Códigos!B:C,2,0),\" \")","v":" "}]
[null,null,null,null,{"$f":"IFERROR(VLOOKUP(D4621,Códigos!B:C,2,0),\" \")","v":" "}]
[null,null,null,null,{"$f":"IFERROR(VLOOKUP(D4622,Códigos!B:C,2,0),\" \")","v":" "}]
[null,null,null,null,{"$f":"IFERROR(VLOOKUP(D4623,Códigos!B:C,2,0),\" \")","v":" "}]
[null,null,null,null,{"$f":"IFERROR(VLOOKUP(D4624,Códigos!B:C,2,0),\" \")","v":" "}]
[null,null,null,null,{"$f":"IFERROR(VLOOKUP(D4625,Códigos!B:C,2,0),\" \")","v":" "}]
[null,null,null,null,{"$f":"IFERROR(VLOOKUP(D4626,Códigos!B:C,2,0),\" \")","v":" "}]
[null,null,null,null,{"$f":"IFERROR(VLOOKUP(D4627,Códigos!B:C,2,0),\" \")","v":" "}]
[null,null,null,null,{"$f":"IFERROR(VLOOKUP(D4628,Códigos!B:C,2,0),\" \")","v":" "}]
[null,null,null,null,{"$f":"IFERROR(VLOOKUP(D4629,Códigos!B:C,2,0),\" \")","v":" "}]
[null,null,null,null,{"$f":"IFERROR(VLOOKUP(D4630,Códigos!B:C,2,0),\" \")","v":" "}]
[null,null,null,null,{"$f":"IFERROR(VLOOKUP(D4631,Códigos!B:C,2,0),\" \")","v":" "}]
[null,null,null,null,{"$f":"IFERROR(VLOOKUP(D4632,Códigos!B:C,2,0),\" \")","v":" "}]
[null,null,null,null,{"$f":"IFERROR(VLOOKUP(D4633,Códigos!B:C,2,0),\" \")","v":" "}]
[null,null,null,null,{"$f":"IFERROR(VLOOKUP(D4634,Códigos!B:C,2,0),\" \")","v":" "}]
[null,null,null,null,{"$f":"IFERROR(VLOOKUP(D4635,Códigos!B:C,2,0),\" \")","v":" "}]
[null,null,null,null,{"$f":"IFERROR(VLOOKUP(D4636,Códigos!B:C,2,0),\" \")","v":" "}]
[null,null,null,null,{"$f":"IFERROR(VLOOKUP(D4637,Códigos!B:C,2,0),\" \")","v":" "}]
[null,null,null,null,{"$f":"IFERROR(VLOOKUP(D4638,Códigos!B:C,2,0),\" \")","v":" "}]
[null,null,null,null,{"$f":"IFERROR(VLOOKUP(D4639,Códigos!B:C,2,0),\" \")","v":" "}]
[null,null,null,null,{"$f":"IFERROR(VLOOKUP(D4640,Códigos!B:C,2,0),\" \")","v":" "}]
[null,null,null,null,{"$f":"IFERROR(VLOOKUP(D4641,Códigos!B:C,2,0),\" \")","v":" "}]
[null,null,null,null,{"$f":"IFERROR(VLOOKUP(D4642,Códigos!B:C,2,0),\" \")","v":" "}]
[null,null,null,null,{"$f":"IFERROR(VLOOKUP(D4643,Códigos!B:C,2,0),\" \")","v":" "}]
[null,null,null,null,{"$f":"IFERROR(VLOOKUP(D4644,Códigos!B:C,2,0),\" \")","v":" "}]
[null,null,null,null,{"$f":"IFERROR(VLOOKUP(D4645,Códigos!B:C,2,0),\" \")","v":" "}]
[null,null,null,null,{"$f":"IFERROR(VLOOKUP(D4646,Códigos!B:C,2,0),\" \")","v":" "}]
[null,null,null,null,{"$f":"IFERROR(VLOOKUP(D4647,Códigos!B:C,2,0),\" \")","v":" "}]
[null,null,null,null,{"$f":"IFERROR(VLOOKUP(D4648,Códigos!B:C,2,0),\" \")","v":" "}]
[null,null,null,null,{"$f":"IFERROR(VLOOKUP(D4649,Códigos!B:C,2,0),\" \")","v":" "}]
[null,null,null,null,{"$f":"IFERROR(VLOOKUP(D4650,Códigos!B:C,2,0),\" \")","v":" "}]
[null,null,null,null,{"$f":"IFERROR(VLOOKUP(D4651,Códigos!B:C,2,0),\" \")","v":" "}]
[null,null,null,null,{"$f":"IFERROR(VLOOKUP(D4652,Códigos!B:C,2,0),\" \")","v":" "}]
[null,null,null,null,{"$f":"IFERROR(VLOOKUP(D4653,Códigos!B:C,2,0),\" \")","v":" "}]
[null,null,null,null,{"$f":"IFERROR(VLOOKUP(D4654,Códigos!B:C,2,0),\" \")","v":" "}]
[null,null,null,null,{"$f":"IFERROR(VLOOKUP(D4655,Códigos!B:C,2,0),\" \")","v":" "}]
[null,null,null,null,{"$f":"IFERROR(VLOOKUP(D4656,Códigos!B:C,2,0),\" \")","v":" "}]
[null,null,null,null,{"$f":"IFERROR(VLOOKUP(D4657,Códigos!B:C,2,0),\" \")","v":" "}]
[null,null,null,null,{"$f":"IFERROR(VLOOKUP(D4658,Códigos!B:C,2,0),\" \")","v":" "}]
[null,null,null,null,{"$f":"IFERROR(VLOOKUP(D4659,Códigos!B:C,2,0),\" \")","v":" "}]
[null,null,null,null,{"$f":"IFERROR(VLOOKUP(D4660,Códigos!B:C,2,0),\" \")","v":" "}]
[null,null,null,null,{"$f":"IFERROR(VLOOKUP(D4661,Códigos!B:C,2,0),\" \")","v":" "}]
[null,null,null,null,{"$f":"IFERROR(VLOOKUP(D4662,Códigos!B:C,2,0),\" \")","v":" "}]
[null,null,null,null,{"$f":"IFERROR(VLOOKUP(D4663,Códigos!B:C,2,0),\" \")","v":" "}]
[null,null,null,null,{"$f":"IFERROR(VLOOKUP(D4664,Códigos!B:C,2,0),\" \")","v":" "}]
[null,null,null,null,{"$f":"IFERROR(VLOOKUP(D4665,Códigos!B:C,2,0),\" \")","v":" "}]
[null,null,null,null,{"$f":"IFERROR(VLOOKUP(D4666,Códigos!B:C,2,0),\" \")","v":" "}]
[null,null,null,null,{"$f":"IFERROR(VLOOKUP(D4667,Códigos!B:C,2,0),\" \")","v":" "}]
[null,null,null,null,{"$f":"IFERROR(VLOOKUP(D4668,Códigos!B:C,2,0),\" \")","v":" "}]
[null,null,null,null,{"$f":"IFERROR(VLOOKUP(D4669,Códigos!B:C,2,0),\" \")","v":" "}]
[null,null,null,null,{"$f":"IFERROR(VLOOKUP(D4670,Códigos!B:C,2,0),\" \")","v":" "}]
[null,null,null,null,{"$f":"IFERROR(VLOOKUP(D4671,Códigos!B:C,2,0),\" \")","v":" "}]
[null,null,null,null,{"$f":"IFERROR(VLOOKUP(D4672,Códigos!B:C,2,0),\" \")","v":" "}]
[null,null,null,null,{"$f":"IFERROR(VLOOKUP(D4673,Códigos!B:C,2,0),\" \")","v":" "}]
[null,null,null,null,{"$f":"IFERROR(VLOOKUP(D4674,Códigos!B:C,2,0),\" \")","v":" "}]
[null,null,null,null,{"$f":"IFERROR(VLOOKUP(D4675,Códigos!B:C,2,0),\" \")","v":" "}]
[null,null,null,null,{"$f":"IFERROR(VLOOKUP(D4676,Códigos!B:C,2,0),\" \")","v":" "}]
[null,null,null,null,{"$f":"IFERROR(VLOOKUP(D4677,Códigos!B:C,2,0),\" \")","v":" "}]
[null,null,null,null,{"$f":"IFERROR(VLOOKUP(D4678,Códigos!B:C,2,0),\" \")","v":" "}]
[null,null,null,null,{"$f":"IFERROR(VLOOKUP(D4679,Códigos!B:C,2,0),\" \")","v":" "}]
[null,null,null,null,{"$f":"IFERROR(VLOOKUP(D4680,Códigos!B:C,2,0),\" \")","v":" "}]
[null,null,null,null,{"$f":"IFERROR(VLOOKUP(D4681,Códigos!B:C,2,0),\" \")","v":" "}]
[null,null,null,null,{"$f":"IFERROR(VLOOKUP(D4682,Códigos!B:C,2,0),\" \")","v":" "}]
[null,null,null,null,{"$f":"IFERROR(VLOOKUP(D4683,Códigos!B:C,2,0),\" \")","v":" "}]
[null,null,null,null,{"$f":"IFERROR(VLOOKUP(D4684,Códigos!B:C,2,0),\" \")","v":" "}]
[null,null,null,null,{"$f":"IFERROR(VLOOKUP(D4685,Códigos!B:C,2,0),\" \")","v":" "}]
[null,null,null,null,{"$f":"IFERROR(VLOOKUP(D4686,Códigos!B:C,2,0),\" \")","v":" "}]
[null,null,null,null,{"$f":"IFERROR(VLOOKUP(D4687,Códigos!B:C,2,0),\" \")","v":" "}]
[null,null,null,null,{"$f":"IFERROR(VLOOKUP(D4688,Códigos!B:C,2,0),\" \")","v":" "}]
[null,null,null,null,{"$f":"IFERROR(VLOOKUP(D4689,Códigos!B:C,2,0),\" \")","v":" "}]
[null,null,null,null,{"$f":"IFERROR(VLOOKUP(D4690,Códigos!B:C,2,0),\" \")","v":" "}]
[null,null,null,null,{"$f":"IFERROR(VLOOKUP(D4691,Códigos!B:C,2,0),\" \")","v":" "}]
[null,null,null,null,{"$f":"IFERROR(VLOOKUP(D4692,Códigos!B:C,2,0),\" \")","v":" "}]
[null,null,null,null,{"$f":"IFERROR(VLOOKUP(D4693,Códigos!B:C,2,0),\" \")","v":" "}]
[null,null,null,null,{"$f":"IFERROR(VLOOKUP(D4694,Códigos!B:C,2,0),\" \")","v":" "}]
[null,null,null,null,{"$f":"IFERROR(VLOOKUP(D4695,Códigos!B:C,2,0),\" \")","v":" "}]
[null,null,null,null,{"$f":"IFERROR(VLOOKUP(D4696,Códigos!B:C,2,0),\" \")","v":" "}]
[null,null,null,null,{"$f":"IFERROR(VLOOKUP(D4697,Códigos!B:C,2,0),\" \")","v":" "}]
[null,null,null,null,{"$f":"IFERROR(VLOOKUP(D4698,Códigos!B:C,2,0),\" \")","v":" "}]
[null,null,null,null,{"$f":"IFERROR(VLOOKUP(D4699,Códigos!B:C,2,0),\" \")","v":" "}]
[null,null,null,null,{"$f":"IFERROR(VLOOKUP(D4700,Códigos!B:C,2,0),\" \")","v":" "}]
[null,null,null,null,{"$f":"IFERROR(VLOOKUP(D4701,Códigos!B:C,2,0),\" \")","v":" "}]
[null,null,null,null,{"$f":"IFERROR(VLOOKUP(D4702,Códigos!B:C,2,0),\" \")","v":" "}]
[null,null,null,null,{"$f":"IFERROR(VLOOKUP(D4703,Códigos!B:C,2,0),\" \")","v":" "}]
[null,null,null,null,{"$f":"IFERROR(VLOOKUP(D4704,Códigos!B:C,2,0),\" \")","v":" "}]
[null,null,null,null,{"$f":"IFERROR(VLOOKUP(D4705,Códigos!B:C,2,0),\" \")","v":" "}]
[null,null,null,null,{"$f":"IFERROR(VLOOKUP(D4706,Códigos!B:C,2,0),\" \")","v":" "}]
[null,null,null,null,{"$f":"IFERROR(VLOOKUP(D4707,Códigos!B:C,2,0),\" \")","v":" "}]
[null,null,null,null,{"$f":"IFERROR(VLOOKUP(D4708,Códigos!B:C,2,0),\" \")","v":" "}]
[null,null,null,null,{"$f":"IFERROR(VLOOKUP(D4709,Códigos!B:C,2,0),\" \")","v":" "}]
[null,null,null,null,{"$f":"IFERROR(VLOOKUP(D4710,Códigos!B:C,2,0),\" \")","v":" "}]
[null,null,null,null,{"$f":"IFERROR(VLOOKUP(D4711,Códigos!B:C,2,0),\" \")","v":" "}]
[null,null,null,null,{"$f":"IFERROR(VLOOKUP(D4712,Códigos!B:C,2,0),\" \")","v":" "}]
[null,null,null,null,{"$f":"IFERROR(VLOOKUP(D4713,Códigos!B:C,2,0),\" \")","v":" "}]
[null,null,null,null,{"$f":"IFERROR(VLOOKUP(D4714,Códigos!B:C,2,0),\" \")","v":" "}]
[null,null,null,null,{"$f":"IFERROR(VLOOKUP(D4715,Códigos!B:C,2,0),\" \")","v":" "}]
[null,null,null,null,{"$f":"IFERROR(VLOOKUP(D4716,Códigos!B:C,2,0),\" \")","v":" "}]
[null,null,null,null,{"$f":"IFERROR(VLOOKUP(D4717,Códigos!B:C,2,0),\" \")","v":" "}]
[null,null,null,null,{"$f":"IFERROR(VLOOKUP(D4718,Códigos!B:C,2,0),\" \")","v":" "}]
[null,null,null,null,{"$f":"IFERROR(VLOOKUP(D4719,Códigos!B:C,2,0),\" \")","v":" "}]
[null,null,null,null,{"$f":"IFERROR(VLOOKUP(D4720,Códigos!B:C,2,0),\" \")","v":" "}]
[null,null,null,null,{"$f":"IFERROR(VLOOKUP(D4721,Códigos!B:C,2,0),\" \")","v":" "}]
[null,null,null,null,{"$f":"IFERROR(VLOOKUP(D4722,Códigos!B:C,2,0),\" \")","v":" "}]
[null,null,null,null,{"$f":"IFERROR(VLOOKUP(D4723,Códigos!B:C,2,0),\" \")","v":" "}]
[null,null,null,null,{"$f":"IFERROR(VLOOKUP(D4724,Códigos!B:C,2,0),\" \")","v":" "}]
[null,null,null,null,{"$f":"IFERROR(VLOOKUP(D4725,Códigos!B:C,2,0),\" \")","v":" "}]
[null,null,null,null,{"$f":"IFERROR(VLOOKUP(D4726,Códigos!B:C,2,0),\" \")","v":" "}]
[null,null,null,null,{"$f":"IFERROR(VLOOKUP(D4727,Códigos!B:C,2,0),\" \")","v":" "}]
[null,null,null,null,{"$f":"IFERROR(VLOOKUP(D4728,Códigos!B:C,2,0),\" \")","v":" "}]
[null,null,null,null,{"$f":"IFERROR(VLOOKUP(D4729,Códigos!B:C,2,0),\" \")","v":" "}]
[null,null,null,null,{"$f":"IFERROR(VLOOKUP(D4730,Códigos!B:C,2,0),\" \")","v":" "}]
[null,null,null,null,{"$f":"IFERROR(VLOOKUP(D4731,Códigos!B:C,2,0),\" \")","v":" "}]
[null,null,null,null,{"$f":"IFERROR(VLOOKUP(D4732,Códigos!B:C,2,0),\" \")","v":" "}]
[null,null,null,null,{"$f":"IFERROR(VLOOKUP(D4733,Códigos!B:C,2,0),\" \")","v":" "}]
[null,null,null,null,{"$f":"IFERROR(VLOOKUP(D4734,Códigos!B:C,2,0),\" \")","v":" "}]
[null,null,null,null,{"$f":"IFERROR(VLOOKUP(D4735,Códigos!B:C,2,0),\" \")","v":" "}]
[null,null,null,null,{"$f":"IFERROR(VLOOKUP(D4736,Códigos!B:C,2,0),\" \")","v":" "}]
[null,null,null,null,{"$f":"IFERROR(VLOOKUP(D4737,Códigos!B:C,2,0),\" \")","v":" "}]
[null,null,null,null,{"$f":"IFERROR(VLOOKUP(D4738,Códigos!B:C,2,0),\" \")","v":" "}]
[null,null,null,null,{"$f":"IFERROR(VLOOKUP(D4739,Códigos!B:C,2,0),\" \")","v":" "}]
[null,null,null,null,{"$f":"IFERROR(VLOOKUP(D4740,Códigos!B:C,2,0),\" \")","v":" "}]
[null,null,null,null,{"$f":"IFERROR(VLOOKUP(D4741,Códigos!B:C,2,0),\" \")","v":" "}]
[null,null,null,null,{"$f":"IFERROR(VLOOKUP(D4742,Códigos!B:C,2,0),\" \")","v":" "}]
[null,null,null,null,{"$f":"IFERROR(VLOOKUP(D4743,Códigos!B:C,2,0),\" \")","v":" "}]
[null,null,null,null,{"$f":"IFERROR(VLOOKUP(D4744,Códigos!B:C,2,0),\" \")","v":" "}]
[null,null,null,null,{"$f":"IFERROR(VLOOKUP(D4745,Códigos!B:C,2,0),\" \")","v":" "}]
[null,null,null,null,{"$f":"IFERROR(VLOOKUP(D4746,Códigos!B:C,2,0),\" \")","v":" "}]
[null,null,null,null,{"$f":"IFERROR(VLOOKUP(D4747,Códigos!B:C,2,0),\" \")","v":" "}]
[null,null,null,null,{"$f":"IFERROR(VLOOKUP(D4748,Códigos!B:C,2,0),\" \")","v":" "}]
[null,null,null,null,{"$f":"IFERROR(VLOOKUP(D4749,Códigos!B:C,2,0),\" \")","v":" "}]
[null,null,null,null,{"$f":"IFERROR(VLOOKUP(D4750,Códigos!B:C,2,0),\" \")","v":" "}]
[null,null,null,null,{"$f":"IFERROR(VLOOKUP(D4751,Códigos!B:C,2,0),\" \")","v":" "}]
[null,null,null,null,{"$f":"IFERROR(VLOOKUP(D4752,Códigos!B:C,2,0),\" \")","v":" "}]
[null,null,null,null,{"$f":"IFERROR(VLOOKUP(D4753,Códigos!B:C,2,0),\" \")","v":" "}]
[null,null,null,null,{"$f":"IFERROR(VLOOKUP(D4754,Códigos!B:C,2,0),\" \")","v":" "}]
[null,null,null,null,{"$f":"IFERROR(VLOOKUP(D4755,Códigos!B:C,2,0),\" \")","v":" "}]
[null,null,null,null,{"$f":"IFERROR(VLOOKUP(D4756,Códigos!B:C,2,0),\" \")","v":" "}]
[null,null,null,null,{"$f":"IFERROR(VLOOKUP(D4757,Códigos!B:C,2,0),\" \")","v":" "}]
[null,null,null,null,{"$f":"IFERROR(VLOOKUP(D4758,Códigos!B:C,2,0),\" \")","v":" "}]
[null,null,null,null,{"$f":"IFERROR(VLOOKUP(D4759,Códigos!B:C,2,0),\" \")","v":" "}]
[null,null,null,null,{"$f":"IFERROR(VLOOKUP(D4760,Códigos!B:C,2,0),\" \")","v":" "}]
[null,null,null,null,{"$f":"IFERROR(VLOOKUP(D4761,Códigos!B:C,2,0),\" \")","v":" "}]
[null,null,null,null,{"$f":"IFERROR(VLOOKUP(D4762,Códigos!B:C,2,0),\" \")","v":" "}]
[null,null,null,null,{"$f":"IFERROR(VLOOKUP(D4763,Códigos!B:C,2,0),\" \")","v":" "}]
[null,null,null,null,{"$f":"IFERROR(VLOOKUP(D4764,Códigos!B:C,2,0),\" \")","v":" "}]
[null,null,null,null,{"$f":"IFERROR(VLOOKUP(D4765,Códigos!B:C,2,0),\" \")","v":" "}]
[null,null,null,null,{"$f":"IFERROR(VLOOKUP(D4766,Códigos!B:C,2,0),\" \")","v":" "}]
[null,null,null,null,{"$f":"IFERROR(VLOOKUP(D4767,Códigos!B:C,2,0),\" \")","v":" "}]
[null,null,null,null,{"$f":"IFERROR(VLOOKUP(D4768,Códigos!B:C,2,0),\" \")","v":" "}]
[null,null,null,null,{"$f":"IFERROR(VLOOKUP(D4769,Códigos!B:C,2,0),\" \")","v":" "}]
[null,null,null,null,{"$f":"IFERROR(VLOOKUP(D4770,Códigos!B:C,2,0),\" \")","v":" "}]
[null,null,null,null,{"$f":"IFERROR(VLOOKUP(D4771,Códigos!B:C,2,0),\" \")","v":" "}]
[null,null,null,null,{"$f":"IFERROR(VLOOKUP(D4772,Códigos!B:C,2,0),\" \")","v":" "}]
[null,null,null,null,{"$f":"IFERROR(VLOOKUP(D4773,Códigos!B:C,2,0),\" \")","v":" "}]
[null,null,null,null,{"$f":"IFERROR(VLOOKUP(D4774,Códigos!B:C,2,0),\" \")","v":" "}]
[null,null,null,null,{"$f":"IFERROR(VLOOKUP(D4775,Códigos!B:C,2,0),\" \")","v":" "}]
[null,null,null,null,{"$f":"IFERROR(VLOOKUP(D4776,Códigos!B:C,2,0),\" \")","v":" "}]
[null,null,null,null,{"$f":"IFERROR(VLOOKUP(D4777,Códigos!B:C,2,0),\" \")","v":" "}]
[null,null,null,null,{"$f":"IFERROR(VLOOKUP(D4778,Códigos!B:C,2,0),\" \")","v":" "}]
[null,null,null,null,{"$f":"IFERROR(VLOOKUP(D4779,Códigos!B:C,2,0),\" \")","v":" "}]
[null,null,null,null,{"$f":"IFERROR(VLOOKUP(D4780,Códigos!B:C,2,0),\" \")","v":" "}]
[null,null,null,null,{"$f":"IFERROR(VLOOKUP(D4781,Códigos!B:C,2,0),\" \")","v":" "}]
[null,null,null,null,{"$f":"IFERROR(VLOOKUP(D4782,Códigos!B:C,2,0),\" \")","v":" "}]
[null,null,null,null,{"$f":"IFERROR(VLOOKUP(D4783,Códigos!B:C,2,0),\" \")","v":" "}]
[null,null,null,null,{"$f":"IFERROR(VLOOKUP(D4784,Códigos!B:C,2,0),\" \")","v":" "}]
[null,null,null,null,{"$f":"IFERROR(VLOOKUP(D4785,Códigos!B:C,2,0),\" \")","v":" "}]
[null,null,null,null,{"$f":"IFERROR(VLOOKUP(D4786,Códigos!B:C,2,0),\" \")","v":" "}]
[null,null,null,null,{"$f":"IFERROR(VLOOKUP(D4787,Códigos!B:C,2,0),\" \")","v":" "}]
[null,null,null,null,{"$f":"IFERROR(VLOOKUP(D4788,Códigos!B:C,2,0),\" \")","v":" "}]
[null,null,null,null,{"$f":"IFERROR(VLOOKUP(D4789,Códigos!B:C,2,0),\" \")","v":" "}]
[null,null,null,null,{"$f":"IFERROR(VLOOKUP(D4790,Códigos!B:C,2,0),\" \")","v":" "}]
[null,null,null,null,{"$f":"IFERROR(VLOOKUP(D4791,Códigos!B:C,2,0),\" \")","v":" "}]
[null,null,null,null,{"$f":"IFERROR(VLOOKUP(D4792,Códigos!B:C,2,0),\" \")","v":" "}]
[null,null,null,null,{"$f":"IFERROR(VLOOKUP(D4793,Códigos!B:C,2,0),\" \")","v":" "}]
[null,null,null,null,{"$f":"IFERROR(VLOOKUP(D4794,Códigos!B:C,2,0),\" \")","v":" "}]
[null,null,null,null,{"$f":"IFERROR(VLOOKUP(D4795,Códigos!B:C,2,0),\" \")","v":" "}]
[null,null,null,null,{"$f":"IFERROR(VLOOKUP(D4796,Códigos!B:C,2,0),\" \")","v":" "}]
[null,null,null,null,{"$f":"IFERROR(VLOOKUP(D4797,Códigos!B:C,2,0),\" \")","v":" "}]
[null,null,null,null,{"$f":"IFERROR(VLOOKUP(D4798,Códigos!B:C,2,0),\" \")","v":" "}]
[null,null,null,null,{"$f":"IFERROR(VLOOKUP(D4799,Códigos!B:C,2,0),\" \")","v":" "}]
[null,null,null,null,{"$f":"IFERROR(VLOOKUP(D4800,Códigos!B:C,2,0),\" \")","v":" "}]
[null,null,null,null,{"$f":"IFERROR(VLOOKUP(D4801,Códigos!B:C,2,0),\" \")","v":" "}]
[null,null,null,null,{"$f":"IFERROR(VLOOKUP(D4802,Códigos!B:C,2,0),\" \")","v":" "}]
[null,null,null,null,{"$f":"IFERROR(VLOOKUP(D4803,Códigos!B:C,2,0),\" \")","v":" "}]
[null,null,null,null,{"$f":"IFERROR(VLOOKUP(D4804,Códigos!B:C,2,0),\" \")","v":" "}]
[null,null,null,null,{"$f":"IFERROR(VLOOKUP(D4805,Códigos!B:C,2,0),\" \")","v":" "}]
[null,null,null,null,{"$f":"IFERROR(VLOOKUP(D4806,Códigos!B:C,2,0),\" \")","v":" "}]
[null,null,null,null,{"$f":"IFERROR(VLOOKUP(D4807,Códigos!B:C,2,0),\" \")","v":" "}]
[null,null,null,null,{"$f":"IFERROR(VLOOKUP(D4808,Códigos!B:C,2,0),\" \")","v":" "}]
[null,null,null,null,{"$f":"IFERROR(VLOOKUP(D4809,Códigos!B:C,2,0),\" \")","v":" "}]
[null,null,null,null,{"$f":"IFERROR(VLOOKUP(D4810,Códigos!B:C,2,0),\" \")","v":" "}]
[null,null,null,null,{"$f":"IFERROR(VLOOKUP(D4811,Códigos!B:C,2,0),\" \")","v":" "}]
[null,null,null,null,{"$f":"IFERROR(VLOOKUP(D4812,Códigos!B:C,2,0),\" \")","v":" "}]
[null,null,null,null,{"$f":"IFERROR(VLOOKUP(D4813,Códigos!B:C,2,0),\" \")","v":" "}]
[null,null,null,null,{"$f":"IFERROR(VLOOKUP(D4814,Códigos!B:C,2,0),\" \")","v":" "}]
[null,null,null,null,{"$f":"IFERROR(VLOOKUP(D4815,Códigos!B:C,2,0),\" \")","v":" "}]
[null,null,null,null,{"$f":"IFERROR(VLOOKUP(D4816,Códigos!B:C,2,0),\" \")","v":" "}]
[null,null,null,null,{"$f":"IFERROR(VLOOKUP(D4817,Códigos!B:C,2,0),\" \")","v":" "}]
[null,null,null,null,{"$f":"IFERROR(VLOOKUP(D4818,Códigos!B:C,2,0),\" \")","v":" "}]
[null,null,null,null,{"$f":"IFERROR(VLOOKUP(D4819,Códigos!B:C,2,0),\" \")","v":" "}]
[null,null,null,null,{"$f":"IFERROR(VLOOKUP(D4820,Códigos!B:C,2,0),\" \")","v":" "}]
[null,null,null,null,{"$f":"IFERROR(VLOOKUP(D4821,Códigos!B:C,2,0),\" \")","v":" "}]
[null,null,null,null,{"$f":"IFERROR(VLOOKUP(D4822,Códigos!B:C,2,0),\" \")","v":" "}]
[null,null,null,null,{"$f":"IFERROR(VLOOKUP(D4823,Códigos!B:C,2,0),\" \")","v":" "}]
[null,null,null,null,{"$f":"IFERROR(VLOOKUP(D4824,Códigos!B:C,2,0),\" \")","v":" "}]
[null,null,null,null,{"$f":"IFERROR(VLOOKUP(D4825,Códigos!B:C,2,0),\" \")","v":" "}]
[null,null,null,null,{"$f":"IFERROR(VLOOKUP(D4826,Códigos!B:C,2,0),\" \")","v":" "}]
[null,null,null,null,{"$f":"IFERROR(VLOOKUP(D4827,Códigos!B:C,2,0),\" \")","v":" "}]
[null,null,null,null,{"$f":"IFERROR(VLOOKUP(D4828,Códigos!B:C,2,0),\" \")","v":" "}]
[null,null,null,null,{"$f":"IFERROR(VLOOKUP(D4829,Códigos!B:C,2,0),\" \")","v":" "}]
[null,null,null,null,{"$f":"IFERROR(VLOOKUP(D4830,Códigos!B:C,2,0),\" \")","v":" "}]
[null,null,null,null,{"$f":"IFERROR(VLOOKUP(D4831,Códigos!B:C,2,0),\" \")","v":" "}]
[null,null,null,null,{"$f":"IFERROR(VLOOKUP(D4832,Códigos!B:C,2,0),\" \")","v":" "}]
[null,null,null,null,{"$f":"IFERROR(VLOOKUP(D4833,Códigos!B:C,2,0),\" \")","v":" "}]
[null,null,null,null,{"$f":"IFERROR(VLOOKUP(D4834,Códigos!B:C,2,0),\" \")","v":" "}]
[null,null,null,null,{"$f":"IFERROR(VLOOKUP(D4835,Códigos!B:C,2,0),\" \")","v":" "}]
[null,null,null,null,{"$f":"IFERROR(VLOOKUP(D4836,Códigos!B:C,2,0),\" \")","v":" "}]
[null,null,null,null,{"$f":"IFERROR(VLOOKUP(D4837,Códigos!B:C,2,0),\" \")","v":" "}]
[null,null,null,null,{"$f":"IFERROR(VLOOKUP(D4838,Códigos!B:C,2,0),\" \")","v":" "}]
[null,null,null,null,{"$f":"IFERROR(VLOOKUP(D4839,Códigos!B:C,2,0),\" \")","v":" "}]
[null,null,null,null,{"$f":"IFERROR(VLOOKUP(D4840,Códigos!B:C,2,0),\" \")","v":" "}]
[null,null,null,null,{"$f":"IFERROR(VLOOKUP(D4841,Códigos!B:C,2,0),\" \")","v":" "}]
[null,null,null,null,{"$f":"IFERROR(VLOOKUP(D4842,Códigos!B:C,2,0),\" \")","v":" "}]
[null,null,null,null,{"$f":"IFERROR(VLOOKUP(D4843,Códigos!B:C,2,0),\" \")","v":" "}]
[null,null,null,null,{"$f":"IFERROR(VLOOKUP(D4844,Códigos!B:C,2,0),\" \")","v":" "}]
[null,null,null,null,{"$f":"IFERROR(VLOOKUP(D4845,Códigos!B:C,2,0),\" \")","v":" "}]
[null,null,null,null,{"$f":"IFERROR(VLOOKUP(D4846,Códigos!B:C,2,0),\" \")","v":" "}]
[null,null,null,null,{"$f":"IFERROR(VLOOKUP(D4847,Códigos!B:C,2,0),\" \")","v":" "}]
[null,null,null,null,{"$f":"IFERROR(VLOOKUP(D4848,Códigos!B:C,2,0),\" \")","v":" "}]
[null,null,null,null,{"$f":"IFERROR(VLOOKUP(D4849,Códigos!B:C,2,0),\" \")","v":" "}]
[null,null,null,null,{"$f":"IFERROR(VLOOKUP(D4850,Códigos!B:C,2,0),\" \")","v":" "}]
[null,null,null,null,{"$f":"IFERROR(VLOOKUP(D4851,Códigos!B:C,2,0),\" \")","v":" "}]
[null,null,null,null,{"$f":"IFERROR(VLOOKUP(D4852,Códigos!B:C,2,0),\" \")","v":" "}]
[null,null,null,null,{"$f":"IFERROR(VLOOKUP(D4853,Códigos!B:C,2,0),\" \")","v":" "}]
[null,null,null,null,{"$f":"IFERROR(VLOOKUP(D4854,Códigos!B:C,2,0),\" \")","v":" "}]
[null,null,null,null,{"$f":"IFERROR(VLOOKUP(D4855,Códigos!B:C,2,0),\" \")","v":" "}]
[null,null,null,null,{"$f":"IFERROR(VLOOKUP(D4856,Códigos!B:C,2,0),\" \")","v":" "}]
[null,null,null,null,{"$f":"IFERROR(VLOOKUP(D4857,Códigos!B:C,2,0),\" \")","v":" "}]
[null,null,null,null,{"$f":"IFERROR(VLOOKUP(D4858,Códigos!B:C,2,0),\" \")","v":" "}]
[null,null,null,null,{"$f":"IFERROR(VLOOKUP(D4859,Códigos!B:C,2,0),\" \")","v":" "}]
[null,null,null,null,{"$f":"IFERROR(VLOOKUP(D4860,Códigos!B:C,2,0),\" \")","v":" "}]
[null,null,null,null,{"$f":"IFERROR(VLOOKUP(D4861,Códigos!B:C,2,0),\" \")","v":" "}]
[null,null,null,null,{"$f":"IFERROR(VLOOKUP(D4862,Códigos!B:C,2,0),\" \")","v":" "}]
[null,null,null,null,{"$f":"IFERROR(VLOOKUP(D4863,Códigos!B:C,2,0),\" \")","v":" "}]
[null,null,null,null,{"$f":"IFERROR(VLOOKUP(D4864,Códigos!B:C,2,0),\" \")","v":" "}]
[null,null,null,null,{"$f":"IFERROR(VLOOKUP(D4865,Códigos!B:C,2,0),\" \")","v":" "}]
[null,null,null,null,{"$f":"IFERROR(VLOOKUP(D4866,Códigos!B:C,2,0),\" \")","v":" "}]
[null,null,null,null,{"$f":"IFERROR(VLOOKUP(D4867,Códigos!B:C,2,0),\" \")","v":" "}]
[null,null,null,null,{"$f":"IFERROR(VLOOKUP(D4868,Códigos!B:C,2,0),\" \")","v":" "}]
[null,null,null,null,{"$f":"IFERROR(VLOOKUP(D4869,Códigos!B:C,2,0),\" \")","v":" "}]
[null,null,null,null,{"$f":"IFERROR(VLOOKUP(D4870,Códigos!B:C,2,0),\" \")","v":" "}]
[null,null,null,null,{"$f":"IFERROR(VLOOKUP(D4871,Códigos!B:C,2,0),\" \")","v":" "}]
[null,null,null,null,{"$f":"IFERROR(VLOOKUP(D4872,Códigos!B:C,2,0),\" \")","v":" "}]
[null,null,null,null,{"$f":"IFERROR(VLOOKUP(D4873,Códigos!B:C,2,0),\" \")","v":" "}]
[null,null,null,null,{"$f":"IFERROR(VLOOKUP(D4874,Códigos!B:C,2,0),\" \")","v":" "}]
[null,null,null,null,{"$f":"IFERROR(VLOOKUP(D4875,Códigos!B:C,2,0),\" \")","v":" "}]
[null,null,null,null,{"$f":"IFERROR(VLOOKUP(D4876,Códigos!B:C,2,0),\" \")","v":" "}]
[null,null,null,null,{"$f":"IFERROR(VLOOKUP(D4877,Códigos!B:C,2,0),\" \")","v":" "}]
[null,null,null,null,{"$f":"IFERROR(VLOOKUP(D4878,Códigos!B:C,2,0),\" \")","v":" "}]
[null,null,null,null,{"$f":"IFERROR(VLOOKUP(D4879,Códigos!B:C,2,0),\" \")","v":" "}]
[null,null,null,null,{"$f":"IFERROR(VLOOKUP(D4880,Códigos!B:C,2,0),\" \")","v":" "}]
[null,null,null,null,{"$f":"IFERROR(VLOOKUP(D4881,Códigos!B:C,2,0),\" \")","v":" "}]
[null,null,null,null,{"$f":"IFERROR(VLOOKUP(D4882,Códigos!B:C,2,0),\" \")","v":" "}]
[null,null,null,null,{"$f":"IFERROR(VLOOKUP(D4883,Códigos!B:C,2,0),\" \")","v":" "}]
[null,null,null,null,{"$f":"IFERROR(VLOOKUP(D4884,Códigos!B:C,2,0),\" \")","v":" "}]
[null,null,null,null,{"$f":"IFERROR(VLOOKUP(D4885,Códigos!B:C,2,0),\" \")","v":" "}]
[null,null,null,null,{"$f":"IFERROR(VLOOKUP(D4886,Códigos!B:C,2,0),\" \")","v":" "}]
[null,null,null,null,{"$f":"IFERROR(VLOOKUP(D4887,Códigos!B:C,2,0),\" \")","v":" "}]
[null,null,null,null,{"$f":"IFERROR(VLOOKUP(D4888,Códigos!B:C,2,0),\" \")","v":" "}]
[null,null,null,null,{"$f":"IFERROR(VLOOKUP(D4889,Códigos!B:C,2,0),\" \")","v":" "}]
[null,null,null,null,{"$f":"IFERROR(VLOOKUP(D4890,Códigos!B:C,2,0),\" \")","v":" "}]
[null,null,null,null,{"$f":"IFERROR(VLOOKUP(D4891,Códigos!B:C,2,0),\" \")","v":" "}]
[null,null,null,null,{"$f":"IFERROR(VLOOKUP(D4892,Códigos!B:C,2,0),\" \")","v":" "}]
[null,null,null,null,{"$f":"IFERROR(VLOOKUP(D4893,Códigos!B:C,2,0),\" \")","v":" "}]
[null,null,null,null,{"$f":"IFERROR(VLOOKUP(D4894,Códigos!B:C,2,0),\" \")","v":" "}]
[null,null,null,null,{"$f":"IFERROR(VLOOKUP(D4895,Códigos!B:C,2,0),\" \")","v":" "}]
[null,null,null,null,{"$f":"IFERROR(VLOOKUP(D4896,Códigos!B:C,2,0),\" \")","v":" "}]
[null,null,null,null,{"$f":"IFERROR(VLOOKUP(D4897,Códigos!B:C,2,0),\" \")","v":" "}]
[null,null,null,null,{"$f":"IFERROR(VLOOKUP(D4898,Códigos!B:C,2,0),\" \")","v":" "}]
[null,null,null,null,{"$f":"IFERROR(VLOOKUP(D4899,Códigos!B:C,2,0),\" \")","v":" "}]
[null,null,null,null,{"$f":"IFERROR(VLOOKUP(D4900,Códigos!B:C,2,0),\" \")","v":" "}]
[null,null,null,null,{"$f":"IFERROR(VLOOKUP(D4901,Códigos!B:C,2,0),\" \")","v":" "}]
[null,null,null,null,{"$f":"IFERROR(VLOOKUP(D4902,Códigos!B:C,2,0),\" \")","v":" "}]
[null,null,null,null,{"$f":"IFERROR(VLOOKUP(D4903,Códigos!B:C,2,0),\" \")","v":" "}]
[null,null,null,null,{"$f":"IFERROR(VLOOKUP(D4904,Códigos!B:C,2,0),\" \")","v":" "}]
[null,null,null,null,{"$f":"IFERROR(VLOOKUP(D4905,Códigos!B:C,2,0),\" \")","v":" "}]
[null,null,null,null,{"$f":"IFERROR(VLOOKUP(D4906,Códigos!B:C,2,0),\" \")","v":" "}]
[null,null,null,null,{"$f":"IFERROR(VLOOKUP(D4907,Códigos!B:C,2,0),\" \")","v":" "}]
[null,null,null,null,{"$f":"IFERROR(VLOOKUP(D4908,Códigos!B:C,2,0),\" \")","v":" "}]
[null,null,null,null,{"$f":"IFERROR(VLOOKUP(D4909,Códigos!B:C,2,0),\" \")","v":" "}]
[null,null,null,null,{"$f":"IFERROR(VLOOKUP(D4910,Códigos!B:C,2,0),\" \")","v":" "}]
[null,null,null,null,{"$f":"IFERROR(VLOOKUP(D4911,Códigos!B:C,2,0),\" \")","v":" "}]
[null,null,null,null,{"$f":"IFERROR(VLOOKUP(D4912,Códigos!B:C,2,0),\" \")","v":" "}]
[null,null,null,null,{"$f":"IFERROR(VLOOKUP(D4913,Códigos!B:C,2,0),\" \")","v":" "}]
[null,null,null,null,{"$f":"IFERROR(VLOOKUP(D4914,Códigos!B:C,2,0),\" \")","v":" "}]
[null,null,null,null,{"$f":"IFERROR(VLOOKUP(D4915,Códigos!B:C,2,0),\" \")","v":" "}]
[null,null,null,null,{"$f":"IFERROR(VLOOKUP(D4916,Códigos!B:C,2,0),\" \")","v":" "}]
[null,null,null,null,{"$f":"IFERROR(VLOOKUP(D4917,Códigos!B:C,2,0),\" \")","v":" "}]
[null,null,null,null,{"$f":"IFERROR(VLOOKUP(D4918,Códigos!B:C,2,0),\" \")","v":" "}]
[null,null,null,null,{"$f":"IFERROR(VLOOKUP(D4919,Códigos!B:C,2,0),\" \")","v":" "}]
[null,null,null,null,{"$f":"IFERROR(VLOOKUP(D4920,Códigos!B:C,2,0),\" \")","v":" "}]
[null,null,null,null,{"$f":"IFERROR(VLOOKUP(D4921,Códigos!B:C,2,0),\" \")","v":" "}]
[null,null,null,null,{"$f":"IFERROR(VLOOKUP(D4922,Códigos!B:C,2,0),\" \")","v":" "}]
[null,null,null,null,{"$f":"IFERROR(VLOOKUP(D4923,Códigos!B:C,2,0),\" \")","v":" "}]
[null,null,null,null,{"$f":"IFERROR(VLOOKUP(D4924,Códigos!B:C,2,0),\" \")","v":" "}]
[null,null,null,null,{"$f":"IFERROR(VLOOKUP(D4925,Códigos!B:C,2,0),\" \")","v":" "}]
[null,null,null,null,{"$f":"IFERROR(VLOOKUP(D4926,Códigos!B:C,2,0),\" \")","v":" "}]
[null,null,null,null,{"$f":"IFERROR(VLOOKUP(D4927,Códigos!B:C,2,0),\" \")","v":" "}]
[null,null,null,null,{"$f":"IFERROR(VLOOKUP(D4928,Códigos!B:C,2,0),\" \")","v":" "}]
[null,null,null,null,{"$f":"IFERROR(VLOOKUP(D4929,Códigos!B:C,2,0),\" \")","v":" "}]
[null,null,null,null,{"$f":"IFERROR(VLOOKUP(D4930,Códigos!B:C,2,0),\" \")","v":" "}]
[null,null,null,null,{"$f":"IFERROR(VLOOKUP(D4931,Códigos!B:C,2,0),\" \")","v":" "}]
[null,null,null,null,{"$f":"IFERROR(VLOOKUP(D4932,Códigos!B:C,2,0),\" \")","v":" "}]
[null,null,null,null,{"$f":"IFERROR(VLOOKUP(D4933,Códigos!B:C,2,0),\" \")","v":" "}]
[null,null,null,null,{"$f":"IFERROR(VLOOKUP(D4934,Códigos!B:C,2,0),\" \")","v":" "}]
[null,null,null,null,{"$f":"IFERROR(VLOOKUP(D4935,Códigos!B:C,2,0),\" \")","v":" "}]
[null,null,null,null,{"$f":"IFERROR(VLOOKUP(D4936,Códigos!B:C,2,0),\" \")","v":" "}]
[null,null,null,null,{"$f":"IFERROR(VLOOKUP(D4937,Códigos!B:C,2,0),\" \")","v":" "}]
[null,null,null,null,{"$f":"IFERROR(VLOOKUP(D4938,Códigos!B:C,2,0),\" \")","v":" "}]
[null,null,null,null,{"$f":"IFERROR(VLOOKUP(D4939,Códigos!B:C,2,0),\" \")","v":" "}]
[null,null,null,null,{"$f":"IFERROR(VLOOKUP(D4940,Códigos!B:C,2,0),\" \")","v":" "}]
[null,null,null,null,{"$f":"IFERROR(VLOOKUP(D4941,Códigos!B:C,2,0),\" \")","v":" "}]
[null,null,null,null,{"$f":"IFERROR(VLOOKUP(D4942,Códigos!B:C,2,0),\" \")","v":" "}]
[null,null,null,null,{"$f":"IFERROR(VLOOKUP(D4943,Códigos!B:C,2,0),\" \")","v":" "}]
[null,null,null,null,{"$f":"IFERROR(VLOOKUP(D4944,Códigos!B:C,2,0),\" \")","v":" "}]
[null,null,null,null,{"$f":"IFERROR(VLOOKUP(D4945,Códigos!B:C,2,0),\" \")","v":" "}]
[null,null,null,null,{"$f":"IFERROR(VLOOKUP(D4946,Códigos!B:C,2,0),\" \")","v":" "}]
[null,null,null,null,{"$f":"IFERROR(VLOOKUP(D4947,Códigos!B:C,2,0),\" \")","v":" "}]
[null,null,null,null,{"$f":"IFERROR(VLOOKUP(D4948,Códigos!B:C,2,0),\" \")","v":" "}]
[null,null,null,null,{"$f":"IFERROR(VLOOKUP(D4949,Códigos!B:C,2,0),\" \")","v":" "}]
[null,null,null,null,{"$f":"IFERROR(VLOOKUP(D4950,Códigos!B:C,2,0),\" \")","v":" "}]
[null,null,null,null,{"$f":"IFERROR(VLOOKUP(D4951,Códigos!B:C,2,0),\" \")","v":" "}]
[null,null,null,null,{"$f":"IFERROR(VLOOKUP(D4952,Códigos!B:C,2,0),\" \")","v":" "}]
[null,null,null,null,{"$f":"IFERROR(VLOOKUP(D4953,Códigos!B:C,2,0),\" \")","v":" "}]
[null,null,null,null,{"$f":"IFERROR(VLOOKUP(D4954,Códigos!B:C,2,0),\" \")","v":" "}]
[null,null,null,null,{"$f":"IFERROR(VLOOKUP(D4955,Códigos!B:C,2,0),\" \")","v":" "}]
[null,null,null,null,{"$f":"IFERROR(VLOOKUP(D4956,Códigos!B:C,2,0),\" \")","v":" "}]
[null,null,null,null,{"$f":"IFERROR(VLOOKUP(D4957,Códigos!B:C,2,0),\" \")","v":" "}]
[null,null,null,null,{"$f":"IFERROR(VLOOKUP(D4958,Códigos!B:C,2,0),\" \")","v":" "}]
[null,null,null,null,{"$f":"IFERROR(VLOOKUP(D4959,Códigos!B:C,2,0),\" \")","v":" "}]
[null,null,null,null,{"$f":"IFERROR(VLOOKUP(D4960,Códigos!B:C,2,0),\" \")","v":" "}]
[null,null,null,null,{"$f":"IFERROR(VLOOKUP(D4961,Códigos!B:C,2,0),\" \")","v":" "}]
[null,null,null,null,{"$f":"IFERROR(VLOOKUP(D4962,Códigos!B:C,2,0),\" \")","v":" "}]
[null,null,null,null,{"$f":"IFERROR(VLOOKUP(D4963,Códigos!B:C,2,0),\" \")","v":" "}]
[null,null,null,null,{"$f":"IFERROR(VLOOKUP(D4964,Códigos!B:C,2,0),\" \")","v":" "}]
[null,null,null,null,{"$f":"IFERROR(VLOOKUP(D4965,Códigos!B:C,2,0),\" \")","v":" "}]
[null,null,null,null,{"$f":"IFERROR(VLOOKUP(D4966,Códigos!B:C,2,0),\" \")","v":" "}]
[null,null,null,null,{"$f":"IFERROR(VLOOKUP(D4967,Códigos!B:C,2,0),\" \")","v":" "}]
[null,null,null,null,{"$f":"IFERROR(VLOOKUP(D4968,Códigos!B:C,2,0),\" \")","v":" "}]
[null,null,null,null,{"$f":"IFERROR(VLOOKUP(D4969,Códigos!B:C,2,0),\" \")","v":" "}]
[null,null,null,null,{"$f":"IFERROR(VLOOKUP(D4970,Códigos!B:C,2,0),\" \")","v":" "}]
[null,null,null,null,{"$f":"IFERROR(VLOOKUP(D4971,Códigos!B:C,2,0),\" \")","v":" "}]
[null,null,null,null,{"$f":"IFERROR(VLOOKUP(D4972,Códigos!B:C,2,0),\" \")","v":" "}]
[null,null,null,null,{"$f":"IFERROR(VLOOKUP(D4973,Códigos!B:C,2,0),\" \")","v":" "}]
[null,null,null,null,{"$f":"IFERROR(VLOOKUP(D4974,Códigos!B:C,2,0),\" \")","v":" "}]
[null,null,null,null,{"$f":"IFERROR(VLOOKUP(D4975,Códigos!B:C,2,0),\" \")","v":" "}]
[null,null,null,null,{"$f":"IFERROR(VLOOKUP(D4976,Códigos!B:C,2,0),\" \")","v":" "}]
[null,null,null,null,{"$f":"IFERROR(VLOOKUP(D4977,Códigos!B:C,2,0),\" \")","v":" "}]
[null,null,null,null,{"$f":"IFERROR(VLOOKUP(D4978,Códigos!B:C,2,0),\" \")","v":" "}]
[null,null,null,null,{"$f":"IFERROR(VLOOKUP(D4979,Códigos!B:C,2,0),\" \")","v":" "}]
[null,null,null,null,{"$f":"IFERROR(VLOOKUP(D4980,Códigos!B:C,2,0),\" \")","v":" "}]
[null,null,null,null,{"$f":"IFERROR(VLOOKUP(D4981,Códigos!B:C,2,0),\" \")","v":" "}]
[null,null,null,null,{"$f":"IFERROR(VLOOKUP(D4982,Códigos!B:C,2,0),\" \")","v":" "}]
[null,null,null,null,{"$f":"IFERROR(VLOOKUP(D4983,Códigos!B:C,2,0),\" \")","v":" "}]
[null,null,null,null,{"$f":"IFERROR(VLOOKUP(D4984,Códigos!B:C,2,0),\" \")","v":" "}]
[null,null,null,null,{"$f":"IFERROR(VLOOKUP(D4985,Códigos!B:C,2,0),\" \")","v":" "}]
[null,null,null,null,{"$f":"IFERROR(VLOOKUP(D4986,Códigos!B:C,2,0),\" \")","v":" "}]
[null,null,null,null,{"$f":"IFERROR(VLOOKUP(D4987,Códigos!B:C,2,0),\" \")","v":" "}]
[null,null,null,null,{"$f":"IFERROR(VLOOKUP(D4988,Códigos!B:C,2,0),\" \")","v":" "}]
[null,null,null,null,{"$f":"IFERROR(VLOOKUP(D4989,Códigos!B:C,2,0),\" \")","v":" "}]
[null,null,null,null,{"$f":"IFERROR(VLOOKUP(D4990,Códigos!B:C,2,0),\" \")","v":" "}]
[null,null,null,null,{"$f":"IFERROR(VLOOKUP(D4991,Códigos!B:C,2,0),\" \")","v":" "}]
[null,null,null,null,{"$f":"IFERROR(VLOOKUP(D4992,Códigos!B:C,2,0),\" \")","v":" "}]
[null,null,null,null,{"$f":"IFERROR(VLOOKUP(D4993,Códigos!B:C,2,0),\" \")","v":" "}]
[null,null,null,null,{"$f":"IFERROR(VLOOKUP(D4994,Códigos!B:C,2,0),\" \")","v":" "}]
[null,null,null,null,{"$f":"IFERROR(VLOOKUP(D4995,Códigos!B:C,2,0),\" \")","v":" "}]
[null,null,null,null,{"$f":"IFERROR(VLOOKUP(D4996,Códigos!B:C,2,0),\" \")","v":" "}]
[null,null,null,null,{"$f":"IFERROR(VLOOKUP(D4997,Códigos!B:C,2,0),\" \")","v":" "}]
[null,null,null,null,{"$f":"IFERROR(VLOOKUP(D4998,Códigos!B:C,2,0),\" \")","v":" "}]
[null,null,null,null,{"$f":"IFERROR(VLOOKUP(D4999,Códigos!B:C,2,0),\" \")","v":" "}]
[null,null,null,null,{"$f":"IFERROR(VLOOKUP(D5000,Códigos!B:C,2,0),\" \")","v":" "}]
[null,null,null,null,{"$f":"IFERROR(VLOOKUP(D5001,Códigos!B:C,2,0),\" \")","v":" "}]
[null,null,null,null,{"$f":"IFERROR(VLOOKUP(D5002,Códigos!B:C,2,0),\" \")","v":" "}]
[null,null,null,null,{"$f":"IFERROR(VLOOKUP(D5003,Códigos!B:C,2,0),\" \")","v":" "}]
[null,null,null,null,{"$f":"IFERROR(VLOOKUP(D5004,Códigos!B:C,2,0),\" \")","v":" "}]
[null,null,null,null,{"$f":"IFERROR(VLOOKUP(D5005,Códigos!B:C,2,0),\" \")","v":" "}]
[null,null,null,null,{"$f":"IFERROR(VLOOKUP(D5006,Códigos!B:C,2,0),\" \")","v":" "}]
[null,null,null,null,{"$f":"IFERROR(VLOOKUP(D5007,Códigos!B:C,2,0),\" \")","v":" "}]
[null,null,null,null,{"$f":"IFERROR(VLOOKUP(D5008,Códigos!B:C,2,0),\" \")","v":" "}]
[null,null,null,null,{"$f":"IFERROR(VLOOKUP(D5009,Códigos!B:C,2,0),\" \")","v":" "}]
[null,null,null,null,{"$f":"IFERROR(VLOOKUP(D5010,Códigos!B:C,2,0),\" \")","v":" "}]
[null,null,null,null,{"$f":"IFERROR(VLOOKUP(D5011,Códigos!B:C,2,0),\" \")","v":" "}]
[null,null,null,null,{"$f":"IFERROR(VLOOKUP(D5012,Códigos!B:C,2,0),\" \")","v":" "}]
[null,null,null,null,{"$f":"IFERROR(VLOOKUP(D5013,Códigos!B:C,2,0),\" \")","v":" "}]
[null,null,null,null,{"$f":"IFERROR(VLOOKUP(D5014,Códigos!B:C,2,0),\" \")","v":" "}]
[null,null,null,null,{"$f":"IFERROR(VLOOKUP(D5015,Códigos!B:C,2,0),\" \")","v":" "}]
[null,null,null,null,{"$f":"IFERROR(VLOOKUP(D5016,Códigos!B:C,2,0),\" \")","v":" "}]
[null,null,null,null,{"$f":"IFERROR(VLOOKUP(D5017,Códigos!B:C,2,0),\" \")","v":" "}]
[null,null,null,null,{"$f":"IFERROR(VLOOKUP(D5018,Códigos!B:C,2,0),\" \")","v":" "}]
[null,null,null,null,{"$f":"IFERROR(VLOOKUP(D5019,Códigos!B:C,2,0),\" \")","v":" "}]
[null,null,null,null,{"$f":"IFERROR(VLOOKUP(D5020,Códigos!B:C,2,0),\" \")","v":" "}]
[null,null,null,null,{"$f":"IFERROR(VLOOKUP(D5021,Códigos!B:C,2,0),\" \")","v":" "}]
[null,null,null,null,{"$f":"IFERROR(VLOOKUP(D5022,Códigos!B:C,2,0),\" \")","v":" "}]
[null,null,null,null,{"$f":"IFERROR(VLOOKUP(D5023,Códigos!B:C,2,0),\" \")","v":" "}]
[null,null,null,null,{"$f":"IFERROR(VLOOKUP(D5024,Códigos!B:C,2,0),\" \")","v":" "}]
[null,null,null,null,{"$f":"IFERROR(VLOOKUP(D5025,Códigos!B:C,2,0),\" \")","v":" "}]
[null,null,null,null,{"$f":"IFERROR(VLOOKUP(D5026,Códigos!B:C,2,0),\" \")","v":" "}]
[null,null,null,null,{"$f":"IFERROR(VLOOKUP(D5027,Códigos!B:C,2,0),\" \")","v":" "}]
[null,null,null,null,{"$f":"IFERROR(VLOOKUP(D5028,Códigos!B:C,2,0),\" \")","v":" "}]
[null,null,null,null,{"$f":"IFERROR(VLOOKUP(D5029,Códigos!B:C,2,0),\" \")","v":" "}]
[null,null,null,null,{"$f":"IFERROR(VLOOKUP(D5030,Códigos!B:C,2,0),\" \")","v":" "}]
[null,null,null,null,{"$f":"IFERROR(VLOOKUP(D5031,Códigos!B:C,2,0),\" \")","v":" "}]
[null,null,null,null,{"$f":"IFERROR(VLOOKUP(D5032,Códigos!B:C,2,0),\" \")","v":" "}]
[null,null,null,null,{"$f":"IFERROR(VLOOKUP(D5033,Códigos!B:C,2,0),\" \")","v":" "}]
[null,null,null,null,{"$f":"IFERROR(VLOOKUP(D5034,Códigos!B:C,2,0),\" \")","v":" "}]
[null,null,null,null,{"$f":"IFERROR(VLOOKUP(D5035,Códigos!B:C,2,0),\" \")","v":" "}]
[null,null,null,null,{"$f":"IFERROR(VLOOKUP(D5036,Códigos!B:C,2,0),\" \")","v":" "}]
[null,null,null,null,{"$f":"IFERROR(VLOOKUP(D5037,Códigos!B:C,2,0),\" \")","v":" "}]
[null,null,null,null,{"$f":"IFERROR(VLOOKUP(D5038,Códigos!B:C,2,0),\" \")","v":" "}]
[null,null,null,null,{"$f":"IFERROR(VLOOKUP(D5039,Códigos!B:C,2,0),\" \")","v":" "}]
[null,null,null,null,{"$f":"IFERROR(VLOOKUP(D5040,Códigos!B:C,2,0),\" \")","v":" "}]
[null,null,null,null,{"$f":"IFERROR(VLOOKUP(D5041,Códigos!B:C,2,0),\" \")","v":" "}]
[null,null,null,null,{"$f":"IFERROR(VLOOKUP(D5042,Códigos!B:C,2,0),\" \")","v":" "}]
[null,null,null,null,{"$f":"IFERROR(VLOOKUP(D5043,Códigos!B:C,2,0),\" \")","v":" "}]
[null,null,null,null,{"$f":"IFERROR(VLOOKUP(D5044,Códigos!B:C,2,0),\" \")","v":" "}]
[null,null,null,null,{"$f":"IFERROR(VLOOKUP(D5045,Códigos!B:C,2,0),\" \")","v":" "}]
[null,null,null,null,{"$f":"IFERROR(VLOOKUP(D5046,Códigos!B:C,2,0),\" \")","v":" "}]
[null,null,null,null,{"$f":"IFERROR(VLOOKUP(D5047,Códigos!B:C,2,0),\" \")","v":" "}]
[null,null,null,null,{"$f":"IFERROR(VLOOKUP(D5048,Códigos!B:C,2,0),\" \")","v":" "}]
[null,null,null,null,{"$f":"IFERROR(VLOOKUP(D5049,Códigos!B:C,2,0),\" \")","v":" "}]
[null,null,null,null,{"$f":"IFERROR(VLOOKUP(D5050,Códigos!B:C,2,0),\" \")","v":" "}]
[null,null,null,null,{"$f":"IFERROR(VLOOKUP(D5051,Códigos!B:C,2,0),\" \")","v":" "}]
[null,null,null,null,{"$f":"IFERROR(VLOOKUP(D5052,Códigos!B:C,2,0),\" \")","v":" "}]
[null,null,null,null,{"$f":"IFERROR(VLOOKUP(D5053,Códigos!B:C,2,0),\" \")","v":" "}]
[null,null,null,null,{"$f":"IFERROR(VLOOKUP(D5054,Códigos!B:C,2,0),\" \")","v":" "}]
[null,null,null,null,{"$f":"IFERROR(VLOOKUP(D5055,Códigos!B:C,2,0),\" \")","v":" "}]
[null,null,null,null,{"$f":"IFERROR(VLOOKUP(D5056,Códigos!B:C,2,0),\" \")","v":" "}]
[null,null,null,null,{"$f":"IFERROR(VLOOKUP(D5057,Códigos!B:C,2,0),\" \")","v":" "}]
[null,null,null,null,{"$f":"IFERROR(VLOOKUP(D5058,Códigos!B:C,2,0),\" \")","v":" "}]
[null,null,null,null,{"$f":"IFERROR(VLOOKUP(D5059,Códigos!B:C,2,0),\" \")","v":" "}]
[null,null,null,null,{"$f":"IFERROR(VLOOKUP(D5060,Códigos!B:C,2,0),\" \")","v":" "}]
[null,null,null,null,{"$f":"IFERROR(VLOOKUP(D5061,Códigos!B:C,2,0),\" \")","v":" "}]
[null,null,null,null,{"$f":"IFERROR(VLOOKUP(D5062,Códigos!B:C,2,0),\" \")","v":" "}]
[null,null,null,null,{"$f":"IFERROR(VLOOKUP(D5063,Códigos!B:C,2,0),\" \")","v":" "}]
[null,null,null,null,{"$f":"IFERROR(VLOOKUP(D5064,Códigos!B:C,2,0),\" \")","v":" "}]
[null,null,null,null,{"$f":"IFERROR(VLOOKUP(D5065,Códigos!B:C,2,0),\" \")","v":" "}]
[null,null,null,null,{"$f":"IFERROR(VLOOKUP(D5066,Códigos!B:C,2,0),\" \")","v":" "}]
[null,null,null,null,{"$f":"IFERROR(VLOOKUP(D5067,Códigos!B:C,2,0),\" \")","v":" "}]
[null,null,null,null,{"$f":"IFERROR(VLOOKUP(D5068,Códigos!B:C,2,0),\" \")","v":" "}]
[null,null,null,null,{"$f":"IFERROR(VLOOKUP(D5069,Códigos!B:C,2,0),\" \")","v":" "}]
[null,null,null,null,{"$f":"IFERROR(VLOOKUP(D5070,Códigos!B:C,2,0),\" \")","v":" "}]
[null,null,null,null,{"$f":"IFERROR(VLOOKUP(D5071,Códigos!B:C,2,0),\" \")","v":" "}]
[null,null,null,null,{"$f":"IFERROR(VLOOKUP(D5072,Códigos!B:C,2,0),\" \")","v":" "}]
[null,null,null,null,{"$f":"IFERROR(VLOOKUP(D5073,Códigos!B:C,2,0),\" \")","v":" "}]
[null,null,null,null,{"$f":"IFERROR(VLOOKUP(D5074,Códigos!B:C,2,0),\" \")","v":" "}]
[null,null,null,null,{"$f":"IFERROR(VLOOKUP(D5075,Códigos!B:C,2,0),\" \")","v":" "}]
[null,null,null,null,{"$f":"IFERROR(VLOOKUP(D5076,Códigos!B:C,2,0),\" \")","v":" "}]
[null,null,null,null,{"$f":"IFERROR(VLOOKUP(D5077,Códigos!B:C,2,0),\" \")","v":" "}]
[null,null,null,null,{"$f":"IFERROR(VLOOKUP(D5078,Códigos!B:C,2,0),\" \")","v":" "}]
[null,null,null,null,{"$f":"IFERROR(VLOOKUP(D5079,Códigos!B:C,2,0),\" \")","v":" "}]
[null,null,null,null,{"$f":"IFERROR(VLOOKUP(D5080,Códigos!B:C,2,0),\" \")","v":" "}]
[null,null,null,null,{"$f":"IFERROR(VLOOKUP(D5081,Códigos!B:C,2,0),\" \")","v":" "}]
[null,null,null,null,{"$f":"IFERROR(VLOOKUP(D5082,Códigos!B:C,2,0),\" \")","v":" "}]
[null,null,null,null,{"$f":"IFERROR(VLOOKUP(D5083,Códigos!B:C,2,0),\" \")","v":" "}]
[null,null,null,null,{"$f":"IFERROR(VLOOKUP(D5084,Códigos!B:C,2,0),\" \")","v":" "}]
[null,null,null,null,{"$f":"IFERROR(VLOOKUP(D5085,Códigos!B:C,2,0),\" \")","v":" "}]
[null,null,null,null,{"$f":"IFERROR(VLOOKUP(D5086,Códigos!B:C,2,0),\" \")","v":" "}]
[null,null,null,null,{"$f":"IFERROR(VLOOKUP(D5087,Códigos!B:C,2,0),\" \")","v":" "}]
[null,null,null,null,{"$f":"IFERROR(VLOOKUP(D5088,Códigos!B:C,2,0),\" \")","v":" "}]
[null,null,null,null,{"$f":"IFERROR(VLOOKUP(D5089,Códigos!B:C,2,0),\" \")","v":" "}]
[null,null,null,null,{"$f":"IFERROR(VLOOKUP(D5090,Códigos!B:C,2,0),\" \")","v":" "}]
[null,null,null,null,{"$f":"IFERROR(VLOOKUP(D5091,Códigos!B:C,2,0),\" \")","v":" "}]
[null,null,null,null,{"$f":"IFERROR(VLOOKUP(D5092,Códigos!B:C,2,0),\" \")","v":" "}]
[null,null,null,null,{"$f":"IFERROR(VLOOKUP(D5093,Códigos!B:C,2,0),\" \")","v":" "}]
[null,null,null,null,{"$f":"IFERROR(VLOOKUP(D5094,Códigos!B:C,2,0),\" \")","v":" "}]
[null,null,null,null,{"$f":"IFERROR(VLOOKUP(D5095,Códigos!B:C,2,0),\" \")","v":" "}]
[null,null,null,null,{"$f":"IFERROR(VLOOKUP(D5096,Códigos!B:C,2,0),\" \")","v":" "}]
[null,null,null,null,{"$f":"IFERROR(VLOOKUP(D5097,Códigos!B:C,2,0),\" \")","v":" "}]
[null,null,null,null,{"$f":"IFERROR(VLOOKUP(D5098,Códigos!B:C,2,0),\" \")","v":" "}]
[null,null,null,null,{"$f":"IFERROR(VLOOKUP(D5099,Códigos!B:C,2,0),\" \")","v":" "}]
[null,null,null,null,{"$f":"IFERROR(VLOOKUP(D5100,Códigos!B:C,2,0),\" \")","v":" "}]
[null,null,null,null,{"$f":"IFERROR(VLOOKUP(D5101,Códigos!B:C,2,0),\" \")","v":" "}]
[null,null,null,null,{"$f":"IFERROR(VLOOKUP(D5102,Códigos!B:C,2,0),\" \")","v":" "}]
[null,null,null,null,{"$f":"IFERROR(VLOOKUP(D5103,Códigos!B:C,2,0),\" \")","v":" "}]
[null,null,null,null,{"$f":"IFERROR(VLOOKUP(D5104,Códigos!B:C,2,0),\" \")","v":" "}]
[null,null,null,null,{"$f":"IFERROR(VLOOKUP(D5105,Códigos!B:C,2,0),\" \")","v":" "}]
[null,null,null,null,{"$f":"IFERROR(VLOOKUP(D5106,Códigos!B:C,2,0),\" \")","v":" "}]
[null,null,null,null,{"$f":"IFERROR(VLOOKUP(D5107,Códigos!B:C,2,0),\" \")","v":" "}]
[null,null,null,null,{"$f":"IFERROR(VLOOKUP(D5108,Códigos!B:C,2,0),\" \")","v":" "}]
[null,null,null,null,{"$f":"IFERROR(VLOOKUP(D5109,Códigos!B:C,2,0),\" \")","v":" "}]
[null,null,null,null,{"$f":"IFERROR(VLOOKUP(D5110,Códigos!B:C,2,0),\" \")","v":" "}]
[null,null,null,null,{"$f":"IFERROR(VLOOKUP(D5111,Códigos!B:C,2,0),\" \")","v":" "}]
[null,null,null,null,{"$f":"IFERROR(VLOOKUP(D5112,Códigos!B:C,2,0),\" \")","v":" "}]
[null,null,null,null,{"$f":"IFERROR(VLOOKUP(D5113,Códigos!B:C,2,0),\" \")","v":" "}]
[null,null,null,null,{"$f":"IFERROR(VLOOKUP(D5114,Códigos!B:C,2,0),\" \")","v":" "}]
[null,null,null,null,{"$f":"IFERROR(VLOOKUP(D5115,Códigos!B:C,2,0),\" \")","v":" "}]
[null,null,null,null,{"$f":"IFERROR(VLOOKUP(D5116,Códigos!B:C,2,0),\" \")","v":" "}]
[null,null,null,null,{"$f":"IFERROR(VLOOKUP(D5117,Códigos!B:C,2,0),\" \")","v":" "}]
[null,null,null,null,{"$f":"IFERROR(VLOOKUP(D5118,Códigos!B:C,2,0),\" \")","v":" "}]
[null,null,null,null,{"$f":"IFERROR(VLOOKUP(D5119,Códigos!B:C,2,0),\" \")","v":" "}]
[null,null,null,null,{"$f":"IFERROR(VLOOKUP(D5120,Códigos!B:C,2,0),\" \")","v":" "}]
[null,null,null,null,{"$f":"IFERROR(VLOOKUP(D5121,Códigos!B:C,2,0),\" \")","v":" "}]
[null,null,null,null,{"$f":"IFERROR(VLOOKUP(D5122,Códigos!B:C,2,0),\" \")","v":" "}]
[null,null,null,null,{"$f":"IFERROR(VLOOKUP(D5123,Códigos!B:C,2,0),\" \")","v":" "}]
[null,null,null,null,{"$f":"IFERROR(VLOOKUP(D5124,Códigos!B:C,2,0),\" \")","v":" "}]
[null,null,null,null,{"$f":"IFERROR(VLOOKUP(D5125,Códigos!B:C,2,0),\" \")","v":" "}]
[null,null,null,null,{"$f":"IFERROR(VLOOKUP(D5126,Códigos!B:C,2,0),\" \")","v":" "}]
[null,null,null,null,{"$f":"IFERROR(VLOOKUP(D5127,Códigos!B:C,2,0),\" \")","v":" "}]
[null,null,null,null,{"$f":"IFERROR(VLOOKUP(D5128,Códigos!B:C,2,0),\" \")","v":" "}]
[null,null,null,null,{"$f":"IFERROR(VLOOKUP(D5129,Códigos!B:C,2,0),\" \")","v":" "}]
[null,null,null,null,{"$f":"IFERROR(VLOOKUP(D5130,Códigos!B:C,2,0),\" \")","v":" "}]
[null,null,null,null,{"$f":"IFERROR(VLOOKUP(D5131,Códigos!B:C,2,0),\" \")","v":" "}]
[null,null,null,null,{"$f":"IFERROR(VLOOKUP(D5132,Códigos!B:C,2,0),\" \")","v":" "}]
[null,null,null,null,{"$f":"IFERROR(VLOOKUP(D5133,Códigos!B:C,2,0),\" \")","v":" "}]
[null,null,null,null,{"$f":"IFERROR(VLOOKUP(D5134,Códigos!B:C,2,0),\" \")","v":" "}]
[null,null,null,null,{"$f":"IFERROR(VLOOKUP(D5135,Códigos!B:C,2,0),\" \")","v":" "}]
[null,null,null,null,{"$f":"IFERROR(VLOOKUP(D5136,Códigos!B:C,2,0),\" \")","v":" "}]
[null,null,null,null,{"$f":"IFERROR(VLOOKUP(D5137,Códigos!B:C,2,0),\" \")","v":" "}]
[null,null,null,null,{"$f":"IFERROR(VLOOKUP(D5138,Códigos!B:C,2,0),\" \")","v":" "}]
[null,null,null,null,{"$f":"IFERROR(VLOOKUP(D5139,Códigos!B:C,2,0),\" \")","v":" "}]
[null,null,null,null,{"$f":"IFERROR(VLOOKUP(D5140,Códigos!B:C,2,0),\" \")","v":" "}]
[null,null,null,null,{"$f":"IFERROR(VLOOKUP(D5141,Códigos!B:C,2,0),\" \")","v":" "}]
[null,null,null,null,{"$f":"IFERROR(VLOOKUP(D5142,Códigos!B:C,2,0),\" \")","v":" "}]
[null,null,null,null,{"$f":"IFERROR(VLOOKUP(D5143,Códigos!B:C,2,0),\" \")","v":" "}]
[null,null,null,null,{"$f":"IFERROR(VLOOKUP(D5144,Códigos!B:C,2,0),\" \")","v":" "}]
[null,null,null,null,{"$f":"IFERROR(VLOOKUP(D5145,Códigos!B:C,2,0),\" \")","v":" "}]
[null,null,null,null,{"$f":"IFERROR(VLOOKUP(D5146,Códigos!B:C,2,0),\" \")","v":" "}]
[null,null,null,null,{"$f":"IFERROR(VLOOKUP(D5147,Códigos!B:C,2,0),\" \")","v":" "}]
[null,null,null,null,{"$f":"IFERROR(VLOOKUP(D5148,Códigos!B:C,2,0),\" \")","v":" "}]
[null,null,null,null,{"$f":"IFERROR(VLOOKUP(D5149,Códigos!B:C,2,0),\" \")","v":" "}]
[null,null,null,null,{"$f":"IFERROR(VLOOKUP(D5150,Códigos!B:C,2,0),\" \")","v":" "}]
[null,null,null,null,{"$f":"IFERROR(VLOOKUP(D5151,Códigos!B:C,2,0),\" \")","v":" "}]
[null,null,null,null,{"$f":"IFERROR(VLOOKUP(D5152,Códigos!B:C,2,0),\" \")","v":" "}]
[null,null,null,null,{"$f":"IFERROR(VLOOKUP(D5153,Códigos!B:C,2,0),\" \")","v":" "}]
[null,null,null,null,{"$f":"IFERROR(VLOOKUP(D5154,Códigos!B:C,2,0),\" \")","v":" "}]
[null,null,null,null,{"$f":"IFERROR(VLOOKUP(D5155,Códigos!B:C,2,0),\" \")","v":" "}]
[null,null,null,null,{"$f":"IFERROR(VLOOKUP(D5156,Códigos!B:C,2,0),\" \")","v":" "}]
[null,null,null,null,{"$f":"IFERROR(VLOOKUP(D5157,Códigos!B:C,2,0),\" \")","v":" "}]
[null,null,null,null,{"$f":"IFERROR(VLOOKUP(D5158,Códigos!B:C,2,0),\" \")","v":" "}]
[null,null,null,null,{"$f":"IFERROR(VLOOKUP(D5159,Códigos!B:C,2,0),\" \")","v":" "}]
[null,null,null,null,{"$f":"IFERROR(VLOOKUP(D5160,Códigos!B:C,2,0),\" \")","v":" "}]
[null,null,null,null,{"$f":"IFERROR(VLOOKUP(D5161,Códigos!B:C,2,0),\" \")","v":" "}]
[null,null,null,null,{"$f":"IFERROR(VLOOKUP(D5162,Códigos!B:C,2,0),\" \")","v":" "}]
[null,null,null,null,{"$f":"IFERROR(VLOOKUP(D5163,Códigos!B:C,2,0),\" \")","v":" "}]
[null,null,null,null,{"$f":"IFERROR(VLOOKUP(D5164,Códigos!B:C,2,0),\" \")","v":" "}]
[null,null,null,null,{"$f":"IFERROR(VLOOKUP(D5165,Códigos!B:C,2,0),\" \")","v":" "}]
[null,null,null,null,{"$f":"IFERROR(VLOOKUP(D5166,Códigos!B:C,2,0),\" \")","v":" "}]
[null,null,null,null,{"$f":"IFERROR(VLOOKUP(D5167,Códigos!B:C,2,0),\" \")","v":" "}]
[null,null,null,null,{"$f":"IFERROR(VLOOKUP(D5168,Códigos!B:C,2,0),\" \")","v":" "}]
[null,null,null,null,{"$f":"IFERROR(VLOOKUP(D5169,Códigos!B:C,2,0),\" \")","v":" "}]
[null,null,null,null,{"$f":"IFERROR(VLOOKUP(D5170,Códigos!B:C,2,0),\" \")","v":" "}]
[null,null,null,null,{"$f":"IFERROR(VLOOKUP(D5171,Códigos!B:C,2,0),\" \")","v":" "}]
[null,null,null,null,{"$f":"IFERROR(VLOOKUP(D5172,Códigos!B:C,2,0),\" \")","v":" "}]
[null,null,null,null,{"$f":"IFERROR(VLOOKUP(D5173,Códigos!B:C,2,0),\" \")","v":" "}]
[null,null,null,null,{"$f":"IFERROR(VLOOKUP(D5174,Códigos!B:C,2,0),\" \")","v":" "}]
[null,null,null,null,{"$f":"IFERROR(VLOOKUP(D5175,Códigos!B:C,2,0),\" \")","v":" "}]
[null,null,null,null,{"$f":"IFERROR(VLOOKUP(D5176,Códigos!B:C,2,0),\" \")","v":" "}]
[null,null,null,null,{"$f":"IFERROR(VLOOKUP(D5177,Códigos!B:C,2,0),\" \")","v":" "}]
[null,null,null,null,{"$f":"IFERROR(VLOOKUP(D5178,Códigos!B:C,2,0),\" \")","v":" "}]
[null,null,null,null,{"$f":"IFERROR(VLOOKUP(D5179,Códigos!B:C,2,0),\" \")","v":" "}]
[null,null,null,null,{"$f":"IFERROR(VLOOKUP(D5180,Códigos!B:C,2,0),\" \")","v":" "}]
[null,null,null,null,{"$f":"IFERROR(VLOOKUP(D5181,Códigos!B:C,2,0),\" \")","v":" "}]
[null,null,null,null,{"$f":"IFERROR(VLOOKUP(D5182,Códigos!B:C,2,0),\" \")","v":" "}]
[null,null,null,null,{"$f":"IFERROR(VLOOKUP(D5183,Códigos!B:C,2,0),\" \")","v":" "}]
[null,null,null,null,{"$f":"IFERROR(VLOOKUP(D5184,Códigos!B:C,2,0),\" \")","v":" "}]
[null,null,null,null,{"$f":"IFERROR(VLOOKUP(D5185,Códigos!B:C,2,0),\" \")","v":" "}]
[null,null,null,null,{"$f":"IFERROR(VLOOKUP(D5186,Códigos!B:C,2,0),\" \")","v":" "}]
[null,null,null,null,{"$f":"IFERROR(VLOOKUP(D5187,Códigos!B:C,2,0),\" \")","v":" "}]
[null,null,null,null,{"$f":"IFERROR(VLOOKUP(D5188,Códigos!B:C,2,0),\" \")","v":" "}]
[null,null,null,null,{"$f":"IFERROR(VLOOKUP(D5189,Códigos!B:C,2,0),\" \")","v":" "}]
[null,null,null,null,{"$f":"IFERROR(VLOOKUP(D5190,Códigos!B:C,2,0),\" \")","v":" "}]
[null,null,null,null,{"$f":"IFERROR(VLOOKUP(D5191,Códigos!B:C,2,0),\" \")","v":" "}]
[null,null,null,null,{"$f":"IFERROR(VLOOKUP(D5192,Códigos!B:C,2,0),\" \")","v":" "}]
[null,null,null,null,{"$f":"IFERROR(VLOOKUP(D5193,Códigos!B:C,2,0),\" \")","v":" "}]
[null,null,null,null,{"$f":"IFERROR(VLOOKUP(D5194,Códigos!B:C,2,0),\" \")","v":" "}]
[null,null,null,null,{"$f":"IFERROR(VLOOKUP(D5195,Códigos!B:C,2,0),\" \")","v":" "}]
[null,null,null,null,{"$f":"IFERROR(VLOOKUP(D5196,Códigos!B:C,2,0),\" \")","v":" "}]
[null,null,null,null,{"$f":"IFERROR(VLOOKUP(D5197,Códigos!B:C,2,0),\" \")","v":" "}]
[null,null,null,null,{"$f":"IFERROR(VLOOKUP(D5198,Códigos!B:C,2,0),\" \")","v":" "}]
[null,null,null,null,{"$f":"IFERROR(VLOOKUP(D5199,Códigos!B:C,2,0),\" \")","v":" "}]
[null,null,null,null,{"$f":"IFERROR(VLOOKUP(D5200,Códigos!B:C,2,0),\" \")","v":" "}]
[null,null,null,null,{"$f":"IFERROR(VLOOKUP(D5201,Códigos!B:C,2,0),\" \")","v":" "}]
[null,null,null,null,{"$f":"IFERROR(VLOOKUP(D5202,Códigos!B:C,2,0),\" \")","v":" "}]
[null,null,null,null,{"$f":"IFERROR(VLOOKUP(D5203,Códigos!B:C,2,0),\" \")","v":" "}]
[null,null,null,null,{"$f":"IFERROR(VLOOKUP(D5204,Códigos!B:C,2,0),\" \")","v":" "}]
[null,null,null,null,{"$f":"IFERROR(VLOOKUP(D5205,Códigos!B:C,2,0),\" \")","v":" "}]
[null,null,null,null,{"$f":"IFERROR(VLOOKUP(D5206,Códigos!B:C,2,0),\" \")","v":" "}]
[null,null,null,null,{"$f":"IFERROR(VLOOKUP(D5207,Códigos!B:C,2,0),\" \")","v":" "}]
[null,null,null,null,{"$f":"IFERROR(VLOOKUP(D5208,Códigos!B:C,2,0),\" \")","v":" "}]
[null,null,null,null,{"$f":"IFERROR(VLOOKUP(D5209,Códigos!B:C,2,0),\" \")","v":" "}]
[null,null,null,null,{"$f":"IFERROR(VLOOKUP(D5210,Códigos!B:C,2,0),\" \")","v":" "}]
[null,null,null,null,{"$f":"IFERROR(VLOOKUP(D5211,Códigos!B:C,2,0),\" \")","v":" "}]
[null,null,null,null,{"$f":"IFERROR(VLOOKUP(D5212,Códigos!B:C,2,0),\" \")","v":" "}]
[null,null,null,null,{"$f":"IFERROR(VLOOKUP(D5213,Códigos!B:C,2,0),\" \")","v":" "}]
[null,null,null,null,{"$f":"IFERROR(VLOOKUP(D5214,Códigos!B:C,2,0),\" \")","v":" "}]
[null,null,null,null,{"$f":"IFERROR(VLOOKUP(D5215,Códigos!B:C,2,0),\" \")","v":" "}]
[null,null,null,null,{"$f":"IFERROR(VLOOKUP(D5216,Códigos!B:C,2,0),\" \")","v":" "}]
[null,null,null,null,{"$f":"IFERROR(VLOOKUP(D5217,Códigos!B:C,2,0),\" \")","v":" "}]
[null,null,null,null,{"$f":"IFERROR(VLOOKUP(D5218,Códigos!B:C,2,0),\" \")","v":" "}]
[null,null,null,null,{"$f":"IFERROR(VLOOKUP(D5219,Códigos!B:C,2,0),\" \")","v":" "}]
[null,null,null,null,{"$f":"IFERROR(VLOOKUP(D5220,Códigos!B:C,2,0),\" \")","v":" "}]
[null,null,null,null,{"$f":"IFERROR(VLOOKUP(D5221,Códigos!B:C,2,0),\" \")","v":" "}]
[null,null,null,null,{"$f":"IFERROR(VLOOKUP(D5222,Códigos!B:C,2,0),\" \")","v":" "}]
[null,null,null,null,{"$f":"IFERROR(VLOOKUP(D5223,Códigos!B:C,2,0),\" \")","v":" "}]
[null,null,null,null,{"$f":"IFERROR(VLOOKUP(D5224,Códigos!B:C,2,0),\" \")","v":" "}]
[null,null,null,null,{"$f":"IFERROR(VLOOKUP(D5225,Códigos!B:C,2,0),\" \")","v":" "}]
[null,null,null,null,{"$f":"IFERROR(VLOOKUP(D5226,Códigos!B:C,2,0),\" \")","v":" "}]
[null,null,null,null,{"$f":"IFERROR(VLOOKUP(D5227,Códigos!B:C,2,0),\" \")","v":" "}]
[null,null,null,null,{"$f":"IFERROR(VLOOKUP(D5228,Códigos!B:C,2,0),\" \")","v":" "}]
[null,null,null,null,{"$f":"IFERROR(VLOOKUP(D5229,Códigos!B:C,2,0),\" \")","v":" "}]
[null,null,null,null,{"$f":"IFERROR(VLOOKUP(D5230,Códigos!B:C,2,0),\" \")","v":" "}]
[null,null,null,null,{"$f":"IFERROR(VLOOKUP(D5231,Códigos!B:C,2,0),\" \")","v":" "}]
[null,null,null,null,{"$f":"IFERROR(VLOOKUP(D5232,Códigos!B:C,2,0),\" \")","v":" "}]
[null,null,null,null,{"$f":"IFERROR(VLOOKUP(D5233,Códigos!B:C,2,0),\" \")","v":" "}]
[null,null,null,null,{"$f":"IFERROR(VLOOKUP(D5234,Códigos!B:C,2,0),\" \")","v":" "}]
[null,null,null,null,{"$f":"IFERROR(VLOOKUP(D5235,Códigos!B:C,2,0),\" \")","v":" "}]
[null,null,null,null,{"$f":"IFERROR(VLOOKUP(D5236,Códigos!B:C,2,0),\" \")","v":" "}]
[null,null,null,null,{"$f":"IFERROR(VLOOKUP(D5237,Códigos!B:C,2,0),\" \")","v":" "}]
[null,null,null,null,{"$f":"IFERROR(VLOOKUP(D5238,Códigos!B:C,2,0),\" \")","v":" "}]
[null,null,null,null,{"$f":"IFERROR(VLOOKUP(D5239,Códigos!B:C,2,0),\" \")","v":" "}]
[null,null,null,null,{"$f":"IFERROR(VLOOKUP(D5240,Códigos!B:C,2,0),\" \")","v":" "}]
[null,null,null,null,{"$f":"IFERROR(VLOOKUP(D5241,Códigos!B:C,2,0),\" \")","v":" "}]
[null,null,null,null,{"$f":"IFERROR(VLOOKUP(D5242,Códigos!B:C,2,0),\" \")","v":" "}]
[null,null,null,null,{"$f":"IFERROR(VLOOKUP(D5243,Códigos!B:C,2,0),\" \")","v":" "}]
[null,null,null,null,{"$f":"IFERROR(VLOOKUP(D5244,Códigos!B:C,2,0),\" \")","v":" "}]
[null,null,null,null,{"$f":"IFERROR(VLOOKUP(D5245,Códigos!B:C,2,0),\" \")","v":" "}]
[null,null,null,null,{"$f":"IFERROR(VLOOKUP(D5246,Códigos!B:C,2,0),\" \")","v":" "}]
[null,null,null,null,{"$f":"IFERROR(VLOOKUP(D5247,Códigos!B:C,2,0),\" \")","v":" "}]
[null,null,null,null,{"$f":"IFERROR(VLOOKUP(D5248,Códigos!B:C,2,0),\" \")","v":" "}]
[null,null,null,null,{"$f":"IFERROR(VLOOKUP(D5249,Códigos!B:C,2,0),\" \")","v":" "}]
[null,null,null,null,{"$f":"IFERROR(VLOOKUP(D5250,Códigos!B:C,2,0),\" \")","v":" "}]
[null,null,null,null,{"$f":"IFERROR(VLOOKUP(D5251,Códigos!B:C,2,0),\" \")","v":" "}]
[null,null,null,null,{"$f":"IFERROR(VLOOKUP(D5252,Códigos!B:C,2,0),\" \")","v":" "}]
[null,null,null,null,{"$f":"IFERROR(VLOOKUP(D5253,Códigos!B:C,2,0),\" \")","v":" "}]
[null,null,null,null,{"$f":"IFERROR(VLOOKUP(D5254,Códigos!B:C,2,0),\" \")","v":" "}]
[null,null,null,null,{"$f":"IFERROR(VLOOKUP(D5255,Códigos!B:C,2,0),\" \")","v":" "}]
[null,null,null,null,{"$f":"IFERROR(VLOOKUP(D5256,Códigos!B:C,2,0),\" \")","v":" "}]
[null,null,null,null,{"$f":"IFERROR(VLOOKUP(D5257,Códigos!B:C,2,0),\" \")","v":" "}]
[null,null,null,null,{"$f":"IFERROR(VLOOKUP(D5258,Códigos!B:C,2,0),\" \")","v":" "}]
[null,null,null,null,{"$f":"IFERROR(VLOOKUP(D5259,Códigos!B:C,2,0),\" \")","v":" "}]
[null,null,null,null,{"$f":"IFERROR(VLOOKUP(D5260,Códigos!B:C,2,0),\" \")","v":" "}]
[null,null,null,null,{"$f":"IFERROR(VLOOKUP(D5261,Códigos!B:C,2,0),\" \")","v":" "}]
[null,null,null,null,{"$f":"IFERROR(VLOOKUP(D5262,Códigos!B:C,2,0),\" \")","v":" "}]
[null,null,null,null,{"$f":"IFERROR(VLOOKUP(D5263,Códigos!B:C,2,0),\" \")","v":" "}]
[null,null,null,null,{"$f":"IFERROR(VLOOKUP(D5264,Códigos!B:C,2,0),\" \")","v":" "}]
[null,null,null,null,{"$f":"IFERROR(VLOOKUP(D5265,Códigos!B:C,2,0),\" \")","v":" "}]
[null,null,null,null,{"$f":"IFERROR(VLOOKUP(D5266,Códigos!B:C,2,0),\" \")","v":" "}]
[null,null,null,null,{"$f":"IFERROR(VLOOKUP(D5267,Códigos!B:C,2,0),\" \")","v":" "}]
[null,null,null,null,{"$f":"IFERROR(VLOOKUP(D5268,Códigos!B:C,2,0),\" \")","v":" "}]
[null,null,null,null,{"$f":"IFERROR(VLOOKUP(D5269,Códigos!B:C,2,0),\" \")","v":" "}]
[null,null,null,null,{"$f":"IFERROR(VLOOKUP(D5270,Códigos!B:C,2,0),\" \")","v":" "}]
[null,null,null,null,{"$f":"IFERROR(VLOOKUP(D5271,Códigos!B:C,2,0),\" \")","v":" "}]
[null,null,null,null,{"$f":"IFERROR(VLOOKUP(D5272,Códigos!B:C,2,0),\" \")","v":" "}]
[null,null,null,null,{"$f":"IFERROR(VLOOKUP(D5273,Códigos!B:C,2,0),\" \")","v":" "}]
[null,null,null,null,{"$f":"IFERROR(VLOOKUP(D5274,Códigos!B:C,2,0),\" \")","v":" "}]
[null,null,null,null,{"$f":"IFERROR(VLOOKUP(D5275,Códigos!B:C,2,0),\" \")","v":" "}]
[null,null,null,null,{"$f":"IFERROR(VLOOKUP(D5276,Códigos!B:C,2,0),\" \")","v":" "}]
[null,null,null,null,{"$f":"IFERROR(VLOOKUP(D5277,Códigos!B:C,2,0),\" \")","v":" "}]
[null,null,null,null,{"$f":"IFERROR(VLOOKUP(D5278,Códigos!B:C,2,0),\" \")","v":" "}]
[null,null,null,null,{"$f":"IFERROR(VLOOKUP(D5279,Códigos!B:C,2,0),\" \")","v":" "}]
[null,null,null,null,{"$f":"IFERROR(VLOOKUP(D5280,Códigos!B:C,2,0),\" \")","v":" "}]
[null,null,null,null,{"$f":"IFERROR(VLOOKUP(D5281,Códigos!B:C,2,0),\" \")","v":" "}]
[null,null,null,null,{"$f":"IFERROR(VLOOKUP(D5282,Códigos!B:C,2,0),\" \")","v":" "}]
[null,null,null,null,{"$f":"IFERROR(VLOOKUP(D5283,Códigos!B:C,2,0),\" \")","v":" "}]
[null,null,null,null,{"$f":"IFERROR(VLOOKUP(D5284,Códigos!B:C,2,0),\" \")","v":" "}]
[null,null,null,null,{"$f":"IFERROR(VLOOKUP(D5285,Códigos!B:C,2,0),\" \")","v":" "}]
[null,null,null,null,{"$f":"IFERROR(VLOOKUP(D5286,Códigos!B:C,2,0),\" \")","v":" "}]
[null,null,null,null,{"$f":"IFERROR(VLOOKUP(D5287,Códigos!B:C,2,0),\" \")","v":" "}]
[null,null,null,null,{"$f":"IFERROR(VLOOKUP(D5288,Códigos!B:C,2,0),\" \")","v":" "}]
[null,null,null,null,{"$f":"IFERROR(VLOOKUP(D5289,Códigos!B:C,2,0),\" \")","v":" "}]
[null,null,null,null,{"$f":"IFERROR(VLOOKUP(D5290,Códigos!B:C,2,0),\" \")","v":" "}]
[null,null,null,null,{"$f":"IFERROR(VLOOKUP(D5291,Códigos!B:C,2,0),\" \")","v":" "}]
[null,null,null,null,{"$f":"IFERROR(VLOOKUP(D5292,Códigos!B:C,2,0),\" \")","v":" "}]
[null,null,null,null,{"$f":"IFERROR(VLOOKUP(D5293,Códigos!B:C,2,0),\" \")","v":" "}]
[null,null,null,null,{"$f":"IFERROR(VLOOKUP(D5294,Códigos!B:C,2,0),\" \")","v":" "}]
[null,null,null,null,{"$f":"IFERROR(VLOOKUP(D5295,Códigos!B:C,2,0),\" \")","v":" "}]
[null,null,null,null,{"$f":"IFERROR(VLOOKUP(D5296,Códigos!B:C,2,0),\" \")","v":" "}]
[null,null,null,null,{"$f":"IFERROR(VLOOKUP(D5297,Códigos!B:C,2,0),\" \")","v":" "}]
[null,null,null,null,{"$f":"IFERROR(VLOOKUP(D5298,Códigos!B:C,2,0),\" \")","v":" "}]
[null,null,null,null,{"$f":"IFERROR(VLOOKUP(D5299,Códigos!B:C,2,0),\" \")","v":" "}]
[null,null,null,null,{"$f":"IFERROR(VLOOKUP(D5300,Códigos!B:C,2,0),\" \")","v":" "}]
[null,null,null,null,{"$f":"IFERROR(VLOOKUP(D5301,Códigos!B:C,2,0),\" \")","v":" "}]
[null,null,null,null,{"$f":"IFERROR(VLOOKUP(D5302,Códigos!B:C,2,0),\" \")","v":" "}]
[null,null,null,null,{"$f":"IFERROR(VLOOKUP(D5303,Códigos!B:C,2,0),\" \")","v":" "}]
[null,null,null,null,{"$f":"IFERROR(VLOOKUP(D5304,Códigos!B:C,2,0),\" \")","v":" "}]
[null,null,null,null,{"$f":"IFERROR(VLOOKUP(D5305,Códigos!B:C,2,0),\" \")","v":" "}]
[null,null,null,null,{"$f":"IFERROR(VLOOKUP(D5306,Códigos!B:C,2,0),\" \")","v":" "}]
[null,null,null,null,{"$f":"IFERROR(VLOOKUP(D5307,Códigos!B:C,2,0),\" \")","v":" "}]
[null,null,null,null,{"$f":"IFERROR(VLOOKUP(D5308,Códigos!B:C,2,0),\" \")","v":" "}]
[null,null,null,null,{"$f":"IFERROR(VLOOKUP(D5309,Códigos!B:C,2,0),\" \")","v":" "}]
[null,null,null,null,{"$f":"IFERROR(VLOOKUP(D5310,Códigos!B:C,2,0),\" \")","v":" "}]
[null,null,null,null,{"$f":"IFERROR(VLOOKUP(D5311,Códigos!B:C,2,0),\" \")","v":" "}]
[null,null,null,null,{"$f":"IFERROR(VLOOKUP(D5312,Códigos!B:C,2,0),\" \")","v":" "}]
[null,null,null,null,{"$f":"IFERROR(VLOOKUP(D5313,Códigos!B:C,2,0),\" \")","v":" "}]
[null,null,null,null,{"$f":"IFERROR(VLOOKUP(D5314,Códigos!B:C,2,0),\" \")","v":" "}]
[null,null,null,null,{"$f":"IFERROR(VLOOKUP(D5315,Códigos!B:C,2,0),\" \")","v":" "}]
[null,null,null,null,{"$f":"IFERROR(VLOOKUP(D5316,Códigos!B:C,2,0),\" \")","v":" "}]
[null,null,null,null,{"$f":"IFERROR(VLOOKUP(D5317,Códigos!B:C,2,0),\" \")","v":" "}]
[null,null,null,null,{"$f":"IFERROR(VLOOKUP(D5318,Códigos!B:C,2,0),\" \")","v":" "}]
[null,null,null,null,{"$f":"IFERROR(VLOOKUP(D5319,Códigos!B:C,2,0),\" \")","v":" "}]
[null,null,null,null,{"$f":"IFERROR(VLOOKUP(D5320,Códigos!B:C,2,0),\" \")","v":" "}]
[null,null,null,null,{"$f":"IFERROR(VLOOKUP(D5321,Códigos!B:C,2,0),\" \")","v":" "}]
[null,null,null,null,{"$f":"IFERROR(VLOOKUP(D5322,Códigos!B:C,2,0),\" \")","v":" "}]
[null,null,null,null,{"$f":"IFERROR(VLOOKUP(D5323,Códigos!B:C,2,0),\" \")","v":" "}]
[null,null,null,null,{"$f":"IFERROR(VLOOKUP(D5324,Códigos!B:C,2,0),\" \")","v":" "}]
[null,null,null,null,{"$f":"IFERROR(VLOOKUP(D5325,Códigos!B:C,2,0),\" \")","v":" "}]
[null,null,null,null,{"$f":"IFERROR(VLOOKUP(D5326,Códigos!B:C,2,0),\" \")","v":" "}]
[null,null,null,null,{"$f":"IFERROR(VLOOKUP(D5327,Códigos!B:C,2,0),\" \")","v":" "}]
[null,null,null,null,{"$f":"IFERROR(VLOOKUP(D5328,Códigos!B:C,2,0),\" \")","v":" "}]
[null,null,null,null,{"$f":"IFERROR(VLOOKUP(D5329,Códigos!B:C,2,0),\" \")","v":" "}]
[null,null,null,null,{"$f":"IFERROR(VLOOKUP(D5330,Códigos!B:C,2,0),\" \")","v":" "}]
[null,null,null,null,{"$f":"IFERROR(VLOOKUP(D5331,Códigos!B:C,2,0),\" \")","v":" "}]
[null,null,null,null,{"$f":"IFERROR(VLOOKUP(D5332,Códigos!B:C,2,0),\" \")","v":" "}]
[null,null,null,null,{"$f":"IFERROR(VLOOKUP(D5333,Códigos!B:C,2,0),\" \")","v":" "}]
[null,null,null,null,{"$f":"IFERROR(VLOOKUP(D5334,Códigos!B:C,2,0),\" \")","v":" "}]
[null,null,null,null,{"$f":"IFERROR(VLOOKUP(D5335,Códigos!B:C,2,0),\" \")","v":" "}]
[null,null,null,null,{"$f":"IFERROR(VLOOKUP(D5336,Códigos!B:C,2,0),\" \")","v":" "}]
[null,null,null,null,{"$f":"IFERROR(VLOOKUP(D5337,Códigos!B:C,2,0),\" \")","v":" "}]
[null,null,null,null,{"$f":"IFERROR(VLOOKUP(D5338,Códigos!B:C,2,0),\" \")","v":" "}]
[null,null,null,null,{"$f":"IFERROR(VLOOKUP(D5339,Códigos!B:C,2,0),\" \")","v":" "}]
[null,null,null,null,{"$f":"IFERROR(VLOOKUP(D5340,Códigos!B:C,2,0),\" \")","v":" "}]
[null,null,null,null,{"$f":"IFERROR(VLOOKUP(D5341,Códigos!B:C,2,0),\" \")","v":" "}]
[null,null,null,null,{"$f":"IFERROR(VLOOKUP(D5342,Códigos!B:C,2,0),\" \")","v":" "}]
[null,null,null,null,{"$f":"IFERROR(VLOOKUP(D5343,Códigos!B:C,2,0),\" \")","v":" "}]
[null,null,null,null,{"$f":"IFERROR(VLOOKUP(D5344,Códigos!B:C,2,0),\" \")","v":" "}]
[null,null,null,null,{"$f":"IFERROR(VLOOKUP(D5345,Códigos!B:C,2,0),\" \")","v":" "}]
[null,null,null,null,{"$f":"IFERROR(VLOOKUP(D5346,Códigos!B:C,2,0),\" \")","v":" "}]
[null,null,null,null,{"$f":"IFERROR(VLOOKUP(D5347,Códigos!B:C,2,0),\" \")","v":" "}]
[null,null,null,null,{"$f":"IFERROR(VLOOKUP(D5348,Códigos!B:C,2,0),\" \")","v":" "}]
[null,null,null,null,{"$f":"IFERROR(VLOOKUP(D5349,Códigos!B:C,2,0),\" \")","v":" "}]
[null,null,null,null,{"$f":"IFERROR(VLOOKUP(D5350,Códigos!B:C,2,0),\" \")","v":" "}]
[null,null,null,null,{"$f":"IFERROR(VLOOKUP(D5351,Códigos!B:C,2,0),\" \")","v":" "}]
[null,null,null,null,{"$f":"IFERROR(VLOOKUP(D5352,Códigos!B:C,2,0),\" \")","v":" "}]
[null,null,null,null,{"$f":"IFERROR(VLOOKUP(D5353,Códigos!B:C,2,0),\" \")","v":" "}]
[null,null,null,null,{"$f":"IFERROR(VLOOKUP(D5354,Códigos!B:C,2,0),\" \")","v":" "}]
[null,null,null,null,{"$f":"IFERROR(VLOOKUP(D5355,Códigos!B:C,2,0),\" \")","v":" "}]
[null,null,null,null,{"$f":"IFERROR(VLOOKUP(D5356,Códigos!B:C,2,0),\" \")","v":" "}]
[null,null,null,null,{"$f":"IFERROR(VLOOKUP(D5357,Códigos!B:C,2,0),\" \")","v":" "}]
[null,null,null,null,{"$f":"IFERROR(VLOOKUP(D5358,Códigos!B:C,2,0),\" \")","v":" "}]
[null,null,null,null,{"$f":"IFERROR(VLOOKUP(D5359,Códigos!B:C,2,0),\" \")","v":" "}]
[null,null,null,null,{"$f":"IFERROR(VLOOKUP(D5360,Códigos!B:C,2,0),\" \")","v":" "}]
[null,null,null,null,{"$f":"IFERROR(VLOOKUP(D5361,Códigos!B:C,2,0),\" \")","v":" "}]
[null,null,null,null,{"$f":"IFERROR(VLOOKUP(D5362,Códigos!B:C,2,0),\" \")","v":" "}]
[null,null,null,null,{"$f":"IFERROR(VLOOKUP(D5363,Códigos!B:C,2,0),\" \")","v":" "}]
[null,null,null,null,{"$f":"IFERROR(VLOOKUP(D5364,Códigos!B:C,2,0),\" \")","v":" "}]
[null,null,null,null,{"$f":"IFERROR(VLOOKUP(D5365,Códigos!B:C,2,0),\" \")","v":" "}]
[null,null,null,null,{"$f":"IFERROR(VLOOKUP(D5366,Códigos!B:C,2,0),\" \")","v":" "}]
[null,null,null,null,{"$f":"IFERROR(VLOOKUP(D5367,Códigos!B:C,2,0),\" \")","v":" "}]
[null,null,null,null,{"$f":"IFERROR(VLOOKUP(D5368,Códigos!B:C,2,0),\" \")","v":" "}]
[null,null,null,null,{"$f":"IFERROR(VLOOKUP(D5369,Códigos!B:C,2,0),\" \")","v":" "}]
[null,null,null,null,{"$f":"IFERROR(VLOOKUP(D5370,Códigos!B:C,2,0),\" \")","v":" "}]
[null,null,null,null,{"$f":"IFERROR(VLOOKUP(D5371,Códigos!B:C,2,0),\" \")","v":" "}]
[null,null,null,null,{"$f":"IFERROR(VLOOKUP(D5372,Códigos!B:C,2,0),\" \")","v":" "}]
[null,null,null,null,{"$f":"IFERROR(VLOOKUP(D5373,Códigos!B:C,2,0),\" \")","v":" "}]
[null,null,null,null,{"$f":"IFERROR(VLOOKUP(D5374,Códigos!B:C,2,0),\" \")","v":" "}]
[null,null,null,null,{"$f":"IFERROR(VLOOKUP(D5375,Códigos!B:C,2,0),\" \")","v":" "}]
[null,null,null,null,{"$f":"IFERROR(VLOOKUP(D5376,Códigos!B:C,2,0),\" \")","v":" "}]
[null,null,null,null,{"$f":"IFERROR(VLOOKUP(D5377,Códigos!B:C,2,0),\" \")","v":" "}]
[null,null,null,null,{"$f":"IFERROR(VLOOKUP(D5378,Códigos!B:C,2,0),\" \")","v":" "}]
[null,null,null,null,{"$f":"IFERROR(VLOOKUP(D5379,Códigos!B:C,2,0),\" \")","v":" "}]
[null,null,null,null,{"$f":"IFERROR(VLOOKUP(D5380,Códigos!B:C,2,0),\" \")","v":" "}]
[null,null,null,null,{"$f":"IFERROR(VLOOKUP(D5381,Códigos!B:C,2,0),\" \")","v":" "}]
[null,null,null,null,{"$f":"IFERROR(VLOOKUP(D5382,Códigos!B:C,2,0),\" \")","v":" "}]
[null,null,null,null,{"$f":"IFERROR(VLOOKUP(D5383,Códigos!B:C,2,0),\" \")","v":" "}]
[null,null,null,null,{"$f":"IFERROR(VLOOKUP(D5384,Códigos!B:C,2,0),\" \")","v":" "}]
[null,null,null,null,{"$f":"IFERROR(VLOOKUP(D5385,Códigos!B:C,2,0),\" \")","v":" "}]
[null,null,null,null,{"$f":"IFERROR(VLOOKUP(D5386,Códigos!B:C,2,0),\" \")","v":" "}]
[null,null,null,null,{"$f":"IFERROR(VLOOKUP(D5387,Códigos!B:C,2,0),\" \")","v":" "}]
[null,null,null,null,{"$f":"IFERROR(VLOOKUP(D5388,Códigos!B:C,2,0),\" \")","v":" "}]
[null,null,null,null,{"$f":"IFERROR(VLOOKUP(D5389,Códigos!B:C,2,0),\" \")","v":" "}]
[null,null,null,null,{"$f":"IFERROR(VLOOKUP(D5390,Códigos!B:C,2,0),\" \")","v":" "}]
[null,null,null,null,{"$f":"IFERROR(VLOOKUP(D5391,Códigos!B:C,2,0),\" \")","v":" "}]
[null,null,null,null,{"$f":"IFERROR(VLOOKUP(D5392,Códigos!B:C,2,0),\" \")","v":" "}]
[null,null,null,null,{"$f":"IFERROR(VLOOKUP(D5393,Códigos!B:C,2,0),\" \")","v":" "}]
[null,null,null,null,{"$f":"IFERROR(VLOOKUP(D5394,Códigos!B:C,2,0),\" \")","v":" "}]
[null,null,null,null,{"$f":"IFERROR(VLOOKUP(D5395,Códigos!B:C,2,0),\" \")","v":" "}]
[null,null,null,null,{"$f":"IFERROR(VLOOKUP(D5396,Códigos!B:C,2,0),\" \")","v":" "}]
[null,null,null,null,{"$f":"IFERROR(VLOOKUP(D5397,Códigos!B:C,2,0),\" \")","v":" "}]
[null,null,null,null,{"$f":"IFERROR(VLOOKUP(D5398,Códigos!B:C,2,0),\" \")","v":" "}]
[null,null,null,null,{"$f":"IFERROR(VLOOKUP(D5399,Códigos!B:C,2,0),\" \")","v":" "}]
[null,null,null,null,{"$f":"IFERROR(VLOOKUP(D5400,Códigos!B:C,2,0),\" \")","v":" "}]
[null,null,null,null,{"$f":"IFERROR(VLOOKUP(D5401,Códigos!B:C,2,0),\" \")","v":" "}]
[null,null,null,null,{"$f":"IFERROR(VLOOKUP(D5402,Códigos!B:C,2,0),\" \")","v":" "}]
[null,null,null,null,{"$f":"IFERROR(VLOOKUP(D5403,Códigos!B:C,2,0),\" \")","v":" "}]
[null,null,null,null,{"$f":"IFERROR(VLOOKUP(D5404,Códigos!B:C,2,0),\" \")","v":" "}]
[null,null,null,null,{"$f":"IFERROR(VLOOKUP(D5405,Códigos!B:C,2,0),\" \")","v":" "}]
[null,null,null,null,{"$f":"IFERROR(VLOOKUP(D5406,Códigos!B:C,2,0),\" \")","v":" "}]
[null,null,null,null,{"$f":"IFERROR(VLOOKUP(D5407,Códigos!B:C,2,0),\" \")","v":" "}]
[null,null,null,null,{"$f":"IFERROR(VLOOKUP(D5408,Códigos!B:C,2,0),\" \")","v":" "}]
[null,null,null,null,{"$f":"IFERROR(VLOOKUP(D5409,Códigos!B:C,2,0),\" \")","v":" "}]
[null,null,null,null,{"$f":"IFERROR(VLOOKUP(D5410,Códigos!B:C,2,0),\" \")","v":" "}]
[null,null,null,null,{"$f":"IFERROR(VLOOKUP(D5411,Códigos!B:C,2,0),\" \")","v":" "}]
[null,null,null,null,{"$f":"IFERROR(VLOOKUP(D5412,Códigos!B:C,2,0),\" \")","v":" "}]
[null,null,null,null,{"$f":"IFERROR(VLOOKUP(D5413,Códigos!B:C,2,0),\" \")","v":" "}]
[null,null,null,null,{"$f":"IFERROR(VLOOKUP(D5414,Códigos!B:C,2,0),\" \")","v":" "}]
[null,null,null,null,{"$f":"IFERROR(VLOOKUP(D5415,Códigos!B:C,2,0),\" \")","v":" "}]
[null,null,null,null,{"$f":"IFERROR(VLOOKUP(D5416,Códigos!B:C,2,0),\" \")","v":" "}]
[null,null,null,null,{"$f":"IFERROR(VLOOKUP(D5417,Códigos!B:C,2,0),\" \")","v":" "}]
[null,null,null,null,{"$f":"IFERROR(VLOOKUP(D5418,Códigos!B:C,2,0),\" \")","v":" "}]
[null,null,null,null,{"$f":"IFERROR(VLOOKUP(D5419,Códigos!B:C,2,0),\" \")","v":" "}]
[null,null,null,null,{"$f":"IFERROR(VLOOKUP(D5420,Códigos!B:C,2,0),\" \")","v":" "}]
[null,null,null,null,{"$f":"IFERROR(VLOOKUP(D5421,Códigos!B:C,2,0),\" \")","v":" "}]
[null,null,null,null,{"$f":"IFERROR(VLOOKUP(D5422,Códigos!B:C,2,0),\" \")","v":" "}]
[null,null,null,null,{"$f":"IFERROR(VLOOKUP(D5423,Códigos!B:C,2,0),\" \")","v":" "}]
[null,null,null,null,{"$f":"IFERROR(VLOOKUP(D5424,Códigos!B:C,2,0),\" \")","v":" "}]
[null,null,null,null,{"$f":"IFERROR(VLOOKUP(D5425,Códigos!B:C,2,0),\" \")","v":" "}]
[null,null,null,null,{"$f":"IFERROR(VLOOKUP(D5426,Códigos!B:C,2,0),\" \")","v":" "}]
[null,null,null,null,{"$f":"IFERROR(VLOOKUP(D5427,Códigos!B:C,2,0),\" \")","v":" "}]
[null,null,null,null,{"$f":"IFERROR(VLOOKUP(D5428,Códigos!B:C,2,0),\" \")","v":" "}]
[null,null,null,null,{"$f":"IFERROR(VLOOKUP(D5429,Códigos!B:C,2,0),\" \")","v":" "}]
[null,null,null,null,{"$f":"IFERROR(VLOOKUP(D5430,Códigos!B:C,2,0),\" \")","v":" "}]
[null,null,null,null,{"$f":"IFERROR(VLOOKUP(D5431,Códigos!B:C,2,0),\" \")","v":" "}]
[null,null,null,null,{"$f":"IFERROR(VLOOKUP(D5432,Códigos!B:C,2,0),\" \")","v":" "}]
[null,null,null,null,{"$f":"IFERROR(VLOOKUP(D5433,Códigos!B:C,2,0),\" \")","v":" "}]
[null,null,null,null,{"$f":"IFERROR(VLOOKUP(D5434,Códigos!B:C,2,0),\" \")","v":" "}]
[null,null,null,null,{"$f":"IFERROR(VLOOKUP(D5435,Códigos!B:C,2,0),\" \")","v":" "}]
[null,null,null,null,{"$f":"IFERROR(VLOOKUP(D5436,Códigos!B:C,2,0),\" \")","v":" "}]
[null,null,null,null,{"$f":"IFERROR(VLOOKUP(D5437,Códigos!B:C,2,0),\" \")","v":" "}]
[null,null,null,null,{"$f":"IFERROR(VLOOKUP(D5438,Códigos!B:C,2,0),\" \")","v":" "}]
[null,null,null,null,{"$f":"IFERROR(VLOOKUP(D5439,Códigos!B:C,2,0),\" \")","v":" "}]
[null,null,null,null,{"$f":"IFERROR(VLOOKUP(D5440,Códigos!B:C,2,0),\" \")","v":" "}]
[null,null,null,null,{"$f":"IFERROR(VLOOKUP(D5441,Códigos!B:C,2,0),\" \")","v":" "}]
[null,null,null,null,{"$f":"IFERROR(VLOOKUP(D5442,Códigos!B:C,2,0),\" \")","v":" "}]
[null,null,null,null,{"$f":"IFERROR(VLOOKUP(D5443,Códigos!B:C,2,0),\" \")","v":" "}]
[null,null,null,null,{"$f":"IFERROR(VLOOKUP(D5444,Códigos!B:C,2,0),\" \")","v":" "}]
[null,null,null,null,{"$f":"IFERROR(VLOOKUP(D5445,Códigos!B:C,2,0),\" \")","v":" "}]
[null,null,null,null,{"$f":"IFERROR(VLOOKUP(D5446,Códigos!B:C,2,0),\" \")","v":" "}]
[null,null,null,null,{"$f":"IFERROR(VLOOKUP(D5447,Códigos!B:C,2,0),\" \")","v":" "}]
[null,null,null,null,{"$f":"IFERROR(VLOOKUP(D5448,Códigos!B:C,2,0),\" \")","v":" "}]
[null,null,null,null,{"$f":"IFERROR(VLOOKUP(D5449,Códigos!B:C,2,0),\" \")","v":" "}]
[null,null,null,null,{"$f":"IFERROR(VLOOKUP(D5450,Códigos!B:C,2,0),\" \")","v":" "}]
[null,null,null,null,{"$f":"IFERROR(VLOOKUP(D5451,Códigos!B:C,2,0),\" \")","v":" "}]
[null,null,null,null,{"$f":"IFERROR(VLOOKUP(D5452,Códigos!B:C,2,0),\" \")","v":" "}]
[null,null,null,null,{"$f":"IFERROR(VLOOKUP(D5453,Códigos!B:C,2,0),\" \")","v":" "}]
[null,null,null,null,{"$f":"IFERROR(VLOOKUP(D5454,Códigos!B:C,2,0),\" \")","v":" "}]
[null,null,null,null,{"$f":"IFERROR(VLOOKUP(D5455,Códigos!B:C,2,0),\" \")","v":" "}]
[null,null,null,null,{"$f":"IFERROR(VLOOKUP(D5456,Códigos!B:C,2,0),\" \")","v":" "}]
[null,null,null,null,{"$f":"IFERROR(VLOOKUP(D5457,Códigos!B:C,2,0),\" \")","v":" "}]
[null,null,null,null,{"$f":"IFERROR(VLOOKUP(D5458,Códigos!B:C,2,0),\" \")","v":" "}]
[null,null,null,null,{"$f":"IFERROR(VLOOKUP(D5459,Códigos!B:C,2,0),\" \")","v":" "}]
[null,null,null,null,{"$f":"IFERROR(VLOOKUP(D5460,Códigos!B:C,2,0),\" \")","v":" "}]
[null,null,null,null,{"$f":"IFERROR(VLOOKUP(D5461,Códigos!B:C,2,0),\" \")","v":" "}]
[null,null,null,null,{"$f":"IFERROR(VLOOKUP(D5462,Códigos!B:C,2,0),\" \")","v":" "}]
[null,null,null,null,{"$f":"IFERROR(VLOOKUP(D5463,Códigos!B:C,2,0),\" \")","v":" "}]
[null,null,null,null,{"$f":"IFERROR(VLOOKUP(D5464,Códigos!B:C,2,0),\" \")","v":" "}]
[null,null,null,null,{"$f":"IFERROR(VLOOKUP(D5465,Códigos!B:C,2,0),\" \")","v":" "}]
[null,null,null,null,{"$f":"IFERROR(VLOOKUP(D5466,Códigos!B:C,2,0),\" \")","v":" "}]
[null,null,null,null,{"$f":"IFERROR(VLOOKUP(D5467,Códigos!B:C,2,0),\" \")","v":" "}]
[null,null,null,null,{"$f":"IFERROR(VLOOKUP(D5468,Códigos!B:C,2,0),\" \")","v":" "}]
[null,null,null,null,{"$f":"IFERROR(VLOOKUP(D5469,Códigos!B:C,2,0),\" \")","v":" "}]
[null,null,null,null,{"$f":"IFERROR(VLOOKUP(D5470,Códigos!B:C,2,0),\" \")","v":" "}]
[null,null,null,null,{"$f":"IFERROR(VLOOKUP(D5471,Códigos!B:C,2,0),\" \")","v":" "}]
[null,null,null,null,{"$f":"IFERROR(VLOOKUP(D5472,Códigos!B:C,2,0),\" \")","v":" "}]
[null,null,null,null,{"$f":"IFERROR(VLOOKUP(D5473,Códigos!B:C,2,0),\" \")","v":" "}]
[null,null,null,null,{"$f":"IFERROR(VLOOKUP(D5474,Códigos!B:C,2,0),\" \")","v":" "}]
[null,null,null,null,{"$f":"IFERROR(VLOOKUP(D5475,Códigos!B:C,2,0),\" \")","v":" "}]
[null,null,null,null,{"$f":"IFERROR(VLOOKUP(D5476,Códigos!B:C,2,0),\" \")","v":" "}]
[null,null,null,null,{"$f":"IFERROR(VLOOKUP(D5477,Códigos!B:C,2,0),\" \")","v":" "}]
[null,null,null,null,{"$f":"IFERROR(VLOOKUP(D5478,Códigos!B:C,2,0),\" \")","v":" "}]
[null,null,null,null,{"$f":"IFERROR(VLOOKUP(D5479,Códigos!B:C,2,0),\" \")","v":" "}]
[null,null,null,null,{"$f":"IFERROR(VLOOKUP(D5480,Códigos!B:C,2,0),\" \")","v":" "}]
[null,null,null,null,{"$f":"IFERROR(VLOOKUP(D5481,Códigos!B:C,2,0),\" \")","v":" "}]
[null,null,null,null,{"$f":"IFERROR(VLOOKUP(D5482,Códigos!B:C,2,0),\" \")","v":" "}]
[null,null,null,null,{"$f":"IFERROR(VLOOKUP(D5483,Códigos!B:C,2,0),\" \")","v":" "}]
[null,null,null,null,{"$f":"IFERROR(VLOOKUP(D5484,Códigos!B:C,2,0),\" \")","v":" "}]
[null,null,null,null,{"$f":"IFERROR(VLOOKUP(D5485,Códigos!B:C,2,0),\" \")","v":" "}]
[null,null,null,null,{"$f":"IFERROR(VLOOKUP(D5486,Códigos!B:C,2,0),\" \")","v":" "}]
[null,null,null,null,{"$f":"IFERROR(VLOOKUP(D5487,Códigos!B:C,2,0),\" \")","v":" "}]
[null,null,null,null,{"$f":"IFERROR(VLOOKUP(D5488,Códigos!B:C,2,0),\" \")","v":" "}]
[null,null,null,null,{"$f":"IFERROR(VLOOKUP(D5489,Códigos!B:C,2,0),\" \")","v":" "}]
[null,null,null,null,{"$f":"IFERROR(VLOOKUP(D5490,Códigos!B:C,2,0),\" \")","v":" "}]
[null,null,null,null,{"$f":"IFERROR(VLOOKUP(D5491,Códigos!B:C,2,0),\" \")","v":" "}]
[null,null,null,null,{"$f":"IFERROR(VLOOKUP(D5492,Códigos!B:C,2,0),\" \")","v":" "}]
[null,null,null,null,{"$f":"IFERROR(VLOOKUP(D5493,Códigos!B:C,2,0),\" \")","v":" "}]
[null,null,null,null,{"$f":"IFERROR(VLOOKUP(D5494,Códigos!B:C,2,0),\" \")","v":" "}]
[null,null,null,null,{"$f":"IFERROR(VLOOKUP(D5495,Códigos!B:C,2,0),\" \")","v":" "}]
[null,null,null,null,{"$f":"IFERROR(VLOOKUP(D5496,Códigos!B:C,2,0),\" \")","v":" "}]
[null,null,null,null,{"$f":"IFERROR(VLOOKUP(D5497,Códigos!B:C,2,0),\" \")","v":" "}]
[null,null,null,null,{"$f":"IFERROR(VLOOKUP(D5498,Códigos!B:C,2,0),\" \")","v":" "}]
[null,null,null,null,{"$f":"IFERROR(VLOOKUP(D5499,Códigos!B:C,2,0),\" \")","v":" "}]
[null,null,null,null,{"$f":"IFERROR(VLOOKUP(D5500,Códigos!B:C,2,0),\" \")","v":" "}]
[null,null,null,null,{"$f":"IFERROR(VLOOKUP(D5501,Códigos!B:C,2,0),\" \")","v":" "}]
[null,null,null,null,{"$f":"IFERROR(VLOOKUP(D5502,Códigos!B:C,2,0),\" \")","v":" "}]
[null,null,null,null,{"$f":"IFERROR(VLOOKUP(D5503,Códigos!B:C,2,0),\" \")","v":" "}]
[null,null,null,null,{"$f":"IFERROR(VLOOKUP(D5504,Códigos!B:C,2,0),\" \")","v":" "}]
[null,null,null,null,{"$f":"IFERROR(VLOOKUP(D5505,Códigos!B:C,2,0),\" \")","v":" "}]
[null,null,null,null,{"$f":"IFERROR(VLOOKUP(D5506,Códigos!B:C,2,0),\" \")","v":" "}]
[null,null,null,null,{"$f":"IFERROR(VLOOKUP(D5507,Códigos!B:C,2,0),\" \")","v":" "}]
[null,null,null,null,{"$f":"IFERROR(VLOOKUP(D5508,Códigos!B:C,2,0),\" \")","v":" "}]
[null,null,null,null,{"$f":"IFERROR(VLOOKUP(D5509,Códigos!B:C,2,0),\" \")","v":" "}]
[null,null,null,null,{"$f":"IFERROR(VLOOKUP(D5510,Códigos!B:C,2,0),\" \")","v":" "}]
[null,null,null,null,{"$f":"IFERROR(VLOOKUP(D5511,Códigos!B:C,2,0),\" \")","v":" "}]
[null,null,null,null,{"$f":"IFERROR(VLOOKUP(D5512,Códigos!B:C,2,0),\" \")","v":" "}]
[null,null,null,null,{"$f":"IFERROR(VLOOKUP(D5513,Códigos!B:C,2,0),\" \")","v":" "}]
[null,null,null,null,{"$f":"IFERROR(VLOOKUP(D5514,Códigos!B:C,2,0),\" \")","v":" "}]
[null,null,null,null,{"$f":"IFERROR(VLOOKUP(D5515,Códigos!B:C,2,0),\" \")","v":" "}]
[null,null,null,null,{"$f":"IFERROR(VLOOKUP(D5516,Códigos!B:C,2,0),\" \")","v":" "}]
[null,null,null,null,{"$f":"IFERROR(VLOOKUP(D5517,Códigos!B:C,2,0),\" \")","v":" "}]
[null,null,null,null,{"$f":"IFERROR(VLOOKUP(D5518,Códigos!B:C,2,0),\" \")","v":" "}]
[null,null,null,null,{"$f":"IFERROR(VLOOKUP(D5519,Códigos!B:C,2,0),\" \")","v":" "}]
[null,null,null,null,{"$f":"IFERROR(VLOOKUP(D5520,Códigos!B:C,2,0),\" \")","v":" "}]
[null,null,null,null,{"$f":"IFERROR(VLOOKUP(D5521,Códigos!B:C,2,0),\" \")","v":" "}]
[null,null,null,null,{"$f":"IFERROR(VLOOKUP(D5522,Códigos!B:C,2,0),\" \")","v":" "}]
[null,null,null,null,{"$f":"IFERROR(VLOOKUP(D5523,Códigos!B:C,2,0),\" \")","v":" "}]
[null,null,null,null,{"$f":"IFERROR(VLOOKUP(D5524,Códigos!B:C,2,0),\" \")","v":" "}]
[null,null,null,null,{"$f":"IFERROR(VLOOKUP(D5525,Códigos!B:C,2,0),\" \")","v":" "}]
[null,null,null,null,{"$f":"IFERROR(VLOOKUP(D5526,Códigos!B:C,2,0),\" \")","v":" "}]
[null,null,null,null,{"$f":"IFERROR(VLOOKUP(D5527,Códigos!B:C,2,0),\" \")","v":" "}]
[null,null,null,null,{"$f":"IFERROR(VLOOKUP(D5528,Códigos!B:C,2,0),\" \")","v":" "}]
[null,null,null,null,{"$f":"IFERROR(VLOOKUP(D5529,Códigos!B:C,2,0),\" \")","v":" "}]
[null,null,null,null,{"$f":"IFERROR(VLOOKUP(D5530,Códigos!B:C,2,0),\" \")","v":" "}]
[null,null,null,null,{"$f":"IFERROR(VLOOKUP(D5531,Códigos!B:C,2,0),\" \")","v":" "}]
[null,null,null,null,{"$f":"IFERROR(VLOOKUP(D5532,Códigos!B:C,2,0),\" \")","v":" "}]
[null,null,null,null,{"$f":"IFERROR(VLOOKUP(D5533,Códigos!B:C,2,0),\" \")","v":" "}]
[null,null,null,null,{"$f":"IFERROR(VLOOKUP(D5534,Códigos!B:C,2,0),\" \")","v":" "}]
[null,null,null,null,{"$f":"IFERROR(VLOOKUP(D5535,Códigos!B:C,2,0),\" \")","v":" "}]
[null,null,null,null,{"$f":"IFERROR(VLOOKUP(D5536,Códigos!B:C,2,0),\" \")","v":" "}]
[null,null,null,null,{"$f":"IFERROR(VLOOKUP(D5537,Códigos!B:C,2,0),\" \")","v":" "}]
[null,null,null,null,{"$f":"IFERROR(VLOOKUP(D5538,Códigos!B:C,2,0),\" \")","v":" "}]
[null,null,null,null,{"$f":"IFERROR(VLOOKUP(D5539,Códigos!B:C,2,0),\" \")","v":" "}]
[null,null,null,null,{"$f":"IFERROR(VLOOKUP(D5540,Códigos!B:C,2,0),\" \")","v":" "}]
[null,null,null,null,{"$f":"IFERROR(VLOOKUP(D5541,Códigos!B:C,2,0),\" \")","v":" "}]
[null,null,null,null,{"$f":"IFERROR(VLOOKUP(D5542,Códigos!B:C,2,0),\" \")","v":" "}]
[null,null,null,null,{"$f":"IFERROR(VLOOKUP(D5543,Códigos!B:C,2,0),\" \")","v":" "}]
[null,null,null,null,{"$f":"IFERROR(VLOOKUP(D5544,Códigos!B:C,2,0),\" \")","v":" "}]
[null,null,null,null,{"$f":"IFERROR(VLOOKUP(D5545,Códigos!B:C,2,0),\" \")","v":" "}]
[null,null,null,null,{"$f":"IFERROR(VLOOKUP(D5546,Códigos!B:C,2,0),\" \")","v":" "}]
[null,null,null,null,{"$f":"IFERROR(VLOOKUP(D5547,Códigos!B:C,2,0),\" \")","v":" "}]
[null,null,null,null,{"$f":"IFERROR(VLOOKUP(D5548,Códigos!B:C,2,0),\" \")","v":" "}]
[null,null,null,null,{"$f":"IFERROR(VLOOKUP(D5549,Códigos!B:C,2,0),\" \")","v":" "}]
[null,null,null,null,{"$f":"IFERROR(VLOOKUP(D5550,Códigos!B:C,2,0),\" \")","v":" "}]
[null,null,null,null,{"$f":"IFERROR(VLOOKUP(D5551,Códigos!B:C,2,0),\" \")","v":" "}]
[null,null,null,null,{"$f":"IFERROR(VLOOKUP(D5552,Códigos!B:C,2,0),\" \")","v":" "}]
[null,null,null,null,{"$f":"IFERROR(VLOOKUP(D5553,Códigos!B:C,2,0),\" \")","v":" "}]
[null,null,null,null,{"$f":"IFERROR(VLOOKUP(D5554,Códigos!B:C,2,0),\" \")","v":" "}]
[null,null,null,null,{"$f":"IFERROR(VLOOKUP(D5555,Códigos!B:C,2,0),\" \")","v":" "}]
[null,null,null,null,{"$f":"IFERROR(VLOOKUP(D5556,Códigos!B:C,2,0),\" \")","v":" "}]
[null,null,null,null,{"$f":"IFERROR(VLOOKUP(D5557,Códigos!B:C,2,0),\" \")","v":" "}]
[null,null,null,null,{"$f":"IFERROR(VLOOKUP(D5558,Códigos!B:C,2,0),\" \")","v":" "}]
[null,null,null,null,{"$f":"IFERROR(VLOOKUP(D5559,Códigos!B:C,2,0),\" \")","v":" "}]
[null,null,null,null,{"$f":"IFERROR(VLOOKUP(D5560,Códigos!B:C,2,0),\" \")","v":" "}]
[null,null,null,null,{"$f":"IFERROR(VLOOKUP(D5561,Códigos!B:C,2,0),\" \")","v":" "}]
[null,null,null,null,{"$f":"IFERROR(VLOOKUP(D5562,Códigos!B:C,2,0),\" \")","v":" "}]
[null,null,null,null,{"$f":"IFERROR(VLOOKUP(D5563,Códigos!B:C,2,0),\" \")","v":" "}]
[null,null,null,null,{"$f":"IFERROR(VLOOKUP(D5564,Códigos!B:C,2,0),\" \")","v":" "}]
[null,null,null,null,{"$f":"IFERROR(VLOOKUP(D5565,Códigos!B:C,2,0),\" \")","v":" "}]
[null,null,null,null,{"$f":"IFERROR(VLOOKUP(D5566,Códigos!B:C,2,0),\" \")","v":" "}]
[null,null,null,null,{"$f":"IFERROR(VLOOKUP(D5567,Códigos!B:C,2,0),\" \")","v":" "}]
[null,null,null,null,{"$f":"IFERROR(VLOOKUP(D5568,Códigos!B:C,2,0),\" \")","v":" "}]
[null,null,null,null,{"$f":"IFERROR(VLOOKUP(D5569,Códigos!B:C,2,0),\" \")","v":" "}]
[null,null,null,null,{"$f":"IFERROR(VLOOKUP(D5570,Códigos!B:C,2,0),\" \")","v":" "}]
[null,null,null,null,{"$f":"IFERROR(VLOOKUP(D5571,Códigos!B:C,2,0),\" \")","v":" "}]
[null,null,null,null,{"$f":"IFERROR(VLOOKUP(D5572,Códigos!B:C,2,0),\" \")","v":" "}]
[null,null,null,null,{"$f":"IFERROR(VLOOKUP(D5573,Códigos!B:C,2,0),\" \")","v":" "}]
[null,null,null,null,{"$f":"IFERROR(VLOOKUP(D5574,Códigos!B:C,2,0),\" \")","v":" "}]
[null,null,null,null,{"$f":"IFERROR(VLOOKUP(D5575,Códigos!B:C,2,0),\" \")","v":" "}]
[null,null,null,null,{"$f":"IFERROR(VLOOKUP(D5576,Códigos!B:C,2,0),\" \")","v":" "}]
[null,null,null,null,{"$f":"IFERROR(VLOOKUP(D5577,Códigos!B:C,2,0),\" \")","v":" "}]
[null,null,null,null,{"$f":"IFERROR(VLOOKUP(D5578,Códigos!B:C,2,0),\" \")","v":" "}]
[null,null,null,null,{"$f":"IFERROR(VLOOKUP(D5579,Códigos!B:C,2,0),\" \")","v":" "}]
[null,null,null,null,{"$f":"IFERROR(VLOOKUP(D5580,Códigos!B:C,2,0),\" \")","v":" "}]
[null,null,null,null,{"$f":"IFERROR(VLOOKUP(D5581,Códigos!B:C,2,0),\" \")","v":" "}]
[null,null,null,null,{"$f":"IFERROR(VLOOKUP(D5582,Códigos!B:C,2,0),\" \")","v":" "}]
[null,null,null,null,{"$f":"IFERROR(VLOOKUP(D5583,Códigos!B:C,2,0),\" \")","v":" "}]
[null,null,null,null,{"$f":"IFERROR(VLOOKUP(D5584,Códigos!B:C,2,0),\" \")","v":" "}]
[null,null,null,null,{"$f":"IFERROR(VLOOKUP(D5585,Códigos!B:C,2,0),\" \")","v":" "}]
[null,null,null,null,{"$f":"IFERROR(VLOOKUP(D5586,Códigos!B:C,2,0),\" \")","v":" "}]
[null,null,null,null,{"$f":"IFERROR(VLOOKUP(D5587,Códigos!B:C,2,0),\" \")","v":" "}]
[null,null,null,null,{"$f":"IFERROR(VLOOKUP(D5588,Códigos!B:C,2,0),\" \")","v":" "}]
[null,null,null,null,{"$f":"IFERROR(VLOOKUP(D5589,Códigos!B:C,2,0),\" \")","v":" "}]
[null,null,null,null,{"$f":"IFERROR(VLOOKUP(D5590,Códigos!B:C,2,0),\" \")","v":" "}]
[null,null,null,null,{"$f":"IFERROR(VLOOKUP(D5591,Códigos!B:C,2,0),\" \")","v":" "}]
[null,null,null,null,{"$f":"IFERROR(VLOOKUP(D5592,Códigos!B:C,2,0),\" \")","v":" "}]
[null,null,null,null,{"$f":"IFERROR(VLOOKUP(D5593,Códigos!B:C,2,0),\" \")","v":" "}]
[null,null,null,null,{"$f":"IFERROR(VLOOKUP(D5594,Códigos!B:C,2,0),\" \")","v":" "}]
[null,null,null,null,{"$f":"IFERROR(VLOOKUP(D5595,Códigos!B:C,2,0),\" \")","v":" "}]
[null,null,null,null,{"$f":"IFERROR(VLOOKUP(D5596,Códigos!B:C,2,0),\" \")","v":" "}]
[null,null,null,null,{"$f":"IFERROR(VLOOKUP(D5597,Códigos!B:C,2,0),\" \")","v":" "}]
[null,null,null,null,{"$f":"IFERROR(VLOOKUP(D5598,Códigos!B:C,2,0),\" \")","v":" "}]
[null,null,null,null,{"$f":"IFERROR(VLOOKUP(D5599,Códigos!B:C,2,0),\" \")","v":" "}]
[null,null,null,null,{"$f":"IFERROR(VLOOKUP(D5600,Códigos!B:C,2,0),\" \")","v":" "}]
[null,null,null,null,{"$f":"IFERROR(VLOOKUP(D5601,Códigos!B:C,2,0),\" \")","v":" "}]
[null,null,null,null,{"$f":"IFERROR(VLOOKUP(D5602,Códigos!B:C,2,0),\" \")","v":" "}]
[null,null,null,null,{"$f":"IFERROR(VLOOKUP(D5603,Códigos!B:C,2,0),\" \")","v":" "}]
[null,null,null,null,{"$f":"IFERROR(VLOOKUP(D5604,Códigos!B:C,2,0),\" \")","v":" "}]
[null,null,null,null,{"$f":"IFERROR(VLOOKUP(D5605,Códigos!B:C,2,0),\" \")","v":" "}]
[null,null,null,null,{"$f":"IFERROR(VLOOKUP(D5606,Códigos!B:C,2,0),\" \")","v":" "}]
[null,null,null,null,{"$f":"IFERROR(VLOOKUP(D5607,Códigos!B:C,2,0),\" \")","v":" "}]
[null,null,null,null,{"$f":"IFERROR(VLOOKUP(D5608,Códigos!B:C,2,0),\" \")","v":" "}]
[null,null,null,null,{"$f":"IFERROR(VLOOKUP(D5609,Códigos!B:C,2,0),\" \")","v":" "}]
[null,null,null,null,{"$f":"IFERROR(VLOOKUP(D5610,Códigos!B:C,2,0),\" \")","v":" "}]
[null,null,null,null,{"$f":"IFERROR(VLOOKUP(D5611,Códigos!B:C,2,0),\" \")","v":" "}]
[null,null,null,null,{"$f":"IFERROR(VLOOKUP(D5612,Códigos!B:C,2,0),\" \")","v":" "}]
[null,null,null,null,{"$f":"IFERROR(VLOOKUP(D5613,Códigos!B:C,2,0),\" \")","v":" "}]
[null,null,null,null,{"$f":"IFERROR(VLOOKUP(D5614,Códigos!B:C,2,0),\" \")","v":" "}]
[null,null,null,null,{"$f":"IFERROR(VLOOKUP(D5615,Códigos!B:C,2,0),\" \")","v":" "}]
[null,null,null,null,{"$f":"IFERROR(VLOOKUP(D5616,Códigos!B:C,2,0),\" \")","v":" "}]
[null,null,null,null,{"$f":"IFERROR(VLOOKUP(D5617,Códigos!B:C,2,0),\" \")","v":" "}]
[null,null,null,null,{"$f":"IFERROR(VLOOKUP(D5618,Códigos!B:C,2,0),\" \")","v":" "}]
[null,null,null,null,{"$f":"IFERROR(VLOOKUP(D5619,Códigos!B:C,2,0),\" \")","v":" "}]
[null,null,null,null,{"$f":"IFERROR(VLOOKUP(D5620,Códigos!B:C,2,0),\" \")","v":" "}]
[null,null,null,null,{"$f":"IFERROR(VLOOKUP(D5621,Códigos!B:C,2,0),\" \")","v":" "}]
[null,null,null,null,{"$f":"IFERROR(VLOOKUP(D5622,Códigos!B:C,2,0),\" \")","v":" "}]
[null,null,null,null,{"$f":"IFERROR(VLOOKUP(D5623,Códigos!B:C,2,0),\" \")","v":" "}]
[null,null,null,null,{"$f":"IFERROR(VLOOKUP(D5624,Códigos!B:C,2,0),\" \")","v":" "}]
[null,null,null,null,{"$f":"IFERROR(VLOOKUP(D5625,Códigos!B:C,2,0),\" \")","v":" "}]
[null,null,null,null,{"$f":"IFERROR(VLOOKUP(D5626,Códigos!B:C,2,0),\" \")","v":" "}]
[null,null,null,null,{"$f":"IFERROR(VLOOKUP(D5627,Códigos!B:C,2,0),\" \")","v":" "}]
[null,null,null,null,{"$f":"IFERROR(VLOOKUP(D5628,Códigos!B:C,2,0),\" \")","v":" "}]
[null,null,null,null,{"$f":"IFERROR(VLOOKUP(D5629,Códigos!B:C,2,0),\" \")","v":" "}]
[null,null,null,null,{"$f":"IFERROR(VLOOKUP(D5630,Códigos!B:C,2,0),\" \")","v":" "}]
[null,null,null,null,{"$f":"IFERROR(VLOOKUP(D5631,Códigos!B:C,2,0),\" \")","v":" "}]
[null,null,null,null,{"$f":"IFERROR(VLOOKUP(D5632,Códigos!B:C,2,0),\" \")","v":" "}]
[null,null,null,null,{"$f":"IFERROR(VLOOKUP(D5633,Códigos!B:C,2,0),\" \")","v":" "}]
[null,null,null,null,{"$f":"IFERROR(VLOOKUP(D5634,Códigos!B:C,2,0),\" \")","v":" "}]
[null,null,null,null,{"$f":"IFERROR(VLOOKUP(D5635,Códigos!B:C,2,0),\" \")","v":" "}]
[null,null,null,null,{"$f":"IFERROR(VLOOKUP(D5636,Códigos!B:C,2,0),\" \")","v":" "}]
[null,null,null,null,{"$f":"IFERROR(VLOOKUP(D5637,Códigos!B:C,2,0),\" \")","v":" "}]
[null,null,null,null,{"$f":"IFERROR(VLOOKUP(D5638,Códigos!B:C,2,0),\" \")","v":" "}]
[null,null,null,null,{"$f":"IFERROR(VLOOKUP(D5639,Códigos!B:C,2,0),\" \")","v":" "}]
[null,null,null,null,{"$f":"IFERROR(VLOOKUP(D5640,Códigos!B:C,2,0),\" \")","v":" "}]
[null,null,null,null,{"$f":"IFERROR(VLOOKUP(D5641,Códigos!B:C,2,0),\" \")","v":" "}]
[null,null,null,null,{"$f":"IFERROR(VLOOKUP(D5642,Códigos!B:C,2,0),\" \")","v":" "}]
[null,null,null,null,{"$f":"IFERROR(VLOOKUP(D5643,Códigos!B:C,2,0),\" \")","v":" "}]
[null,null,null,null,{"$f":"IFERROR(VLOOKUP(D5644,Códigos!B:C,2,0),\" \")","v":" "}]
[null,null,null,null,{"$f":"IFERROR(VLOOKUP(D5645,Códigos!B:C,2,0),\" \")","v":" "}]
[null,null,null,null,{"$f":"IFERROR(VLOOKUP(D5646,Códigos!B:C,2,0),\" \")","v":" "}]
[null,null,null,null,{"$f":"IFERROR(VLOOKUP(D5647,Códigos!B:C,2,0),\" \")","v":" "}]
[null,null,null,null,{"$f":"IFERROR(VLOOKUP(D5648,Códigos!B:C,2,0),\" \")","v":" "}]
[null,null,null,null,{"$f":"IFERROR(VLOOKUP(D5649,Códigos!B:C,2,0),\" \")","v":" "}]
[null,null,null,null,{"$f":"IFERROR(VLOOKUP(D5650,Códigos!B:C,2,0),\" \")","v":" "}]
[null,null,null,null,{"$f":"IFERROR(VLOOKUP(D5651,Códigos!B:C,2,0),\" \")","v":" "}]
[null,null,null,null,{"$f":"IFERROR(VLOOKUP(D5652,Códigos!B:C,2,0),\" \")","v":" "}]
[null,null,null,null,{"$f":"IFERROR(VLOOKUP(D5653,Códigos!B:C,2,0),\" \")","v":" "}]
[null,null,null,null,{"$f":"IFERROR(VLOOKUP(D5654,Códigos!B:C,2,0),\" \")","v":" "}]
[null,null,null,null,{"$f":"IFERROR(VLOOKUP(D5655,Códigos!B:C,2,0),\" \")","v":" "}]
[null,null,null,null,{"$f":"IFERROR(VLOOKUP(D5656,Códigos!B:C,2,0),\" \")","v":" "}]
[null,null,null,null,{"$f":"IFERROR(VLOOKUP(D5657,Códigos!B:C,2,0),\" \")","v":" "}]
[null,null,null,null,{"$f":"IFERROR(VLOOKUP(D5658,Códigos!B:C,2,0),\" \")","v":" "}]
[null,null,null,null,{"$f":"IFERROR(VLOOKUP(D5659,Códigos!B:C,2,0),\" \")","v":" "}]
[null,null,null,null,{"$f":"IFERROR(VLOOKUP(D5660,Códigos!B:C,2,0),\" \")","v":" "}]
[null,null,null,null,{"$f":"IFERROR(VLOOKUP(D5661,Códigos!B:C,2,0),\" \")","v":" "}]
[null,null,null,null,{"$f":"IFERROR(VLOOKUP(D5662,Códigos!B:C,2,0),\" \")","v":" "}]
[null,null,null,null,{"$f":"IFERROR(VLOOKUP(D5663,Códigos!B:C,2,0),\" \")","v":" "}]
[null,null,null,null,{"$f":"IFERROR(VLOOKUP(D5664,Códigos!B:C,2,0),\" \")","v":" "}]
[null,null,null,null,{"$f":"IFERROR(VLOOKUP(D5665,Códigos!B:C,2,0),\" \")","v":" "}]
[null,null,null,null,{"$f":"IFERROR(VLOOKUP(D5666,Códigos!B:C,2,0),\" \")","v":" "}]
[null,null,null,null,{"$f":"IFERROR(VLOOKUP(D5667,Códigos!B:C,2,0),\" \")","v":" "}]
[null,null,null,null,{"$f":"IFERROR(VLOOKUP(D5668,Códigos!B:C,2,0),\" \")","v":" "}]
[null,null,null,null,{"$f":"IFERROR(VLOOKUP(D5669,Códigos!B:C,2,0),\" \")","v":" "}]
[null,null,null,null,{"$f":"IFERROR(VLOOKUP(D5670,Códigos!B:C,2,0),\" \")","v":" "}]
[null,null,null,null,{"$f":"IFERROR(VLOOKUP(D5671,Códigos!B:C,2,0),\" \")","v":" "}]
[null,null,null,null,{"$f":"IFERROR(VLOOKUP(D5672,Códigos!B:C,2,0),\" \")","v":" "}]
[null,null,null,null,{"$f":"IFERROR(VLOOKUP(D5673,Códigos!B:C,2,0),\" \")","v":" "}]
[null,null,null,null,{"$f":"IFERROR(VLOOKUP(D5674,Códigos!B:C,2,0),\" \")","v":" "}]
[null,null,null,null,{"$f":"IFERROR(VLOOKUP(D5675,Códigos!B:C,2,0),\" \")","v":" "}]
[null,null,null,null,{"$f":"IFERROR(VLOOKUP(D5676,Códigos!B:C,2,0),\" \")","v":" "}]
[null,null,null,null,{"$f":"IFERROR(VLOOKUP(D5677,Códigos!B:C,2,0),\" \")","v":" "}]
[null,null,null,null,{"$f":"IFERROR(VLOOKUP(D5678,Códigos!B:C,2,0),\" \")","v":" "}]
[null,null,null,null,{"$f":"IFERROR(VLOOKUP(D5679,Códigos!B:C,2,0),\" \")","v":" "}]
[null,null,null,null,{"$f":"IFERROR(VLOOKUP(D5680,Códigos!B:C,2,0),\" \")","v":" "}]
[null,null,null,null,{"$f":"IFERROR(VLOOKUP(D5681,Códigos!B:C,2,0),\" \")","v":" "}]
[null,null,null,null,{"$f":"IFERROR(VLOOKUP(D5682,Códigos!B:C,2,0),\" \")","v":" "}]
[null,null,null,null,{"$f":"IFERROR(VLOOKUP(D5683,Códigos!B:C,2,0),\" \")","v":" "}]
[null,null,null,null,{"$f":"IFERROR(VLOOKUP(D5684,Códigos!B:C,2,0),\" \")","v":" "}]
[null,null,null,null,{"$f":"IFERROR(VLOOKUP(D5685,Códigos!B:C,2,0),\" \")","v":" "}]
[null,null,null,null,{"$f":"IFERROR(VLOOKUP(D5686,Códigos!B:C,2,0),\" \")","v":" "}]
[null,null,null,null,{"$f":"IFERROR(VLOOKUP(D5687,Códigos!B:C,2,0),\" \")","v":" "}]
[null,null,null,null,{"$f":"IFERROR(VLOOKUP(D5688,Códigos!B:C,2,0),\" \")","v":" "}]
[null,null,null,null,{"$f":"IFERROR(VLOOKUP(D5689,Códigos!B:C,2,0),\" \")","v":" "}]
[null,null,null,null,{"$f":"IFERROR(VLOOKUP(D5690,Códigos!B:C,2,0),\" \")","v":" "}]
[null,null,null,null,{"$f":"IFERROR(VLOOKUP(D5691,Códigos!B:C,2,0),\" \")","v":" "}]
[null,null,null,null,{"$f":"IFERROR(VLOOKUP(D5692,Códigos!B:C,2,0),\" \")","v":" "}]
[null,null,null,null,{"$f":"IFERROR(VLOOKUP(D5693,Códigos!B:C,2,0),\" \")","v":" "}]
[null,null,null,null,{"$f":"IFERROR(VLOOKUP(D5694,Códigos!B:C,2,0),\" \")","v":" "}]
[null,null,null,null,{"$f":"IFERROR(VLOOKUP(D5695,Códigos!B:C,2,0),\" \")","v":" "}]
[null,null,null,null,{"$f":"IFERROR(VLOOKUP(D5696,Códigos!B:C,2,0),\" \")","v":" "}]
[null,null,null,null,{"$f":"IFERROR(VLOOKUP(D5697,Códigos!B:C,2,0),\" \")","v":" "}]
[null,null,null,null,{"$f":"IFERROR(VLOOKUP(D5698,Códigos!B:C,2,0),\" \")","v":" "}]
[null,null,null,null,{"$f":"IFERROR(VLOOKUP(D5699,Códigos!B:C,2,0),\" \")","v":" "}]
[null,null,null,null,{"$f":"IFERROR(VLOOKUP(D5700,Códigos!B:C,2,0),\" \")","v":" "}]
[null,null,null,null,{"$f":"IFERROR(VLOOKUP(D5701,Códigos!B:C,2,0),\" \")","v":" "}]
[null,null,null,null,{"$f":"IFERROR(VLOOKUP(D5702,Códigos!B:C,2,0),\" \")","v":" "}]
[null,null,null,null,{"$f":"IFERROR(VLOOKUP(D5703,Códigos!B:C,2,0),\" \")","v":" "}]
[null,null,null,null,{"$f":"IFERROR(VLOOKUP(D5704,Códigos!B:C,2,0),\" \")","v":" "}]
[null,null,null,null,{"$f":"IFERROR(VLOOKUP(D5705,Códigos!B:C,2,0),\" \")","v":" "}]
[null,null,null,null,{"$f":"IFERROR(VLOOKUP(D5706,Códigos!B:C,2,0),\" \")","v":" "}]
[null,null,null,null,{"$f":"IFERROR(VLOOKUP(D5707,Códigos!B:C,2,0),\" \")","v":" "}]
[null,null,null,null,{"$f":"IFERROR(VLOOKUP(D5708,Códigos!B:C,2,0),\" \")","v":" "}]
[null,null,null,null,{"$f":"IFERROR(VLOOKUP(D5709,Códigos!B:C,2,0),\" \")","v":" "}]
[null,null,null,null,{"$f":"IFERROR(VLOOKUP(D5710,Códigos!B:C,2,0),\" \")","v":" "}]
[null,null,null,null,{"$f":"IFERROR(VLOOKUP(D5711,Códigos!B:C,2,0),\" \")","v":" "}]
[null,null,null,null,{"$f":"IFERROR(VLOOKUP(D5712,Códigos!B:C,2,0),\" \")","v":" "}]
[null,null,null,null,{"$f":"IFERROR(VLOOKUP(D5713,Códigos!B:C,2,0),\" \")","v":" "}]
[null,null,null,null,{"$f":"IFERROR(VLOOKUP(D5714,Códigos!B:C,2,0),\" \")","v":" "}]
[null,null,null,null,{"$f":"IFERROR(VLOOKUP(D5715,Códigos!B:C,2,0),\" \")","v":" "}]
[null,null,null,null,{"$f":"IFERROR(VLOOKUP(D5716,Códigos!B:C,2,0),\" \")","v":" "}]
[null,null,null,null,{"$f":"IFERROR(VLOOKUP(D5717,Códigos!B:C,2,0),\" \")","v":" "}]
[null,null,null,null,{"$f":"IFERROR(VLOOKUP(D5718,Códigos!B:C,2,0),\" \")","v":" "}]
[null,null,null,null,{"$f":"IFERROR(VLOOKUP(D5719,Códigos!B:C,2,0),\" \")","v":" "}]
[null,null,null,null,{"$f":"IFERROR(VLOOKUP(D5720,Códigos!B:C,2,0),\" \")","v":" "}]
[null,null,null,null,{"$f":"IFERROR(VLOOKUP(D5721,Códigos!B:C,2,0),\" \")","v":" "}]
[null,null,null,null,{"$f":"IFERROR(VLOOKUP(D5722,Códigos!B:C,2,0),\" \")","v":" "}]
[null,null,null,null,{"$f":"IFERROR(VLOOKUP(D5723,Códigos!B:C,2,0),\" \")","v":" "}]
[null,null,null,null,{"$f":"IFERROR(VLOOKUP(D5724,Códigos!B:C,2,0),\" \")","v":" "}]
[null,null,null,null,{"$f":"IFERROR(VLOOKUP(D5725,Códigos!B:C,2,0),\" \")","v":" "}]
[null,null,null,null,{"$f":"IFERROR(VLOOKUP(D5726,Códigos!B:C,2,0),\" \")","v":" "}]
[null,null,null,null,{"$f":"IFERROR(VLOOKUP(D5727,Códigos!B:C,2,0),\" \")","v":" "}]
[null,null,null,null,{"$f":"IFERROR(VLOOKUP(D5728,Códigos!B:C,2,0),\" \")","v":" "}]
[null,null,null,null,{"$f":"IFERROR(VLOOKUP(D5729,Códigos!B:C,2,0),\" \")","v":" "}]
[null,null,null,null,{"$f":"IFERROR(VLOOKUP(D5730,Códigos!B:C,2,0),\" \")","v":" "}]
[null,null,null,null,{"$f":"IFERROR(VLOOKUP(D5731,Códigos!B:C,2,0),\" \")","v":" "}]
[null,null,null,null,{"$f":"IFERROR(VLOOKUP(D5732,Códigos!B:C,2,0),\" \")","v":" "}]
[null,null,null,null,{"$f":"IFERROR(VLOOKUP(D5733,Códigos!B:C,2,0),\" \")","v":" "}]
[null,null,null,null,{"$f":"IFERROR(VLOOKUP(D5734,Códigos!B:C,2,0),\" \")","v":" "}]
[null,null,null,null,{"$f":"IFERROR(VLOOKUP(D5735,Códigos!B:C,2,0),\" \")","v":" "}]
[null,null,null,null,{"$f":"IFERROR(VLOOKUP(D5736,Códigos!B:C,2,0),\" \")","v":" "}]
[null,null,null,null,{"$f":"IFERROR(VLOOKUP(D5737,Códigos!B:C,2,0),\" \")","v":" "}]
[null,null,null,null,{"$f":"IFERROR(VLOOKUP(D5738,Códigos!B:C,2,0),\" \")","v":" "}]
[null,null,null,null,{"$f":"IFERROR(VLOOKUP(D5739,Códigos!B:C,2,0),\" \")","v":" "}]
[null,null,null,null,{"$f":"IFERROR(VLOOKUP(D5740,Códigos!B:C,2,0),\" \")","v":" "}]
[null,null,null,null,{"$f":"IFERROR(VLOOKUP(D5741,Códigos!B:C,2,0),\" \")","v":" "}]
[null,null,null,null,{"$f":"IFERROR(VLOOKUP(D5742,Códigos!B:C,2,0),\" \")","v":" "}]
[null,null,null,null,{"$f":"IFERROR(VLOOKUP(D5743,Códigos!B:C,2,0),\" \")","v":" "}]
[null,null,null,null,{"$f":"IFERROR(VLOOKUP(D5744,Códigos!B:C,2,0),\" \")","v":" "}]
[null,null,null,null,{"$f":"IFERROR(VLOOKUP(D5745,Códigos!B:C,2,0),\" \")","v":" "}]
[null,null,null,null,{"$f":"IFERROR(VLOOKUP(D5746,Códigos!B:C,2,0),\" \")","v":" "}]
[null,null,null,null,{"$f":"IFERROR(VLOOKUP(D5747,Códigos!B:C,2,0),\" \")","v":" "}]
[null,null,null,null,{"$f":"IFERROR(VLOOKUP(D5748,Códigos!B:C,2,0),\" \")","v":" "}]
[null,null,null,null,{"$f":"IFERROR(VLOOKUP(D5749,Códigos!B:C,2,0),\" \")","v":" "}]
[null,null,null,null,{"$f":"IFERROR(VLOOKUP(D5750,Códigos!B:C,2,0),\" \")","v":" "}]
[null,null,null,null,{"$f":"IFERROR(VLOOKUP(D5751,Códigos!B:C,2,0),\" \")","v":" "}]
[null,null,null,null,{"$f":"IFERROR(VLOOKUP(D5752,Códigos!B:C,2,0),\" \")","v":" "}]
[null,null,null,null,{"$f":"IFERROR(VLOOKUP(D5753,Códigos!B:C,2,0),\" \")","v":" "}]
[null,null,null,null,{"$f":"IFERROR(VLOOKUP(D5754,Códigos!B:C,2,0),\" \")","v":" "}]
[null,null,null,null,{"$f":"IFERROR(VLOOKUP(D5755,Códigos!B:C,2,0),\" \")","v":" "}]
[null,null,null,null,{"$f":"IFERROR(VLOOKUP(D5756,Códigos!B:C,2,0),\" \")","v":" "}]
[null,null,null,null,{"$f":"IFERROR(VLOOKUP(D5757,Códigos!B:C,2,0),\" \")","v":" "}]
[null,null,null,null,{"$f":"IFERROR(VLOOKUP(D5758,Códigos!B:C,2,0),\" \")","v":" "}]
[null,null,null,null,{"$f":"IFERROR(VLOOKUP(D5759,Códigos!B:C,2,0),\" \")","v":" "}]
[null,null,null,null,{"$f":"IFERROR(VLOOKUP(D5760,Códigos!B:C,2,0),\" \")","v":" "}]
[null,null,null,null,{"$f":"IFERROR(VLOOKUP(D5761,Códigos!B:C,2,0),\" \")","v":" "}]
[null,null,null,null,{"$f":"IFERROR(VLOOKUP(D5762,Códigos!B:C,2,0),\" \")","v":" "}]
[null,null,null,null,{"$f":"IFERROR(VLOOKUP(D5763,Códigos!B:C,2,0),\" \")","v":" "}]
[null,null,null,null,{"$f":"IFERROR(VLOOKUP(D5764,Códigos!B:C,2,0),\" \")","v":" "}]
[null,null,null,null,{"$f":"IFERROR(VLOOKUP(D5765,Códigos!B:C,2,0),\" \")","v":" "}]
[null,null,null,null,{"$f":"IFERROR(VLOOKUP(D5766,Códigos!B:C,2,0),\" \")","v":" "}]
[null,null,null,null,{"$f":"IFERROR(VLOOKUP(D5767,Códigos!B:C,2,0),\" \")","v":" "}]
[null,null,null,null,{"$f":"IFERROR(VLOOKUP(D5768,Códigos!B:C,2,0),\" \")","v":" "}]
[null,null,null,null,{"$f":"IFERROR(VLOOKUP(D5769,Códigos!B:C,2,0),\" \")","v":" "}]
[null,null,null,null,{"$f":"IFERROR(VLOOKUP(D5770,Códigos!B:C,2,0),\" \")","v":" "}]
[null,null,null,null,{"$f":"IFERROR(VLOOKUP(D5771,Códigos!B:C,2,0),\" \")","v":" "}]
[null,null,null,null,{"$f":"IFERROR(VLOOKUP(D5772,Códigos!B:C,2,0),\" \")","v":" "}]
[null,null,null,null,{"$f":"IFERROR(VLOOKUP(D5773,Códigos!B:C,2,0),\" \")","v":" "}]
[null,null,null,null,{"$f":"IFERROR(VLOOKUP(D5774,Códigos!B:C,2,0),\" \")","v":" "}]
[null,null,null,null,{"$f":"IFERROR(VLOOKUP(D5775,Códigos!B:C,2,0),\" \")","v":" "}]
[null,null,null,null,{"$f":"IFERROR(VLOOKUP(D5776,Códigos!B:C,2,0),\" \")","v":" "}]
[null,null,null,null,{"$f":"IFERROR(VLOOKUP(D5777,Códigos!B:C,2,0),\" \")","v":" "}]
[null,null,null,null,{"$f":"IFERROR(VLOOKUP(D5778,Códigos!B:C,2,0),\" \")","v":" "}]
[null,null,null,null,{"$f":"IFERROR(VLOOKUP(D5779,Códigos!B:C,2,0),\" \")","v":" "}]
[null,null,null,null,{"$f":"IFERROR(VLOOKUP(D5780,Códigos!B:C,2,0),\" \")","v":" "}]
[null,null,null,null,{"$f":"IFERROR(VLOOKUP(D5781,Códigos!B:C,2,0),\" \")","v":" "}]
[null,null,null,null,{"$f":"IFERROR(VLOOKUP(D5782,Códigos!B:C,2,0),\" \")","v":" "}]
[null,null,null,null,{"$f":"IFERROR(VLOOKUP(D5783,Códigos!B:C,2,0),\" \")","v":" "}]
[null,null,null,null,{"$f":"IFERROR(VLOOKUP(D5784,Códigos!B:C,2,0),\" \")","v":" "}]
[null,null,null,null,{"$f":"IFERROR(VLOOKUP(D5785,Códigos!B:C,2,0),\" \")","v":" "}]
[null,null,null,null,{"$f":"IFERROR(VLOOKUP(D5786,Códigos!B:C,2,0),\" \")","v":" "}]
[null,null,null,null,{"$f":"IFERROR(VLOOKUP(D5787,Códigos!B:C,2,0),\" \")","v":" "}]
[null,null,null,null,{"$f":"IFERROR(VLOOKUP(D5788,Códigos!B:C,2,0),\" \")","v":" "}]
[null,null,null,null,{"$f":"IFERROR(VLOOKUP(D5789,Códigos!B:C,2,0),\" \")","v":" "}]
[null,null,null,null,{"$f":"IFERROR(VLOOKUP(D5790,Códigos!B:C,2,0),\" \")","v":" "}]
[null,null,null,null,{"$f":"IFERROR(VLOOKUP(D5791,Códigos!B:C,2,0),\" \")","v":" "}]
[null,null,null,null,{"$f":"IFERROR(VLOOKUP(D5792,Códigos!B:C,2,0),\" \")","v":" "}]
[null,null,null,null,{"$f":"IFERROR(VLOOKUP(D5793,Códigos!B:C,2,0),\" \")","v":" "}]
[null,null,null,null,{"$f":"IFERROR(VLOOKUP(D5794,Códigos!B:C,2,0),\" \")","v":" "}]
[null,null,null,null,{"$f":"IFERROR(VLOOKUP(D5795,Códigos!B:C,2,0),\" \")","v":" "}]
[null,null,null,null,{"$f":"IFERROR(VLOOKUP(D5796,Códigos!B:C,2,0),\" \")","v":" "}]
[null,null,null,null,{"$f":"IFERROR(VLOOKUP(D5797,Códigos!B:C,2,0),\" \")","v":" "}]
[null,null,null,null,{"$f":"IFERROR(VLOOKUP(D5798,Códigos!B:C,2,0),\" \")","v":" "}]
[null,null,null,null,{"$f":"IFERROR(VLOOKUP(D5799,Códigos!B:C,2,0),\" \")","v":" "}]
[null,null,null,null,{"$f":"IFERROR(VLOOKUP(D5800,Códigos!B:C,2,0),\" \")","v":" "}]
[null,null,null,null,{"$f":"IFERROR(VLOOKUP(D5801,Códigos!B:C,2,0),\" \")","v":" "}]
[null,null,null,null,{"$f":"IFERROR(VLOOKUP(D5802,Códigos!B:C,2,0),\" \")","v":" "}]
[null,null,null,null,{"$f":"IFERROR(VLOOKUP(D5803,Códigos!B:C,2,0),\" \")","v":" "}]
[null,null,null,null,{"$f":"IFERROR(VLOOKUP(D5804,Códigos!B:C,2,0),\" \")","v":" "}]
[null,null,null,null,{"$f":"IFERROR(VLOOKUP(D5805,Códigos!B:C,2,0),\" \")","v":" "}]
[null,null,null,null,{"$f":"IFERROR(VLOOKUP(D5806,Códigos!B:C,2,0),\" \")","v":" "}]
[null,null,null,null,{"$f":"IFERROR(VLOOKUP(D5807,Códigos!B:C,2,0),\" \")","v":" "}]
[null,null,null,null,{"$f":"IFERROR(VLOOKUP(D5808,Códigos!B:C,2,0),\" \")","v":" "}]
[null,null,null,null,{"$f":"IFERROR(VLOOKUP(D5809,Códigos!B:C,2,0),\" \")","v":" "}]
[null,null,null,null,{"$f":"IFERROR(VLOOKUP(D5810,Códigos!B:C,2,0),\" \")","v":" "}]
[null,null,null,null,{"$f":"IFERROR(VLOOKUP(D5811,Códigos!B:C,2,0),\" \")","v":" "}]
[null,null,null,null,{"$f":"IFERROR(VLOOKUP(D5812,Códigos!B:C,2,0),\" \")","v":" "}]
[null,null,null,null,{"$f":"IFERROR(VLOOKUP(D5813,Códigos!B:C,2,0),\" \")","v":" "}]
[null,null,null,null,{"$f":"IFERROR(VLOOKUP(D5814,Códigos!B:C,2,0),\" \")","v":" "}]
[null,null,null,null,{"$f":"IFERROR(VLOOKUP(D5815,Códigos!B:C,2,0),\" \")","v":" "}]
[null,null,null,null,{"$f":"IFERROR(VLOOKUP(D5816,Códigos!B:C,2,0),\" \")","v":" "}]
[null,null,null,null,{"$f":"IFERROR(VLOOKUP(D5817,Códigos!B:C,2,0),\" \")","v":" "}]
[null,null,null,null,{"$f":"IFERROR(VLOOKUP(D5818,Códigos!B:C,2,0),\" \")","v":" "}]
[null,null,null,null,{"$f":"IFERROR(VLOOKUP(D5819,Códigos!B:C,2,0),\" \")","v":" "}]
[null,null,null,null,{"$f":"IFERROR(VLOOKUP(D5820,Códigos!B:C,2,0),\" \")","v":" "}]
[null,null,null,null,{"$f":"IFERROR(VLOOKUP(D5821,Códigos!B:C,2,0),\" \")","v":" "}]
[null,null,null,null,{"$f":"IFERROR(VLOOKUP(D5822,Códigos!B:C,2,0),\" \")","v":" "}]
[null,null,null,null,{"$f":"IFERROR(VLOOKUP(D5823,Códigos!B:C,2,0),\" \")","v":" "}]
[null,null,null,null,{"$f":"IFERROR(VLOOKUP(D5824,Códigos!B:C,2,0),\" \")","v":" "}]
[null,null,null,null,{"$f":"IFERROR(VLOOKUP(D5825,Códigos!B:C,2,0),\" \")","v":" "}]
[null,null,null,null,{"$f":"IFERROR(VLOOKUP(D5826,Códigos!B:C,2,0),\" \")","v":" "}]
[null,null,null,null,{"$f":"IFERROR(VLOOKUP(D5827,Códigos!B:C,2,0),\" \")","v":" "}]
[null,null,null,null,{"$f":"IFERROR(VLOOKUP(D5828,Códigos!B:C,2,0),\" \")","v":" "}]
[null,null,null,null,{"$f":"IFERROR(VLOOKUP(D5829,Códigos!B:C,2,0),\" \")","v":" "}]
[null,null,null,null,{"$f":"IFERROR(VLOOKUP(D5830,Códigos!B:C,2,0),\" \")","v":" "}]
[null,null,null,null,{"$f":"IFERROR(VLOOKUP(D5831,Códigos!B:C,2,0),\" \")","v":" "}]
[null,null,null,null,{"$f":"IFERROR(VLOOKUP(D5832,Códigos!B:C,2,0),\" \")","v":" "}]
[null,null,null,null,{"$f":"IFERROR(VLOOKUP(D5833,Códigos!B:C,2,0),\" \")","v":" "}]
[null,null,null,null,{"$f":"IFERROR(VLOOKUP(D5834,Códigos!B:C,2,0),\" \")","v":" "}]
[null,null,null,null,{"$f":"IFERROR(VLOOKUP(D5835,Códigos!B:C,2,0),\" \")","v":" "}]
[null,null,null,null,{"$f":"IFERROR(VLOOKUP(D5836,Códigos!B:C,2,0),\" \")","v":" "}]
[null,null,null,null,{"$f":"IFERROR(VLOOKUP(D5837,Códigos!B:C,2,0),\" \")","v":" "}]
[null,null,null,null,{"$f":"IFERROR(VLOOKUP(D5838,Códigos!B:C,2,0),\" \")","v":" "}]
[null,null,null,null,{"$f":"IFERROR(VLOOKUP(D5839,Códigos!B:C,2,0),\" \")","v":" "}]
[null,null,null,null,{"$f":"IFERROR(VLOOKUP(D5840,Códigos!B:C,2,0),\" \")","v":" "}]
[null,null,null,null,{"$f":"IFERROR(VLOOKUP(D5841,Códigos!B:C,2,0),\" \")","v":" "}]
[null,null,null,null,{"$f":"IFERROR(VLOOKUP(D5842,Códigos!B:C,2,0),\" \")","v":" "}]
[null,null,null,null,{"$f":"IFERROR(VLOOKUP(D5843,Códigos!B:C,2,0),\" \")","v":" "}]
[null,null,null,null,{"$f":"IFERROR(VLOOKUP(D5844,Códigos!B:C,2,0),\" \")","v":" "}]
[null,null,null,null,{"$f":"IFERROR(VLOOKUP(D5845,Códigos!B:C,2,0),\" \")","v":" "}]
[null,null,null,null,{"$f":"IFERROR(VLOOKUP(D5846,Códigos!B:C,2,0),\" \")","v":" "}]
[null,null,null,null,{"$f":"IFERROR(VLOOKUP(D5847,Códigos!B:C,2,0),\" \")","v":" "}]
[null,null,null,null,{"$f":"IFERROR(VLOOKUP(D5848,Códigos!B:C,2,0),\" \")","v":" "}]
[null,null,null,null,{"$f":"IFERROR(VLOOKUP(D5849,Códigos!B:C,2,0),\" \")","v":" "}]
[null,null,null,null,{"$f":"IFERROR(VLOOKUP(D5850,Códigos!B:C,2,0),\" \")","v":" "}]
[null,null,null,null,{"$f":"IFERROR(VLOOKUP(D5851,Códigos!B:C,2,0),\" \")","v":" "}]
[null,null,null,null,{"$f":"IFERROR(VLOOKUP(D5852,Códigos!B:C,2,0),\" \")","v":" "}]
[null,null,null,null,{"$f":"IFERROR(VLOOKUP(D5853,Códigos!B:C,2,0),\" \")","v":" "}]
[null,null,null,null,{"$f":"IFERROR(VLOOKUP(D5854,Códigos!B:C,2,0),\" \")","v":" "}]
[null,null,null,null,{"$f":"IFERROR(VLOOKUP(D5855,Códigos!B:C,2,0),\" \")","v":" "}]
[null,null,null,null,{"$f":"IFERROR(VLOOKUP(D5856,Códigos!B:C,2,0),\" \")","v":" "}]
[null,null,null,null,{"$f":"IFERROR(VLOOKUP(D5857,Códigos!B:C,2,0),\" \")","v":" "}]
[null,null,null,null,{"$f":"IFERROR(VLOOKUP(D5858,Códigos!B:C,2,0),\" \")","v":" "}]
[null,null,null,null,{"$f":"IFERROR(VLOOKUP(D5859,Códigos!B:C,2,0),\" \")","v":" "}]
[null,null,null,null,{"$f":"IFERROR(VLOOKUP(D5860,Códigos!B:C,2,0),\" \")","v":" "}]
[null,null,null,null,{"$f":"IFERROR(VLOOKUP(D5861,Códigos!B:C,2,0),\" \")","v":" "}]
[null,null,null,null,{"$f":"IFERROR(VLOOKUP(D5862,Códigos!B:C,2,0),\" \")","v":" "}]
[null,null,null,null,{"$f":"IFERROR(VLOOKUP(D5863,Códigos!B:C,2,0),\" \")","v":" "}]
[null,null,null,null,{"$f":"IFERROR(VLOOKUP(D5864,Códigos!B:C,2,0),\" \")","v":" "}]
[null,null,null,null,{"$f":"IFERROR(VLOOKUP(D5865,Códigos!B:C,2,0),\" \")","v":" "}]
[null,null,null,null,{"$f":"IFERROR(VLOOKUP(D5866,Códigos!B:C,2,0),\" \")","v":" "}]
[null,null,null,null,{"$f":"IFERROR(VLOOKUP(D5867,Códigos!B:C,2,0),\" \")","v":" "}]
[null,null,null,null,{"$f":"IFERROR(VLOOKUP(D5868,Códigos!B:C,2,0),\" \")","v":" "}]
[null,null,null,null,{"$f":"IFERROR(VLOOKUP(D5869,Códigos!B:C,2,0),\" \")","v":" "}]
[null,null,null,null,{"$f":"IFERROR(VLOOKUP(D5870,Códigos!B:C,2,0),\" \")","v":" "}]
[null,null,null,null,{"$f":"IFERROR(VLOOKUP(D5871,Códigos!B:C,2,0),\" \")","v":" "}]
[null,null,null,null,{"$f":"IFERROR(VLOOKUP(D5872,Códigos!B:C,2,0),\" \")","v":" "}]
[null,null,null,null,{"$f":"IFERROR(VLOOKUP(D5873,Códigos!B:C,2,0),\" \")","v":" "}]
[null,null,null,null,{"$f":"IFERROR(VLOOKUP(D5874,Códigos!B:C,2,0),\" \")","v":" "}]
[null,null,null,null,{"$f":"IFERROR(VLOOKUP(D5875,Códigos!B:C,2,0),\" \")","v":" "}]
[null,null,null,null,{"$f":"IFERROR(VLOOKUP(D5876,Códigos!B:C,2,0),\" \")","v":" "}]
[null,null,null,null,{"$f":"IFERROR(VLOOKUP(D5877,Códigos!B:C,2,0),\" \")","v":" "}]
[null,null,null,null,{"$f":"IFERROR(VLOOKUP(D5878,Códigos!B:C,2,0),\" \")","v":" "}]
[null,null,null,null,{"$f":"IFERROR(VLOOKUP(D5879,Códigos!B:C,2,0),\" \")","v":" "}]
[null,null,null,null,{"$f":"IFERROR(VLOOKUP(D5880,Códigos!B:C,2,0),\" \")","v":" "}]
[null,null,null,null,{"$f":"IFERROR(VLOOKUP(D5881,Códigos!B:C,2,0),\" \")","v":" "}]
[null,null,null,null,{"$f":"IFERROR(VLOOKUP(D5882,Códigos!B:C,2,0),\" \")","v":" "}]
[null,null,null,null,{"$f":"IFERROR(VLOOKUP(D5883,Códigos!B:C,2,0),\" \")","v":" "}]
[null,null,null,null,{"$f":"IFERROR(VLOOKUP(D5884,Códigos!B:C,2,0),\" \")","v":" "}]
[null,null,null,null,{"$f":"IFERROR(VLOOKUP(D5885,Códigos!B:C,2,0),\" \")","v":" "}]
[null,null,null,null,{"$f":"IFERROR(VLOOKUP(D5886,Códigos!B:C,2,0),\" \")","v":" "}]
[null,null,null,null,{"$f":"IFERROR(VLOOKUP(D5887,Códigos!B:C,2,0),\" \")","v":" "}]
[null,null,null,null,{"$f":"IFERROR(VLOOKUP(D5888,Códigos!B:C,2,0),\" \")","v":" "}]
[null,null,null,null,{"$f":"IFERROR(VLOOKUP(D5889,Códigos!B:C,2,0),\" \")","v":" "}]
[null,null,null,null,{"$f":"IFERROR(VLOOKUP(D5890,Códigos!B:C,2,0),\" \")","v":" "}]
[null,null,null,null,{"$f":"IFERROR(VLOOKUP(D5891,Códigos!B:C,2,0),\" \")","v":" "}]
[null,null,null,null,{"$f":"IFERROR(VLOOKUP(D5892,Códigos!B:C,2,0),\" \")","v":" "}]
[null,null,null,null,{"$f":"IFERROR(VLOOKUP(D5893,Códigos!B:C,2,0),\" \")","v":" "}]
[null,null,null,null,{"$f":"IFERROR(VLOOKUP(D5894,Códigos!B:C,2,0),\" \")","v":" "}]
[null,null,null,null,{"$f":"IFERROR(VLOOKUP(D5895,Códigos!B:C,2,0),\" \")","v":" "}]
[null,null,null,null,{"$f":"IFERROR(VLOOKUP(D5896,Códigos!B:C,2,0),\" \")","v":" "}]
[null,null,null,null,{"$f":"IFERROR(VLOOKUP(D5897,Códigos!B:C,2,0),\" \")","v":" "}]
[null,null,null,null,{"$f":"IFERROR(VLOOKUP(D5898,Códigos!B:C,2,0),\" \")","v":" "}]
[null,null,null,null,{"$f":"IFERROR(VLOOKUP(D5899,Códigos!B:C,2,0),\" \")","v":" "}]
[null,null,null,null,{"$f":"IFERROR(VLOOKUP(D5900,Códigos!B:C,2,0),\" \")","v":" "}]
[null,null,null,null,{"$f":"IFERROR(VLOOKUP(D5901,Códigos!B:C,2,0),\" \")","v":" "}]
[null,null,null,null,{"$f":"IFERROR(VLOOKUP(D5902,Códigos!B:C,2,0),\" \")","v":" "}]
[null,null,null,null,{"$f":"IFERROR(VLOOKUP(D5903,Códigos!B:C,2,0),\" \")","v":" "}]
[null,null,null,null,{"$f":"IFERROR(VLOOKUP(D5904,Códigos!B:C,2,0),\" \")","v":" "}]
[null,null,null,null,{"$f":"IFERROR(VLOOKUP(D5905,Códigos!B:C,2,0),\" \")","v":" "}]
[null,null,null,null,{"$f":"IFERROR(VLOOKUP(D5906,Códigos!B:C,2,0),\" \")","v":" "}]
[null,null,null,null,{"$f":"IFERROR(VLOOKUP(D5907,Códigos!B:C,2,0),\" \")","v":" "}]
[null,null,null,null,{"$f":"IFERROR(VLOOKUP(D5908,Códigos!B:C,2,0),\" \")","v":" "}]
[null,null,null,null,{"$f":"IFERROR(VLOOKUP(D5909,Códigos!B:C,2,0),\" \")","v":" "}]
[null,null,null,null,{"$f":"IFERROR(VLOOKUP(D5910,Códigos!B:C,2,0),\" \")","v":" "}]
[null,null,null,null,{"$f":"IFERROR(VLOOKUP(D5911,Códigos!B:C,2,0),\" \")","v":" "}]
[null,null,null,null,{"$f":"IFERROR(VLOOKUP(D5912,Códigos!B:C,2,0),\" \")","v":" "}]
[null,null,null,null,{"$f":"IFERROR(VLOOKUP(D5913,Códigos!B:C,2,0),\" \")","v":" "}]
[null,null,null,null,{"$f":"IFERROR(VLOOKUP(D5914,Códigos!B:C,2,0),\" \")","v":" "}]
[null,null,null,null,{"$f":"IFERROR(VLOOKUP(D5915,Códigos!B:C,2,0),\" \")","v":" "}]
[null,null,null,null,{"$f":"IFERROR(VLOOKUP(D5916,Códigos!B:C,2,0),\" \")","v":" "}]
[null,null,null,null,{"$f":"IFERROR(VLOOKUP(D5917,Códigos!B:C,2,0),\" \")","v":" "}]
[null,null,null,null,{"$f":"IFERROR(VLOOKUP(D5918,Códigos!B:C,2,0),\" \")","v":" "}]
[null,null,null,null,{"$f":"IFERROR(VLOOKUP(D5919,Códigos!B:C,2,0),\" \")","v":" "}]
[null,null,null,null,{"$f":"IFERROR(VLOOKUP(D5920,Códigos!B:C,2,0),\" \")","v":" "}]
[null,null,null,null,{"$f":"IFERROR(VLOOKUP(D5921,Códigos!B:C,2,0),\" \")","v":" "}]
[null,null,null,null,{"$f":"IFERROR(VLOOKUP(D5922,Códigos!B:C,2,0),\" \")","v":" "}]
[null,null,null,null,{"$f":"IFERROR(VLOOKUP(D5923,Códigos!B:C,2,0),\" \")","v":" "}]
[null,null,null,null,{"$f":"IFERROR(VLOOKUP(D5924,Códigos!B:C,2,0),\" \")","v":" "}]
[null,null,null,null,{"$f":"IFERROR(VLOOKUP(D5925,Códigos!B:C,2,0),\" \")","v":" "}]
[null,null,null,null,{"$f":"IFERROR(VLOOKUP(D5926,Códigos!B:C,2,0),\" \")","v":" "}]
[null,null,null,null,{"$f":"IFERROR(VLOOKUP(D5927,Códigos!B:C,2,0),\" \")","v":" "}]
[null,null,null,null,{"$f":"IFERROR(VLOOKUP(D5928,Códigos!B:C,2,0),\" \")","v":" "}]
[null,null,null,null,{"$f":"IFERROR(VLOOKUP(D5929,Códigos!B:C,2,0),\" \")","v":" "}]
[null,null,null,null,{"$f":"IFERROR(VLOOKUP(D5930,Códigos!B:C,2,0),\" \")","v":" "}]
[null,null,null,null,{"$f":"IFERROR(VLOOKUP(D5931,Códigos!B:C,2,0),\" \")","v":" "}]
[null,null,null,null,{"$f":"IFERROR(VLOOKUP(D5932,Códigos!B:C,2,0),\" \")","v":" "}]
[null,null,null,null,{"$f":"IFERROR(VLOOKUP(D5933,Códigos!B:C,2,0),\" \")","v":" "}]
[null,null,null,null,{"$f":"IFERROR(VLOOKUP(D5934,Códigos!B:C,2,0),\" \")","v":" "}]
[null,null,null,null,{"$f":"IFERROR(VLOOKUP(D5935,Códigos!B:C,2,0),\" \")","v":" "}]
[null,null,null,null,{"$f":"IFERROR(VLOOKUP(D5936,Códigos!B:C,2,0),\" \")","v":" "}]
[null,null,null,null,{"$f":"IFERROR(VLOOKUP(D5937,Códigos!B:C,2,0),\" \")","v":" "}]
[null,null,null,null,{"$f":"IFERROR(VLOOKUP(D5938,Códigos!B:C,2,0),\" \")","v":" "}]
[null,null,null,null,{"$f":"IFERROR(VLOOKUP(D5939,Códigos!B:C,2,0),\" \")","v":" "}]
[null,null,null,null,{"$f":"IFERROR(VLOOKUP(D5940,Códigos!B:C,2,0),\" \")","v":" "}]
[null,null,null,null,{"$f":"IFERROR(VLOOKUP(D5941,Códigos!B:C,2,0),\" \")","v":" "}]
[null,null,null,null,{"$f":"IFERROR(VLOOKUP(D5942,Códigos!B:C,2,0),\" \")","v":" "}]
[null,null,null,null,{"$f":"IFERROR(VLOOKUP(D5943,Códigos!B:C,2,0),\" \")","v":" "}]
[null,null,null,null,{"$f":"IFERROR(VLOOKUP(D5944,Códigos!B:C,2,0),\" \")","v":" "}]
[null,null,null,null,{"$f":"IFERROR(VLOOKUP(D5945,Códigos!B:C,2,0),\" \")","v":" "}]
[null,null,null,null,{"$f":"IFERROR(VLOOKUP(D5946,Códigos!B:C,2,0),\" \")","v":" "}]
[null,null,null,null,{"$f":"IFERROR(VLOOKUP(D5947,Códigos!B:C,2,0),\" \")","v":" "}]
[null,null,null,null,{"$f":"IFERROR(VLOOKUP(D5948,Códigos!B:C,2,0),\" \")","v":" "}]
[null,null,null,null,{"$f":"IFERROR(VLOOKUP(D5949,Códigos!B:C,2,0),\" \")","v":" "}]
[null,null,null,null,{"$f":"IFERROR(VLOOKUP(D5950,Códigos!B:C,2,0),\" \")","v":" "}]
[null,null,null,null,{"$f":"IFERROR(VLOOKUP(D5951,Códigos!B:C,2,0),\" \")","v":" "}]
[null,null,null,null,{"$f":"IFERROR(VLOOKUP(D5952,Códigos!B:C,2,0),\" \")","v":" "}]
[null,null,null,null,{"$f":"IFERROR(VLOOKUP(D5953,Códigos!B:C,2,0),\" \")","v":" "}]
[null,null,null,null,{"$f":"IFERROR(VLOOKUP(D5954,Códigos!B:C,2,0),\" \")","v":" "}]
[null,null,null,null,{"$f":"IFERROR(VLOOKUP(D5955,Códigos!B:C,2,0),\" \")","v":" "}]
[null,null,null,null,{"$f":"IFERROR(VLOOKUP(D5956,Códigos!B:C,2,0),\" \")","v":" "}]
[null,null,null,null,{"$f":"IFERROR(VLOOKUP(D5957,Códigos!B:C,2,0),\" \")","v":" "}]
[null,null,null,null,{"$f":"IFERROR(VLOOKUP(D5958,Códigos!B:C,2,0),\" \")","v":" "}]
[null,null,null,null,{"$f":"IFERROR(VLOOKUP(D5959,Códigos!B:C,2,0),\" \")","v":" "}]
[null,null,null,null,{"$f":"IFERROR(VLOOKUP(D5960,Códigos!B:C,2,0),\" \")","v":" "}]
[null,null,null,null,{"$f":"IFERROR(VLOOKUP(D5961,Códigos!B:C,2,0),\" \")","v":" "}]
[null,null,null,null,{"$f":"IFERROR(VLOOKUP(D5962,Códigos!B:C,2,0),\" \")","v":" "}]
[null,null,null,null,{"$f":"IFERROR(VLOOKUP(D5963,Códigos!B:C,2,0),\" \")","v":" "}]
[null,null,null,null,{"$f":"IFERROR(VLOOKUP(D5964,Códigos!B:C,2,0),\" \")","v":" "}]
[null,null,null,null,{"$f":"IFERROR(VLOOKUP(D5965,Códigos!B:C,2,0),\" \")","v":" "}]
[null,null,null,null,{"$f":"IFERROR(VLOOKUP(D5966,Códigos!B:C,2,0),\" \")","v":" "}]
[null,null,null,null,{"$f":"IFERROR(VLOOKUP(D5967,Códigos!B:C,2,0),\" \")","v":" "}]
[null,null,null,null,{"$f":"IFERROR(VLOOKUP(D5968,Códigos!B:C,2,0),\" \")","v":" "}]
[null,null,null,null,{"$f":"IFERROR(VLOOKUP(D5969,Códigos!B:C,2,0),\" \")","v":" "}]
[null,null,null,null,{"$f":"IFERROR(VLOOKUP(D5970,Códigos!B:C,2,0),\" \")","v":" "}]
[null,null,null,null,{"$f":"IFERROR(VLOOKUP(D5971,Códigos!B:C,2,0),\" \")","v":" "}]
[null,null,null,null,{"$f":"IFERROR(VLOOKUP(D5972,Códigos!B:C,2,0),\" \")","v":" "}]
[null,null,null,null,{"$f":"IFERROR(VLOOKUP(D5973,Códigos!B:C,2,0),\" \")","v":" "}]
[null,null,null,null,{"$f":"IFERROR(VLOOKUP(D5974,Códigos!B:C,2,0),\" \")","v":" "}]
[null,null,null,null,{"$f":"IFERROR(VLOOKUP(D5975,Códigos!B:C,2,0),\" \")","v":" "}]
[null,null,null,null,{"$f":"IFERROR(VLOOKUP(D5976,Códigos!B:C,2,0),\" \")","v":" "}]
[null,null,null,null,{"$f":"IFERROR(VLOOKUP(D5977,Códigos!B:C,2,0),\" \")","v":" "}]
[null,null,null,null,{"$f":"IFERROR(VLOOKUP(D5978,Códigos!B:C,2,0),\" \")","v":" "}]
[null,null,null,null,{"$f":"IFERROR(VLOOKUP(D5979,Códigos!B:C,2,0),\" \")","v":" "}]
[null,null,null,null,{"$f":"IFERROR(VLOOKUP(D5980,Códigos!B:C,2,0),\" \")","v":" "}]
[null,null,null,null,{"$f":"IFERROR(VLOOKUP(D5981,Códigos!B:C,2,0),\" \")","v":" "}]
[null,null,null,null,{"$f":"IFERROR(VLOOKUP(D5982,Códigos!B:C,2,0),\" \")","v":" "}]
[null,null,null,null,{"$f":"IFERROR(VLOOKUP(D5983,Códigos!B:C,2,0),\" \")","v":" "}]
[null,null,null,null,{"$f":"IFERROR(VLOOKUP(D5984,Códigos!B:C,2,0),\" \")","v":" "}]
[null,null,null,null,{"$f":"IFERROR(VLOOKUP(D5985,Códigos!B:C,2,0),\" \")","v":" "}]
[null,null,null,null,{"$f":"IFERROR(VLOOKUP(D5986,Códigos!B:C,2,0),\" \")","v":" "}]
[null,null,null,null,{"$f":"IFERROR(VLOOKUP(D5987,Códigos!B:C,2,0),\" \")","v":" "}]
[null,null,null,null,{"$f":"IFERROR(VLOOKUP(D5988,Códigos!B:C,2,0),\" \")","v":" "}]
[null,null,null,null,{"$f":"IFERROR(VLOOKUP(D5989,Códigos!B:C,2,0),\" \")","v":" "}]
[null,null,null,null,{"$f":"IFERROR(VLOOKUP(D5990,Códigos!B:C,2,0),\" \")","v":" "}]
[null,null,null,null,{"$f":"IFERROR(VLOOKUP(D5991,Códigos!B:C,2,0),\" \")","v":" "}]
[null,null,null,null,{"$f":"IFERROR(VLOOKUP(D5992,Códigos!B:C,2,0),\" \")","v":" "}]
[null,null,null,null,{"$f":"IFERROR(VLOOKUP(D5993,Códigos!B:C,2,0),\" \")","v":" "}]
[null,null,null,null,{"$f":"IFERROR(VLOOKUP(D5994,Códigos!B:C,2,0),\" \")","v":" "}]
[null,null,null,null,{"$f":"IFERROR(VLOOKUP(D5995,Códigos!B:C,2,0),\" \")","v":" "}]
[null,null,null,null,{"$f":"IFERROR(VLOOKUP(D5996,Códigos!B:C,2,0),\" \")","v":" "}]
[null,null,null,null,{"$f":"IFERROR(VLOOKUP(D5997,Códigos!B:C,2,0),\" \")","v":" "}]
[null,null,null,null,{"$f":"IFERROR(VLOOKUP(D5998,Códigos!B:C,2,0),\" \")","v":" "}]
[null,null,null,null,{"$f":"IFERROR(VLOOKUP(D5999,Códigos!B:C,2,0),\" \")","v":" "}]
[null,null,null,null,{"$f":"IFERROR(VLOOKUP(D6000,Códigos!B:C,2,0),\" \")","v":" "}]
[null,null,null,null,{"$f":"IFERROR(VLOOKUP(D6001,Códigos!B:C,2,0),\" \")","v":" "}]
[null,null,null,null,{"$f":"IFERROR(VLOOKUP(D6002,Códigos!B:C,2,0),\" \")","v":" "}]
[null,null,null,null,{"$f":"IFERROR(VLOOKUP(D6003,Códigos!B:C,2,0),\" \")","v":" "}]
[null,null,null,null,{"$f":"IFERROR(VLOOKUP(D6004,Códigos!B:C,2,0),\" \")","v":" "}]
[null,null,null,null,{"$f":"IFERROR(VLOOKUP(D6005,Códigos!B:C,2,0),\" \")","v":" "}]
[null,null,null,null,{"$f":"IFERROR(VLOOKUP(D6006,Códigos!B:C,2,0),\" \")","v":" "}]
[null,null,null,null,{"$f":"IFERROR(VLOOKUP(D6007,Códigos!B:C,2,0),\" \")","v":" "}]
[null,null,null,null,{"$f":"IFERROR(VLOOKUP(D6008,Códigos!B:C,2,0),\" \")","v":" "}]
[null,null,null,null,{"$f":"IFERROR(VLOOKUP(D6009,Códigos!B:C,2,0),\" \")","v":" "}]
[null,null,null,null,{"$f":"IFERROR(VLOOKUP(D6010,Códigos!B:C,2,0),\" \")","v":" "}]
[null,null,null,null,{"$f":"IFERROR(VLOOKUP(D6011,Códigos!B:C,2,0),\" \")","v":" "}]
[null,null,null,null,{"$f":"IFERROR(VLOOKUP(D6012,Códigos!B:C,2,0),\" \")","v":" "}]
[null,null,null,null,{"$f":"IFERROR(VLOOKUP(D6013,Códigos!B:C,2,0),\" \")","v":" "}]
[null,null,null,null,{"$f":"IFERROR(VLOOKUP(D6014,Códigos!B:C,2,0),\" \")","v":" "}]
[null,null,null,null,{"$f":"IFERROR(VLOOKUP(D6015,Códigos!B:C,2,0),\" \")","v":" "}]
[null,null,null,null,{"$f":"IFERROR(VLOOKUP(D6016,Códigos!B:C,2,0),\" \")","v":" "}]
[null,null,null,null,{"$f":"IFERROR(VLOOKUP(D6017,Códigos!B:C,2,0),\" \")","v":" "}]
[null,null,null,null,{"$f":"IFERROR(VLOOKUP(D6018,Códigos!B:C,2,0),\" \")","v":" "}]
[null,null,null,null,{"$f":"IFERROR(VLOOKUP(D6019,Códigos!B:C,2,0),\" \")","v":" "}]
[null,null,null,null,{"$f":"IFERROR(VLOOKUP(D6020,Códigos!B:C,2,0),\" \")","v":" "}]
[null,null,null,null,{"$f":"IFERROR(VLOOKUP(D6021,Códigos!B:C,2,0),\" \")","v":" "}]
[null,null,null,null,{"$f":"IFERROR(VLOOKUP(D6022,Códigos!B:C,2,0),\" \")","v":" "}]
[null,null,null,null,{"$f":"IFERROR(VLOOKUP(D6023,Códigos!B:C,2,0),\" \")","v":" "}]
[null,null,null,null,{"$f":"IFERROR(VLOOKUP(D6024,Códigos!B:C,2,0),\" \")","v":" "}]
[null,null,null,null,{"$f":"IFERROR(VLOOKUP(D6025,Códigos!B:C,2,0),\" \")","v":" "}]
[null,null,null,null,{"$f":"IFERROR(VLOOKUP(D6026,Códigos!B:C,2,0),\" \")","v":" "}]
[null,null,null,null,{"$f":"IFERROR(VLOOKUP(D6027,Códigos!B:C,2,0),\" \")","v":" "}]
[null,null,null,null,{"$f":"IFERROR(VLOOKUP(D6028,Códigos!B:C,2,0),\" \")","v":" "}]
[null,null,null,null,{"$f":"IFERROR(VLOOKUP(D6029,Códigos!B:C,2,0),\" \")","v":" "}]
[null,null,null,null,{"$f":"IFERROR(VLOOKUP(D6030,Códigos!B:C,2,0),\" \")","v":" "}]
[null,null,null,null,{"$f":"IFERROR(VLOOKUP(D6031,Códigos!B:C,2,0),\" \")","v":" "}]
[null,null,null,null,{"$f":"IFERROR(VLOOKUP(D6032,Códigos!B:C,2,0),\" \")","v":" "}]
[null,null,null,null,{"$f":"IFERROR(VLOOKUP(D6033,Códigos!B:C,2,0),\" \")","v":" "}]
[null,null,null,null,{"$f":"IFERROR(VLOOKUP(D6034,Códigos!B:C,2,0),\" \")","v":" "}]
[null,null,null,null,{"$f":"IFERROR(VLOOKUP(D6035,Códigos!B:C,2,0),\" \")","v":" "}]
[null,null,null,null,{"$f":"IFERROR(VLOOKUP(D6036,Códigos!B:C,2,0),\" \")","v":" "}]
[null,null,null,null,{"$f":"IFERROR(VLOOKUP(D6037,Códigos!B:C,2,0),\" \")","v":" "}]
[null,null,null,null,{"$f":"IFERROR(VLOOKUP(D6038,Códigos!B:C,2,0),\" \")","v":" "}]
[null,null,null,null,{"$f":"IFERROR(VLOOKUP(D6039,Códigos!B:C,2,0),\" \")","v":" "}]
[null,null,null,null,{"$f":"IFERROR(VLOOKUP(D6040,Códigos!B:C,2,0),\" \")","v":" "}]
[null,null,null,null,{"$f":"IFERROR(VLOOKUP(D6041,Códigos!B:C,2,0),\" \")","v":" "}]
[null,null,null,null,{"$f":"IFERROR(VLOOKUP(D6042,Códigos!B:C,2,0),\" \")","v":" "}]
[null,null,null,null,{"$f":"IFERROR(VLOOKUP(D6043,Códigos!B:C,2,0),\" \")","v":" "}]
[null,null,null,null,{"$f":"IFERROR(VLOOKUP(D6044,Códigos!B:C,2,0),\" \")","v":" "}]
[null,null,null,null,{"$f":"IFERROR(VLOOKUP(D6045,Códigos!B:C,2,0),\" \")","v":" "}]
[null,null,null,null,{"$f":"IFERROR(VLOOKUP(D6046,Códigos!B:C,2,0),\" \")","v":" "}]
[null,null,null,null,{"$f":"IFERROR(VLOOKUP(D6047,Códigos!B:C,2,0),\" \")","v":" "}]
[null,null,null,null,{"$f":"IFERROR(VLOOKUP(D6048,Códigos!B:C,2,0),\" \")","v":" "}]
[null,null,null,null,{"$f":"IFERROR(VLOOKUP(D6049,Códigos!B:C,2,0),\" \")","v":" "}]
[null,null,null,null,{"$f":"IFERROR(VLOOKUP(D6050,Códigos!B:C,2,0),\" \")","v":" "}]
[null,null,null,null,{"$f":"IFERROR(VLOOKUP(D6051,Códigos!B:C,2,0),\" \")","v":" "}]
[null,null,null,null,{"$f":"IFERROR(VLOOKUP(D6052,Códigos!B:C,2,0),\" \")","v":" "}]
[null,null,null,null,{"$f":"IFERROR(VLOOKUP(D6053,Códigos!B:C,2,0),\" \")","v":" "}]
[null,null,null,null,{"$f":"IFERROR(VLOOKUP(D6054,Códigos!B:C,2,0),\" \")","v":" "}]
[null,null,null,null,{"$f":"IFERROR(VLOOKUP(D6055,Códigos!B:C,2,0),\" \")","v":" "}]
[null,null,null,null,{"$f":"IFERROR(VLOOKUP(D6056,Códigos!B:C,2,0),\" \")","v":" "}]
[null,null,null,null,{"$f":"IFERROR(VLOOKUP(D6057,Códigos!B:C,2,0),\" \")","v":" "}]
[null,null,null,null,{"$f":"IFERROR(VLOOKUP(D6058,Códigos!B:C,2,0),\" \")","v":" "}]
[null,null,null,null,{"$f":"IFERROR(VLOOKUP(D6059,Códigos!B:C,2,0),\" \")","v":" "}]
[null,null,null,null,{"$f":"IFERROR(VLOOKUP(D6060,Códigos!B:C,2,0),\" \")","v":" "}]
[null,null,null,null,{"$f":"IFERROR(VLOOKUP(D6061,Códigos!B:C,2,0),\" \")","v":" "}]
[null,null,null,null,{"$f":"IFERROR(VLOOKUP(D6062,Códigos!B:C,2,0),\" \")","v":" "}]
[null,null,null,null,{"$f":"IFERROR(VLOOKUP(D6063,Códigos!B:C,2,0),\" \")","v":" "}]
[null,null,null,null,{"$f":"IFERROR(VLOOKUP(D6064,Códigos!B:C,2,0),\" \")","v":" "}]
[null,null,null,null,{"$f":"IFERROR(VLOOKUP(D6065,Códigos!B:C,2,0),\" \")","v":" "}]
[null,null,null,null,{"$f":"IFERROR(VLOOKUP(D6066,Códigos!B:C,2,0),\" \")","v":" "}]
[null,null,null,null,{"$f":"IFERROR(VLOOKUP(D6067,Códigos!B:C,2,0),\" \")","v":" "}]
[null,null,null,null,{"$f":"IFERROR(VLOOKUP(D6068,Códigos!B:C,2,0),\" \")","v":" "}]
[null,null,null,null,{"$f":"IFERROR(VLOOKUP(D6069,Códigos!B:C,2,0),\" \")","v":" "}]
[null,null,null,null,{"$f":"IFERROR(VLOOKUP(D6070,Códigos!B:C,2,0),\" \")","v":" "}]
[null,null,null,null,{"$f":"IFERROR(VLOOKUP(D6071,Códigos!B:C,2,0),\" \")","v":" "}]
[null,null,null,null,{"$f":"IFERROR(VLOOKUP(D6072,Códigos!B:C,2,0),\" \")","v":" "}]
[null,null,null,null,{"$f":"IFERROR(VLOOKUP(D6073,Códigos!B:C,2,0),\" \")","v":" "}]
[null,null,null,null,{"$f":"IFERROR(VLOOKUP(D6074,Códigos!B:C,2,0),\" \")","v":" "}]
[null,null,null,null,{"$f":"IFERROR(VLOOKUP(D6075,Códigos!B:C,2,0),\" \")","v":" "}]
[null,null,null,null,{"$f":"IFERROR(VLOOKUP(D6076,Códigos!B:C,2,0),\" \")","v":" "}]
[null,null,null,null,{"$f":"IFERROR(VLOOKUP(D6077,Códigos!B:C,2,0),\" \")","v":" "}]
[null,null,null,null,{"$f":"IFERROR(VLOOKUP(D6078,Códigos!B:C,2,0),\" \")","v":" "}]
[null,null,null,null,{"$f":"IFERROR(VLOOKUP(D6079,Códigos!B:C,2,0),\" \")","v":" "}]
[null,null,null,null,{"$f":"IFERROR(VLOOKUP(D6080,Códigos!B:C,2,0),\" \")","v":" "}]
[null,null,null,null,{"$f":"IFERROR(VLOOKUP(D6081,Códigos!B:C,2,0),\" \")","v":" "}]
[null,null,null,null,{"$f":"IFERROR(VLOOKUP(D6082,Códigos!B:C,2,0),\" \")","v":" "}]
[null,null,null,null,{"$f":"IFERROR(VLOOKUP(D6083,Códigos!B:C,2,0),\" \")","v":" "}]
[null,null,null,null,{"$f":"IFERROR(VLOOKUP(D6084,Códigos!B:C,2,0),\" \")","v":" "}]
[null,null,null,null,{"$f":"IFERROR(VLOOKUP(D6085,Códigos!B:C,2,0),\" \")","v":" "}]
[null,null,null,null,{"$f":"IFERROR(VLOOKUP(D6086,Códigos!B:C,2,0),\" \")","v":" "}]
[null,null,null,null,{"$f":"IFERROR(VLOOKUP(D6087,Códigos!B:C,2,0),\" \")","v":" "}]
[null,null,null,null,{"$f":"IFERROR(VLOOKUP(D6088,Códigos!B:C,2,0),\" \")","v":" "}]
[null,null,null,null,{"$f":"IFERROR(VLOOKUP(D6089,Códigos!B:C,2,0),\" \")","v":" "}]
[null,null,null,null,{"$f":"IFERROR(VLOOKUP(D6090,Códigos!B:C,2,0),\" \")","v":" "}]
[null,null,null,null,{"$f":"IFERROR(VLOOKUP(D6091,Códigos!B:C,2,0),\" \")","v":" "}]
[null,null,null,null,{"$f":"IFERROR(VLOOKUP(D6092,Códigos!B:C,2,0),\" \")","v":" "}]
[null,null,null,null,{"$f":"IFERROR(VLOOKUP(D6093,Códigos!B:C,2,0),\" \")","v":" "}]
[null,null,null,null,{"$f":"IFERROR(VLOOKUP(D6094,Códigos!B:C,2,0),\" \")","v":" "}]
[null,null,null,null,{"$f":"IFERROR(VLOOKUP(D6095,Códigos!B:C,2,0),\" \")","v":" "}]
[null,null,null,null,{"$f":"IFERROR(VLOOKUP(D6096,Códigos!B:C,2,0),\" \")","v":" "}]
[null,null,null,null,{"$f":"IFERROR(VLOOKUP(D6097,Códigos!B:C,2,0),\" \")","v":" "}]
[null,null,null,null,{"$f":"IFERROR(VLOOKUP(D6098,Códigos!B:C,2,0),\" \")","v":" "}]
[null,null,null,null,{"$f":"IFERROR(VLOOKUP(D6099,Códigos!B:C,2,0),\" \")","v":" "}]
[null,null,null,null,{"$f":"IFERROR(VLOOKUP(D6100,Códigos!B:C,2,0),\" \")","v":" "}]
[null,null,null,null,{"$f":"IFERROR(VLOOKUP(D6101,Códigos!B:C,2,0),\" \")","v":" "}]
[null,null,null,null,{"$f":"IFERROR(VLOOKUP(D6102,Códigos!B:C,2,0),\" \")","v":" "}]
[null,null,null,null,{"$f":"IFERROR(VLOOKUP(D6103,Códigos!B:C,2,0),\" \")","v":" "}]
[null,null,null,null,{"$f":"IFERROR(VLOOKUP(D6104,Códigos!B:C,2,0),\" \")","v":" "}]
[null,null,null,null,{"$f":"IFERROR(VLOOKUP(D6105,Códigos!B:C,2,0),\" \")","v":" "}]
[null,null,null,null,{"$f":"IFERROR(VLOOKUP(D6106,Códigos!B:C,2,0),\" \")","v":" "}]
[null,null,null,null,{"$f":"IFERROR(VLOOKUP(D6107,Códigos!B:C,2,0),\" \")","v":" "}]
[null,null,null,null,{"$f":"IFERROR(VLOOKUP(D6108,Códigos!B:C,2,0),\" \")","v":" "}]
[null,null,null,null,{"$f":"IFERROR(VLOOKUP(D6109,Códigos!B:C,2,0),\" \")","v":" "}]
[null,null,null,null,{"$f":"IFERROR(VLOOKUP(D6110,Códigos!B:C,2,0),\" \")","v":" "}]
[null,null,null,null,{"$f":"IFERROR(VLOOKUP(D6111,Códigos!B:C,2,0),\" \")","v":" "}]
[null,null,null,null,{"$f":"IFERROR(VLOOKUP(D6112,Códigos!B:C,2,0),\" \")","v":" "}]
[null,null,null,null,{"$f":"IFERROR(VLOOKUP(D6113,Códigos!B:C,2,0),\" \")","v":" "}]
[null,null,null,null,{"$f":"IFERROR(VLOOKUP(D6114,Códigos!B:C,2,0),\" \")","v":" "}]
[null,null,null,null,{"$f":"IFERROR(VLOOKUP(D6115,Códigos!B:C,2,0),\" \")","v":" "}]
[null,null,null,null,{"$f":"IFERROR(VLOOKUP(D6116,Códigos!B:C,2,0),\" \")","v":" "}]
[null,null,null,null,{"$f":"IFERROR(VLOOKUP(D6117,Códigos!B:C,2,0),\" \")","v":" "}]
[null,null,null,null,{"$f":"IFERROR(VLOOKUP(D6118,Códigos!B:C,2,0),\" \")","v":" "}]
[null,null,null,null,{"$f":"IFERROR(VLOOKUP(D6119,Códigos!B:C,2,0),\" \")","v":" "}]
[null,null,null,null,{"$f":"IFERROR(VLOOKUP(D6120,Códigos!B:C,2,0),\" \")","v":" "}]
[null,null,null,null,{"$f":"IFERROR(VLOOKUP(D6121,Códigos!B:C,2,0),\" \")","v":" "}]
[null,null,null,null,{"$f":"IFERROR(VLOOKUP(D6122,Códigos!B:C,2,0),\" \")","v":" "}]
[null,null,null,null,{"$f":"IFERROR(VLOOKUP(D6123,Códigos!B:C,2,0),\" \")","v":" "}]
[null,null,null,null,{"$f":"IFERROR(VLOOKUP(D6124,Códigos!B:C,2,0),\" \")","v":" "}]
[null,null,null,null,{"$f":"IFERROR(VLOOKUP(D6125,Códigos!B:C,2,0),\" \")","v":" "}]
[null,null,null,null,{"$f":"IFERROR(VLOOKUP(D6126,Códigos!B:C,2,0),\" \")","v":" "}]
[null,null,null,null,{"$f":"IFERROR(VLOOKUP(D6127,Códigos!B:C,2,0),\" \")","v":" "}]
[null,null,null,null,{"$f":"IFERROR(VLOOKUP(D6128,Códigos!B:C,2,0),\" \")","v":" "}]
[null,null,null,null,{"$f":"IFERROR(VLOOKUP(D6129,Códigos!B:C,2,0),\" \")","v":" "}]
[null,null,null,null,{"$f":"IFERROR(VLOOKUP(D6130,Códigos!B:C,2,0),\" \")","v":" "}]
[null,null,null,null,{"$f":"IFERROR(VLOOKUP(D6131,Códigos!B:C,2,0),\" \")","v":" "}]
[null,null,null,null,{"$f":"IFERROR(VLOOKUP(D6132,Códigos!B:C,2,0),\" \")","v":" "}]
[null,null,null,null,{"$f":"IFERROR(VLOOKUP(D6133,Códigos!B:C,2,0),\" \")","v":" "}]
[null,null,null,null,{"$f":"IFERROR(VLOOKUP(D6134,Códigos!B:C,2,0),\" \")","v":" "}]
[null,null,null,null,{"$f":"IFERROR(VLOOKUP(D6135,Códigos!B:C,2,0),\" \")","v":" "}]
[null,null,null,null,{"$f":"IFERROR(VLOOKUP(D6136,Códigos!B:C,2,0),\" \")","v":" "}]
[null,null,null,null,{"$f":"IFERROR(VLOOKUP(D6137,Códigos!B:C,2,0),\" \")","v":" "}]
[null,null,null,null,{"$f":"IFERROR(VLOOKUP(D6138,Códigos!B:C,2,0),\" \")","v":" "}]
[null,null,null,null,{"$f":"IFERROR(VLOOKUP(D6139,Códigos!B:C,2,0),\" \")","v":" "}]
[null,null,null,null,{"$f":"IFERROR(VLOOKUP(D6140,Códigos!B:C,2,0),\" \")","v":" "}]
[null,null,null,null,{"$f":"IFERROR(VLOOKUP(D6141,Códigos!B:C,2,0),\" \")","v":" "}]
[null,null,null,null,{"$f":"IFERROR(VLOOKUP(D6142,Códigos!B:C,2,0),\" \")","v":" "}]
[null,null,null,null,{"$f":"IFERROR(VLOOKUP(D6143,Códigos!B:C,2,0),\" \")","v":" "}]
[null,null,null,null,{"$f":"IFERROR(VLOOKUP(D6144,Códigos!B:C,2,0),\" \")","v":" "}]
[null,null,null,null,{"$f":"IFERROR(VLOOKUP(D6145,Códigos!B:C,2,0),\" \")","v":" "}]
[null,null,null,null,{"$f":"IFERROR(VLOOKUP(D6146,Códigos!B:C,2,0),\" \")","v":" "}]
[null,null,null,null,{"$f":"IFERROR(VLOOKUP(D6147,Códigos!B:C,2,0),\" \")","v":" "}]
[null,null,null,null,{"$f":"IFERROR(VLOOKUP(D6148,Códigos!B:C,2,0),\" \")","v":" "}]
[null,null,null,null,{"$f":"IFERROR(VLOOKUP(D6149,Códigos!B:C,2,0),\" \")","v":" "}]
[null,null,null,null,{"$f":"IFERROR(VLOOKUP(D6150,Códigos!B:C,2,0),\" \")","v":" "}]
[null,null,null,null,{"$f":"IFERROR(VLOOKUP(D6151,Códigos!B:C,2,0),\" \")","v":" "}]
[null,null,null,null,{"$f":"IFERROR(VLOOKUP(D6152,Códigos!B:C,2,0),\" \")","v":" "}]
[null,null,null,null,{"$f":"IFERROR(VLOOKUP(D6153,Códigos!B:C,2,0),\" \")","v":" "}]
[null,null,null,null,{"$f":"IFERROR(VLOOKUP(D6154,Códigos!B:C,2,0),\" \")","v":" "}]
[null,null,null,null,{"$f":"IFERROR(VLOOKUP(D6155,Códigos!B:C,2,0),\" \")","v":" "}]
[null,null,null,null,{"$f":"IFERROR(VLOOKUP(D6156,Códigos!B:C,2,0),\" \")","v":" "}]
[null,null,null,null,{"$f":"IFERROR(VLOOKUP(D6157,Códigos!B:C,2,0),\" \")","v":" "}]
[null,null,null,null,{"$f":"IFERROR(VLOOKUP(D6158,Códigos!B:C,2,0),\" \")","v":" "}]
[null,null,null,null,{"$f":"IFERROR(VLOOKUP(D6159,Códigos!B:C,2,0),\" \")","v":" "}]
[null,null,null,null,{"$f":"IFERROR(VLOOKUP(D6160,Códigos!B:C,2,0),\" \")","v":" "}]
[null,null,null,null,{"$f":"IFERROR(VLOOKUP(D6161,Códigos!B:C,2,0),\" \")","v":" "}]
[null,null,null,null,{"$f":"IFERROR(VLOOKUP(D6162,Códigos!B:C,2,0),\" \")","v":" "}]
[null,null,null,null,{"$f":"IFERROR(VLOOKUP(D6163,Códigos!B:C,2,0),\" \")","v":" "}]
[null,null,null,null,{"$f":"IFERROR(VLOOKUP(D6164,Códigos!B:C,2,0),\" \")","v":" "}]
[null,null,null,null,{"$f":"IFERROR(VLOOKUP(D6165,Códigos!B:C,2,0),\" \")","v":" "}]
[null,null,null,null,{"$f":"IFERROR(VLOOKUP(D6166,Códigos!B:C,2,0),\" \")","v":" "}]
[null,null,null,null,{"$f":"IFERROR(VLOOKUP(D6167,Códigos!B:C,2,0),\" \")","v":" "}]
[null,null,null,null,{"$f":"IFERROR(VLOOKUP(D6168,Códigos!B:C,2,0),\" \")","v":" "}]
[null,null,null,null,{"$f":"IFERROR(VLOOKUP(D6169,Códigos!B:C,2,0),\" \")","v":" "}]
[null,null,null,null,{"$f":"IFERROR(VLOOKUP(D6170,Códigos!B:C,2,0),\" \")","v":" "}]
[null,null,null,null,{"$f":"IFERROR(VLOOKUP(D6171,Códigos!B:C,2,0),\" \")","v":" "}]
[null,null,null,null,{"$f":"IFERROR(VLOOKUP(D6172,Códigos!B:C,2,0),\" \")","v":" "}]
[null,null,null,null,{"$f":"IFERROR(VLOOKUP(D6173,Códigos!B:C,2,0),\" \")","v":" "}]
[null,null,null,null,{"$f":"IFERROR(VLOOKUP(D6174,Códigos!B:C,2,0),\" \")","v":" "}]
[null,null,null,null,{"$f":"IFERROR(VLOOKUP(D6175,Códigos!B:C,2,0),\" \")","v":" "}]
[null,null,null,null,{"$f":"IFERROR(VLOOKUP(D6176,Códigos!B:C,2,0),\" \")","v":" "}]
[null,null,null,null,{"$f":"IFERROR(VLOOKUP(D6177,Códigos!B:C,2,0),\" \")","v":" "}]
[null,null,null,null,{"$f":"IFERROR(VLOOKUP(D6178,Códigos!B:C,2,0),\" \")","v":" "}]
[null,null,null,null,{"$f":"IFERROR(VLOOKUP(D6179,Códigos!B:C,2,0),\" \")","v":" "}]
[null,null,null,null,{"$f":"IFERROR(VLOOKUP(D6180,Códigos!B:C,2,0),\" \")","v":" "}]
[null,null,null,null,{"$f":"IFERROR(VLOOKUP(D6181,Códigos!B:C,2,0),\" \")","v":" "}]
[null,null,null,null,{"$f":"IFERROR(VLOOKUP(D6182,Códigos!B:C,2,0),\" \")","v":" "}]
[null,null,null,null,{"$f":"IFERROR(VLOOKUP(D6183,Códigos!B:C,2,0),\" \")","v":" "}]
[null,null,null,null,{"$f":"IFERROR(VLOOKUP(D6184,Códigos!B:C,2,0),\" \")","v":" "}]
[null,null,null,null,{"$f":"IFERROR(VLOOKUP(D6185,Códigos!B:C,2,0),\" \")","v":" "}]
[null,null,null,null,{"$f":"IFERROR(VLOOKUP(D6186,Códigos!B:C,2,0),\" \")","v":" "}]
[null,null,null,null,{"$f":"IFERROR(VLOOKUP(D6187,Códigos!B:C,2,0),\" \")","v":" "}]
[null,null,null,null,{"$f":"IFERROR(VLOOKUP(D6188,Códigos!B:C,2,0),\" \")","v":" "}]
[null,null,null,null,{"$f":"IFERROR(VLOOKUP(D6189,Códigos!B:C,2,0),\" \")","v":" "}]
[null,null,null,null,{"$f":"IFERROR(VLOOKUP(D6190,Códigos!B:C,2,0),\" \")","v":" "}]
[null,null,null,null,{"$f":"IFERROR(VLOOKUP(D6191,Códigos!B:C,2,0),\" \")","v":" "}]
[null,null,null,null,{"$f":"IFERROR(VLOOKUP(D6192,Códigos!B:C,2,0),\" \")","v":" "}]
[null,null,null,null,{"$f":"IFERROR(VLOOKUP(D6193,Códigos!B:C,2,0),\" \")","v":" "}]
[null,null,null,null,{"$f":"IFERROR(VLOOKUP(D6194,Códigos!B:C,2,0),\" \")","v":" "}]
[null,null,null,null,{"$f":"IFERROR(VLOOKUP(D6195,Códigos!B:C,2,0),\" \")","v":" "}]
[null,null,null,null,{"$f":"IFERROR(VLOOKUP(D6196,Códigos!B:C,2,0),\" \")","v":" "}]
[null,null,null,null,{"$f":"IFERROR(VLOOKUP(D6197,Códigos!B:C,2,0),\" \")","v":" "}]
[null,null,null,null,{"$f":"IFERROR(VLOOKUP(D6198,Códigos!B:C,2,0),\" \")","v":" "}]
[null,null,null,null,{"$f":"IFERROR(VLOOKUP(D6199,Códigos!B:C,2,0),\" \")","v":" "}]
[null,null,null,null,{"$f":"IFERROR(VLOOKUP(D6200,Códigos!B:C,2,0),\" \")","v":" "}]
[null,null,null,null,{"$f":"IFERROR(VLOOKUP(D6201,Códigos!B:C,2,0),\" \")","v":" "}]
[null,null,null,null,{"$f":"IFERROR(VLOOKUP(D6202,Códigos!B:C,2,0),\" \")","v":" "}]
[null,null,null,null,{"$f":"IFERROR(VLOOKUP(D6203,Códigos!B:C,2,0),\" \")","v":" "}]
[null,null,null,null,{"$f":"IFERROR(VLOOKUP(D6204,Códigos!B:C,2,0),\" \")","v":" "}]
[null,null,null,null,{"$f":"IFERROR(VLOOKUP(D6205,Códigos!B:C,2,0),\" \")","v":" "}]
[null,null,null,null,{"$f":"IFERROR(VLOOKUP(D6206,Códigos!B:C,2,0),\" \")","v":" "}]
[null,null,null,null,{"$f":"IFERROR(VLOOKUP(D6207,Códigos!B:C,2,0),\" \")","v":" "}]
[null,null,null,null,{"$f":"IFERROR(VLOOKUP(D6208,Códigos!B:C,2,0),\" \")","v":" "}]
[null,null,null,null,{"$f":"IFERROR(VLOOKUP(D6209,Códigos!B:C,2,0),\" \")","v":" "}]
[null,null,null,null,{"$f":"IFERROR(VLOOKUP(D6210,Códigos!B:C,2,0),\" \")","v":" "}]
[null,null,null,null,{"$f":"IFERROR(VLOOKUP(D6211,Códigos!B:C,2,0),\" \")","v":" "}]
[null,null,null,null,{"$f":"IFERROR(VLOOKUP(D6212,Códigos!B:C,2,0),\" \")","v":" "}]
[null,null,null,null,{"$f":"IFERROR(VLOOKUP(D6213,Códigos!B:C,2,0),\" \")","v":" "}]
[null,null,null,null,{"$f":"IFERROR(VLOOKUP(D6214,Códigos!B:C,2,0),\" \")","v":" "}]
[null,null,null,null,{"$f":"IFERROR(VLOOKUP(D6215,Códigos!B:C,2,0),\" \")","v":" "}]
[null,null,null,null,{"$f":"IFERROR(VLOOKUP(D6216,Códigos!B:C,2,0),\" \")","v":" "}]
[null,null,null,null,{"$f":"IFERROR(VLOOKUP(D6217,Códigos!B:C,2,0),\" \")","v":" "}]
[null,null,null,null,{"$f":"IFERROR(VLOOKUP(D6218,Códigos!B:C,2,0),\" \")","v":" "}]
[null,null,null,null,{"$f":"IFERROR(VLOOKUP(D6219,Códigos!B:C,2,0),\" \")","v":" "}]
[null,null,null,null,{"$f":"IFERROR(VLOOKUP(D6220,Códigos!B:C,2,0),\" \")","v":" "}]
[null,null,null,null,{"$f":"IFERROR(VLOOKUP(D6221,Códigos!B:C,2,0),\" \")","v":" "}]
[null,null,null,null,{"$f":"IFERROR(VLOOKUP(D6222,Códigos!B:C,2,0),\" \")","v":" "}]
[null,null,null,null,{"$f":"IFERROR(VLOOKUP(D6223,Códigos!B:C,2,0),\" \")","v":" "}]
[null,null,null,null,{"$f":"IFERROR(VLOOKUP(D6224,Códigos!B:C,2,0),\" \")","v":" "}]
[null,null,null,null,{"$f":"IFERROR(VLOOKUP(D6225,Códigos!B:C,2,0),\" \")","v":" "}]
[null,null,null,null,{"$f":"IFERROR(VLOOKUP(D6226,Códigos!B:C,2,0),\" \")","v":" "}]
[null,null,null,null,{"$f":"IFERROR(VLOOKUP(D6227,Códigos!B:C,2,0),\" \")","v":" "}]
[null,null,null,null,{"$f":"IFERROR(VLOOKUP(D6228,Códigos!B:C,2,0),\" \")","v":" "}]
[null,null,null,null,{"$f":"IFERROR(VLOOKUP(D6229,Códigos!B:C,2,0),\" \")","v":" "}]
[null,null,null,null,{"$f":"IFERROR(VLOOKUP(D6230,Códigos!B:C,2,0),\" \")","v":" "}]
[null,null,null,null,{"$f":"IFERROR(VLOOKUP(D6231,Códigos!B:C,2,0),\" \")","v":" "}]
[null,null,null,null,{"$f":"IFERROR(VLOOKUP(D6232,Códigos!B:C,2,0),\" \")","v":" "}]
[null,null,null,null,{"$f":"IFERROR(VLOOKUP(D6233,Códigos!B:C,2,0),\" \")","v":" "}]
[null,null,null,null,{"$f":"IFERROR(VLOOKUP(D6234,Códigos!B:C,2,0),\" \")","v":" "}]
[null,null,null,null,{"$f":"IFERROR(VLOOKUP(D6235,Códigos!B:C,2,0),\" \")","v":" "}]
[null,null,null,null,{"$f":"IFERROR(VLOOKUP(D6236,Códigos!B:C,2,0),\" \")","v":" "}]
[null,null,null,null,{"$f":"IFERROR(VLOOKUP(D6237,Códigos!B:C,2,0),\" \")","v":" "}]
[null,null,null,null,{"$f":"IFERROR(VLOOKUP(D6238,Códigos!B:C,2,0),\" \")","v":" "}]
[null,null,null,null,{"$f":"IFERROR(VLOOKUP(D6239,Códigos!B:C,2,0),\" \")","v":" "}]
[null,null,null,null,{"$f":"IFERROR(VLOOKUP(D6240,Códigos!B:C,2,0),\" \")","v":" "}]
[null,null,null,null,{"$f":"IFERROR(VLOOKUP(D6241,Códigos!B:C,2,0),\" \")","v":" "}]
[null,null,null,null,{"$f":"IFERROR(VLOOKUP(D6242,Códigos!B:C,2,0),\" \")","v":" "}]
[null,null,null,null,{"$f":"IFERROR(VLOOKUP(D6243,Códigos!B:C,2,0),\" \")","v":" "}]
[null,null,null,null,{"$f":"IFERROR(VLOOKUP(D6244,Códigos!B:C,2,0),\" \")","v":" "}]
[null,null,null,null,{"$f":"IFERROR(VLOOKUP(D6245,Códigos!B:C,2,0),\" \")","v":" "}]
[null,null,null,null,{"$f":"IFERROR(VLOOKUP(D6246,Códigos!B:C,2,0),\" \")","v":" "}]
[null,null,null,null,{"$f":"IFERROR(VLOOKUP(D6247,Códigos!B:C,2,0),\" \")","v":" "}]
[null,null,null,null,{"$f":"IFERROR(VLOOKUP(D6248,Códigos!B:C,2,0),\" \")","v":" "}]
[null,null,null,null,{"$f":"IFERROR(VLOOKUP(D6249,Códigos!B:C,2,0),\" \")","v":" "}]
[null,null,null,null,{"$f":"IFERROR(VLOOKUP(D6250,Códigos!B:C,2,0),\" \")","v":" "}]
[null,null,null,null,{"$f":"IFERROR(VLOOKUP(D6251,Códigos!B:C,2,0),\" \")","v":" "}]
[null,null,null,null,{"$f":"IFERROR(VLOOKUP(D6252,Códigos!B:C,2,0),\" \")","v":" "}]
[null,null,null,null,{"$f":"IFERROR(VLOOKUP(D6253,Códigos!B:C,2,0),\" \")","v":" "}]
[null,null,null,null,{"$f":"IFERROR(VLOOKUP(D6254,Códigos!B:C,2,0),\" \")","v":" "}]
[null,null,null,null,{"$f":"IFERROR(VLOOKUP(D6255,Códigos!B:C,2,0),\" \")","v":" "}]
[null,null,null,null,{"$f":"IFERROR(VLOOKUP(D6256,Códigos!B:C,2,0),\" \")","v":" "}]
[null,null,null,null,{"$f":"IFERROR(VLOOKUP(D6257,Códigos!B:C,2,0),\" \")","v":" "}]
[null,null,null,null,{"$f":"IFERROR(VLOOKUP(D6258,Códigos!B:C,2,0),\" \")","v":" "}]
[null,null,null,null,{"$f":"IFERROR(VLOOKUP(D6259,Códigos!B:C,2,0),\" \")","v":" "}]
[null,null,null,null,{"$f":"IFERROR(VLOOKUP(D6260,Códigos!B:C,2,0),\" \")","v":" "}]
[null,null,null,null,{"$f":"IFERROR(VLOOKUP(D6261,Códigos!B:C,2,0),\" \")","v":" "}]
[null,null,null,null,{"$f":"IFERROR(VLOOKUP(D6262,Códigos!B:C,2,0),\" \")","v":" "}]
[null,null,null,null,{"$f":"IFERROR(VLOOKUP(D6263,Códigos!B:C,2,0),\" \")","v":" "}]
[null,null,null,null,{"$f":"IFERROR(VLOOKUP(D6264,Códigos!B:C,2,0),\" \")","v":" "}]
[null,null,null,null,{"$f":"IFERROR(VLOOKUP(D6265,Códigos!B:C,2,0),\" \")","v":" "}]
[null,null,null,null,{"$f":"IFERROR(VLOOKUP(D6266,Códigos!B:C,2,0),\" \")","v":" "}]
[null,null,null,null,{"$f":"IFERROR(VLOOKUP(D6267,Códigos!B:C,2,0),\" \")","v":" "}]
[null,null,null,null,{"$f":"IFERROR(VLOOKUP(D6268,Códigos!B:C,2,0),\" \")","v":" "}]
[null,null,null,null,{"$f":"IFERROR(VLOOKUP(D6269,Códigos!B:C,2,0),\" \")","v":" "}]
[null,null,null,null,{"$f":"IFERROR(VLOOKUP(D6270,Códigos!B:C,2,0),\" \")","v":" "}]
[null,null,null,null,{"$f":"IFERROR(VLOOKUP(D6271,Códigos!B:C,2,0),\" \")","v":" "}]
[null,null,null,null,{"$f":"IFERROR(VLOOKUP(D6272,Códigos!B:C,2,0),\" \")","v":" "}]
[null,null,null,null,{"$f":"IFERROR(VLOOKUP(D6273,Códigos!B:C,2,0),\" \")","v":" "}]
[null,null,null,null,{"$f":"IFERROR(VLOOKUP(D6274,Códigos!B:C,2,0),\" \")","v":" "}]
[null,null,null,null,{"$f":"IFERROR(VLOOKUP(D6275,Códigos!B:C,2,0),\" \")","v":" "}]
[null,null,null,null,{"$f":"IFERROR(VLOOKUP(D6276,Códigos!B:C,2,0),\" \")","v":" "}]
[null,null,null,null,{"$f":"IFERROR(VLOOKUP(D6277,Códigos!B:C,2,0),\" \")","v":" "}]
[null,null,null,null,{"$f":"IFERROR(VLOOKUP(D6278,Códigos!B:C,2,0),\" \")","v":" "}]
[null,null,null,null,{"$f":"IFERROR(VLOOKUP(D6279,Códigos!B:C,2,0),\" \")","v":" "}]
[null,null,null,null,{"$f":"IFERROR(VLOOKUP(D6280,Códigos!B:C,2,0),\" \")","v":" "}]
[null,null,null,null,{"$f":"IFERROR(VLOOKUP(D6281,Códigos!B:C,2,0),\" \")","v":" "}]
[null,null,null,null,{"$f":"IFERROR(VLOOKUP(D6282,Códigos!B:C,2,0),\" \")","v":" "}]
[null,null,null,null,{"$f":"IFERROR(VLOOKUP(D6283,Códigos!B:C,2,0),\" \")","v":" "}]
[null,null,null,null,{"$f":"IFERROR(VLOOKUP(D6284,Códigos!B:C,2,0),\" \")","v":" "}]
[null,null,null,null,{"$f":"IFERROR(VLOOKUP(D6285,Códigos!B:C,2,0),\" \")","v":" "}]
[null,null,null,null,{"$f":"IFERROR(VLOOKUP(D6286,Códigos!B:C,2,0),\" \")","v":" "}]
[null,null,null,null,{"$f":"IFERROR(VLOOKUP(D6287,Códigos!B:C,2,0),\" \")","v":" "}]
[null,null,null,null,{"$f":"IFERROR(VLOOKUP(D6288,Códigos!B:C,2,0),\" \")","v":" "}]
[null,null,null,null,{"$f":"IFERROR(VLOOKUP(D6289,Códigos!B:C,2,0),\" \")","v":" "}]
[null,null,null,null,{"$f":"IFERROR(VLOOKUP(D6290,Códigos!B:C,2,0),\" \")","v":" "}]
[null,null,null,null,{"$f":"IFERROR(VLOOKUP(D6291,Códigos!B:C,2,0),\" \")","v":" "}]
[null,null,null,null,{"$f":"IFERROR(VLOOKUP(D6292,Códigos!B:C,2,0),\" \")","v":" "}]
[null,null,null,null,{"$f":"IFERROR(VLOOKUP(D6293,Códigos!B:C,2,0),\" \")","v":" "}]
[null,null,null,null,{"$f":"IFERROR(VLOOKUP(D6294,Códigos!B:C,2,0),\" \")","v":" "}]
[null,null,null,null,{"$f":"IFERROR(VLOOKUP(D6295,Códigos!B:C,2,0),\" \")","v":" "}]
[null,null,null,null,{"$f":"IFERROR(VLOOKUP(D6296,Códigos!B:C,2,0),\" \")","v":" "}]
[null,null,null,null,{"$f":"IFERROR(VLOOKUP(D6297,Códigos!B:C,2,0),\" \")","v":" "}]
[null,null,null,null,{"$f":"IFERROR(VLOOKUP(D6298,Códigos!B:C,2,0),\" \")","v":" "}]
[null,null,null,null,{"$f":"IFERROR(VLOOKUP(D6299,Códigos!B:C,2,0),\" \")","v":" "}]
[null,null,null,null,{"$f":"IFERROR(VLOOKUP(D6300,Códigos!B:C,2,0),\" \")","v":" "}]
[null,null,null,null,{"$f":"IFERROR(VLOOKUP(D6301,Códigos!B:C,2,0),\" \")","v":" "}]
[null,null,null,null,{"$f":"IFERROR(VLOOKUP(D6302,Códigos!B:C,2,0),\" \")","v":" "}]
[null,null,null,null,{"$f":"IFERROR(VLOOKUP(D6303,Códigos!B:C,2,0),\" \")","v":" "}]
[null,null,null,null,{"$f":"IFERROR(VLOOKUP(D6304,Códigos!B:C,2,0),\" \")","v":" "}]
[null,null,null,null,{"$f":"IFERROR(VLOOKUP(D6305,Códigos!B:C,2,0),\" \")","v":" "}]
[null,null,null,null,{"$f":"IFERROR(VLOOKUP(D6306,Códigos!B:C,2,0),\" \")","v":" "}]
[null,null,null,null,{"$f":"IFERROR(VLOOKUP(D6307,Códigos!B:C,2,0),\" \")","v":" "}]
[null,null,null,null,{"$f":"IFERROR(VLOOKUP(D6308,Códigos!B:C,2,0),\" \")","v":" "}]
[null,null,null,null,{"$f":"IFERROR(VLOOKUP(D6309,Códigos!B:C,2,0),\" \")","v":" "}]
[null,null,null,null,{"$f":"IFERROR(VLOOKUP(D6310,Códigos!B:C,2,0),\" \")","v":" "}]
[null,null,null,null,{"$f":"IFERROR(VLOOKUP(D6311,Códigos!B:C,2,0),\" \")","v":" "}]
[null,null,null,null,{"$f":"IFERROR(VLOOKUP(D6312,Códigos!B:C,2,0),\" \")","v":" "}]
[null,null,null,null,{"$f":"IFERROR(VLOOKUP(D6313,Códigos!B:C,2,0),\" \")","v":" "}]
[null,null,null,null,{"$f":"IFERROR(VLOOKUP(D6314,Códigos!B:C,2,0),\" \")","v":" "}]
[null,null,null,null,{"$f":"IFERROR(VLOOKUP(D6315,Códigos!B:C,2,0),\" \")","v":" "}]
[null,null,null,null,{"$f":"IFERROR(VLOOKUP(D6316,Códigos!B:C,2,0),\" \")","v":" "}]
[null,null,null,null,{"$f":"IFERROR(VLOOKUP(D6317,Códigos!B:C,2,0),\" \")","v":" "}]
[null,null,null,null,{"$f":"IFERROR(VLOOKUP(D6318,Códigos!B:C,2,0),\" \")","v":" "}]
[null,null,null,null,{"$f":"IFERROR(VLOOKUP(D6319,Códigos!B:C,2,0),\" \")","v":" "}]
[null,null,null,null,{"$f":"IFERROR(VLOOKUP(D6320,Códigos!B:C,2,0),\" \")","v":" "}]
[null,null,null,null,{"$f":"IFERROR(VLOOKUP(D6321,Códigos!B:C,2,0),\" \")","v":" "}]
[null,null,null,null,{"$f":"IFERROR(VLOOKUP(D6322,Códigos!B:C,2,0),\" \")","v":" "}]
[null,null,null,null,{"$f":"IFERROR(VLOOKUP(D6323,Códigos!B:C,2,0),\" \")","v":" "}]
[null,null,null,null,{"$f":"IFERROR(VLOOKUP(D6324,Códigos!B:C,2,0),\" \")","v":" "}]
[null,null,null,null,{"$f":"IFERROR(VLOOKUP(D6325,Códigos!B:C,2,0),\" \")","v":" "}]
[null,null,null,null,{"$f":"IFERROR(VLOOKUP(D6326,Códigos!B:C,2,0),\" \")","v":" "}]
[null,null,null,null,{"$f":"IFERROR(VLOOKUP(D6327,Códigos!B:C,2,0),\" \")","v":" "}]
[null,null,null,null,{"$f":"IFERROR(VLOOKUP(D6328,Códigos!B:C,2,0),\" \")","v":" "}]
[null,null,null,null,{"$f":"IFERROR(VLOOKUP(D6329,Códigos!B:C,2,0),\" \")","v":" "}]
[null,null,null,null,{"$f":"IFERROR(VLOOKUP(D6330,Códigos!B:C,2,0),\" \")","v":" "}]
[null,null,null,null,{"$f":"IFERROR(VLOOKUP(D6331,Códigos!B:C,2,0),\" \")","v":" "}]
[null,null,null,null,{"$f":"IFERROR(VLOOKUP(D6332,Códigos!B:C,2,0),\" \")","v":" "}]
[null,null,null,null,{"$f":"IFERROR(VLOOKUP(D6333,Códigos!B:C,2,0),\" \")","v":" "}]
[null,null,null,null,{"$f":"IFERROR(VLOOKUP(D6334,Códigos!B:C,2,0),\" \")","v":" "}]
[null,null,null,null,{"$f":"IFERROR(VLOOKUP(D6335,Códigos!B:C,2,0),\" \")","v":" "}]
[null,null,null,null,{"$f":"IFERROR(VLOOKUP(D6336,Códigos!B:C,2,0),\" \")","v":" "}]
[null,null,null,null,{"$f":"IFERROR(VLOOKUP(D6337,Códigos!B:C,2,0),\" \")","v":" "}]
[null,null,null,null,{"$f":"IFERROR(VLOOKUP(D6338,Códigos!B:C,2,0),\" \")","v":" "}]
[null,null,null,null,{"$f":"IFERROR(VLOOKUP(D6339,Códigos!B:C,2,0),\" \")","v":" "}]
[null,null,null,null,{"$f":"IFERROR(VLOOKUP(D6340,Códigos!B:C,2,0),\" \")","v":" "}]
[null,null,null,null,{"$f":"IFERROR(VLOOKUP(D6341,Códigos!B:C,2,0),\" \")","v":" "}]
[null,null,null,null,{"$f":"IFERROR(VLOOKUP(D6342,Códigos!B:C,2,0),\" \")","v":" "}]
[null,null,null,null,{"$f":"IFERROR(VLOOKUP(D6343,Códigos!B:C,2,0),\" \")","v":" "}]
[null,null,null,null,{"$f":"IFERROR(VLOOKUP(D6344,Códigos!B:C,2,0),\" \")","v":" "}]
[null,null,null,null,{"$f":"IFERROR(VLOOKUP(D6345,Códigos!B:C,2,0),\" \")","v":" "}]
[null,null,null,null,{"$f":"IFERROR(VLOOKUP(D6346,Códigos!B:C,2,0),\" \")","v":" "}]
[null,null,null,null,{"$f":"IFERROR(VLOOKUP(D6347,Códigos!B:C,2,0),\" \")","v":" "}]
[null,null,null,null,{"$f":"IFERROR(VLOOKUP(D6348,Códigos!B:C,2,0),\" \")","v":" "}]
[null,null,null,null,{"$f":"IFERROR(VLOOKUP(D6349,Códigos!B:C,2,0),\" \")","v":" "}]
[null,null,null,null,{"$f":"IFERROR(VLOOKUP(D6350,Códigos!B:C,2,0),\" \")","v":" "}]
[null,null,null,null,{"$f":"IFERROR(VLOOKUP(D6351,Códigos!B:C,2,0),\" \")","v":" "}]
[null,null,null,null,{"$f":"IFERROR(VLOOKUP(D6352,Códigos!B:C,2,0),\" \")","v":" "}]
[null,null,null,null,{"$f":"IFERROR(VLOOKUP(D6353,Códigos!B:C,2,0),\" \")","v":" "}]
[null,null,null,null,{"$f":"IFERROR(VLOOKUP(D6354,Códigos!B:C,2,0),\" \")","v":" "}]
[null,null,null,null,{"$f":"IFERROR(VLOOKUP(D6355,Códigos!B:C,2,0),\" \")","v":" "}]
[null,null,null,null,{"$f":"IFERROR(VLOOKUP(D6356,Códigos!B:C,2,0),\" \")","v":" "}]
[null,null,null,null,{"$f":"IFERROR(VLOOKUP(D6357,Códigos!B:C,2,0),\" \")","v":" "}]
[null,null,null,null,{"$f":"IFERROR(VLOOKUP(D6358,Códigos!B:C,2,0),\" \")","v":" "}]
[null,null,null,null,{"$f":"IFERROR(VLOOKUP(D6359,Códigos!B:C,2,0),\" \")","v":" "}]
[null,null,null,null,{"$f":"IFERROR(VLOOKUP(D6360,Códigos!B:C,2,0),\" \")","v":" "}]
[null,null,null,null,{"$f":"IFERROR(VLOOKUP(D6361,Códigos!B:C,2,0),\" \")","v":" "}]
[null,null,null,null,{"$f":"IFERROR(VLOOKUP(D6362,Códigos!B:C,2,0),\" \")","v":" "}]
[null,null,null,null,{"$f":"IFERROR(VLOOKUP(D6363,Códigos!B:C,2,0),\" \")","v":" "}]
[null,null,null,null,{"$f":"IFERROR(VLOOKUP(D6364,Códigos!B:C,2,0),\" \")","v":" "}]
[null,null,null,null,{"$f":"IFERROR(VLOOKUP(D6365,Códigos!B:C,2,0),\" \")","v":" "}]
[null,null,null,null,{"$f":"IFERROR(VLOOKUP(D6366,Códigos!B:C,2,0),\" \")","v":" "}]
[null,null,null,null,{"$f":"IFERROR(VLOOKUP(D6367,Códigos!B:C,2,0),\" \")","v":" "}]
[null,null,null,null,{"$f":"IFERROR(VLOOKUP(D6368,Códigos!B:C,2,0),\" \")","v":" "}]
[null,null,null,null,{"$f":"IFERROR(VLOOKUP(D6369,Códigos!B:C,2,0),\" \")","v":" "}]
[null,null,null,null,{"$f":"IFERROR(VLOOKUP(D6370,Códigos!B:C,2,0),\" \")","v":" "}]
[null,null,null,null,{"$f":"IFERROR(VLOOKUP(D6371,Códigos!B:C,2,0),\" \")","v":" "}]
[null,null,null,null,{"$f":"IFERROR(VLOOKUP(D6372,Códigos!B:C,2,0),\" \")","v":" "}]
[null,null,null,null,{"$f":"IFERROR(VLOOKUP(D6373,Códigos!B:C,2,0),\" \")","v":" "}]
[null,null,null,null,{"$f":"IFERROR(VLOOKUP(D6374,Códigos!B:C,2,0),\" \")","v":" "}]
[null,null,null,null,{"$f":"IFERROR(VLOOKUP(D6375,Códigos!B:C,2,0),\" \")","v":" "}]
[null,null,null,null,{"$f":"IFERROR(VLOOKUP(D6376,Códigos!B:C,2,0),\" \")","v":" "}]
[null,null,null,null,{"$f":"IFERROR(VLOOKUP(D6377,Códigos!B:C,2,0),\" \")","v":" "}]
[null,null,null,null,{"$f":"IFERROR(VLOOKUP(D6378,Códigos!B:C,2,0),\" \")","v":" "}]
[null,null,null,null,{"$f":"IFERROR(VLOOKUP(D6379,Códigos!B:C,2,0),\" \")","v":" "}]
[null,null,null,null,{"$f":"IFERROR(VLOOKUP(D6380,Códigos!B:C,2,0),\" \")","v":" "}]
[null,null,null,null,{"$f":"IFERROR(VLOOKUP(D6381,Códigos!B:C,2,0),\" \")","v":" "}]
[null,null,null,null,{"$f":"IFERROR(VLOOKUP(D6382,Códigos!B:C,2,0),\" \")","v":" "}]
[null,null,null,null,{"$f":"IFERROR(VLOOKUP(D6383,Códigos!B:C,2,0),\" \")","v":" "}]
[null,null,null,null,{"$f":"IFERROR(VLOOKUP(D6384,Códigos!B:C,2,0),\" \")","v":" "}]
[null,null,null,null,{"$f":"IFERROR(VLOOKUP(D6385,Códigos!B:C,2,0),\" \")","v":" "}]
[null,null,null,null,{"$f":"IFERROR(VLOOKUP(D6386,Códigos!B:C,2,0),\" \")","v":" "}]
[null,null,null,null,{"$f":"IFERROR(VLOOKUP(D6387,Códigos!B:C,2,0),\" \")","v":" "}]
[null,null,null,null,{"$f":"IFERROR(VLOOKUP(D6388,Códigos!B:C,2,0),\" \")","v":" "}]
[null,null,null,null,{"$f":"IFERROR(VLOOKUP(D6389,Códigos!B:C,2,0),\" \")","v":" "}]
[null,null,null,null,{"$f":"IFERROR(VLOOKUP(D6390,Códigos!B:C,2,0),\" \")","v":" "}]
[null,null,null,null,{"$f":"IFERROR(VLOOKUP(D6391,Códigos!B:C,2,0),\" \")","v":" "}]
[null,null,null,null,{"$f":"IFERROR(VLOOKUP(D6392,Códigos!B:C,2,0),\" \")","v":" "}]
[null,null,null,null,{"$f":"IFERROR(VLOOKUP(D6393,Códigos!B:C,2,0),\" \")","v":" "}]
[null,null,null,null,{"$f":"IFERROR(VLOOKUP(D6394,Códigos!B:C,2,0),\" \")","v":" "}]
[null,null,null,null,{"$f":"IFERROR(VLOOKUP(D6395,Códigos!B:C,2,0),\" \")","v":" "}]
[null,null,null,null,{"$f":"IFERROR(VLOOKUP(D6396,Códigos!B:C,2,0),\" \")","v":" "}]
[null,null,null,null,{"$f":"IFERROR(VLOOKUP(D6397,Códigos!B:C,2,0),\" \")","v":" "}]
[null,null,null,null,{"$f":"IFERROR(VLOOKUP(D6398,Códigos!B:C,2,0),\" \")","v":" "}]
[null,null,null,null,{"$f":"IFERROR(VLOOKUP(D6399,Códigos!B:C,2,0),\" \")","v":" "}]
[null,null,null,null,{"$f":"IFERROR(VLOOKUP(D6400,Códigos!B:C,2,0),\" \")","v":" "}]
[null,null,null,null,{"$f":"IFERROR(VLOOKUP(D6401,Códigos!B:C,2,0),\" \")","v":" "}]
[null,null,null,null,{"$f":"IFERROR(VLOOKUP(D6402,Códigos!B:C,2,0),\" \")","v":" "}]
[null,null,null,null,{"$f":"IFERROR(VLOOKUP(D6403,Códigos!B:C,2,0),\" \")","v":" "}]
[null,null,null,null,{"$f":"IFERROR(VLOOKUP(D6404,Códigos!B:C,2,0),\" \")","v":" "}]
[null,null,null,null,{"$f":"IFERROR(VLOOKUP(D6405,Códigos!B:C,2,0),\" \")","v":" "}]
[null,null,null,null,{"$f":"IFERROR(VLOOKUP(D6406,Códigos!B:C,2,0),\" \")","v":" "}]
[null,null,null,null,{"$f":"IFERROR(VLOOKUP(D6407,Códigos!B:C,2,0),\" \")","v":" "}]
[null,null,null,null,{"$f":"IFERROR(VLOOKUP(D6408,Códigos!B:C,2,0),\" \")","v":" "}]
[null,null,null,null,{"$f":"IFERROR(VLOOKUP(D6409,Códigos!B:C,2,0),\" \")","v":" "}]
[null,null,null,null,{"$f":"IFERROR(VLOOKUP(D6410,Códigos!B:C,2,0),\" \")","v":" "}]
[null,null,null,null,{"$f":"IFERROR(VLOOKUP(D6411,Códigos!B:C,2,0),\" \")","v":" "}]
[null,null,null,null,{"$f":"IFERROR(VLOOKUP(D6412,Códigos!B:C,2,0),\" \")","v":" "}]
[null,null,null,null,{"$f":"IFERROR(VLOOKUP(D6413,Códigos!B:C,2,0),\" \")","v":" "}]
[null,null,null,null,{"$f":"IFERROR(VLOOKUP(D6414,Códigos!B:C,2,0),\" \")","v":" "}]
[null,null,null,null,{"$f":"IFERROR(VLOOKUP(D6415,Códigos!B:C,2,0),\" \")","v":" "}]
[null,null,null,null,{"$f":"IFERROR(VLOOKUP(D6416,Códigos!B:C,2,0),\" \")","v":" "}]
[null,null,null,null,{"$f":"IFERROR(VLOOKUP(D6417,Códigos!B:C,2,0),\" \")","v":" "}]
[null,null,null,null,{"$f":"IFERROR(VLOOKUP(D6418,Códigos!B:C,2,0),\" \")","v":" "}]
[null,null,null,null,{"$f":"IFERROR(VLOOKUP(D6419,Códigos!B:C,2,0),\" \")","v":" "}]
[null,null,null,null,{"$f":"IFERROR(VLOOKUP(D6420,Códigos!B:C,2,0),\" \")","v":" "}]
[null,null,null,null,{"$f":"IFERROR(VLOOKUP(D6421,Códigos!B:C,2,0),\" \")","v":" "}]
[null,null,null,null,{"$f":"IFERROR(VLOOKUP(D6422,Códigos!B:C,2,0),\" \")","v":" "}]
[null,null,null,null,{"$f":"IFERROR(VLOOKUP(D6423,Códigos!B:C,2,0),\" \")","v":" "}]
[null,null,null,null,{"$f":"IFERROR(VLOOKUP(D6424,Códigos!B:C,2,0),\" \")","v":" "}]
[null,null,null,null,{"$f":"IFERROR(VLOOKUP(D6425,Códigos!B:C,2,0),\" \")","v":" "}]
[null,null,null,null,{"$f":"IFERROR(VLOOKUP(D6426,Códigos!B:C,2,0),\" \")","v":" "}]
[null,null,null,null,{"$f":"IFERROR(VLOOKUP(D6427,Códigos!B:C,2,0),\" \")","v":" "}]
[null,null,null,null,{"$f":"IFERROR(VLOOKUP(D6428,Códigos!B:C,2,0),\" \")","v":" "}]
[null,null,null,null,{"$f":"IFERROR(VLOOKUP(D6429,Códigos!B:C,2,0),\" \")","v":" "}]
[null,null,null,null,{"$f":"IFERROR(VLOOKUP(D6430,Códigos!B:C,2,0),\" \")","v":" "}]
[null,null,null,null,{"$f":"IFERROR(VLOOKUP(D6431,Códigos!B:C,2,0),\" \")","v":" "}]
[null,null,null,null,{"$f":"IFERROR(VLOOKUP(D6432,Códigos!B:C,2,0),\" \")","v":" "}]
[null,null,null,null,{"$f":"IFERROR(VLOOKUP(D6433,Códigos!B:C,2,0),\" \")","v":" "}]
[null,null,null,null,{"$f":"IFERROR(VLOOKUP(D6434,Códigos!B:C,2,0),\" \")","v":" "}]
[null,null,null,null,{"$f":"IFERROR(VLOOKUP(D6435,Códigos!B:C,2,0),\" \")","v":" "}]
[null,null,null,null,{"$f":"IFERROR(VLOOKUP(D6436,Códigos!B:C,2,0),\" \")","v":" "}]
[null,null,null,null,{"$f":"IFERROR(VLOOKUP(D6437,Códigos!B:C,2,0),\" \")","v":" "}]
[null,null,null,null,{"$f":"IFERROR(VLOOKUP(D6438,Códigos!B:C,2,0),\" \")","v":" "}]
[null,null,null,null,{"$f":"IFERROR(VLOOKUP(D6439,Códigos!B:C,2,0),\" \")","v":" "}]
[null,null,null,null,{"$f":"IFERROR(VLOOKUP(D6440,Códigos!B:C,2,0),\" \")","v":" "}]
[null,null,null,null,{"$f":"IFERROR(VLOOKUP(D6441,Códigos!B:C,2,0),\" \")","v":" "}]
[null,null,null,null,{"$f":"IFERROR(VLOOKUP(D6442,Códigos!B:C,2,0),\" \")","v":" "}]
[null,null,null,null,{"$f":"IFERROR(VLOOKUP(D6443,Códigos!B:C,2,0),\" \")","v":" "}]
[null,null,null,null,{"$f":"IFERROR(VLOOKUP(D6444,Códigos!B:C,2,0),\" \")","v":" "}]
[null,null,null,null,{"$f":"IFERROR(VLOOKUP(D6445,Códigos!B:C,2,0),\" \")","v":" "}]
[null,null,null,null,{"$f":"IFERROR(VLOOKUP(D6446,Códigos!B:C,2,0),\" \")","v":" "}]
[null,null,null,null,{"$f":"IFERROR(VLOOKUP(D6447,Códigos!B:C,2,0),\" \")","v":" "}]
[null,null,null,null,{"$f":"IFERROR(VLOOKUP(D6448,Códigos!B:C,2,0),\" \")","v":" "}]
[null,null,null,null,{"$f":"IFERROR(VLOOKUP(D6449,Códigos!B:C,2,0),\" \")","v":" "}]
[null,null,null,null,{"$f":"IFERROR(VLOOKUP(D6450,Códigos!B:C,2,0),\" \")","v":" "}]
[null,null,null,null,{"$f":"IFERROR(VLOOKUP(D6451,Códigos!B:C,2,0),\" \")","v":" "}]
[null,null,null,null,{"$f":"IFERROR(VLOOKUP(D6452,Códigos!B:C,2,0),\" \")","v":" "}]
[null,null,null,null,{"$f":"IFERROR(VLOOKUP(D6453,Códigos!B:C,2,0),\" \")","v":" "}]
[null,null,null,null,{"$f":"IFERROR(VLOOKUP(D6454,Códigos!B:C,2,0),\" \")","v":" "}]
[null,null,null,null,{"$f":"IFERROR(VLOOKUP(D6455,Códigos!B:C,2,0),\" \")","v":" "}]
[null,null,null,null,{"$f":"IFERROR(VLOOKUP(D6456,Códigos!B:C,2,0),\" \")","v":" "}]
[null,null,null,null,{"$f":"IFERROR(VLOOKUP(D6457,Códigos!B:C,2,0),\" \")","v":" "}]
[null,null,null,null,{"$f":"IFERROR(VLOOKUP(D6458,Códigos!B:C,2,0),\" \")","v":" "}]
[null,null,null,null,{"$f":"IFERROR(VLOOKUP(D6459,Códigos!B:C,2,0),\" \")","v":" "}]
[null,null,null,null,{"$f":"IFERROR(VLOOKUP(D6460,Códigos!B:C,2,0),\" \")","v":" "}]
[null,null,null,null,{"$f":"IFERROR(VLOOKUP(D6461,Códigos!B:C,2,0),\" \")","v":" "}]
[null,null,null,null,{"$f":"IFERROR(VLOOKUP(D6462,Códigos!B:C,2,0),\" \")","v":" "}]
[null,null,null,null,{"$f":"IFERROR(VLOOKUP(D6463,Códigos!B:C,2,0),\" \")","v":" "}]
[null,null,null,null,{"$f":"IFERROR(VLOOKUP(D6464,Códigos!B:C,2,0),\" \")","v":" "}]
[null,null,null,null,{"$f":"IFERROR(VLOOKUP(D6465,Códigos!B:C,2,0),\" \")","v":" "}]
[null,null,null,null,{"$f":"IFERROR(VLOOKUP(D6466,Códigos!B:C,2,0),\" \")","v":" "}]
[null,null,null,null,{"$f":"IFERROR(VLOOKUP(D6467,Códigos!B:C,2,0),\" \")","v":" "}]
[null,null,null,null,{"$f":"IFERROR(VLOOKUP(D6468,Códigos!B:C,2,0),\" \")","v":" "}]
[null,null,null,null,{"$f":"IFERROR(VLOOKUP(D6469,Códigos!B:C,2,0),\" \")","v":" "}]
[null,null,null,null,{"$f":"IFERROR(VLOOKUP(D6470,Códigos!B:C,2,0),\" \")","v":" "}]
[null,null,null,null,{"$f":"IFERROR(VLOOKUP(D6471,Códigos!B:C,2,0),\" \")","v":" "}]
[null,null,null,null,{"$f":"IFERROR(VLOOKUP(D6472,Códigos!B:C,2,0),\" \")","v":" "}]
[null,null,null,null,{"$f":"IFERROR(VLOOKUP(D6473,Códigos!B:C,2,0),\" \")","v":" "}]
[null,null,null,null,{"$f":"IFERROR(VLOOKUP(D6474,Códigos!B:C,2,0),\" \")","v":" "}]
[null,null,null,null,{"$f":"IFERROR(VLOOKUP(D6475,Códigos!B:C,2,0),\" \")","v":" "}]
[null,null,null,null,{"$f":"IFERROR(VLOOKUP(D6476,Códigos!B:C,2,0),\" \")","v":" "}]
[null,null,null,null,{"$f":"IFERROR(VLOOKUP(D6477,Códigos!B:C,2,0),\" \")","v":" "}]
[null,null,null,null,{"$f":"IFERROR(VLOOKUP(D6478,Códigos!B:C,2,0),\" \")","v":" "}]
[null,null,null,null,{"$f":"IFERROR(VLOOKUP(D6479,Códigos!B:C,2,0),\" \")","v":" "}]
[null,null,null,null,{"$f":"IFERROR(VLOOKUP(D6480,Códigos!B:C,2,0),\" \")","v":" "}]
[null,null,null,null,{"$f":"IFERROR(VLOOKUP(D6481,Códigos!B:C,2,0),\" \")","v":" "}]
[null,null,null,null,{"$f":"IFERROR(VLOOKUP(D6482,Códigos!B:C,2,0),\" \")","v":" "}]
[null,null,null,null,{"$f":"IFERROR(VLOOKUP(D6483,Códigos!B:C,2,0),\" \")","v":" "}]
[null,null,null,null,{"$f":"IFERROR(VLOOKUP(D6484,Códigos!B:C,2,0),\" \")","v":" "}]
[null,null,null,null,{"$f":"IFERROR(VLOOKUP(D6485,Códigos!B:C,2,0),\" \")","v":" "}]
[null,null,null,null,{"$f":"IFERROR(VLOOKUP(D6486,Códigos!B:C,2,0),\" \")","v":" "}]
[null,null,null,null,{"$f":"IFERROR(VLOOKUP(D6487,Códigos!B:C,2,0),\" \")","v":" "}]
[null,null,null,null,{"$f":"IFERROR(VLOOKUP(D6488,Códigos!B:C,2,0),\" \")","v":" "}]
[null,null,null,null,{"$f":"IFERROR(VLOOKUP(D6489,Códigos!B:C,2,0),\" \")","v":" "}]
[null,null,null,null,{"$f":"IFERROR(VLOOKUP(D6490,Códigos!B:C,2,0),\" \")","v":" "}]
[null,null,null,null,{"$f":"IFERROR(VLOOKUP(D6491,Códigos!B:C,2,0),\" \")","v":" "}]
[null,null,null,null,{"$f":"IFERROR(VLOOKUP(D6492,Códigos!B:C,2,0),\" \")","v":" "}]
[null,null,null,null,{"$f":"IFERROR(VLOOKUP(D6493,Códigos!B:C,2,0),\" \")","v":" "}]
[null,null,null,null,{"$f":"IFERROR(VLOOKUP(D6494,Códigos!B:C,2,0),\" \")","v":" "}]
[null,null,null,null,{"$f":"IFERROR(VLOOKUP(D6495,Códigos!B:C,2,0),\" \")","v":" "}]
[null,null,null,null,{"$f":"IFERROR(VLOOKUP(D6496,Códigos!B:C,2,0),\" \")","v":" "}]
[null,null,null,null,{"$f":"IFERROR(VLOOKUP(D6497,Códigos!B:C,2,0),\" \")","v":" "}]
[null,null,null,null,{"$f":"IFERROR(VLOOKUP(D6498,Códigos!B:C,2,0),\" \")","v":" "}]
[null,null,null,null,{"$f":"IFERROR(VLOOKUP(D6499,Códigos!B:C,2,0),\" \")","v":" "}]
[null,null,null,null,{"$f":"IFERROR(VLOOKUP(D6500,Códigos!B:C,2,0),\" \")","v":" "}]
[null,null,null,null,{"$f":"IFERROR(VLOOKUP(D6501,Códigos!B:C,2,0),\" \")","v":" "}]
[null,null,null,null,{"$f":"IFERROR(VLOOKUP(D6502,Códigos!B:C,2,0),\" \")","v":" "}]
[null,null,null,null,{"$f":"IFERROR(VLOOKUP(D6503,Códigos!B:C,2,0),\" \")","v":" "}]
[null,null,null,null,{"$f":"IFERROR(VLOOKUP(D6504,Códigos!B:C,2,0),\" \")","v":" "}]
[null,null,null,null,{"$f":"IFERROR(VLOOKUP(D6505,Códigos!B:C,2,0),\" \")","v":" "}]
[null,null,null,null,{"$f":"IFERROR(VLOOKUP(D6506,Códigos!B:C,2,0),\" \")","v":" "}]
[null,null,null,null,{"$f":"IFERROR(VLOOKUP(D6507,Códigos!B:C,2,0),\" \")","v":" "}]
[null,null,null,null,{"$f":"IFERROR(VLOOKUP(D6508,Códigos!B:C,2,0),\" \")","v":" "}]
[null,null,null,null,{"$f":"IFERROR(VLOOKUP(D6509,Códigos!B:C,2,0),\" \")","v":" "}]
[null,null,null,null,{"$f":"IFERROR(VLOOKUP(D6510,Códigos!B:C,2,0),\" \")","v":" "}]
[null,null,null,null,{"$f":"IFERROR(VLOOKUP(D6511,Códigos!B:C,2,0),\" \")","v":" "}]
[null,null,null,null,{"$f":"IFERROR(VLOOKUP(D6512,Códigos!B:C,2,0),\" \")","v":" "}]
[null,null,null,null,{"$f":"IFERROR(VLOOKUP(D6513,Códigos!B:C,2,0),\" \")","v":" "}]
[null,null,null,null,{"$f":"IFERROR(VLOOKUP(D6514,Códigos!B:C,2,0),\" \")","v":" "}]
[null,null,null,null,{"$f":"IFERROR(VLOOKUP(D6515,Códigos!B:C,2,0),\" \")","v":" "}]
[null,null,null,null,{"$f":"IFERROR(VLOOKUP(D6516,Códigos!B:C,2,0),\" \")","v":" "}]
[null,null,null,null,{"$f":"IFERROR(VLOOKUP(D6517,Códigos!B:C,2,0),\" \")","v":" "}]
[null,null,null,null,{"$f":"IFERROR(VLOOKUP(D6518,Códigos!B:C,2,0),\" \")","v":" "}]
[null,null,null,null,{"$f":"IFERROR(VLOOKUP(D6519,Códigos!B:C,2,0),\" \")","v":" "}]
[null,null,null,null,{"$f":"IFERROR(VLOOKUP(D6520,Códigos!B:C,2,0),\" \")","v":" "}]
[null,null,null,null,{"$f":"IFERROR(VLOOKUP(D6521,Códigos!B:C,2,0),\" \")","v":" "}]
[null,null,null,null,{"$f":"IFERROR(VLOOKUP(D6522,Códigos!B:C,2,0),\" \")","v":" "}]
[null,null,null,null,{"$f":"IFERROR(VLOOKUP(D6523,Códigos!B:C,2,0),\" \")","v":" "}]
[null,null,null,null,{"$f":"IFERROR(VLOOKUP(D6524,Códigos!B:C,2,0),\" \")","v":" "}]
[null,null,null,null,{"$f":"IFERROR(VLOOKUP(D6525,Códigos!B:C,2,0),\" \")","v":" "}]
[null,null,null,null,{"$f":"IFERROR(VLOOKUP(D6526,Códigos!B:C,2,0),\" \")","v":" "}]
[null,null,null,null,{"$f":"IFERROR(VLOOKUP(D6527,Códigos!B:C,2,0),\" \")","v":" "}]
[null,null,null,null,{"$f":"IFERROR(VLOOKUP(D6528,Códigos!B:C,2,0),\" \")","v":" "}]
[null,null,null,null,{"$f":"IFERROR(VLOOKUP(D6529,Códigos!B:C,2,0),\" \")","v":" "}]
[null,null,null,null,{"$f":"IFERROR(VLOOKUP(D6530,Códigos!B:C,2,0),\" \")","v":" "}]
[null,null,null,null,{"$f":"IFERROR(VLOOKUP(D6531,Códigos!B:C,2,0),\" \")","v":" "}]
[null,null,null,null,{"$f":"IFERROR(VLOOKUP(D6532,Códigos!B:C,2,0),\" \")","v":" "}]
[null,null,null,null,{"$f":"IFERROR(VLOOKUP(D6533,Códigos!B:C,2,0),\" \")","v":" "}]
[null,null,null,null,{"$f":"IFERROR(VLOOKUP(D6534,Códigos!B:C,2,0),\" \")","v":" "}]
[null,null,null,null,{"$f":"IFERROR(VLOOKUP(D6535,Códigos!B:C,2,0),\" \")","v":" "}]
[null,null,null,null,{"$f":"IFERROR(VLOOKUP(D6536,Códigos!B:C,2,0),\" \")","v":" "}]
[null,null,null,null,{"$f":"IFERROR(VLOOKUP(D6537,Códigos!B:C,2,0),\" \")","v":" "}]
[null,null,null,null,{"$f":"IFERROR(VLOOKUP(D6538,Códigos!B:C,2,0),\" \")","v":" "}]
[null,null,null,null,{"$f":"IFERROR(VLOOKUP(D6539,Códigos!B:C,2,0),\" \")","v":" "}]
[null,null,null,null,{"$f":"IFERROR(VLOOKUP(D6540,Códigos!B:C,2,0),\" \")","v":" "}]
[null,null,null,null,{"$f":"IFERROR(VLOOKUP(D6541,Códigos!B:C,2,0),\" \")","v":" "}]
[null,null,null,null,{"$f":"IFERROR(VLOOKUP(D6542,Códigos!B:C,2,0),\" \")","v":" "}]
[null,null,null,null,{"$f":"IFERROR(VLOOKUP(D6543,Códigos!B:C,2,0),\" \")","v":" "}]
[null,null,null,null,{"$f":"IFERROR(VLOOKUP(D6544,Códigos!B:C,2,0),\" \")","v":" "}]
[null,null,null,null,{"$f":"IFERROR(VLOOKUP(D6545,Códigos!B:C,2,0),\" \")","v":" "}]
[null,null,null,null,{"$f":"IFERROR(VLOOKUP(D6546,Códigos!B:C,2,0),\" \")","v":" "}]
[null,null,null,null,{"$f":"IFERROR(VLOOKUP(D6547,Códigos!B:C,2,0),\" \")","v":" "}]
[null,null,null,null,{"$f":"IFERROR(VLOOKUP(D6548,Códigos!B:C,2,0),\" \")","v":" "}]
[null,null,null,null,{"$f":"IFERROR(VLOOKUP(D6549,Códigos!B:C,2,0),\" \")","v":" "}]
[null,null,null,null,{"$f":"IFERROR(VLOOKUP(D6550,Códigos!B:C,2,0),\" \")","v":" "}]
[null,null,null,null,{"$f":"IFERROR(VLOOKUP(D6551,Códigos!B:C,2,0),\" \")","v":" "}]
[null,null,null,null,{"$f":"IFERROR(VLOOKUP(D6552,Códigos!B:C,2,0),\" \")","v":" "}]
[null,null,null,null,{"$f":"IFERROR(VLOOKUP(D6553,Códigos!B:C,2,0),\" \")","v":" "}]
[null,null,null,null,{"$f":"IFERROR(VLOOKUP(D6554,Códigos!B:C,2,0),\" \")","v":" "}]
[null,null,null,null,{"$f":"IFERROR(VLOOKUP(D6555,Códigos!B:C,2,0),\" \")","v":" "}]
[null,null,null,null,{"$f":"IFERROR(VLOOKUP(D6556,Códigos!B:C,2,0),\" \")","v":" "}]
[null,null,null,null,{"$f":"IFERROR(VLOOKUP(D6557,Códigos!B:C,2,0),\" \")","v":" "}]
[null,null,null,null,{"$f":"IFERROR(VLOOKUP(D6558,Códigos!B:C,2,0),\" \")","v":" "}]
[null,null,null,null,{"$f":"IFERROR(VLOOKUP(D6559,Códigos!B:C,2,0),\" \")","v":" "}]
[null,null,null,null,{"$f":"IFERROR(VLOOKUP(D6560,Códigos!B:C,2,0),\" \")","v":" "}]
[null,null,null,null,{"$f":"IFERROR(VLOOKUP(D6561,Códigos!B:C,2,0),\" \")","v":" "}]
[null,null,null,null,{"$f":"IFERROR(VLOOKUP(D6562,Códigos!B:C,2,0),\" \")","v":" "}]
[null,null,null,null,{"$f":"IFERROR(VLOOKUP(D6563,Códigos!B:C,2,0),\" \")","v":" "}]
[null,null,null,null,{"$f":"IFERROR(VLOOKUP(D6564,Códigos!B:C,2,0),\" \")","v":" "}]
[null,null,null,null,{"$f":"IFERROR(VLOOKUP(D6565,Códigos!B:C,2,0),\" \")","v":" "}]
[null,null,null,null,{"$f":"IFERROR(VLOOKUP(D6566,Códigos!B:C,2,0),\" \")","v":" "}]
[null,null,null,null,{"$f":"IFERROR(VLOOKUP(D6567,Códigos!B:C,2,0),\" \")","v":" "}]
[null,null,null,null,{"$f":"IFERROR(VLOOKUP(D6568,Códigos!B:C,2,0),\" \")","v":" "}]
[null,null,null,null,{"$f":"IFERROR(VLOOKUP(D6569,Códigos!B:C,2,0),\" \")","v":" "}]
[null,null,null,null,{"$f":"IFERROR(VLOOKUP(D6570,Códigos!B:C,2,0),\" \")","v":" "}]
[null,null,null,null,{"$f":"IFERROR(VLOOKUP(D6571,Códigos!B:C,2,0),\" \")","v":" "}]
[null,null,null,null,{"$f":"IFERROR(VLOOKUP(D6572,Códigos!B:C,2,0),\" \")","v":" "}]
[null,null,null,null,{"$f":"IFERROR(VLOOKUP(D6573,Códigos!B:C,2,0),\" \")","v":" "}]
[null,null,null,null,{"$f":"IFERROR(VLOOKUP(D6574,Códigos!B:C,2,0),\" \")","v":" "}]
[null,null,null,null,{"$f":"IFERROR(VLOOKUP(D6575,Códigos!B:C,2,0),\" \")","v":" "}]
[null,null,null,null,{"$f":"IFERROR(VLOOKUP(D6576,Códigos!B:C,2,0),\" \")","v":" "}]
[null,null,null,null,{"$f":"IFERROR(VLOOKUP(D6577,Códigos!B:C,2,0),\" \")","v":" "}]
[null,null,null,null,{"$f":"IFERROR(VLOOKUP(D6578,Códigos!B:C,2,0),\" \")","v":" "}]
[null,null,null,null,{"$f":"IFERROR(VLOOKUP(D6579,Códigos!B:C,2,0),\" \")","v":" "}]
[null,null,null,null,{"$f":"IFERROR(VLOOKUP(D6580,Códigos!B:C,2,0),\" \")","v":" "}]
[null,null,null,null,{"$f":"IFERROR(VLOOKUP(D6581,Códigos!B:C,2,0),\" \")","v":" "}]
[null,null,null,null,{"$f":"IFERROR(VLOOKUP(D6582,Códigos!B:C,2,0),\" \")","v":" "}]
[null,null,null,null,{"$f":"IFERROR(VLOOKUP(D6583,Códigos!B:C,2,0),\" \")","v":" "}]
[null,null,null,null,{"$f":"IFERROR(VLOOKUP(D6584,Códigos!B:C,2,0),\" \")","v":" "}]
[null,null,null,null,{"$f":"IFERROR(VLOOKUP(D6585,Códigos!B:C,2,0),\" \")","v":" "}]
[null,null,null,null,{"$f":"IFERROR(VLOOKUP(D6586,Códigos!B:C,2,0),\" \")","v":" "}]
[null,null,null,null,{"$f":"IFERROR(VLOOKUP(D6587,Códigos!B:C,2,0),\" \")","v":" "}]
[null,null,null,null,{"$f":"IFERROR(VLOOKUP(D6588,Códigos!B:C,2,0),\" \")","v":" "}]
[null,null,null,null,{"$f":"IFERROR(VLOOKUP(D6589,Códigos!B:C,2,0),\" \")","v":" "}]
[null,null,null,null,{"$f":"IFERROR(VLOOKUP(D6590,Códigos!B:C,2,0),\" \")","v":" "}]
[null,null,null,null,{"$f":"IFERROR(VLOOKUP(D6591,Códigos!B:C,2,0),\" \")","v":" "}]
[null,null,null,null,{"$f":"IFERROR(VLOOKUP(D6592,Códigos!B:C,2,0),\" \")","v":" "}]
[null,null,null,null,{"$f":"IFERROR(VLOOKUP(D6593,Códigos!B:C,2,0),\" \")","v":" "}]
[null,null,null,null,{"$f":"IFERROR(VLOOKUP(D6594,Códigos!B:C,2,0),\" \")","v":" "}]
[null,null,null,null,{"$f":"IFERROR(VLOOKUP(D6595,Códigos!B:C,2,0),\" \")","v":" "}]
[null,null,null,null,{"$f":"IFERROR(VLOOKUP(D6596,Códigos!B:C,2,0),\" \")","v":" "}]
[null,null,null,null,{"$f":"IFERROR(VLOOKUP(D6597,Códigos!B:C,2,0),\" \")","v":" "}]
[null,null,null,null,{"$f":"IFERROR(VLOOKUP(D6598,Códigos!B:C,2,0),\" \")","v":" "}]
[null,null,null,null,{"$f":"IFERROR(VLOOKUP(D6599,Códigos!B:C,2,0),\" \")","v":" "}]
[null,null,null,null,{"$f":"IFERROR(VLOOKUP(D6600,Códigos!B:C,2,0),\" \")","v":" "}]
[null,null,null,null,{"$f":"IFERROR(VLOOKUP(D6601,Códigos!B:C,2,0),\" \")","v":" "}]
[null,null,null,null,{"$f":"IFERROR(VLOOKUP(D6602,Códigos!B:C,2,0),\" \")","v":" "}]
[null,null,null,null,{"$f":"IFERROR(VLOOKUP(D6603,Códigos!B:C,2,0),\" \")","v":" "}]
[null,null,null,null,{"$f":"IFERROR(VLOOKUP(D6604,Códigos!B:C,2,0),\" \")","v":" "}]
[null,null,null,null,{"$f":"IFERROR(VLOOKUP(D6605,Códigos!B:C,2,0),\" \")","v":" "}]
[null,null,null,null,{"$f":"IFERROR(VLOOKUP(D6606,Códigos!B:C,2,0),\" \")","v":" "}]
[null,null,null,null,{"$f":"IFERROR(VLOOKUP(D6607,Códigos!B:C,2,0),\" \")","v":" "}]
[null,null,null,null,{"$f":"IFERROR(VLOOKUP(D6608,Códigos!B:C,2,0),\" \")","v":" "}]
[null,null,null,null,{"$f":"IFERROR(VLOOKUP(D6609,Códigos!B:C,2,0),\" \")","v":" "}]
[null,null,null,null,{"$f":"IFERROR(VLOOKUP(D6610,Códigos!B:C,2,0),\" \")","v":" "}]
[null,null,null,null,{"$f":"IFERROR(VLOOKUP(D6611,Códigos!B:C,2,0),\" \")","v":" "}]
[null,null,null,null,{"$f":"IFERROR(VLOOKUP(D6612,Códigos!B:C,2,0),\" \")","v":" "}]
[null,null,null,null,{"$f":"IFERROR(VLOOKUP(D6613,Códigos!B:C,2,0),\" \")","v":" "}]
[null,null,null,null,{"$f":"IFERROR(VLOOKUP(D6614,Códigos!B:C,2,0),\" \")","v":" "}]
[null,null,null,null,{"$f":"IFERROR(VLOOKUP(D6615,Códigos!B:C,2,0),\" \")","v":" "}]
[null,null,null,null,{"$f":"IFERROR(VLOOKUP(D6616,Códigos!B:C,2,0),\" \")","v":" "}]
[null,null,null,null,{"$f":"IFERROR(VLOOKUP(D6617,Códigos!B:C,2,0),\" \")","v":" "}]
[null,null,null,null,{"$f":"IFERROR(VLOOKUP(D6618,Códigos!B:C,2,0),\" \")","v":" "}]
[null,null,null,null,{"$f":"IFERROR(VLOOKUP(D6619,Códigos!B:C,2,0),\" \")","v":" "}]
[null,null,null,null,{"$f":"IFERROR(VLOOKUP(D6620,Códigos!B:C,2,0),\" \")","v":" "}]
[null,null,null,null,{"$f":"IFERROR(VLOOKUP(D6621,Códigos!B:C,2,0),\" \")","v":" "}]
[null,null,null,null,{"$f":"IFERROR(VLOOKUP(D6622,Códigos!B:C,2,0),\" \")","v":" "}]
[null,null,null,null,{"$f":"IFERROR(VLOOKUP(D6623,Códigos!B:C,2,0),\" \")","v":" "}]
[null,null,null,null,{"$f":"IFERROR(VLOOKUP(D6624,Códigos!B:C,2,0),\" \")","v":" "}]
[null,null,null,null,{"$f":"IFERROR(VLOOKUP(D6625,Códigos!B:C,2,0),\" \")","v":" "}]
[null,null,null,null,{"$f":"IFERROR(VLOOKUP(D6626,Códigos!B:C,2,0),\" \")","v":" "}]
[null,null,null,null,{"$f":"IFERROR(VLOOKUP(D6627,Códigos!B:C,2,0),\" \")","v":" "}]
[null,null,null,null,{"$f":"IFERROR(VLOOKUP(D6628,Códigos!B:C,2,0),\" \")","v":" "}]
[null,null,null,null,{"$f":"IFERROR(VLOOKUP(D6629,Códigos!B:C,2,0),\" \")","v":" "}]
[null,null,null,null,{"$f":"IFERROR(VLOOKUP(D6630,Códigos!B:C,2,0),\" \")","v":" "}]
[null,null,null,null,{"$f":"IFERROR(VLOOKUP(D6631,Códigos!B:C,2,0),\" \")","v":" "}]
[null,null,null,null,{"$f":"IFERROR(VLOOKUP(D6632,Códigos!B:C,2,0),\" \")","v":" "}]
[null,null,null,null,{"$f":"IFERROR(VLOOKUP(D6633,Códigos!B:C,2,0),\" \")","v":" "}]
[null,null,null,null,{"$f":"IFERROR(VLOOKUP(D6634,Códigos!B:C,2,0),\" \")","v":" "}]
[null,null,null,null,{"$f":"IFERROR(VLOOKUP(D6635,Códigos!B:C,2,0),\" \")","v":" "}]
[null,null,null,null,{"$f":"IFERROR(VLOOKUP(D6636,Códigos!B:C,2,0),\" \")","v":" "}]
[null,null,null,null,{"$f":"IFERROR(VLOOKUP(D6637,Códigos!B:C,2,0),\" \")","v":" "}]
[null,null,null,null,{"$f":"IFERROR(VLOOKUP(D6638,Códigos!B:C,2,0),\" \")","v":" "}]
[null,null,null,null,{"$f":"IFERROR(VLOOKUP(D6639,Códigos!B:C,2,0),\" \")","v":" "}]
[null,null,null,null,{"$f":"IFERROR(VLOOKUP(D6640,Códigos!B:C,2,0),\" \")","v":" "}]
[null,null,null,null,{"$f":"IFERROR(VLOOKUP(D6641,Códigos!B:C,2,0),\" \")","v":" "}]
[null,null,null,null,{"$f":"IFERROR(VLOOKUP(D6642,Códigos!B:C,2,0),\" \")","v":" "}]
[null,null,null,null,{"$f":"IFERROR(VLOOKUP(D6643,Códigos!B:C,2,0),\" \")","v":" "}]
[null,null,null,null,{"$f":"IFERROR(VLOOKUP(D6644,Códigos!B:C,2,0),\" \")","v":" "}]
[null,null,null,null,{"$f":"IFERROR(VLOOKUP(D6645,Códigos!B:C,2,0),\" \")","v":" "}]
[null,null,null,null,{"$f":"IFERROR(VLOOKUP(D6646,Códigos!B:C,2,0),\" \")","v":" "}]
[null,null,null,null,{"$f":"IFERROR(VLOOKUP(D6647,Códigos!B:C,2,0),\" \")","v":" "}]
[null,null,null,null,{"$f":"IFERROR(VLOOKUP(D6648,Códigos!B:C,2,0),\" \")","v":" "}]
[null,null,null,null,{"$f":"IFERROR(VLOOKUP(D6649,Códigos!B:C,2,0),\" \")","v":" "}]
[null,null,null,null,{"$f":"IFERROR(VLOOKUP(D6650,Códigos!B:C,2,0),\" \")","v":" "}]
[null,null,null,null,{"$f":"IFERROR(VLOOKUP(D6651,Códigos!B:C,2,0),\" \")","v":" "}]
[null,null,null,null,{"$f":"IFERROR(VLOOKUP(D6652,Códigos!B:C,2,0),\" \")","v":" "}]
[null,null,null,null,{"$f":"IFERROR(VLOOKUP(D6653,Códigos!B:C,2,0),\" \")","v":" "}]
[null,null,null,null,{"$f":"IFERROR(VLOOKUP(D6654,Códigos!B:C,2,0),\" \")","v":" "}]
[null,null,null,null,{"$f":"IFERROR(VLOOKUP(D6655,Códigos!B:C,2,0),\" \")","v":" "}]
[null,null,null,null,{"$f":"IFERROR(VLOOKUP(D6656,Códigos!B:C,2,0),\" \")","v":" "}]
[null,null,null,null,{"$f":"IFERROR(VLOOKUP(D6657,Códigos!B:C,2,0),\" \")","v":" "}]
[null,null,null,null,{"$f":"IFERROR(VLOOKUP(D6658,Códigos!B:C,2,0),\" \")","v":" "}]
[null,null,null,null,{"$f":"IFERROR(VLOOKUP(D6659,Códigos!B:C,2,0),\" \")","v":" "}]
[null,null,null,null,{"$f":"IFERROR(VLOOKUP(D6660,Códigos!B:C,2,0),\" \")","v":" "}]
[null,null,null,null,{"$f":"IFERROR(VLOOKUP(D6661,Códigos!B:C,2,0),\" \")","v":" "}]
[null,null,null,null,{"$f":"IFERROR(VLOOKUP(D6662,Códigos!B:C,2,0),\" \")","v":" "}]
[null,null,null,null,{"$f":"IFERROR(VLOOKUP(D6663,Códigos!B:C,2,0),\" \")","v":" "}]
[null,null,null,null,{"$f":"IFERROR(VLOOKUP(D6664,Códigos!B:C,2,0),\" \")","v":" "}]
[null,null,null,null,{"$f":"IFERROR(VLOOKUP(D6665,Códigos!B:C,2,0),\" \")","v":" "}]
[null,null,null,null,{"$f":"IFERROR(VLOOKUP(D6666,Códigos!B:C,2,0),\" \")","v":" "}]
[null,null,null,null,{"$f":"IFERROR(VLOOKUP(D6667,Códigos!B:C,2,0),\" \")","v":" "}]
[null,null,null,null,{"$f":"IFERROR(VLOOKUP(D6668,Códigos!B:C,2,0),\" \")","v":" "}]
[null,null,null,null,{"$f":"IFERROR(VLOOKUP(D6669,Códigos!B:C,2,0),\" \")","v":" "}]
[null,null,null,null,{"$f":"IFERROR(VLOOKUP(D6670,Códigos!B:C,2,0),\" \")","v":" "}]
[null,null,null,null,{"$f":"IFERROR(VLOOKUP(D6671,Códigos!B:C,2,0),\" \")","v":" "}]
[null,null,null,null,{"$f":"IFERROR(VLOOKUP(D6672,Códigos!B:C,2,0),\" \")","v":" "}]
[null,null,null,null,{"$f":"IFERROR(VLOOKUP(D6673,Códigos!B:C,2,0),\" \")","v":" "}]
[null,null,null,null,{"$f":"IFERROR(VLOOKUP(D6674,Códigos!B:C,2,0),\" \")","v":" "}]
[null,null,null,null,{"$f":"IFERROR(VLOOKUP(D6675,Códigos!B:C,2,0),\" \")","v":" "}]
[null,null,null,null,{"$f":"IFERROR(VLOOKUP(D6676,Códigos!B:C,2,0),\" \")","v":" "}]
[null,null,null,null,{"$f":"IFERROR(VLOOKUP(D6677,Códigos!B:C,2,0),\" \")","v":" "}]
[null,null,null,null,{"$f":"IFERROR(VLOOKUP(D6678,Códigos!B:C,2,0),\" \")","v":" "}]
[null,null,null,null,{"$f":"IFERROR(VLOOKUP(D6679,Códigos!B:C,2,0),\" \")","v":" "}]
[null,null,null,null,{"$f":"IFERROR(VLOOKUP(D6680,Códigos!B:C,2,0),\" \")","v":" "}]
[null,null,null,null,{"$f":"IFERROR(VLOOKUP(D6681,Códigos!B:C,2,0),\" \")","v":" "}]
[null,null,null,null,{"$f":"IFERROR(VLOOKUP(D6682,Códigos!B:C,2,0),\" \")","v":" "}]
[null,null,null,null,{"$f":"IFERROR(VLOOKUP(D6683,Códigos!B:C,2,0),\" \")","v":" "}]
[null,null,null,null,{"$f":"IFERROR(VLOOKUP(D6684,Códigos!B:C,2,0),\" \")","v":" "}]
[null,null,null,null,{"$f":"IFERROR(VLOOKUP(D6685,Códigos!B:C,2,0),\" \")","v":" "}]
[null,null,null,null,{"$f":"IFERROR(VLOOKUP(D6686,Códigos!B:C,2,0),\" \")","v":" "}]
[null,null,null,null,{"$f":"IFERROR(VLOOKUP(D6687,Códigos!B:C,2,0),\" \")","v":" "}]
[null,null,null,null,{"$f":"IFERROR(VLOOKUP(D6688,Códigos!B:C,2,0),\" \")","v":" "}]
[null,null,null,null,{"$f":"IFERROR(VLOOKUP(D6689,Códigos!B:C,2,0),\" \")","v":" "}]
[null,null,null,null,{"$f":"IFERROR(VLOOKUP(D6690,Códigos!B:C,2,0),\" \")","v":" "}]
[null,null,null,null,{"$f":"IFERROR(VLOOKUP(D6691,Códigos!B:C,2,0),\" \")","v":" "}]
[null,null,null,null,{"$f":"IFERROR(VLOOKUP(D6692,Códigos!B:C,2,0),\" \")","v":" "}]
[null,null,null,null,{"$f":"IFERROR(VLOOKUP(D6693,Códigos!B:C,2,0),\" \")","v":" "}]
[null,null,null,null,{"$f":"IFERROR(VLOOKUP(D6694,Códigos!B:C,2,0),\" \")","v":" "}]
[null,null,null,null,{"$f":"IFERROR(VLOOKUP(D6695,Códigos!B:C,2,0),\" \")","v":" "}]
[null,null,null,null,{"$f":"IFERROR(VLOOKUP(D6696,Códigos!B:C,2,0),\" \")","v":" "}]
[null,null,null,null,{"$f":"IFERROR(VLOOKUP(D6697,Códigos!B:C,2,0),\" \")","v":" "}]
[null,null,null,null,{"$f":"IFERROR(VLOOKUP(D6698,Códigos!B:C,2,0),\" \")","v":" "}]
[null,null,null,null,{"$f":"IFERROR(VLOOKUP(D6699,Códigos!B:C,2,0),\" \")","v":" "}]
[null,null,null,null,{"$f":"IFERROR(VLOOKUP(D6700,Códigos!B:C,2,0),\" \")","v":" "}]
[null,null,null,null,{"$f":"IFERROR(VLOOKUP(D6701,Códigos!B:C,2,0),\" \")","v":" "}]
[null,null,null,null,{"$f":"IFERROR(VLOOKUP(D6702,Códigos!B:C,2,0),\" \")","v":" "}]
[null,null,null,null,{"$f":"IFERROR(VLOOKUP(D6703,Códigos!B:C,2,0),\" \")","v":" "}]
[null,null,null,null,{"$f":"IFERROR(VLOOKUP(D6704,Códigos!B:C,2,0),\" \")","v":" "}]
[null,null,null,null,{"$f":"IFERROR(VLOOKUP(D6705,Códigos!B:C,2,0),\" \")","v":" "}]
[null,null,null,null,{"$f":"IFERROR(VLOOKUP(D6706,Códigos!B:C,2,0),\" \")","v":" "}]
[null,null,null,null,{"$f":"IFERROR(VLOOKUP(D6707,Códigos!B:C,2,0),\" \")","v":" "}]
[null,null,null,null,{"$f":"IFERROR(VLOOKUP(D6708,Códigos!B:C,2,0),\" \")","v":" "}]
[null,null,null,null,{"$f":"IFERROR(VLOOKUP(D6709,Códigos!B:C,2,0),\" \")","v":" "}]
[null,null,null,null,{"$f":"IFERROR(VLOOKUP(D6710,Códigos!B:C,2,0),\" \")","v":" "}]
[null,null,null,null,{"$f":"IFERROR(VLOOKUP(D6711,Códigos!B:C,2,0),\" \")","v":" "}]
[null,null,null,null,{"$f":"IFERROR(VLOOKUP(D6712,Códigos!B:C,2,0),\" \")","v":" "}]
[null,null,null,null,{"$f":"IFERROR(VLOOKUP(D6713,Códigos!B:C,2,0),\" \")","v":" "}]
[null,null,null,null,{"$f":"IFERROR(VLOOKUP(D6714,Códigos!B:C,2,0),\" \")","v":" "}]
[null,null,null,null,{"$f":"IFERROR(VLOOKUP(D6715,Códigos!B:C,2,0),\" \")","v":" "}]
[null,null,null,null,{"$f":"IFERROR(VLOOKUP(D6716,Códigos!B:C,2,0),\" \")","v":" "}]
[null,null,null,null,{"$f":"IFERROR(VLOOKUP(D6717,Códigos!B:C,2,0),\" \")","v":" "}]
[null,null,null,null,{"$f":"IFERROR(VLOOKUP(D6718,Códigos!B:C,2,0),\" \")","v":" "}]
[null,null,null,null,{"$f":"IFERROR(VLOOKUP(D6719,Códigos!B:C,2,0),\" \")","v":" "}]
[null,null,null,null,{"$f":"IFERROR(VLOOKUP(D6720,Códigos!B:C,2,0),\" \")","v":" "}]
[null,null,null,null,{"$f":"IFERROR(VLOOKUP(D6721,Códigos!B:C,2,0),\" \")","v":" "}]
[null,null,null,null,{"$f":"IFERROR(VLOOKUP(D6722,Códigos!B:C,2,0),\" \")","v":" "}]
[null,null,null,null,{"$f":"IFERROR(VLOOKUP(D6723,Códigos!B:C,2,0),\" \")","v":" "}]
[null,null,null,null,{"$f":"IFERROR(VLOOKUP(D6724,Códigos!B:C,2,0),\" \")","v":" "}]
[null,null,null,null,{"$f":"IFERROR(VLOOKUP(D6725,Códigos!B:C,2,0),\" \")","v":" "}]
[null,null,null,null,{"$f":"IFERROR(VLOOKUP(D6726,Códigos!B:C,2,0),\" \")","v":" "}]
[null,null,null,null,{"$f":"IFERROR(VLOOKUP(D6727,Códigos!B:C,2,0),\" \")","v":" "}]
[null,null,null,null,{"$f":"IFERROR(VLOOKUP(D6728,Códigos!B:C,2,0),\" \")","v":" "}]
[null,null,null,null,{"$f":"IFERROR(VLOOKUP(D6729,Códigos!B:C,2,0),\" \")","v":" "}]
[null,null,null,null,{"$f":"IFERROR(VLOOKUP(D6730,Códigos!B:C,2,0),\" \")","v":" "}]
[null,null,null,null,{"$f":"IFERROR(VLOOKUP(D6731,Códigos!B:C,2,0),\" \")","v":" "}]
[null,null,null,null,{"$f":"IFERROR(VLOOKUP(D6732,Códigos!B:C,2,0),\" \")","v":" "}]
[null,null,null,null,{"$f":"IFERROR(VLOOKUP(D6733,Códigos!B:C,2,0),\" \")","v":" "}]
[null,null,null,null,{"$f":"IFERROR(VLOOKUP(D6734,Códigos!B:C,2,0),\" \")","v":" "}]
[null,null,null,null,{"$f":"IFERROR(VLOOKUP(D6735,Códigos!B:C,2,0),\" \")","v":" "}]
[null,null,null,null,{"$f":"IFERROR(VLOOKUP(D6736,Códigos!B:C,2,0),\" \")","v":" "}]
[null,null,null,null,{"$f":"IFERROR(VLOOKUP(D6737,Códigos!B:C,2,0),\" \")","v":" "}]
[null,null,null,null,{"$f":"IFERROR(VLOOKUP(D6738,Códigos!B:C,2,0),\" \")","v":" "}]
[null,null,null,null,{"$f":"IFERROR(VLOOKUP(D6739,Códigos!B:C,2,0),\" \")","v":" "}]
[null,null,null,null,{"$f":"IFERROR(VLOOKUP(D6740,Códigos!B:C,2,0),\" \")","v":" "}]
[null,null,null,null,{"$f":"IFERROR(VLOOKUP(D6741,Códigos!B:C,2,0),\" \")","v":" "}]
[null,null,null,null,{"$f":"IFERROR(VLOOKUP(D6742,Códigos!B:C,2,0),\" \")","v":" "}]
[null,null,null,null,{"$f":"IFERROR(VLOOKUP(D6743,Códigos!B:C,2,0),\" \")","v":" "}]
[null,null,null,null,{"$f":"IFERROR(VLOOKUP(D6744,Códigos!B:C,2,0),\" \")","v":" "}]
[null,null,null,null,{"$f":"IFERROR(VLOOKUP(D6745,Códigos!B:C,2,0),\" \")","v":" "}]
[null,null,null,null,{"$f":"IFERROR(VLOOKUP(D6746,Códigos!B:C,2,0),\" \")","v":" "}]
[null,null,null,null,{"$f":"IFERROR(VLOOKUP(D6747,Códigos!B:C,2,0),\" \")","v":" "}]
[null,null,null,null,{"$f":"IFERROR(VLOOKUP(D6748,Códigos!B:C,2,0),\" \")","v":" "}]
[null,null,null,null,{"$f":"IFERROR(VLOOKUP(D6749,Códigos!B:C,2,0),\" \")","v":" "}]
[null,null,null,null,{"$f":"IFERROR(VLOOKUP(D6750,Códigos!B:C,2,0),\" \")","v":" "}]
[null,null,null,null,{"$f":"IFERROR(VLOOKUP(D6751,Códigos!B:C,2,0),\" \")","v":" "}]
[null,null,null,null,{"$f":"IFERROR(VLOOKUP(D6752,Códigos!B:C,2,0),\" \")","v":" "}]
[null,null,null,null,{"$f":"IFERROR(VLOOKUP(D6753,Códigos!B:C,2,0),\" \")","v":" "}]
[null,null,null,null,{"$f":"IFERROR(VLOOKUP(D6754,Códigos!B:C,2,0),\" \")","v":" "}]
[null,null,null,null,{"$f":"IFERROR(VLOOKUP(D6755,Códigos!B:C,2,0),\" \")","v":" "}]
[null,null,null,null,{"$f":"IFERROR(VLOOKUP(D6756,Códigos!B:C,2,0),\" \")","v":" "}]
[null,null,null,null,{"$f":"IFERROR(VLOOKUP(D6757,Códigos!B:C,2,0),\" \")","v":" "}]
[null,null,null,null,{"$f":"IFERROR(VLOOKUP(D6758,Códigos!B:C,2,0),\" \")","v":" "}]
[null,null,null,null,{"$f":"IFERROR(VLOOKUP(D6759,Códigos!B:C,2,0),\" \")","v":" "}]
[null,null,null,null,{"$f":"IFERROR(VLOOKUP(D6760,Códigos!B:C,2,0),\" \")","v":" "}]
[null,null,null,null,{"$f":"IFERROR(VLOOKUP(D6761,Códigos!B:C,2,0),\" \")","v":" "}]
[null,null,null,null,{"$f":"IFERROR(VLOOKUP(D6762,Códigos!B:C,2,0),\" \")","v":" "}]
[null,null,null,null,{"$f":"IFERROR(VLOOKUP(D6763,Códigos!B:C,2,0),\" \")","v":" "}]
[null,null,null,null,{"$f":"IFERROR(VLOOKUP(D6764,Códigos!B:C,2,0),\" \")","v":" "}]
[null,null,null,null,{"$f":"IFERROR(VLOOKUP(D6765,Códigos!B:C,2,0),\" \")","v":" "}]
[null,null,null,null,{"$f":"IFERROR(VLOOKUP(D6766,Códigos!B:C,2,0),\" \")","v":" "}]
[null,null,null,null,{"$f":"IFERROR(VLOOKUP(D6767,Códigos!B:C,2,0),\" \")","v":" "}]
[null,null,null,null,{"$f":"IFERROR(VLOOKUP(D6768,Códigos!B:C,2,0),\" \")","v":" "}]
[null,null,null,null,{"$f":"IFERROR(VLOOKUP(D6769,Códigos!B:C,2,0),\" \")","v":" "}]
[null,null,null,null,{"$f":"IFERROR(VLOOKUP(D6770,Códigos!B:C,2,0),\" \")","v":" "}]
[null,null,null,null,{"$f":"IFERROR(VLOOKUP(D6771,Códigos!B:C,2,0),\" \")","v":" "}]
[null,null,null,null,{"$f":"IFERROR(VLOOKUP(D6772,Códigos!B:C,2,0),\" \")","v":" "}]
[null,null,null,null,{"$f":"IFERROR(VLOOKUP(D6773,Códigos!B:C,2,0),\" \")","v":" "}]
[null,null,null,null,{"$f":"IFERROR(VLOOKUP(D6774,Códigos!B:C,2,0),\" \")","v":" "}]
[null,null,null,null,{"$f":"IFERROR(VLOOKUP(D6775,Códigos!B:C,2,0),\" \")","v":" "}]
[null,null,null,null,{"$f":"IFERROR(VLOOKUP(D6776,Códigos!B:C,2,0),\" \")","v":" "}]
[null,null,null,null,{"$f":"IFERROR(VLOOKUP(D6777,Códigos!B:C,2,0),\" \")","v":" "}]
[null,null,null,null,{"$f":"IFERROR(VLOOKUP(D6778,Códigos!B:C,2,0),\" \")","v":" "}]
[null,null,null,null,{"$f":"IFERROR(VLOOKUP(D6779,Códigos!B:C,2,0),\" \")","v":" "}]
[null,null,null,null,{"$f":"IFERROR(VLOOKUP(D6780,Códigos!B:C,2,0),\" \")","v":" "}]
[null,null,null,null,{"$f":"IFERROR(VLOOKUP(D6781,Códigos!B:C,2,0),\" \")","v":" "}]
[null,null,null,null,{"$f":"IFERROR(VLOOKUP(D6782,Códigos!B:C,2,0),\" \")","v":" "}]
[null,null,null,null,{"$f":"IFERROR(VLOOKUP(D6783,Códigos!B:C,2,0),\" \")","v":" "}]
[null,null,null,null,{"$f":"IFERROR(VLOOKUP(D6784,Códigos!B:C,2,0),\" \")","v":" "}]
[null,null,null,null,{"$f":"IFERROR(VLOOKUP(D6785,Códigos!B:C,2,0),\" \")","v":" "}]
[null,null,null,null,{"$f":"IFERROR(VLOOKUP(D6786,Códigos!B:C,2,0),\" \")","v":" "}]
[null,null,null,null,{"$f":"IFERROR(VLOOKUP(D6787,Códigos!B:C,2,0),\" \")","v":" "}]
[null,null,null,null,{"$f":"IFERROR(VLOOKUP(D6788,Códigos!B:C,2,0),\" \")","v":" "}]
[null,null,null,null,{"$f":"IFERROR(VLOOKUP(D6789,Códigos!B:C,2,0),\" \")","v":" "}]
[null,null,null,null,{"$f":"IFERROR(VLOOKUP(D6790,Códigos!B:C,2,0),\" \")","v":" "}]
[null,null,null,null,{"$f":"IFERROR(VLOOKUP(D6791,Códigos!B:C,2,0),\" \")","v":" "}]
[null,null,null,null,{"$f":"IFERROR(VLOOKUP(D6792,Códigos!B:C,2,0),\" \")","v":" "}]
[null,null,null,null,{"$f":"IFERROR(VLOOKUP(D6793,Códigos!B:C,2,0),\" \")","v":" "}]
[null,null,null,null,{"$f":"IFERROR(VLOOKUP(D6794,Códigos!B:C,2,0),\" \")","v":" "}]
[null,null,null,null,{"$f":"IFERROR(VLOOKUP(D6795,Códigos!B:C,2,0),\" \")","v":" "}]
[null,null,null,null,{"$f":"IFERROR(VLOOKUP(D6796,Códigos!B:C,2,0),\" \")","v":" "}]
[null,null,null,null,{"$f":"IFERROR(VLOOKUP(D6797,Códigos!B:C,2,0),\" \")","v":" "}]
[null,null,null,null,{"$f":"IFERROR(VLOOKUP(D6798,Códigos!B:C,2,0),\" \")","v":" "}]
[null,null,null,null,{"$f":"IFERROR(VLOOKUP(D6799,Códigos!B:C,2,0),\" \")","v":" "}]
[null,null,null,null,{"$f":"IFERROR(VLOOKUP(D6800,Códigos!B:C,2,0),\" \")","v":" "}]
[null,null,null,null,{"$f":"IFERROR(VLOOKUP(D6801,Códigos!B:C,2,0),\" \")","v":" "}]
[null,null,null,null,{"$f":"IFERROR(VLOOKUP(D6802,Códigos!B:C,2,0),\" \")","v":" "}]
[null,null,null,null,{"$f":"IFERROR(VLOOKUP(D6803,Códigos!B:C,2,0),\" \")","v":" "}]
[null,null,null,null,{"$f":"IFERROR(VLOOKUP(D6804,Códigos!B:C,2,0),\" \")","v":" "}]
[null,null,null,null,{"$f":"IFERROR(VLOOKUP(D6805,Códigos!B:C,2,0),\" \")","v":" "}]
[null,null,null,null,{"$f":"IFERROR(VLOOKUP(D6806,Códigos!B:C,2,0),\" \")","v":" "}]
[null,null,null,null,{"$f":"IFERROR(VLOOKUP(D6807,Códigos!B:C,2,0),\" \")","v":" "}]
[null,null,null,null,{"$f":"IFERROR(VLOOKUP(D6808,Códigos!B:C,2,0),\" \")","v":" "}]
[null,null,null,null,{"$f":"IFERROR(VLOOKUP(D6809,Códigos!B:C,2,0),\" \")","v":" "}]
[null,null,null,null,{"$f":"IFERROR(VLOOKUP(D6810,Códigos!B:C,2,0),\" \")","v":" "}]
[null,null,null,null,{"$f":"IFERROR(VLOOKUP(D6811,Códigos!B:C,2,0),\" \")","v":" "}]
[null,null,null,null,{"$f":"IFERROR(VLOOKUP(D6812,Códigos!B:C,2,0),\" \")","v":" "}]
[null,null,null,null,{"$f":"IFERROR(VLOOKUP(D6813,Códigos!B:C,2,0),\" \")","v":" "}]
[null,null,null,null,{"$f":"IFERROR(VLOOKUP(D6814,Códigos!B:C,2,0),\" \")","v":" "}]
[null,null,null,null,{"$f":"IFERROR(VLOOKUP(D6815,Códigos!B:C,2,0),\" \")","v":" "}]
[null,null,null,null,{"$f":"IFERROR(VLOOKUP(D6816,Códigos!B:C,2,0),\" \")","v":" "}]
[null,null,null,null,{"$f":"IFERROR(VLOOKUP(D6817,Códigos!B:C,2,0),\" \")","v":" "}]
[null,null,null,null,{"$f":"IFERROR(VLOOKUP(D6818,Códigos!B:C,2,0),\" \")","v":" "}]
[null,null,null,null,{"$f":"IFERROR(VLOOKUP(D6819,Códigos!B:C,2,0),\" \")","v":" "}]
[null,null,null,null,{"$f":"IFERROR(VLOOKUP(D6820,Códigos!B:C,2,0),\" \")","v":" "}]
[null,null,null,null,{"$f":"IFERROR(VLOOKUP(D6821,Códigos!B:C,2,0),\" \")","v":" "}]
[null,null,null,null,{"$f":"IFERROR(VLOOKUP(D6822,Códigos!B:C,2,0),\" \")","v":" "}]
[null,null,null,null,{"$f":"IFERROR(VLOOKUP(D6823,Códigos!B:C,2,0),\" \")","v":" "}]
[null,null,null,null,{"$f":"IFERROR(VLOOKUP(D6824,Códigos!B:C,2,0),\" \")","v":" "}]
[null,null,null,null,{"$f":"IFERROR(VLOOKUP(D6825,Códigos!B:C,2,0),\" \")","v":" "}]
[null,null,null,null,{"$f":"IFERROR(VLOOKUP(D6826,Códigos!B:C,2,0),\" \")","v":" "}]
[null,null,null,null,{"$f":"IFERROR(VLOOKUP(D6827,Códigos!B:C,2,0),\" \")","v":" "}]
[null,null,null,null,{"$f":"IFERROR(VLOOKUP(D6828,Códigos!B:C,2,0),\" \")","v":" "}]
[null,null,null,null,{"$f":"IFERROR(VLOOKUP(D6829,Códigos!B:C,2,0),\" \")","v":" "}]
[null,null,null,null,{"$f":"IFERROR(VLOOKUP(D6830,Códigos!B:C,2,0),\" \")","v":" "}]
[null,null,null,null,{"$f":"IFERROR(VLOOKUP(D6831,Códigos!B:C,2,0),\" \")","v":" "}]
[null,null,null,null,{"$f":"IFERROR(VLOOKUP(D6832,Códigos!B:C,2,0),\" \")","v":" "}]
[null,null,null,null,{"$f":"IFERROR(VLOOKUP(D6833,Códigos!B:C,2,0),\" \")","v":" "}]
[null,null,null,null,{"$f":"IFERROR(VLOOKUP(D6834,Códigos!B:C,2,0),\" \")","v":" "}]
[null,null,null,null,{"$f":"IFERROR(VLOOKUP(D6835,Códigos!B:C,2,0),\" \")","v":" "}]
[null,null,null,null,{"$f":"IFERROR(VLOOKUP(D6836,Códigos!B:C,2,0),\" \")","v":" "}]
[null,null,null,null,{"$f":"IFERROR(VLOOKUP(D6837,Códigos!B:C,2,0),\" \")","v":" "}]
[null,null,null,null,{"$f":"IFERROR(VLOOKUP(D6838,Códigos!B:C,2,0),\" \")","v":" "}]
[null,null,null,null,{"$f":"IFERROR(VLOOKUP(D6839,Códigos!B:C,2,0),\" \")","v":" "}]
[null,null,null,null,{"$f":"IFERROR(VLOOKUP(D6840,Códigos!B:C,2,0),\" \")","v":" "}]
[null,null,null,null,{"$f":"IFERROR(VLOOKUP(D6841,Códigos!B:C,2,0),\" \")","v":" "}]
[null,null,null,null,{"$f":"IFERROR(VLOOKUP(D6842,Códigos!B:C,2,0),\" \")","v":" "}]
[null,null,null,null,{"$f":"IFERROR(VLOOKUP(D6843,Códigos!B:C,2,0),\" \")","v":" "}]
[null,null,null,null,{"$f":"IFERROR(VLOOKUP(D6844,Códigos!B:C,2,0),\" \")","v":" "}]
[null,null,null,null,{"$f":"IFERROR(VLOOKUP(D6845,Códigos!B:C,2,0),\" \")","v":" "}]
[null,null,null,null,{"$f":"IFERROR(VLOOKUP(D6846,Códigos!B:C,2,0),\" \")","v":" "}]
[null,null,null,null,{"$f":"IFERROR(VLOOKUP(D6847,Códigos!B:C,2,0),\" \")","v":" "}]
[null,null,null,null,{"$f":"IFERROR(VLOOKUP(D6848,Códigos!B:C,2,0),\" \")","v":" "}]
[null,null,null,null,{"$f":"IFERROR(VLOOKUP(D6849,Códigos!B:C,2,0),\" \")","v":" "}]
[null,null,null,null,{"$f":"IFERROR(VLOOKUP(D6850,Códigos!B:C,2,0),\" \")","v":" "}]
[null,null,null,null,{"$f":"IFERROR(VLOOKUP(D6851,Códigos!B:C,2,0),\" \")","v":" "}]
[null,null,null,null,{"$f":"IFERROR(VLOOKUP(D6852,Códigos!B:C,2,0),\" \")","v":" "}]
[null,null,null,null,{"$f":"IFERROR(VLOOKUP(D6853,Códigos!B:C,2,0),\" \")","v":" "}]
[null,null,null,null,{"$f":"IFERROR(VLOOKUP(D6854,Códigos!B:C,2,0),\" \")","v":" "}]
[null,null,null,null,{"$f":"IFERROR(VLOOKUP(D6855,Códigos!B:C,2,0),\" \")","v":" "}]
[null,null,null,null,{"$f":"IFERROR(VLOOKUP(D6856,Códigos!B:C,2,0),\" \")","v":" "}]
[null,null,null,null,{"$f":"IFERROR(VLOOKUP(D6857,Códigos!B:C,2,0),\" \")","v":" "}]
[null,null,null,null,{"$f":"IFERROR(VLOOKUP(D6858,Códigos!B:C,2,0),\" \")","v":" "}]
[null,null,null,null,{"$f":"IFERROR(VLOOKUP(D6859,Códigos!B:C,2,0),\" \")","v":" "}]
[null,null,null,null,{"$f":"IFERROR(VLOOKUP(D6860,Códigos!B:C,2,0),\" \")","v":" "}]
[null,null,null,null,{"$f":"IFERROR(VLOOKUP(D6861,Códigos!B:C,2,0),\" \")","v":" "}]
[null,null,null,null,{"$f":"IFERROR(VLOOKUP(D6862,Códigos!B:C,2,0),\" \")","v":" "}]
[null,null,null,null,{"$f":"IFERROR(VLOOKUP(D6863,Códigos!B:C,2,0),\" \")","v":" "}]
[null,null,null,null,{"$f":"IFERROR(VLOOKUP(D6864,Códigos!B:C,2,0),\" \")","v":" "}]
[null,null,null,null,{"$f":"IFERROR(VLOOKUP(D6865,Códigos!B:C,2,0),\" \")","v":" "}]
[null,null,null,null,{"$f":"IFERROR(VLOOKUP(D6866,Códigos!B:C,2,0),\" \")","v":" "}]
[null,null,null,null,{"$f":"IFERROR(VLOOKUP(D6867,Códigos!B:C,2,0),\" \")","v":" "}]
[null,null,null,null,{"$f":"IFERROR(VLOOKUP(D6868,Códigos!B:C,2,0),\" \")","v":" "}]
[null,null,null,null,{"$f":"IFERROR(VLOOKUP(D6869,Códigos!B:C,2,0),\" \")","v":" "}]
[null,null,null,null,{"$f":"IFERROR(VLOOKUP(D6870,Códigos!B:C,2,0),\" \")","v":" "}]
[null,null,null,null,{"$f":"IFERROR(VLOOKUP(D6871,Códigos!B:C,2,0),\" \")","v":" "}]
[null,null,null,null,{"$f":"IFERROR(VLOOKUP(D6872,Códigos!B:C,2,0),\" \")","v":" "}]
[null,null,null,null,{"$f":"IFERROR(VLOOKUP(D6873,Códigos!B:C,2,0),\" \")","v":" "}]
[null,null,null,null,{"$f":"IFERROR(VLOOKUP(D6874,Códigos!B:C,2,0),\" \")","v":" "}]
[null,null,null,null,{"$f":"IFERROR(VLOOKUP(D6875,Códigos!B:C,2,0),\" \")","v":" "}]
[null,null,null,null,{"$f":"IFERROR(VLOOKUP(D6876,Códigos!B:C,2,0),\" \")","v":" "}]
[null,null,null,null,{"$f":"IFERROR(VLOOKUP(D6877,Códigos!B:C,2,0),\" \")","v":" "}]
[null,null,null,null,{"$f":"IFERROR(VLOOKUP(D6878,Códigos!B:C,2,0),\" \")","v":" "}]
[null,null,null,null,{"$f":"IFERROR(VLOOKUP(D6879,Códigos!B:C,2,0),\" \")","v":" "}]
[null,null,null,null,{"$f":"IFERROR(VLOOKUP(D6880,Códigos!B:C,2,0),\" \")","v":" "}]
[null,null,null,null,{"$f":"IFERROR(VLOOKUP(D6881,Códigos!B:C,2,0),\" \")","v":" "}]
[null,null,null,null,{"$f":"IFERROR(VLOOKUP(D6882,Códigos!B:C,2,0),\" \")","v":" "}]
[null,null,null,null,{"$f":"IFERROR(VLOOKUP(D6883,Códigos!B:C,2,0),\" \")","v":" "}]
[null,null,null,null,{"$f":"IFERROR(VLOOKUP(D6884,Códigos!B:C,2,0),\" \")","v":" "}]
[null,null,null,null,{"$f":"IFERROR(VLOOKUP(D6885,Códigos!B:C,2,0),\" \")","v":" "}]
[null,null,null,null,{"$f":"IFERROR(VLOOKUP(D6886,Códigos!B:C,2,0),\" \")","v":" "}]
[null,null,null,null,{"$f":"IFERROR(VLOOKUP(D6887,Códigos!B:C,2,0),\" \")","v":" "}]
[null,null,null,null,{"$f":"IFERROR(VLOOKUP(D6888,Códigos!B:C,2,0),\" \")","v":" "}]
[null,null,null,null,{"$f":"IFERROR(VLOOKUP(D6889,Códigos!B:C,2,0),\" \")","v":" "}]
[null,null,null,null,{"$f":"IFERROR(VLOOKUP(D6890,Códigos!B:C,2,0),\" \")","v":" "}]
[null,null,null,null,{"$f":"IFERROR(VLOOKUP(D6891,Códigos!B:C,2,0),\" \")","v":" "}]
[null,null,null,null,{"$f":"IFERROR(VLOOKUP(D6892,Códigos!B:C,2,0),\" \")","v":" "}]
[null,null,null,null,{"$f":"IFERROR(VLOOKUP(D6893,Códigos!B:C,2,0),\" \")","v":" "}]
[null,null,null,null,{"$f":"IFERROR(VLOOKUP(D6894,Códigos!B:C,2,0),\" \")","v":" "}]
[null,null,null,null,{"$f":"IFERROR(VLOOKUP(D6895,Códigos!B:C,2,0),\" \")","v":" "}]
[null,null,null,null,{"$f":"IFERROR(VLOOKUP(D6896,Códigos!B:C,2,0),\" \")","v":" "}]
[null,null,null,null,{"$f":"IFERROR(VLOOKUP(D6897,Códigos!B:C,2,0),\" \")","v":" "}]
[null,null,null,null,{"$f":"IFERROR(VLOOKUP(D6898,Códigos!B:C,2,0),\" \")","v":" "}]
[null,null,null,null,{"$f":"IFERROR(VLOOKUP(D6899,Códigos!B:C,2,0),\" \")","v":" "}]
[null,null,null,null,{"$f":"IFERROR(VLOOKUP(D6900,Códigos!B:C,2,0),\" \")","v":" "}]
[null,null,null,null,{"$f":"IFERROR(VLOOKUP(D6901,Códigos!B:C,2,0),\" \")","v":" "}]
[null,null,null,null,{"$f":"IFERROR(VLOOKUP(D6902,Códigos!B:C,2,0),\" \")","v":" "}]
[null,null,null,null,{"$f":"IFERROR(VLOOKUP(D6903,Códigos!B:C,2,0),\" \")","v":" "}]
[null,null,null,null,{"$f":"IFERROR(VLOOKUP(D6904,Códigos!B:C,2,0),\" \")","v":" "}]
[null,null,null,null,{"$f":"IFERROR(VLOOKUP(D6905,Códigos!B:C,2,0),\" \")","v":" "}]
[null,null,null,null,{"$f":"IFERROR(VLOOKUP(D6906,Códigos!B:C,2,0),\" \")","v":" "}]
[null,null,null,null,{"$f":"IFERROR(VLOOKUP(D6907,Códigos!B:C,2,0),\" \")","v":" "}]
[null,null,null,null,{"$f":"IFERROR(VLOOKUP(D6908,Códigos!B:C,2,0),\" \")","v":" "}]
[null,null,null,null,{"$f":"IFERROR(VLOOKUP(D6909,Códigos!B:C,2,0),\" \")","v":" "}]
[null,null,null,null,{"$f":"IFERROR(VLOOKUP(D6910,Códigos!B:C,2,0),\" \")","v":" "}]
[null,null,null,null,{"$f":"IFERROR(VLOOKUP(D6911,Códigos!B:C,2,0),\" \")","v":" "}]
[null,null,null,null,{"$f":"IFERROR(VLOOKUP(D6912,Códigos!B:C,2,0),\" \")","v":" "}]
[null,null,null,null,{"$f":"IFERROR(VLOOKUP(D6913,Códigos!B:C,2,0),\" \")","v":" "}]
[null,null,null,null,{"$f":"IFERROR(VLOOKUP(D6914,Códigos!B:C,2,0),\" \")","v":" "}]
[null,null,null,null,{"$f":"IFERROR(VLOOKUP(D6915,Códigos!B:C,2,0),\" \")","v":" "}]
[null,null,null,null,{"$f":"IFERROR(VLOOKUP(D6916,Códigos!B:C,2,0),\" \")","v":" "}]
[null,null,null,null,{"$f":"IFERROR(VLOOKUP(D6917,Códigos!B:C,2,0),\" \")","v":" "}]
[null,null,null,null,{"$f":"IFERROR(VLOOKUP(D6918,Códigos!B:C,2,0),\" \")","v":" "}]
[null,null,null,null,{"$f":"IFERROR(VLOOKUP(D6919,Códigos!B:C,2,0),\" \")","v":" "}]
[null,null,null,null,{"$f":"IFERROR(VLOOKUP(D6920,Códigos!B:C,2,0),\" \")","v":" "}]
[null,null,null,null,{"$f":"IFERROR(VLOOKUP(D6921,Códigos!B:C,2,0),\" \")","v":" "}]
[null,null,null,null,{"$f":"IFERROR(VLOOKUP(D6922,Códigos!B:C,2,0),\" \")","v":" "}]
[null,null,null,null,{"$f":"IFERROR(VLOOKUP(D6923,Códigos!B:C,2,0),\" \")","v":" "}]
[null,null,null,null,{"$f":"IFERROR(VLOOKUP(D6924,Códigos!B:C,2,0),\" \")","v":" "}]
[null,null,null,null,{"$f":"IFERROR(VLOOKUP(D6925,Códigos!B:C,2,0),\" \")","v":" "}]
[null,null,null,null,{"$f":"IFERROR(VLOOKUP(D6926,Códigos!B:C,2,0),\" \")","v":" "}]
[null,null,null,null,{"$f":"IFERROR(VLOOKUP(D6927,Códigos!B:C,2,0),\" \")","v":" "}]
[null,null,null,null,{"$f":"IFERROR(VLOOKUP(D6928,Códigos!B:C,2,0),\" \")","v":" "}]
[null,null,null,null,{"$f":"IFERROR(VLOOKUP(D6929,Códigos!B:C,2,0),\" \")","v":" "}]
[null,null,null,null,{"$f":"IFERROR(VLOOKUP(D6930,Códigos!B:C,2,0),\" \")","v":" "}]
[null,null,null,null,{"$f":"IFERROR(VLOOKUP(D6931,Códigos!B:C,2,0),\" \")","v":" "}]
[null,null,null,null,{"$f":"IFERROR(VLOOKUP(D6932,Códigos!B:C,2,0),\" \")","v":" "}]
[null,null,null,null,{"$f":"IFERROR(VLOOKUP(D6933,Códigos!B:C,2,0),\" \")","v":" "}]
[null,null,null,null,{"$f":"IFERROR(VLOOKUP(D6934,Códigos!B:C,2,0),\" \")","v":" "}]
[null,null,null,null,{"$f":"IFERROR(VLOOKUP(D6935,Códigos!B:C,2,0),\" \")","v":" "}]
[null,null,null,null,{"$f":"IFERROR(VLOOKUP(D6936,Códigos!B:C,2,0),\" \")","v":" "}]
[null,null,null,null,{"$f":"IFERROR(VLOOKUP(D6937,Códigos!B:C,2,0),\" \")","v":" "}]
[null,null,null,null,{"$f":"IFERROR(VLOOKUP(D6938,Códigos!B:C,2,0),\" \")","v":" "}]
[null,null,null,null,{"$f":"IFERROR(VLOOKUP(D6939,Códigos!B:C,2,0),\" \")","v":" "}]
[null,null,null,null,{"$f":"IFERROR(VLOOKUP(D6940,Códigos!B:C,2,0),\" \")","v":" "}]
[null,null,null,null,{"$f":"IFERROR(VLOOKUP(D6941,Códigos!B:C,2,0),\" \")","v":" "}]
[null,null,null,null,{"$f":"IFERROR(VLOOKUP(D6942,Códigos!B:C,2,0),\" \")","v":" "}]
[null,null,null,null,{"$f":"IFERROR(VLOOKUP(D6943,Códigos!B:C,2,0),\" \")","v":" "}]
[null,null,null,null,{"$f":"IFERROR(VLOOKUP(D6944,Códigos!B:C,2,0),\" \")","v":" "}]
[null,null,null,null,{"$f":"IFERROR(VLOOKUP(D6945,Códigos!B:C,2,0),\" \")","v":" "}]
[null,null,null,null,{"$f":"IFERROR(VLOOKUP(D6946,Códigos!B:C,2,0),\" \")","v":" "}]
[null,null,null,null,{"$f":"IFERROR(VLOOKUP(D6947,Códigos!B:C,2,0),\" \")","v":" "}]
[null,null,null,null,{"$f":"IFERROR(VLOOKUP(D6948,Códigos!B:C,2,0),\" \")","v":" "}]
[null,null,null,null,{"$f":"IFERROR(VLOOKUP(D6949,Códigos!B:C,2,0),\" \")","v":" "}]
[null,null,null,null,{"$f":"IFERROR(VLOOKUP(D6950,Códigos!B:C,2,0),\" \")","v":" "}]
[null,null,null,null,{"$f":"IFERROR(VLOOKUP(D6951,Códigos!B:C,2,0),\" \")","v":" "}]
[null,null,null,null,{"$f":"IFERROR(VLOOKUP(D6952,Códigos!B:C,2,0),\" \")","v":" "}]
[null,null,null,null,{"$f":"IFERROR(VLOOKUP(D6953,Códigos!B:C,2,0),\" \")","v":" "}]
[null,null,null,null,{"$f":"IFERROR(VLOOKUP(D6954,Códigos!B:C,2,0),\" \")","v":" "}]
[null,null,null,null,{"$f":"IFERROR(VLOOKUP(D6955,Códigos!B:C,2,0),\" \")","v":" "}]
[null,null,null,null,{"$f":"IFERROR(VLOOKUP(D6956,Códigos!B:C,2,0),\" \")","v":" "}]
[null,null,null,null,{"$f":"IFERROR(VLOOKUP(D6957,Códigos!B:C,2,0),\" \")","v":" "}]
[null,null,null,null,{"$f":"IFERROR(VLOOKUP(D6958,Códigos!B:C,2,0),\" \")","v":" "}]
[null,null,null,null,{"$f":"IFERROR(VLOOKUP(D6959,Códigos!B:C,2,0),\" \")","v":" "}]
[null,null,null,null,{"$f":"IFERROR(VLOOKUP(D6960,Códigos!B:C,2,0),\" \")","v":" "}]
[null,null,null,null,{"$f":"IFERROR(VLOOKUP(D6961,Códigos!B:C,2,0),\" \")","v":" "}]
[null,null,null,null,{"$f":"IFERROR(VLOOKUP(D6962,Códigos!B:C,2,0),\" \")","v":" "}]
[null,null,null,null,{"$f":"IFERROR(VLOOKUP(D6963,Códigos!B:C,2,0),\" \")","v":" "}]
[null,null,null,null,{"$f":"IFERROR(VLOOKUP(D6964,Códigos!B:C,2,0),\" \")","v":" "}]
[null,null,null,null,{"$f":"IFERROR(VLOOKUP(D6965,Códigos!B:C,2,0),\" \")","v":" "}]
[null,null,null,null,{"$f":"IFERROR(VLOOKUP(D6966,Códigos!B:C,2,0),\" \")","v":" "}]
[null,null,null,null,{"$f":"IFERROR(VLOOKUP(D6967,Códigos!B:C,2,0),\" \")","v":" "}]
[null,null,null,null,{"$f":"IFERROR(VLOOKUP(D6968,Códigos!B:C,2,0),\" \")","v":" "}]
[null,null,null,null,{"$f":"IFERROR(VLOOKUP(D6969,Códigos!B:C,2,0),\" \")","v":" "}]
[null,null,null,null,{"$f":"IFERROR(VLOOKUP(D6970,Códigos!B:C,2,0),\" \")","v":" "}]
[null,null,null,null,{"$f":"IFERROR(VLOOKUP(D6971,Códigos!B:C,2,0),\" \")","v":" "}]
[null,null,null,null,{"$f":"IFERROR(VLOOKUP(D6972,Códigos!B:C,2,0),\" \")","v":" "}]
[null,null,null,null,{"$f":"IFERROR(VLOOKUP(D6973,Códigos!B:C,2,0),\" \")","v":" "}]
[null,null,null,null,{"$f":"IFERROR(VLOOKUP(D6974,Códigos!B:C,2,0),\" \")","v":" "}]
[null,null,null,null,{"$f":"IFERROR(VLOOKUP(D6975,Códigos!B:C,2,0),\" \")","v":" "}]
[null,null,null,null,{"$f":"IFERROR(VLOOKUP(D6976,Códigos!B:C,2,0),\" \")","v":" "}]
[null,null,null,null,{"$f":"IFERROR(VLOOKUP(D6977,Códigos!B:C,2,0),\" \")","v":" "}]
[null,null,null,null,{"$f":"IFERROR(VLOOKUP(D6978,Códigos!B:C,2,0),\" \")","v":" "}]
[null,null,null,null,{"$f":"IFERROR(VLOOKUP(D6979,Códigos!B:C,2,0),\" \")","v":" "}]
[null,null,null,null,{"$f":"IFERROR(VLOOKUP(D6980,Códigos!B:C,2,0),\" \")","v":" "}]
[null,null,null,null,{"$f":"IFERROR(VLOOKUP(D6981,Códigos!B:C,2,0),\" \")","v":" "}]
[null,null,null,null,{"$f":"IFERROR(VLOOKUP(D6982,Códigos!B:C,2,0),\" \")","v":" "}]
[null,null,null,null,{"$f":"IFERROR(VLOOKUP(D6983,Códigos!B:C,2,0),\" \")","v":" "}]
[null,null,null,null,{"$f":"IFERROR(VLOOKUP(D6984,Códigos!B:C,2,0),\" \")","v":" "}]
[null,null,null,null,{"$f":"IFERROR(VLOOKUP(D6985,Códigos!B:C,2,0),\" \")","v":" "}]
[null,null,null,null,{"$f":"IFERROR(VLOOKUP(D6986,Códigos!B:C,2,0),\" \")","v":" "}]
[null,null,null,null,{"$f":"IFERROR(VLOOKUP(D6987,Códigos!B:C,2,0),\" \")","v":" "}]
[null,null,null,null,{"$f":"IFERROR(VLOOKUP(D6988,Códigos!B:C,2,0),\" \")","v":" "}]
[null,null,null,null,{"$f":"IFERROR(VLOOKUP(D6989,Códigos!B:C,2,0),\" \")","v":" "}]
[null,null,null,null,{"$f":"IFERROR(VLOOKUP(D6990,Códigos!B:C,2,0),\" \")","v":" "}]
[null,null,null,null,{"$f":"IFERROR(VLOOKUP(D6991,Códigos!B:C,2,0),\" \")","v":" "}]
[null,null,null,null,{"$f":"IFERROR(VLOOKUP(D6992,Códigos!B:C,2,0),\" \")","v":" "}]
[null,null,null,null,{"$f":"IFERROR(VLOOKUP(D6993,Códigos!B:C,2,0),\" \")","v":" "}]
[null,null,null,null,{"$f":"IFERROR(VLOOKUP(D6994,Códigos!B:C,2,0),\" \")","v":" "}]
[null,null,null,null,{"$f":"IFERROR(VLOOKUP(D6995,Códigos!B:C,2,0),\" \")","v":" "}]
[null,null,null,null,{"$f":"IFERROR(VLOOKUP(D6996,Códigos!B:C,2,0),\" \")","v":" "}]
[null,null,null,null,{"$f":"IFERROR(VLOOKUP(D6997,Códigos!B:C,2,0),\" \")","v":" "}]
[null,null,null,null,{"$f":"IFERROR(VLOOKUP(D6998,Códigos!B:C,2,0),\" \")","v":" "}]
[null,null,null,null,{"$f":"IFERROR(VLOOKUP(D6999,Códigos!B:C,2,0),\" \")","v":" "}]
[null,null,null,null,{"$f":"IFERROR(VLOOKUP(D7000,Códigos!B:C,2,0),\" \")","v":" "}]
[null,null,null,null,{"$f":"IFERROR(VLOOKUP(D7001,Códigos!B:C,2,0),\" \")","v":" "}]
[null,null,null,null,{"$f":"IFERROR(VLOOKUP(D7002,Códigos!B:C,2,0),\" \")","v":" "}]
[null,null,null,null,{"$f":"IFERROR(VLOOKUP(D7003,Códigos!B:C,2,0),\" \")","v":" "}]
[null,null,null,null,{"$f":"IFERROR(VLOOKUP(D7004,Códigos!B:C,2,0),\" \")","v":" "}]
[null,null,null,null,{"$f":"IFERROR(VLOOKUP(D7005,Códigos!B:C,2,0),\" \")","v":" "}]
[null,null,null,null,{"$f":"IFERROR(VLOOKUP(D7006,Códigos!B:C,2,0),\" \")","v":" "}]
[null,null,null,null,{"$f":"IFERROR(VLOOKUP(D7007,Códigos!B:C,2,0),\" \")","v":" "}]
[null,null,null,null,{"$f":"IFERROR(VLOOKUP(D7008,Códigos!B:C,2,0),\" \")","v":" "}]
[null,null,null,null,{"$f":"IFERROR(VLOOKUP(D7009,Códigos!B:C,2,0),\" \")","v":" "}]
[null,null,null,null,{"$f":"IFERROR(VLOOKUP(D7010,Códigos!B:C,2,0),\" \")","v":" "}]
[null,null,null,null,{"$f":"IFERROR(VLOOKUP(D7011,Códigos!B:C,2,0),\" \")","v":" "}]
[null,null,null,null,{"$f":"IFERROR(VLOOKUP(D7012,Códigos!B:C,2,0),\" \")","v":" "}]
[null,null,null,null,{"$f":"IFERROR(VLOOKUP(D7013,Códigos!B:C,2,0),\" \")","v":" "}]
[null,null,null,null,{"$f":"IFERROR(VLOOKUP(D7014,Códigos!B:C,2,0),\" \")","v":" "}]
[null,null,null,null,{"$f":"IFERROR(VLOOKUP(D7015,Códigos!B:C,2,0),\" \")","v":" "}]
[null,null,null,null,{"$f":"IFERROR(VLOOKUP(D7016,Códigos!B:C,2,0),\" \")","v":" "}]
[null,null,null,null,{"$f":"IFERROR(VLOOKUP(D7017,Códigos!B:C,2,0),\" \")","v":" "}]
[null,null,null,null,{"$f":"IFERROR(VLOOKUP(D7018,Códigos!B:C,2,0),\" \")","v":" "}]
[null,null,null,null,{"$f":"IFERROR(VLOOKUP(D7019,Códigos!B:C,2,0),\" \")","v":" "}]
[null,null,null,null,{"$f":"IFERROR(VLOOKUP(D7020,Códigos!B:C,2,0),\" \")","v":" "}]
[null,null,null,null,{"$f":"IFERROR(VLOOKUP(D7021,Códigos!B:C,2,0),\" \")","v":" "}]
[null,null,null,null,{"$f":"IFERROR(VLOOKUP(D7022,Códigos!B:C,2,0),\" \")","v":" "}]
[null,null,null,null,{"$f":"IFERROR(VLOOKUP(D7023,Códigos!B:C,2,0),\" \")","v":" "}]
[null,null,null,null,{"$f":"IFERROR(VLOOKUP(D7024,Códigos!B:C,2,0),\" \")","v":" "}]
[null,null,null,null,{"$f":"IFERROR(VLOOKUP(D7025,Códigos!B:C,2,0),\" \")","v":" "}]
[null,null,null,null,{"$f":"IFERROR(VLOOKUP(D7026,Códigos!B:C,2,0),\" \")","v":" "}]
[null,null,null,null,{"$f":"IFERROR(VLOOKUP(D7027,Códigos!B:C,2,0),\" \")","v":" "}]
[null,null,null,null,{"$f":"IFERROR(VLOOKUP(D7028,Códigos!B:C,2,0),\" \")","v":" "}]
[null,null,null,null,{"$f":"IFERROR(VLOOKUP(D7029,Códigos!B:C,2,0),\" \")","v":" "}]
[null,null,null,null,{"$f":"IFERROR(VLOOKUP(D7030,Códigos!B:C,2,0),\" \")","v":" "}]
[null,null,null,null,{"$f":"IFERROR(VLOOKUP(D7031,Códigos!B:C,2,0),\" \")","v":" "}]
[null,null,null,null,{"$f":"IFERROR(VLOOKUP(D7032,Códigos!B:C,2,0),\" \")","v":" "}]
[null,null,null,null,{"$f":"IFERROR(VLOOKUP(D7033,Códigos!B:C,2,0),\" \")","v":" "}]
[null,null,null,null,{"$f":"IFERROR(VLOOKUP(D7034,Códigos!B:C,2,0),\" \")","v":" "}]
[null,null,null,null,{"$f":"IFERROR(VLOOKUP(D7035,Códigos!B:C,2,0),\" \")","v":" "}]
[null,null,null,null,{"$f":"IFERROR(VLOOKUP(D7036,Códigos!B:C,2,0),\" \")","v":" "}]
[null,null,null,null,{"$f":"IFERROR(VLOOKUP(D7037,Códigos!B:C,2,0),\" \")","v":" "}]
[null,null,null,null,{"$f":"IFERROR(VLOOKUP(D7038,Códigos!B:C,2,0),\" \")","v":" "}]
[null,null,null,null,{"$f":"IFERROR(VLOOKUP(D7039,Códigos!B:C,2,0),\" \")","v":" "}]
[null,null,null,null,{"$f":"IFERROR(VLOOKUP(D7040,Códigos!B:C,2,0),\" \")","v":" "}]
[null,null,null,null,{"$f":"IFERROR(VLOOKUP(D7041,Códigos!B:C,2,0),\" \")","v":" "}]
[null,null,null,null,{"$f":"IFERROR(VLOOKUP(D7042,Códigos!B:C,2,0),\" \")","v":" "}]
[null,null,null,null,{"$f":"IFERROR(VLOOKUP(D7043,Códigos!B:C,2,0),\" \")","v":" "}]
[null,null,null,null,{"$f":"IFERROR(VLOOKUP(D7044,Códigos!B:C,2,0),\" \")","v":" "}]
[null,null,null,null,{"$f":"IFERROR(VLOOKUP(D7045,Códigos!B:C,2,0),\" \")","v":" "}]
[null,null,null,null,{"$f":"IFERROR(VLOOKUP(D7046,Códigos!B:C,2,0),\" \")","v":" "}]
[null,null,null,null,{"$f":"IFERROR(VLOOKUP(D7047,Códigos!B:C,2,0),\" \")","v":" "}]
[null,null,null,null,{"$f":"IFERROR(VLOOKUP(D7048,Códigos!B:C,2,0),\" \")","v":" "}]
[null,null,null,null,{"$f":"IFERROR(VLOOKUP(D7049,Códigos!B:C,2,0),\" \")","v":" "}]
[null,null,null,null,{"$f":"IFERROR(VLOOKUP(D7050,Códigos!B:C,2,0),\" \")","v":" "}]
[null,null,null,null,{"$f":"IFERROR(VLOOKUP(D7051,Códigos!B:C,2,0),\" \")","v":" "}]
[null,null,null,null,{"$f":"IFERROR(VLOOKUP(D7052,Códigos!B:C,2,0),\" \")","v":" "}]
[null,null,null,null,{"$f":"IFERROR(VLOOKUP(D7053,Códigos!B:C,2,0),\" \")","v":" "}]
[null,null,null,null,{"$f":"IFERROR(VLOOKUP(D7054,Códigos!B:C,2,0),\" \")","v":" "}]
[null,null,null,null,{"$f":"IFERROR(VLOOKUP(D7055,Códigos!B:C,2,0),\" \")","v":" "}]
[null,null,null,null,{"$f":"IFERROR(VLOOKUP(D7056,Códigos!B:C,2,0),\" \")","v":" "}]
[null,null,null,null,{"$f":"IFERROR(VLOOKUP(D7057,Códigos!B:C,2,0),\" \")","v":" "}]
[null,null,null,null,{"$f":"IFERROR(VLOOKUP(D7058,Códigos!B:C,2,0),\" \")","v":" "}]
[null,null,null,null,{"$f":"IFERROR(VLOOKUP(D7059,Códigos!B:C,2,0),\" \")","v":" "}]
[null,null,null,null,{"$f":"IFERROR(VLOOKUP(D7060,Códigos!B:C,2,0),\" \")","v":" "}]
[null,null,null,null,{"$f":"IFERROR(VLOOKUP(D7061,Códigos!B:C,2,0),\" \")","v":" "}]
[null,null,null,null,{"$f":"IFERROR(VLOOKUP(D7062,Códigos!B:C,2,0),\" \")","v":" "}]
[null,null,null,null,{"$f":"IFERROR(VLOOKUP(D7063,Códigos!B:C,2,0),\" \")","v":" "}]
[null,null,null,null,{"$f":"IFERROR(VLOOKUP(D7064,Códigos!B:C,2,0),\" \")","v":" "}]
[null,null,null,null,{"$f":"IFERROR(VLOOKUP(D7065,Códigos!B:C,2,0),\" \")","v":" "}]
[null,null,null,null,{"$f":"IFERROR(VLOOKUP(D7066,Códigos!B:C,2,0),\" \")","v":" "}]
[null,null,null,null,{"$f":"IFERROR(VLOOKUP(D7067,Códigos!B:C,2,0),\" \")","v":" "}]
[null,null,null,null,{"$f":"IFERROR(VLOOKUP(D7068,Códigos!B:C,2,0),\" \")","v":" "}]
[null,null,null,null,{"$f":"IFERROR(VLOOKUP(D7069,Códigos!B:C,2,0),\" \")","v":" "}]
[null,null,null,null,{"$f":"IFERROR(VLOOKUP(D7070,Códigos!B:C,2,0),\" \")","v":" "}]
[null,null,null,null,{"$f":"IFERROR(VLOOKUP(D7071,Códigos!B:C,2,0),\" \")","v":" "}]
[null,null,null,null,{"$f":"IFERROR(VLOOKUP(D7072,Códigos!B:C,2,0),\" \")","v":" "}]
[null,null,null,null,{"$f":"IFERROR(VLOOKUP(D7073,Códigos!B:C,2,0),\" \")","v":" "}]
[null,null,null,null,{"$f":"IFERROR(VLOOKUP(D7074,Códigos!B:C,2,0),\" \")","v":" "}]
[null,null,null,null,{"$f":"IFERROR(VLOOKUP(D7075,Códigos!B:C,2,0),\" \")","v":" "}]
[null,null,null,null,{"$f":"IFERROR(VLOOKUP(D7076,Códigos!B:C,2,0),\" \")","v":" "}]
[null,null,null,null,{"$f":"IFERROR(VLOOKUP(D7077,Códigos!B:C,2,0),\" \")","v":" "}]
[null,null,null,null,{"$f":"IFERROR(VLOOKUP(D7078,Códigos!B:C,2,0),\" \")","v":" "}]
[null,null,null,null,{"$f":"IFERROR(VLOOKUP(D7079,Códigos!B:C,2,0),\" \")","v":" "}]
[null,null,null,null,{"$f":"IFERROR(VLOOKUP(D7080,Códigos!B:C,2,0),\" \")","v":" "}]
[null,null,null,null,{"$f":"IFERROR(VLOOKUP(D7081,Códigos!B:C,2,0),\" \")","v":" "}]
[null,null,null,null,{"$f":"IFERROR(VLOOKUP(D7082,Códigos!B:C,2,0),\" \")","v":" "}]
[null,null,null,null,{"$f":"IFERROR(VLOOKUP(D7083,Códigos!B:C,2,0),\" \")","v":" "}]
[null,null,null,null,{"$f":"IFERROR(VLOOKUP(D7084,Códigos!B:C,2,0),\" \")","v":" "}]
[null,null,null,null,{"$f":"IFERROR(VLOOKUP(D7085,Códigos!B:C,2,0),\" \")","v":" "}]
[null,null,null,null,{"$f":"IFERROR(VLOOKUP(D7086,Códigos!B:C,2,0),\" \")","v":" "}]
[null,null,null,null,{"$f":"IFERROR(VLOOKUP(D7087,Códigos!B:C,2,0),\" \")","v":" "}]
[null,null,null,null,{"$f":"IFERROR(VLOOKUP(D7088,Códigos!B:C,2,0),\" \")","v":" "}]
[null,null,null,null,{"$f":"IFERROR(VLOOKUP(D7089,Códigos!B:C,2,0),\" \")","v":" "}]
[null,null,null,null,{"$f":"IFERROR(VLOOKUP(D7090,Códigos!B:C,2,0),\" \")","v":" "}]
[null,null,null,null,{"$f":"IFERROR(VLOOKUP(D7091,Códigos!B:C,2,0),\" \")","v":" "}]
[null,null,null,null,{"$f":"IFERROR(VLOOKUP(D7092,Códigos!B:C,2,0),\" \")","v":" "}]
[null,null,null,null,{"$f":"IFERROR(VLOOKUP(D7093,Códigos!B:C,2,0),\" \")","v":" "}]
[null,null,null,null,{"$f":"IFERROR(VLOOKUP(D7094,Códigos!B:C,2,0),\" \")","v":" "}]
[null,null,null,null,{"$f":"IFERROR(VLOOKUP(D7095,Códigos!B:C,2,0),\" \")","v":" "}]
[null,null,null,null,{"$f":"IFERROR(VLOOKUP(D7096,Códigos!B:C,2,0),\" \")","v":" "}]
[null,null,null,null,{"$f":"IFERROR(VLOOKUP(D7097,Códigos!B:C,2,0),\" \")","v":" "}]
[null,null,null,null,{"$f":"IFERROR(VLOOKUP(D7098,Códigos!B:C,2,0),\" \")","v":" "}]
[null,null,null,null,{"$f":"IFERROR(VLOOKUP(D7099,Códigos!B:C,2,0),\" \")","v":" "}]
[null,null,null,null,{"$f":"IFERROR(VLOOKUP(D7100,Códigos!B:C,2,0),\" \")","v":" "}]
[null,null,null,null,{"$f":"IFERROR(VLOOKUP(D7101,Códigos!B:C,2,0),\" \")","v":" "}]
[null,null,null,null,{"$f":"IFERROR(VLOOKUP(D7102,Códigos!B:C,2,0),\" \")","v":" "}]
[null,null,null,null,{"$f":"IFERROR(VLOOKUP(D7103,Códigos!B:C,2,0),\" \")","v":" "}]
[null,null,null,null,{"$f":"IFERROR(VLOOKUP(D7104,Códigos!B:C,2,0),\" \")","v":" "}]
[null,null,null,null,{"$f":"IFERROR(VLOOKUP(D7105,Códigos!B:C,2,0),\" \")","v":" "}]
[null,null,null,null,{"$f":"IFERROR(VLOOKUP(D7106,Códigos!B:C,2,0),\" \")","v":" "}]
[null,null,null,null,{"$f":"IFERROR(VLOOKUP(D7107,Códigos!B:C,2,0),\" \")","v":" "}]
[null,null,null,null,{"$f":"IFERROR(VLOOKUP(D7108,Códigos!B:C,2,0),\" \")","v":" "}]
[null,null,null,null,{"$f":"IFERROR(VLOOKUP(D7109,Códigos!B:C,2,0),\" \")","v":" "}]
[null,null,null,null,{"$f":"IFERROR(VLOOKUP(D7110,Códigos!B:C,2,0),\" \")","v":" "}]
[null,null,null,null,{"$f":"IFERROR(VLOOKUP(D7111,Códigos!B:C,2,0),\" \")","v":" "}]
[null,null,null,null,{"$f":"IFERROR(VLOOKUP(D7112,Códigos!B:C,2,0),\" \")","v":" "}]
[null,null,null,null,{"$f":"IFERROR(VLOOKUP(D7113,Códigos!B:C,2,0),\" \")","v":" "}]
[null,null,null,null,{"$f":"IFERROR(VLOOKUP(D7114,Códigos!B:C,2,0),\" \")","v":" "}]
[null,null,null,null,{"$f":"IFERROR(VLOOKUP(D7115,Códigos!B:C,2,0),\" \")","v":" "}]
[null,null,null,null,{"$f":"IFERROR(VLOOKUP(D7116,Códigos!B:C,2,0),\" \")","v":" "}]
[null,null,null,null,{"$f":"IFERROR(VLOOKUP(D7117,Códigos!B:C,2,0),\" \")","v":" "}]
[null,null,null,null,{"$f":"IFERROR(VLOOKUP(D7118,Códigos!B:C,2,0),\" \")","v":" "}]
[null,null,null,null,{"$f":"IFERROR(VLOOKUP(D7119,Códigos!B:C,2,0),\" \")","v":" "}]
[null,null,null,null,{"$f":"IFERROR(VLOOKUP(D7120,Códigos!B:C,2,0),\" \")","v":" "}]
[null,null,null,null,{"$f":"IFERROR(VLOOKUP(D7121,Códigos!B:C,2,0),\" \")","v":" "}]
[null,null,null,null,{"$f":"IFERROR(VLOOKUP(D7122,Códigos!B:C,2,0),\" \")","v":" "}]
[null,null,null,null,{"$f":"IFERROR(VLOOKUP(D7123,Códigos!B:C,2,0),\" \")","v":" "}]
[null,null,null,null,{"$f":"IFERROR(VLOOKUP(D7124,Códigos!B:C,2,0),\" \")","v":" "}]
[null,null,null,null,{"$f":"IFERROR(VLOOKUP(D7125,Códigos!B:C,2,0),\" \")","v":" "}]
[null,null,null,null,{"$f":"IFERROR(VLOOKUP(D7126,Códigos!B:C,2,0),\" \")","v":" "}]
[null,null,null,null,{"$f":"IFERROR(VLOOKUP(D7127,Códigos!B:C,2,0),\" \")","v":" "}]
[null,null,null,null,{"$f":"IFERROR(VLOOKUP(D7128,Códigos!B:C,2,0),\" \")","v":" "}]
[null,null,null,null,{"$f":"IFERROR(VLOOKUP(D7129,Códigos!B:C,2,0),\" \")","v":" "}]
[null,null,null,null,{"$f":"IFERROR(VLOOKUP(D7130,Códigos!B:C,2,0),\" \")","v":" "}]
[null,null,null,null,{"$f":"IFERROR(VLOOKUP(D7131,Códigos!B:C,2,0),\" \")","v":" "}]
[null,null,null,null,{"$f":"IFERROR(VLOOKUP(D7132,Códigos!B:C,2,0),\" \")","v":" "}]
[null,null,null,null,{"$f":"IFERROR(VLOOKUP(D7133,Códigos!B:C,2,0),\" \")","v":" "}]
[null,null,null,null,{"$f":"IFERROR(VLOOKUP(D7134,Códigos!B:C,2,0),\" \")","v":" "}]
[null,null,null,null,{"$f":"IFERROR(VLOOKUP(D7135,Códigos!B:C,2,0),\" \")","v":" "}]
[null,null,null,null,{"$f":"IFERROR(VLOOKUP(D7136,Códigos!B:C,2,0),\" \")","v":" "}]
[null,null,null,null,{"$f":"IFERROR(VLOOKUP(D7137,Códigos!B:C,2,0),\" \")","v":" "}]
[null,null,null,null,{"$f":"IFERROR(VLOOKUP(D7138,Códigos!B:C,2,0),\" \")","v":" "}]
[null,null,null,null,{"$f":"IFERROR(VLOOKUP(D7139,Códigos!B:C,2,0),\" \")","v":" "}]
[null,null,null,null,{"$f":"IFERROR(VLOOKUP(D7140,Códigos!B:C,2,0),\" \")","v":" "}]
[null,null,null,null,{"$f":"IFERROR(VLOOKUP(D7141,Códigos!B:C,2,0),\" \")","v":" "}]
[null,null,null,null,{"$f":"IFERROR(VLOOKUP(D7142,Códigos!B:C,2,0),\" \")","v":" "}]
[null,null,null,null,{"$f":"IFERROR(VLOOKUP(D7143,Códigos!B:C,2,0),\" \")","v":" "}]
[null,null,null,null,{"$f":"IFERROR(VLOOKUP(D7144,Códigos!B:C,2,0),\" \")","v":" "}]
[null,null,null,null,{"$f":"IFERROR(VLOOKUP(D7145,Códigos!B:C,2,0),\" \")","v":" "}]
[null,null,null,null,{"$f":"IFERROR(VLOOKUP(D7146,Códigos!B:C,2,0),\" \")","v":" "}]
[null,null,null,null,{"$f":"IFERROR(VLOOKUP(D7147,Códigos!B:C,2,0),\" \")","v":" "}]
[null,null,null,null,{"$f":"IFERROR(VLOOKUP(D7148,Códigos!B:C,2,0),\" \")","v":" "}]
[null,null,null,null,{"$f":"IFERROR(VLOOKUP(D7149,Códigos!B:C,2,0),\" \")","v":" "}]
[null,null,null,null,{"$f":"IFERROR(VLOOKUP(D7150,Códigos!B:C,2,0),\" \")","v":" "}]
[null,null,null,null,{"$f":"IFERROR(VLOOKUP(D7151,Códigos!B:C,2,0),\" \")","v":" "}]
[null,null,null,null,{"$f":"IFERROR(VLOOKUP(D7152,Códigos!B:C,2,0),\" \")","v":" "}]
[null,null,null,null,{"$f":"IFERROR(VLOOKUP(D7153,Códigos!B:C,2,0),\" \")","v":" "}]
[null,null,null,null,{"$f":"IFERROR(VLOOKUP(D7154,Códigos!B:C,2,0),\" \")","v":" "}]
[null,null,null,null,{"$f":"IFERROR(VLOOKUP(D7155,Códigos!B:C,2,0),\" \")","v":" "}]
[null,null,null,null,{"$f":"IFERROR(VLOOKUP(D7156,Códigos!B:C,2,0),\" \")","v":" "}]
[null,null,null,null,{"$f":"IFERROR(VLOOKUP(D7157,Códigos!B:C,2,0),\" \")","v":" "}]
[null,null,null,null,{"$f":"IFERROR(VLOOKUP(D7158,Códigos!B:C,2,0),\" \")","v":" "}]
[null,null,null,null,{"$f":"IFERROR(VLOOKUP(D7159,Códigos!B:C,2,0),\" \")","v":" "}]
[null,null,null,null,{"$f":"IFERROR(VLOOKUP(D7160,Códigos!B:C,2,0),\" \")","v":" "}]
[null,null,null,null,{"$f":"IFERROR(VLOOKUP(D7161,Códigos!B:C,2,0),\" \")","v":" "}]
[null,null,null,null,{"$f":"IFERROR(VLOOKUP(D7162,Códigos!B:C,2,0),\" \")","v":" "}]
[null,null,null,null,{"$f":"IFERROR(VLOOKUP(D7163,Códigos!B:C,2,0),\" \")","v":" "}]
[null,null,null,null,{"$f":"IFERROR(VLOOKUP(D7164,Códigos!B:C,2,0),\" \")","v":" "}]
[null,null,null,null,{"$f":"IFERROR(VLOOKUP(D7165,Códigos!B:C,2,0),\" \")","v":" "}]
[null,null,null,null,{"$f":"IFERROR(VLOOKUP(D7166,Códigos!B:C,2,0),\" \")","v":" "}]
[null,null,null,null,{"$f":"IFERROR(VLOOKUP(D7167,Códigos!B:C,2,0),\" \")","v":" "}]
[null,null,null,null,{"$f":"IFERROR(VLOOKUP(D7168,Códigos!B:C,2,0),\" \")","v":" "}]
[null,null,null,null,{"$f":"IFERROR(VLOOKUP(D7169,Códigos!B:C,2,0),\" \")","v":" "}]
[null,null,null,null,{"$f":"IFERROR(VLOOKUP(D7170,Códigos!B:C,2,0),\" \")","v":" "}]
[null,null,null,null,{"$f":"IFERROR(VLOOKUP(D7171,Códigos!B:C,2,0),\" \")","v":" "}]
[null,null,null,null,{"$f":"IFERROR(VLOOKUP(D7172,Códigos!B:C,2,0),\" \")","v":" "}]
[null,null,null,null,{"$f":"IFERROR(VLOOKUP(D7173,Códigos!B:C,2,0),\" \")","v":" "}]
[null,null,null,null,{"$f":"IFERROR(VLOOKUP(D7174,Códigos!B:C,2,0),\" \")","v":" "}]
[null,null,null,null,{"$f":"IFERROR(VLOOKUP(D7175,Códigos!B:C,2,0),\" \")","v":" "}]
[null,null,null,null,{"$f":"IFERROR(VLOOKUP(D7176,Códigos!B:C,2,0),\" \")","v":" "}]
[null,null,null,null,{"$f":"IFERROR(VLOOKUP(D7177,Códigos!B:C,2,0),\" \")","v":" "}]
[null,null,null,null,{"$f":"IFERROR(VLOOKUP(D7178,Códigos!B:C,2,0),\" \")","v":" "}]
[null,null,null,null,{"$f":"IFERROR(VLOOKUP(D7179,Códigos!B:C,2,0),\" \")","v":" "}]
[null,null,null,null,{"$f":"IFERROR(VLOOKUP(D7180,Códigos!B:C,2,0),\" \")","v":" "}]
[null,null,null,null,{"$f":"IFERROR(VLOOKUP(D7181,Códigos!B:C,2,0),\" \")","v":" "}]
[null,null,null,null,{"$f":"IFERROR(VLOOKUP(D7182,Códigos!B:C,2,0),\" \")","v":" "}]
[null,null,null,null,{"$f":"IFERROR(VLOOKUP(D7183,Códigos!B:C,2,0),\" \")","v":" "}]
[null,null,null,null,{"$f":"IFERROR(VLOOKUP(D7184,Códigos!B:C,2,0),\" \")","v":" "}]
[null,null,null,null,{"$f":"IFERROR(VLOOKUP(D7185,Códigos!B:C,2,0),\" \")","v":" "}]
[null,null,null,null,{"$f":"IFERROR(VLOOKUP(D7186,Códigos!B:C,2,0),\" \")","v":" "}]
[null,null,null,null,{"$f":"IFERROR(VLOOKUP(D7187,Códigos!B:C,2,0),\" \")","v":" "}]
[null,null,null,null,{"$f":"IFERROR(VLOOKUP(D7188,Códigos!B:C,2,0),\" \")","v":" "}]
[null,null,null,null,{"$f":"IFERROR(VLOOKUP(D7189,Códigos!B:C,2,0),\" \")","v":" "}]
[null,null,null,null,{"$f":"IFERROR(VLOOKUP(D7190,Códigos!B:C,2,0),\" \")","v":" "}]
[null,null,null,null,{"$f":"IFERROR(VLOOKUP(D7191,Códigos!B:C,2,0),\" \")","v":" "}]
[null,null,null,null,{"$f":"IFERROR(VLOOKUP(D7192,Códigos!B:C,2,0),\" \")","v":" "}]
[null,null,null,null,{"$f":"IFERROR(VLOOKUP(D7193,Códigos!B:C,2,0),\" \")","v":" "}]
[null,null,null,null,{"$f":"IFERROR(VLOOKUP(D7194,Códigos!B:C,2,0),\" \")","v":" "}]
[null,null,null,null,{"$f":"IFERROR(VLOOKUP(D7195,Códigos!B:C,2,0),\" \")","v":" "}]
[null,null,null,null,{"$f":"IFERROR(VLOOKUP(D7196,Códigos!B:C,2,0),\" \")","v":" "}]
[null,null,null,null,{"$f":"IFERROR(VLOOKUP(D7197,Códigos!B:C,2,0),\" \")","v":" "}]
[null,null,null,null,{"$f":"IFERROR(VLOOKUP(D7198,Códigos!B:C,2,0),\" \")","v":" "}]
[null,null,null,null,{"$f":"IFERROR(VLOOKUP(D7199,Códigos!B:C,2,0),\" \")","v":" "}]
[null,null,null,null,{"$f":"IFERROR(VLOOKUP(D7200,Códigos!B:C,2,0),\" \")","v":" "}]
[null,null,null,null,{"$f":"IFERROR(VLOOKUP(D7201,Códigos!B:C,2,0),\" \")","v":" "}]
[null,null,null,null,{"$f":"IFERROR(VLOOKUP(D7202,Códigos!B:C,2,0),\" \")","v":" "}]
[null,null,null,null,{"$f":"IFERROR(VLOOKUP(D7203,Códigos!B:C,2,0),\" \")","v":" "}]
[null,null,null,null,{"$f":"IFERROR(VLOOKUP(D7204,Códigos!B:C,2,0),\" \")","v":" "}]
[null,null,null,null,{"$f":"IFERROR(VLOOKUP(D7205,Códigos!B:C,2,0),\" \")","v":" "}]
[null,null,null,null,{"$f":"IFERROR(VLOOKUP(D7206,Códigos!B:C,2,0),\" \")","v":" "}]
[null,null,null,null,{"$f":"IFERROR(VLOOKUP(D7207,Códigos!B:C,2,0),\" \")","v":" "}]
[null,null,null,null,{"$f":"IFERROR(VLOOKUP(D7208,Códigos!B:C,2,0),\" \")","v":" "}]
[null,null,null,null,{"$f":"IFERROR(VLOOKUP(D7209,Códigos!B:C,2,0),\" \")","v":" "}]
[null,null,null,null,{"$f":"IFERROR(VLOOKUP(D7210,Códigos!B:C,2,0),\" \")","v":" "}]
[null,null,null,null,{"$f":"IFERROR(VLOOKUP(D7211,Códigos!B:C,2,0),\" \")","v":" "}]
[null,null,null,null,{"$f":"IFERROR(VLOOKUP(D7212,Códigos!B:C,2,0),\" \")","v":" "}]
[null,null,null,null,{"$f":"IFERROR(VLOOKUP(D7213,Códigos!B:C,2,0),\" \")","v":" "}]
[null,null,null,null,{"$f":"IFERROR(VLOOKUP(D7214,Códigos!B:C,2,0),\" \")","v":" "}]
[null,null,null,null,{"$f":"IFERROR(VLOOKUP(D7215,Códigos!B:C,2,0),\" \")","v":" "}]
[null,null,null,null,{"$f":"IFERROR(VLOOKUP(D7216,Códigos!B:C,2,0),\" \")","v":" "}]
[null,null,null,null,{"$f":"IFERROR(VLOOKUP(D7217,Códigos!B:C,2,0),\" \")","v":" "}]
[null,null,null,null,{"$f":"IFERROR(VLOOKUP(D7218,Códigos!B:C,2,0),\" \")","v":" "}]
[null,null,null,null,{"$f":"IFERROR(VLOOKUP(D7219,Códigos!B:C,2,0),\" \")","v":" "}]
[null,null,null,null,{"$f":"IFERROR(VLOOKUP(D7220,Códigos!B:C,2,0),\" \")","v":" "}]
[null,null,null,null,{"$f":"IFERROR(VLOOKUP(D7221,Códigos!B:C,2,0),\" \")","v":" "}]
[null,null,null,null,{"$f":"IFERROR(VLOOKUP(D7222,Códigos!B:C,2,0),\" \")","v":" "}]
[null,null,null,null,{"$f":"IFERROR(VLOOKUP(D7223,Códigos!B:C,2,0),\" \")","v":" "}]
[null,null,null,null,{"$f":"IFERROR(VLOOKUP(D7224,Códigos!B:C,2,0),\" \")","v":" "}]
[null,null,null,null,{"$f":"IFERROR(VLOOKUP(D7225,Códigos!B:C,2,0),\" \")","v":" "}]
[null,null,null,null,{"$f":"IFERROR(VLOOKUP(D7226,Códigos!B:C,2,0),\" \")","v":" "}]
[null,null,null,null,{"$f":"IFERROR(VLOOKUP(D7227,Códigos!B:C,2,0),\" \")","v":" "}]
[null,null,null,null,{"$f":"IFERROR(VLOOKUP(D7228,Códigos!B:C,2,0),\" \")","v":" "}]
[null,null,null,null,{"$f":"IFERROR(VLOOKUP(D7229,Códigos!B:C,2,0),\" \")","v":" "}]
[null,null,null,null,{"$f":"IFERROR(VLOOKUP(D7230,Códigos!B:C,2,0),\" \")","v":" "}]
[null,null,null,null,{"$f":"IFERROR(VLOOKUP(D7231,Códigos!B:C,2,0),\" \")","v":" "}]
[null,null,null,null,{"$f":"IFERROR(VLOOKUP(D7232,Códigos!B:C,2,0),\" \")","v":" "}]
[null,null,null,null,{"$f":"IFERROR(VLOOKUP(D7233,Códigos!B:C,2,0),\" \")","v":" "}]
[null,null,null,null,{"$f":"IFERROR(VLOOKUP(D7234,Códigos!B:C,2,0),\" \")","v":" "}]
[null,null,null,null,{"$f":"IFERROR(VLOOKUP(D7235,Códigos!B:C,2,0),\" \")","v":" "}]
[null,null,null,null,{"$f":"IFERROR(VLOOKUP(D7236,Códigos!B:C,2,0),\" \")","v":" "}]
[null,null,null,null,{"$f":"IFERROR(VLOOKUP(D7237,Códigos!B:C,2,0),\" \")","v":" "}]
[null,null,null,null,{"$f":"IFERROR(VLOOKUP(D7238,Códigos!B:C,2,0),\" \")","v":" "}]
[null,null,null,null,{"$f":"IFERROR(VLOOKUP(D7239,Códigos!B:C,2,0),\" \")","v":" "}]
[null,null,null,null,{"$f":"IFERROR(VLOOKUP(D7240,Códigos!B:C,2,0),\" \")","v":" "}]
[null,null,null,null,{"$f":"IFERROR(VLOOKUP(D7241,Códigos!B:C,2,0),\" \")","v":" "}]
[null,null,null,null,{"$f":"IFERROR(VLOOKUP(D7242,Códigos!B:C,2,0),\" \")","v":" "}]
[null,null,null,null,{"$f":"IFERROR(VLOOKUP(D7243,Códigos!B:C,2,0),\" \")","v":" "}]
[null,null,null,null,{"$f":"IFERROR(VLOOKUP(D7244,Códigos!B:C,2,0),\" \")","v":" "}]
[null,null,null,null,{"$f":"IFERROR(VLOOKUP(D7245,Códigos!B:C,2,0),\" \")","v":" "}]
[null,null,null,null,{"$f":"IFERROR(VLOOKUP(D7246,Códigos!B:C,2,0),\" \")","v":" "}]
[null,null,null,null,{"$f":"IFERROR(VLOOKUP(D7247,Códigos!B:C,2,0),\" \")","v":" "}]
[null,null,null,null,{"$f":"IFERROR(VLOOKUP(D7248,Códigos!B:C,2,0),\" \")","v":" "}]
[null,null,null,null,{"$f":"IFERROR(VLOOKUP(D7249,Códigos!B:C,2,0),\" \")","v":" "}]
[null,null,null,null,{"$f":"IFERROR(VLOOKUP(D7250,Códigos!B:C,2,0),\" \")","v":" "}]
[null,null,null,null,{"$f":"IFERROR(VLOOKUP(D7251,Códigos!B:C,2,0),\" \")","v":" "}]
[null,null,null,null,{"$f":"IFERROR(VLOOKUP(D7252,Códigos!B:C,2,0),\" \")","v":" "}]
[null,null,null,null,{"$f":"IFERROR(VLOOKUP(D7253,Códigos!B:C,2,0),\" \")","v":" "}]
[null,null,null,null,{"$f":"IFERROR(VLOOKUP(D7254,Códigos!B:C,2,0),\" \")","v":" "}]
[null,null,null,null,{"$f":"IFERROR(VLOOKUP(D7255,Códigos!B:C,2,0),\" \")","v":" "}]
[null,null,null,null,{"$f":"IFERROR(VLOOKUP(D7256,Códigos!B:C,2,0),\" \")","v":" "}]
[null,null,null,null,{"$f":"IFERROR(VLOOKUP(D7257,Códigos!B:C,2,0),\" \")","v":" "}]
[null,null,null,null,{"$f":"IFERROR(VLOOKUP(D7258,Códigos!B:C,2,0),\" \")","v":" "}]
[null,null,null,null,{"$f":"IFERROR(VLOOKUP(D7259,Códigos!B:C,2,0),\" \")","v":" "}]
[null,null,null,null,{"$f":"IFERROR(VLOOKUP(D7260,Códigos!B:C,2,0),\" \")","v":" "}]
[null,null,null,null,{"$f":"IFERROR(VLOOKUP(D7261,Códigos!B:C,2,0),\" \")","v":" "}]
[null,null,null,null,{"$f":"IFERROR(VLOOKUP(D7262,Códigos!B:C,2,0),\" \")","v":" "}]
[null,null,null,null,{"$f":"IFERROR(VLOOKUP(D7263,Códigos!B:C,2,0),\" \")","v":" "}]
[null,null,null,null,{"$f":"IFERROR(VLOOKUP(D7264,Códigos!B:C,2,0),\" \")","v":" "}]
[null,null,null,null,{"$f":"IFERROR(VLOOKUP(D7265,Códigos!B:C,2,0),\" \")","v":" "}]
[null,null,null,null,{"$f":"IFERROR(VLOOKUP(D7266,Códigos!B:C,2,0),\" \")","v":" "}]
[null,null,null,null,{"$f":"IFERROR(VLOOKUP(D7267,Códigos!B:C,2,0),\" \")","v":" "}]
[null,null,null,null,{"$f":"IFERROR(VLOOKUP(D7268,Códigos!B:C,2,0),\" \")","v":" "}]
[null,null,null,null,{"$f":"IFERROR(VLOOKUP(D7269,Códigos!B:C,2,0),\" \")","v":" "}]
[null,null,null,null,{"$f":"IFERROR(VLOOKUP(D7270,Códigos!B:C,2,0),\" \")","v":" "}]
[null,null,null,null,{"$f":"IFERROR(VLOOKUP(D7271,Códigos!B:C,2,0),\" \")","v":" "}]
[null,null,null,null,{"$f":"IFERROR(VLOOKUP(D7272,Códigos!B:C,2,0),\" \")","v":" "}]
[null,null,null,null,{"$f":"IFERROR(VLOOKUP(D7273,Códigos!B:C,2,0),\" \")","v":" "}]
[null,null,null,null,{"$f":"IFERROR(VLOOKUP(D7274,Códigos!B:C,2,0),\" \")","v":" "}]
[null,null,null,null,{"$f":"IFERROR(VLOOKUP(D7275,Códigos!B:C,2,0),\" \")","v":" "}]
[null,null,null,null,{"$f":"IFERROR(VLOOKUP(D7276,Códigos!B:C,2,0),\" \")","v":" "}]
[null,null,null,null,{"$f":"IFERROR(VLOOKUP(D7277,Códigos!B:C,2,0),\" \")","v":" "}]
[null,null,null,null,{"$f":"IFERROR(VLOOKUP(D7278,Códigos!B:C,2,0),\" \")","v":" "}]
[null,null,null,null,{"$f":"IFERROR(VLOOKUP(D7279,Códigos!B:C,2,0),\" \")","v":" "}]
[null,null,null,null,{"$f":"IFERROR(VLOOKUP(D7280,Códigos!B:C,2,0),\" \")","v":" "}]
[null,null,null,null,{"$f":"IFERROR(VLOOKUP(D7281,Códigos!B:C,2,0),\" \")","v":" "}]
[null,null,null,null,{"$f":"IFERROR(VLOOKUP(D7282,Códigos!B:C,2,0),\" \")","v":" "}]
[null,null,null,null,{"$f":"IFERROR(VLOOKUP(D7283,Códigos!B:C,2,0),\" \")","v":" "}]
[null,null,null,null,{"$f":"IFERROR(VLOOKUP(D7284,Códigos!B:C,2,0),\" \")","v":" "}]
[null,null,null,null,{"$f":"IFERROR(VLOOKUP(D7285,Códigos!B:C,2,0),\" \")","v":" "}]
[null,null,null,null,{"$f":"IFERROR(VLOOKUP(D7286,Códigos!B:C,2,0),\" \")","v":" "}]
[null,null,null,null,{"$f":"IFERROR(VLOOKUP(D7287,Códigos!B:C,2,0),\" \")","v":" "}]
[null,null,null,null,{"$f":"IFERROR(VLOOKUP(D7288,Códigos!B:C,2,0),\" \")","v":" "}]
[null,null,null,null,{"$f":"IFERROR(VLOOKUP(D7289,Códigos!B:C,2,0),\" \")","v":" "}]
[null,null,null,null,{"$f":"IFERROR(VLOOKUP(D7290,Códigos!B:C,2,0),\" \")","v":" "}]
[null,null,null,null,{"$f":"IFERROR(VLOOKUP(D7291,Códigos!B:C,2,0),\" \")","v":" "}]
[null,null,null,null,{"$f":"IFERROR(VLOOKUP(D7292,Códigos!B:C,2,0),\" \")","v":" "}]
[null,null,null,null,{"$f":"IFERROR(VLOOKUP(D7293,Códigos!B:C,2,0),\" \")","v":" "}]
[null,null,null,null,{"$f":"IFERROR(VLOOKUP(D7294,Códigos!B:C,2,0),\" \")","v":" "}]
[null,null,null,null,{"$f":"IFERROR(VLOOKUP(D7295,Códigos!B:C,2,0),\" \")","v":" "}]
[null,null,null,null,{"$f":"IFERROR(VLOOKUP(D7296,Códigos!B:C,2,0),\" \")","v":" "}]
[null,null,null,null,{"$f":"IFERROR(VLOOKUP(D7297,Códigos!B:C,2,0),\" \")","v":" "}]
[null,null,null,null,{"$f":"IFERROR(VLOOKUP(D7298,Códigos!B:C,2,0),\" \")","v":" "}]
[null,null,null,null,{"$f":"IFERROR(VLOOKUP(D7299,Códigos!B:C,2,0),\" \")","v":" "}]
[null,null,null,null,{"$f":"IFERROR(VLOOKUP(D7300,Códigos!B:C,2,0),\" \")","v":" "}]
[null,null,null,null,{"$f":"IFERROR(VLOOKUP(D7301,Códigos!B:C,2,0),\" \")","v":" "}]
[null,null,null,null,{"$f":"IFERROR(VLOOKUP(D7302,Códigos!B:C,2,0),\" \")","v":" "}]
[null,null,null,null,{"$f":"IFERROR(VLOOKUP(D7303,Códigos!B:C,2,0),\" \")","v":" "}]
[null,null,null,null,{"$f":"IFERROR(VLOOKUP(D7304,Códigos!B:C,2,0),\" \")","v":" "}]
[null,null,null,null,{"$f":"IFERROR(VLOOKUP(D7305,Códigos!B:C,2,0),\" \")","v":" "}]
[null,null,null,null,{"$f":"IFERROR(VLOOKUP(D7306,Códigos!B:C,2,0),\" \")","v":" "}]
[null,null,null,null,{"$f":"IFERROR(VLOOKUP(D7307,Códigos!B:C,2,0),\" \")","v":" "}]
[null,null,null,null,{"$f":"IFERROR(VLOOKUP(D7308,Códigos!B:C,2,0),\" \")","v":" "}]
[null,null,null,null,{"$f":"IFERROR(VLOOKUP(D7309,Códigos!B:C,2,0),\" \")","v":" "}]
[null,null,null,null,{"$f":"IFERROR(VLOOKUP(D7310,Códigos!B:C,2,0),\" \")","v":" "}]
[null,null,null,null,{"$f":"IFERROR(VLOOKUP(D7311,Códigos!B:C,2,0),\" \")","v":" "}]
[null,null,null,null,{"$f":"IFERROR(VLOOKUP(D7312,Códigos!B:C,2,0),\" \")","v":" "}]
[null,null,null,null,{"$f":"IFERROR(VLOOKUP(D7313,Códigos!B:C,2,0),\" \")","v":" "}]
[null,null,null,null,{"$f":"IFERROR(VLOOKUP(D7314,Códigos!B:C,2,0),\" \")","v":" "}]
[null,null,null,null,{"$f":"IFERROR(VLOOKUP(D7315,Códigos!B:C,2,0),\" \")","v":" "}]
[null,null,null,null,{"$f":"IFERROR(VLOOKUP(D7316,Códigos!B:C,2,0),\" \")","v":" "}]
[null,null,null,null,{"$f":"IFERROR(VLOOKUP(D7317,Códigos!B:C,2,0),\" \")","v":" "}]
[null,null,null,null,{"$f":"IFERROR(VLOOKUP(D7318,Códigos!B:C,2,0),\" \")","v":" "}]
[null,null,null,null,{"$f":"IFERROR(VLOOKUP(D7319,Códigos!B:C,2,0),\" \")","v":" "}]
[null,null,null,null,{"$f":"IFERROR(VLOOKUP(D7320,Códigos!B:C,2,0),\" \")","v":" "}]
[null,null,null,null,{"$f":"IFERROR(VLOOKUP(D7321,Códigos!B:C,2,0),\" \")","v":" "}]
[null,null,null,null,{"$f":"IFERROR(VLOOKUP(D7322,Códigos!B:C,2,0),\" \")","v":" "}]
[null,null,null,null,{"$f":"IFERROR(VLOOKUP(D7323,Códigos!B:C,2,0),\" \")","v":" "}]
[null,null,null,null,{"$f":"IFERROR(VLOOKUP(D7324,Códigos!B:C,2,0),\" \")","v":" "}]
[null,null,null,null,{"$f":"IFERROR(VLOOKUP(D7325,Códigos!B:C,2,0),\" \")","v":" "}]
[null,null,null,null,{"$f":"IFERROR(VLOOKUP(D7326,Códigos!B:C,2,0),\" \")","v":" "}]
[null,null,null,null,{"$f":"IFERROR(VLOOKUP(D7327,Códigos!B:C,2,0),\" \")","v":" "}]
[null,null,null,null,{"$f":"IFERROR(VLOOKUP(D7328,Códigos!B:C,2,0),\" \")","v":" "}]
[null,null,null,null,{"$f":"IFERROR(VLOOKUP(D7329,Códigos!B:C,2,0),\" \")","v":" "}]
[null,null,null,null,{"$f":"IFERROR(VLOOKUP(D7330,Códigos!B:C,2,0),\" \")","v":" "}]
[null,null,null,null,{"$f":"IFERROR(VLOOKUP(D7331,Códigos!B:C,2,0),\" \")","v":" "}]
[null,null,null,null,{"$f":"IFERROR(VLOOKUP(D7332,Códigos!B:C,2,0),\" \")","v":" "}]
[null,null,null,null,{"$f":"IFERROR(VLOOKUP(D7333,Códigos!B:C,2,0),\" \")","v":" "}]
[null,null,null,null,{"$f":"IFERROR(VLOOKUP(D7334,Códigos!B:C,2,0),\" \")","v":" "}]
[null,null,null,null,{"$f":"IFERROR(VLOOKUP(D7335,Códigos!B:C,2,0),\" \")","v":" "}]
[null,null,null,null,{"$f":"IFERROR(VLOOKUP(D7336,Códigos!B:C,2,0),\" \")","v":" "}]
[null,null,null,null,{"$f":"IFERROR(VLOOKUP(D7337,Códigos!B:C,2,0),\" \")","v":" "}]
[null,null,null,null,{"$f":"IFERROR(VLOOKUP(D7338,Códigos!B:C,2,0),\" \")","v":" "}]
[null,null,null,null,{"$f":"IFERROR(VLOOKUP(D7339,Códigos!B:C,2,0),\" \")","v":" "}]
[null,null,null,null,{"$f":"IFERROR(VLOOKUP(D7340,Códigos!B:C,2,0),\" \")","v":" "}]
[null,null,null,null,{"$f":"IFERROR(VLOOKUP(D7341,Códigos!B:C,2,0),\" \")","v":" "}]
[null,null,null,null,{"$f":"IFERROR(VLOOKUP(D7342,Códigos!B:C,2,0),\" \")","v":" "}]
[null,null,null,null,{"$f":"IFERROR(VLOOKUP(D7343,Códigos!B:C,2,0),\" \")","v":" "}]
[null,null,null,null,{"$f":"IFERROR(VLOOKUP(D7344,Códigos!B:C,2,0),\" \")","v":" "}]
[null,null,null,null,{"$f":"IFERROR(VLOOKUP(D7345,Códigos!B:C,2,0),\" \")","v":" "}]
[null,null,null,null,{"$f":"IFERROR(VLOOKUP(D7346,Códigos!B:C,2,0),\" \")","v":" "}]
[null,null,null,null,{"$f":"IFERROR(VLOOKUP(D7347,Códigos!B:C,2,0),\" \")","v":" "}]
[null,null,null,null,{"$f":"IFERROR(VLOOKUP(D7348,Códigos!B:C,2,0),\" \")","v":" "}]
[null,null,null,null,{"$f":"IFERROR(VLOOKUP(D7349,Códigos!B:C,2,0),\" \")","v":" "}]
[null,null,null,null,{"$f":"IFERROR(VLOOKUP(D7350,Códigos!B:C,2,0),\" \")","v":" "}]
[null,null,null,null,{"$f":"IFERROR(VLOOKUP(D7351,Códigos!B:C,2,0),\" \")","v":" "}]
[null,null,null,null,{"$f":"IFERROR(VLOOKUP(D7352,Códigos!B:C,2,0),\" \")","v":" "}]
[null,null,null,null,{"$f":"IFERROR(VLOOKUP(D7353,Códigos!B:C,2,0),\" \")","v":" "}]
[null,null,null,null,{"$f":"IFERROR(VLOOKUP(D7354,Códigos!B:C,2,0),\" \")","v":" "}]
[null,null,null,null,{"$f":"IFERROR(VLOOKUP(D7355,Códigos!B:C,2,0),\" \")","v":" "}]
[null,null,null,null,{"$f":"IFERROR(VLOOKUP(D7356,Códigos!B:C,2,0),\" \")","v":" "}]
[null,null,null,null,{"$f":"IFERROR(VLOOKUP(D7357,Códigos!B:C,2,0),\" \")","v":" "}]
[null,null,null,null,{"$f":"IFERROR(VLOOKUP(D7358,Códigos!B:C,2,0),\" \")","v":" "}]
[null,null,null,null,{"$f":"IFERROR(VLOOKUP(D7359,Códigos!B:C,2,0),\" \")","v":" "}]
[null,null,null,null,{"$f":"IFERROR(VLOOKUP(D7360,Códigos!B:C,2,0),\" \")","v":" "}]
[null,null,null,null,{"$f":"IFERROR(VLOOKUP(D7361,Códigos!B:C,2,0),\" \")","v":" "}]
[null,null,null,null,{"$f":"IFERROR(VLOOKUP(D7362,Códigos!B:C,2,0),\" \")","v":" "}]
[null,null,null,null,{"$f":"IFERROR(VLOOKUP(D7363,Códigos!B:C,2,0),\" \")","v":" "}]
[null,null,null,null,{"$f":"IFERROR(VLOOKUP(D7364,Códigos!B:C,2,0),\" \")","v":" "}]
[null,null,null,null,{"$f":"IFERROR(VLOOKUP(D7365,Códigos!B:C,2,0),\" \")","v":" "}]
[null,null,null,null,{"$f":"IFERROR(VLOOKUP(D7366,Códigos!B:C,2,0),\" \")","v":" "}]
[null,null,null,null,{"$f":"IFERROR(VLOOKUP(D7367,Códigos!B:C,2,0),\" \")","v":" "}]
[null,null,null,null,{"$f":"IFERROR(VLOOKUP(D7368,Códigos!B:C,2,0),\" \")","v":" "}]
[null,null,null,null,{"$f":"IFERROR(VLOOKUP(D7369,Códigos!B:C,2,0),\" \")","v":" "}]
[null,null,null,null,{"$f":"IFERROR(VLOOKUP(D7370,Códigos!B:C,2,0),\" \")","v":" "}]
[null,null,null,null,{"$f":"IFERROR(VLOOKUP(D7371,Códigos!B:C,2,0),\" \")","v":" "}]
[null,null,null,null,{"$f":"IFERROR(VLOOKUP(D7372,Códigos!B:C,2,0),\" \")","v":" "}]
[null,null,null,null,{"$f":"IFERROR(VLOOKUP(D7373,Códigos!B:C,2,0),\" \")","v":" "}]
[null,null,null,null,{"$f":"IFERROR(VLOOKUP(D7374,Códigos!B:C,2,0),\" \")","v":" "}]
[null,null,null,null,{"$f":"IFERROR(VLOOKUP(D7375,Códigos!B:C,2,0),\" \")","v":" "}]
[null,null,null,null,{"$f":"IFERROR(VLOOKUP(D7376,Códigos!B:C,2,0),\" \")","v":" "}]
[null,null,null,null,{"$f":"IFERROR(VLOOKUP(D7377,Códigos!B:C,2,0),\" \")","v":" "}]
[null,null,null,null,{"$f":"IFERROR(VLOOKUP(D7378,Códigos!B:C,2,0),\" \")","v":" "}]
[null,null,null,null,{"$f":"IFERROR(VLOOKUP(D7379,Códigos!B:C,2,0),\" \")","v":" "}]
[null,null,null,null,{"$f":"IFERROR(VLOOKUP(D7380,Códigos!B:C,2,0),\" \")","v":" "}]
[null,null,null,null,{"$f":"IFERROR(VLOOKUP(D7381,Códigos!B:C,2,0),\" \")","v":" "}]
[null,null,null,null,{"$f":"IFERROR(VLOOKUP(D7382,Códigos!B:C,2,0),\" \")","v":" "}]
[null,null,null,null,{"$f":"IFERROR(VLOOKUP(D7383,Códigos!B:C,2,0),\" \")","v":" "}]
[null,null,null,null,{"$f":"IFERROR(VLOOKUP(D7384,Códigos!B:C,2,0),\" \")","v":" "}]
[null,null,null,null,{"$f":"IFERROR(VLOOKUP(D7385,Códigos!B:C,2,0),\" \")","v":" "}]
[null,null,null,null,{"$f":"IFERROR(VLOOKUP(D7386,Códigos!B:C,2,0),\" \")","v":" "}]
[null,null,null,null,{"$f":"IFERROR(VLOOKUP(D7387,Códigos!B:C,2,0),\" \")","v":" "}]
[null,null,null,null,{"$f":"IFERROR(VLOOKUP(D7388,Códigos!B:C,2,0),\" \")","v":" "}]
[null,null,null,null,{"$f":"IFERROR(VLOOKUP(D7389,Códigos!B:C,2,0),\" \")","v":" "}]
[null,null,null,null,{"$f":"IFERROR(VLOOKUP(D7390,Códigos!B:C,2,0),\" \")","v":" "}]
[null,null,null,null,{"$f":"IFERROR(VLOOKUP(D7391,Códigos!B:C,2,0),\" \")","v":" "}]
[null,null,null,null,{"$f":"IFERROR(VLOOKUP(D7392,Códigos!B:C,2,0),\" \")","v":" "}]
[null,null,null,null,{"$f":"IFERROR(VLOOKUP(D7393,Códigos!B:C,2,0),\" \")","v":" "}]
[null,null,null,null,{"$f":"IFERROR(VLOOKUP(D7394,Códigos!B:C,2,0),\" \")","v":" "}]
[null,null,null,null,{"$f":"IFERROR(VLOOKUP(D7395,Códigos!B:C,2,0),\" \")","v":" "}]
[null,null,null,null,{"$f":"IFERROR(VLOOKUP(D7396,Códigos!B:C,2,0),\" \")","v":" "}]
[null,null,null,null,{"$f":"IFERROR(VLOOKUP(D7397,Códigos!B:C,2,0),\" \")","v":" "}]
[null,null,null,null,{"$f":"IFERROR(VLOOKUP(D7398,Códigos!B:C,2,0),\" \")","v":" "}]
[null,null,null,null,{"$f":"IFERROR(VLOOKUP(D7399,Códigos!B:C,2,0),\" \")","v":" "}]
[null,null,null,null,{"$f":"IFERROR(VLOOKUP(D7400,Códigos!B:C,2,0),\" \")","v":" "}]
[null,null,null,null,{"$f":"IFERROR(VLOOKUP(D7401,Códigos!B:C,2,0),\" \")","v":" "}]
[null,null,null,null,{"$f":"IFERROR(VLOOKUP(D7402,Códigos!B:C,2,0),\" \")","v":" "}]
[null,null,null,null,{"$f":"IFERROR(VLOOKUP(D7403,Códigos!B:C,2,0),\" \")","v":" "}]
[null,null,null,null,{"$f":"IFERROR(VLOOKUP(D7404,Códigos!B:C,2,0),\" \")","v":" "}]
[null,null,null,null,{"$f":"IFERROR(VLOOKUP(D7405,Códigos!B:C,2,0),\" \")","v":" "}]
[null,null,null,null,{"$f":"IFERROR(VLOOKUP(D7406,Códigos!B:C,2,0),\" \")","v":" "}]
[null,null,null,null,{"$f":"IFERROR(VLOOKUP(D7407,Códigos!B:C,2,0),\" \")","v":" "}]
[null,null,null,null,{"$f":"IFERROR(VLOOKUP(D7408,Códigos!B:C,2,0),\" \")","v":" "}]
[null,null,null,null,{"$f":"IFERROR(VLOOKUP(D7409,Códigos!B:C,2,0),\" \")","v":" "}]
[null,null,null,null,{"$f":"IFERROR(VLOOKUP(D7410,Códigos!B:C,2,0),\" \")","v":" "}]
[null,null,null,null,{"$f":"IFERROR(VLOOKUP(D7411,Códigos!B:C,2,0),\" \")","v":" "}]
[null,null,null,null,{"$f":"IFERROR(VLOOKUP(D7412,Códigos!B:C,2,0),\" \")","v":" "}]
[null,null,null,null,{"$f":"IFERROR(VLOOKUP(D7413,Códigos!B:C,2,0),\" \")","v":" "}]
[null,null,null,null,{"$f":"IFERROR(VLOOKUP(D7414,Códigos!B:C,2,0),\" \")","v":" "}]
[null,null,null,null,{"$f":"IFERROR(VLOOKUP(D7415,Códigos!B:C,2,0),\" \")","v":" "}]
[null,null,null,null,{"$f":"IFERROR(VLOOKUP(D7416,Códigos!B:C,2,0),\" \")","v":" "}]
[null,null,null,null,{"$f":"IFERROR(VLOOKUP(D7417,Códigos!B:C,2,0),\" \")","v":" "}]
[null,null,null,null,{"$f":"IFERROR(VLOOKUP(D7418,Códigos!B:C,2,0),\" \")","v":" "}]
[null,null,null,null,{"$f":"IFERROR(VLOOKUP(D7419,Códigos!B:C,2,0),\" \")","v":" "}]
[null,null,null,null,{"$f":"IFERROR(VLOOKUP(D7420,Códigos!B:C,2,0),\" \")","v":" "}]
[null,null,null,null,{"$f":"IFERROR(VLOOKUP(D7421,Códigos!B:C,2,0),\" \")","v":" "}]
[null,null,null,null,{"$f":"IFERROR(VLOOKUP(D7422,Códigos!B:C,2,0),\" \")","v":" "}]
[null,null,null,null,{"$f":"IFERROR(VLOOKUP(D7423,Códigos!B:C,2,0),\" \")","v":" "}]
[null,null,null,null,{"$f":"IFERROR(VLOOKUP(D7424,Códigos!B:C,2,0),\" \")","v":" "}]
[null,null,null,null,{"$f":"IFERROR(VLOOKUP(D7425,Códigos!B:C,2,0),\" \")","v":" "}]
[null,null,null,null,{"$f":"IFERROR(VLOOKUP(D7426,Códigos!B:C,2,0),\" \")","v":" "}]
[null,null,null,null,{"$f":"IFERROR(VLOOKUP(D7427,Códigos!B:C,2,0),\" \")","v":" "}]
[null,null,null,null,{"$f":"IFERROR(VLOOKUP(D7428,Códigos!B:C,2,0),\" \")","v":" "}]
[null,null,null,null,{"$f":"IFERROR(VLOOKUP(D7429,Códigos!B:C,2,0),\" \")","v":" "}]
[null,null,null,null,{"$f":"IFERROR(VLOOKUP(D7430,Códigos!B:C,2,0),\" \")","v":" "}]
[null,null,null,null,{"$f":"IFERROR(VLOOKUP(D7431,Códigos!B:C,2,0),\" \")","v":" "}]
[null,null,null,null,{"$f":"IFERROR(VLOOKUP(D7432,Códigos!B:C,2,0),\" \")","v":" "}]
[null,null,null,null,{"$f":"IFERROR(VLOOKUP(D7433,Códigos!B:C,2,0),\" \")","v":" "}]
[null,null,null,null,{"$f":"IFERROR(VLOOKUP(D7434,Códigos!B:C,2,0),\" \")","v":" "}]
[null,null,null,null,{"$f":"IFERROR(VLOOKUP(D7435,Códigos!B:C,2,0),\" \")","v":" "}]
[null,null,null,null,{"$f":"IFERROR(VLOOKUP(D7436,Códigos!B:C,2,0),\" \")","v":" "}]
[null,null,null,null,{"$f":"IFERROR(VLOOKUP(D7437,Códigos!B:C,2,0),\" \")","v":" "}]
[null,null,null,null,{"$f":"IFERROR(VLOOKUP(D7438,Códigos!B:C,2,0),\" \")","v":" "}]
[null,null,null,null,{"$f":"IFERROR(VLOOKUP(D7439,Códigos!B:C,2,0),\" \")","v":" "}]
[null,null,null,null,{"$f":"IFERROR(VLOOKUP(D7440,Códigos!B:C,2,0),\" \")","v":" "}]
[null,null,null,null,{"$f":"IFERROR(VLOOKUP(D7441,Códigos!B:C,2,0),\" \")","v":" "}]
[null,null,null,null,{"$f":"IFERROR(VLOOKUP(D7442,Códigos!B:C,2,0),\" \")","v":" "}]
[null,null,null,null,{"$f":"IFERROR(VLOOKUP(D7443,Códigos!B:C,2,0),\" \")","v":" "}]
[null,null,null,null,{"$f":"IFERROR(VLOOKUP(D7444,Códigos!B:C,2,0),\" \")","v":" "}]
[null,null,null,null,{"$f":"IFERROR(VLOOKUP(D7445,Códigos!B:C,2,0),\" \")","v":" "}]
[null,null,null,null,{"$f":"IFERROR(VLOOKUP(D7446,Códigos!B:C,2,0),\" \")","v":" "}]
[null,null,null,null,{"$f":"IFERROR(VLOOKUP(D7447,Códigos!B:C,2,0),\" \")","v":" "}]
[null,null,null,null,{"$f":"IFERROR(VLOOKUP(D7448,Códigos!B:C,2,0),\" \")","v":" "}]
[null,null,null,null,{"$f":"IFERROR(VLOOKUP(D7449,Códigos!B:C,2,0),\" \")","v":" "}]
[null,null,null,null,{"$f":"IFERROR(VLOOKUP(D7450,Códigos!B:C,2,0),\" \")","v":" "}]
[null,null,null,null,{"$f":"IFERROR(VLOOKUP(D7451,Códigos!B:C,2,0),\" \")","v":" "}]
[null,null,null,null,{"$f":"IFERROR(VLOOKUP(D7452,Códigos!B:C,2,0),\" \")","v":" "}]
[null,null,null,null,{"$f":"IFERROR(VLOOKUP(D7453,Códigos!B:C,2,0),\" \")","v":" "}]
[null,null,null,null,{"$f":"IFERROR(VLOOKUP(D7454,Códigos!B:C,2,0),\" \")","v":" "}]
[null,null,null,null,{"$f":"IFERROR(VLOOKUP(D7455,Códigos!B:C,2,0),\" \")","v":" "}]
[null,null,null,null,{"$f":"IFERROR(VLOOKUP(D7456,Códigos!B:C,2,0),\" \")","v":" "}]
[null,null,null,null,{"$f":"IFERROR(VLOOKUP(D7457,Códigos!B:C,2,0),\" \")","v":" "}]
[null,null,null,null,{"$f":"IFERROR(VLOOKUP(D7458,Códigos!B:C,2,0),\" \")","v":" "}]
[null,null,null,null,{"$f":"IFERROR(VLOOKUP(D7459,Códigos!B:C,2,0),\" \")","v":" "}]
[null,null,null,null,{"$f":"IFERROR(VLOOKUP(D7460,Códigos!B:C,2,0),\" \")","v":" "}]
[null,null,null,null,{"$f":"IFERROR(VLOOKUP(D7461,Códigos!B:C,2,0),\" \")","v":" "}]
[null,null,null,null,{"$f":"IFERROR(VLOOKUP(D7462,Códigos!B:C,2,0),\" \")","v":" "}]
[null,null,null,null,{"$f":"IFERROR(VLOOKUP(D7463,Códigos!B:C,2,0),\" \")","v":" "}]
[null,null,null,null,{"$f":"IFERROR(VLOOKUP(D7464,Códigos!B:C,2,0),\" \")","v":" "}]
[null,null,null,null,{"$f":"IFERROR(VLOOKUP(D7465,Códigos!B:C,2,0),\" \")","v":" "}]
[null,null,null,null,{"$f":"IFERROR(VLOOKUP(D7466,Códigos!B:C,2,0),\" \")","v":" "}]
[null,null,null,null,{"$f":"IFERROR(VLOOKUP(D7467,Códigos!B:C,2,0),\" \")","v":" "}]
[null,null,null,null,{"$f":"IFERROR(VLOOKUP(D7468,Códigos!B:C,2,0),\" \")","v":" "}]
[null,null,null,null,{"$f":"IFERROR(VLOOKUP(D7469,Códigos!B:C,2,0),\" \")","v":" "}]
[null,null,null,null,{"$f":"IFERROR(VLOOKUP(D7470,Códigos!B:C,2,0),\" \")","v":" "}]
[null,null,null,null,{"$f":"IFERROR(VLOOKUP(D7471,Códigos!B:C,2,0),\" \")","v":" "}]
[null,null,null,null,{"$f":"IFERROR(VLOOKUP(D7472,Códigos!B:C,2,0),\" \")","v":" "}]
[null,null,null,null,{"$f":"IFERROR(VLOOKUP(D7473,Códigos!B:C,2,0),\" \")","v":" "}]
[null,null,null,null,{"$f":"IFERROR(VLOOKUP(D7474,Códigos!B:C,2,0),\" \")","v":" "}]
[null,null,null,null,{"$f":"IFERROR(VLOOKUP(D7475,Códigos!B:C,2,0),\" \")","v":" "}]
[null,null,null,null,{"$f":"IFERROR(VLOOKUP(D7476,Códigos!B:C,2,0),\" \")","v":" "}]
[null,null,null,null,{"$f":"IFERROR(VLOOKUP(D7477,Códigos!B:C,2,0),\" \")","v":" "}]
[null,null,null,null,{"$f":"IFERROR(VLOOKUP(D7478,Códigos!B:C,2,0),\" \")","v":" "}]
[null,null,null,null,{"$f":"IFERROR(VLOOKUP(D7479,Códigos!B:C,2,0),\" \")","v":" "}]
[null,null,null,null,{"$f":"IFERROR(VLOOKUP(D7480,Códigos!B:C,2,0),\" \")","v":" "}]
[null,null,null,null,{"$f":"IFERROR(VLOOKUP(D7481,Códigos!B:C,2,0),\" \")","v":" "}]
[null,null,null,null,{"$f":"IFERROR(VLOOKUP(D7482,Códigos!B:C,2,0),\" \")","v":" "}]
[null,null,null,null,{"$f":"IFERROR(VLOOKUP(D7483,Códigos!B:C,2,0),\" \")","v":" "}]
[null,null,null,null,{"$f":"IFERROR(VLOOKUP(D7484,Códigos!B:C,2,0),\" \")","v":" "}]
[null,null,null,null,{"$f":"IFERROR(VLOOKUP(D7485,Códigos!B:C,2,0),\" \")","v":" "}]
[null,null,null,null,{"$f":"IFERROR(VLOOKUP(D7486,Códigos!B:C,2,0),\" \")","v":" "}]
[null,null,null,null,{"$f":"IFERROR(VLOOKUP(D7487,Códigos!B:C,2,0),\" \")","v":" "}]
[null,null,null,null,{"$f":"IFERROR(VLOOKUP(D7488,Códigos!B:C,2,0),\" \")","v":" "}]
[null,null,null,null,{"$f":"IFERROR(VLOOKUP(D7489,Códigos!B:C,2,0),\" \")","v":" "}]
[null,null,null,null,{"$f":"IFERROR(VLOOKUP(D7490,Códigos!B:C,2,0),\" \")","v":" "}]
[null,null,null,null,{"$f":"IFERROR(VLOOKUP(D7491,Códigos!B:C,2,0),\" \")","v":" "}]
[null,null,null,null,{"$f":"IFERROR(VLOOKUP(D7492,Códigos!B:C,2,0),\" \")","v":" "}]
[null,null,null,null,{"$f":"IFERROR(VLOOKUP(D7493,Códigos!B:C,2,0),\" \")","v":" "}]
[null,null,null,null,{"$f":"IFERROR(VLOOKUP(D7494,Códigos!B:C,2,0),\" \")","v":" "}]
[null,null,null,null,{"$f":"IFERROR(VLOOKUP(D7495,Códigos!B:C,2,0),\" \")","v":" "}]
[null,null,null,null,{"$f":"IFERROR(VLOOKUP(D7496,Códigos!B:C,2,0),\" \")","v":" "}]
[null,null,null,null,{"$f":"IFERROR(VLOOKUP(D7497,Códigos!B:C,2,0),\" \")","v":" "}]
[null,null,null,null,{"$f":"IFERROR(VLOOKUP(D7498,Códigos!B:C,2,0),\" \")","v":" "}]
[null,null,null,null,{"$f":"IFERROR(VLOOKUP(D7499,Códigos!B:C,2,0),\" \")","v":" "}]
[null,null,null,null,{"$f":"IFERROR(VLOOKUP(D7500,Códigos!B:C,2,0),\" \")","v":" "}]
[null,null,null,null,{"$f":"IFERROR(VLOOKUP(D7501,Códigos!B:C,2,0),\" \")","v":" "}]
[null,null,null,null,{"$f":"IFERROR(VLOOKUP(D7502,Códigos!B:C,2,0),\" \")","v":" "}]
[null,null,null,null,{"$f":"IFERROR(VLOOKUP(D7503,Códigos!B:C,2,0),\" \")","v":" "}]
[null,null,null,null,{"$f":"IFERROR(VLOOKUP(D7504,Códigos!B:C,2,0),\" \")","v":" "}]
[null,null,null,null,{"$f":"IFERROR(VLOOKUP(D7505,Códigos!B:C,2,0),\" \")","v":" "}]
[null,null,null,null,{"$f":"IFERROR(VLOOKUP(D7506,Códigos!B:C,2,0),\" \")","v":" "}]
[null,null,null,null,{"$f":"IFERROR(VLOOKUP(D7507,Códigos!B:C,2,0),\" \")","v":" "}]
[null,null,null,null,{"$f":"IFERROR(VLOOKUP(D7508,Códigos!B:C,2,0),\" \")","v":" "}]
[null,null,null,null,{"$f":"IFERROR(VLOOKUP(D7509,Códigos!B:C,2,0),\" \")","v":" "}]
[null,null,null,null,{"$f":"IFERROR(VLOOKUP(D7510,Códigos!B:C,2,0),\" \")","v":" "}]
[null,null,null,null,{"$f":"IFERROR(VLOOKUP(D7511,Códigos!B:C,2,0),\" \")","v":" "}]
[null,null,null,null,{"$f":"IFERROR(VLOOKUP(D7512,Códigos!B:C,2,0),\" \")","v":" "}]
[null,null,null,null,{"$f":"IFERROR(VLOOKUP(D7513,Códigos!B:C,2,0),\" \")","v":" "}]
[null,null,null,null,{"$f":"IFERROR(VLOOKUP(D7514,Códigos!B:C,2,0),\" \")","v":" "}]
[null,null,null,null,{"$f":"IFERROR(VLOOKUP(D7515,Códigos!B:C,2,0),\" \")","v":" "}]
[null,null,null,null,{"$f":"IFERROR(VLOOKUP(D7516,Códigos!B:C,2,0),\" \")","v":" "}]
[null,null,null,null,{"$f":"IFERROR(VLOOKUP(D7517,Códigos!B:C,2,0),\" \")","v":" "}]
[null,null,null,null,{"$f":"IFERROR(VLOOKUP(D7518,Códigos!B:C,2,0),\" \")","v":" "}]
[null,null,null,null,{"$f":"IFERROR(VLOOKUP(D7519,Códigos!B:C,2,0),\" \")","v":" "}]
[null,null,null,null,{"$f":"IFERROR(VLOOKUP(D7520,Códigos!B:C,2,0),\" \")","v":" "}]
[null,null,null,null,{"$f":"IFERROR(VLOOKUP(D7521,Códigos!B:C,2,0),\" \")","v":" "}]
[null,null,null,null,{"$f":"IFERROR(VLOOKUP(D7522,Códigos!B:C,2,0),\" \")","v":" "}]
[null,null,null,null,{"$f":"IFERROR(VLOOKUP(D7523,Códigos!B:C,2,0),\" \")","v":" "}]
[null,null,null,null,{"$f":"IFERROR(VLOOKUP(D7524,Códigos!B:C,2,0),\" \")","v":" "}]
[null,null,null,null,{"$f":"IFERROR(VLOOKUP(D7525,Códigos!B:C,2,0),\" \")","v":" "}]
[null,null,null,null,{"$f":"IFERROR(VLOOKUP(D7526,Códigos!B:C,2,0),\" \")","v":" "}]
[null,null,null,null,{"$f":"IFERROR(VLOOKUP(D7527,Códigos!B:C,2,0),\" \")","v":" "}]
[null,null,null,null,{"$f":"IFERROR(VLOOKUP(D7528,Códigos!B:C,2,0),\" \")","v":" "}]
[null,null,null,null,{"$f":"IFERROR(VLOOKUP(D7529,Códigos!B:C,2,0),\" \")","v":" "}]
[null,null,null,null,{"$f":"IFERROR(VLOOKUP(D7530,Códigos!B:C,2,0),\" \")","v":" "}]
[null,null,null,null,{"$f":"IFERROR(VLOOKUP(D7531,Códigos!B:C,2,0),\" \")","v":" "}]
[null,null,null,null,{"$f":"IFERROR(VLOOKUP(D7532,Códigos!B:C,2,0),\" \")","v":" "}]
[null,null,null,null,{"$f":"IFERROR(VLOOKUP(D7533,Códigos!B:C,2,0),\" \")","v":" "}]
[null,null,null,null,{"$f":"IFERROR(VLOOKUP(D7534,Códigos!B:C,2,0),\" \")","v":" "}]
[null,null,null,null,{"$f":"IFERROR(VLOOKUP(D7535,Códigos!B:C,2,0),\" \")","v":" "}]
[null,null,null,null,{"$f":"IFERROR(VLOOKUP(D7536,Códigos!B:C,2,0),\" \")","v":" "}]
[null,null,null,null,{"$f":"IFERROR(VLOOKUP(D7537,Códigos!B:C,2,0),\" \")","v":" "}]
[null,null,null,null,{"$f":"IFERROR(VLOOKUP(D7538,Códigos!B:C,2,0),\" \")","v":" "}]
[null,null,null,null,{"$f":"IFERROR(VLOOKUP(D7539,Códigos!B:C,2,0),\" \")","v":" "}]
[null,null,null,null,{"$f":"IFERROR(VLOOKUP(D7540,Códigos!B:C,2,0),\" \")","v":" "}]
[null,null,null,null,{"$f":"IFERROR(VLOOKUP(D7541,Códigos!B:C,2,0),\" \")","v":" "}]
[null,null,null,null,{"$f":"IFERROR(VLOOKUP(D7542,Códigos!B:C,2,0),\" \")","v":" "}]
[null,null,null,null,{"$f":"IFERROR(VLOOKUP(D7543,Códigos!B:C,2,0),\" \")","v":" "}]
[null,null,null,null,{"$f":"IFERROR(VLOOKUP(D7544,Códigos!B:C,2,0),\" \")","v":" "}]
[null,null,null,null,{"$f":"IFERROR(VLOOKUP(D7545,Códigos!B:C,2,0),\" \")","v":" "}]
[null,null,null,null,{"$f":"IFERROR(VLOOKUP(D7546,Códigos!B:C,2,0),\" \")","v":" "}]
[null,null,null,null,{"$f":"IFERROR(VLOOKUP(D7547,Códigos!B:C,2,0),\" \")","v":" "}]
[null,null,null,null,{"$f":"IFERROR(VLOOKUP(D7548,Códigos!B:C,2,0),\" \")","v":" "}]
[null,null,null,null,{"$f":"IFERROR(VLOOKUP(D7549,Códigos!B:C,2,0),\" \")","v":" "}]
[null,null,null,null,{"$f":"IFERROR(VLOOKUP(D7550,Códigos!B:C,2,0),\" \")","v":" "}]
[null,null,null,null,{"$f":"IFERROR(VLOOKUP(D7551,Códigos!B:C,2,0),\" \")","v":" "}]
[null,null,null,null,{"$f":"IFERROR(VLOOKUP(D7552,Códigos!B:C,2,0),\" \")","v":" "}]
[null,null,null,null,{"$f":"IFERROR(VLOOKUP(D7553,Códigos!B:C,2,0),\" \")","v":" "}]
[null,null,null,null,{"$f":"IFERROR(VLOOKUP(D7554,Códigos!B:C,2,0),\" \")","v":" "}]
[null,null,null,null,{"$f":"IFERROR(VLOOKUP(D7555,Códigos!B:C,2,0),\" \")","v":" "}]
[null,null,null,null,{"$f":"IFERROR(VLOOKUP(D7556,Códigos!B:C,2,0),\" \")","v":" "}]
[null,null,null,null,{"$f":"IFERROR(VLOOKUP(D7557,Códigos!B:C,2,0),\" \")","v":" "}]
[null,null,null,null,{"$f":"IFERROR(VLOOKUP(D7558,Códigos!B:C,2,0),\" \")","v":" "}]
[null,null,null,null,{"$f":"IFERROR(VLOOKUP(D7559,Códigos!B:C,2,0),\" \")","v":" "}]
[null,null,null,null,{"$f":"IFERROR(VLOOKUP(D7560,Códigos!B:C,2,0),\" \")","v":" "}]
[null,null,null,null,{"$f":"IFERROR(VLOOKUP(D7561,Códigos!B:C,2,0),\" \")","v":" "}]
[null,null,null,null,{"$f":"IFERROR(VLOOKUP(D7562,Códigos!B:C,2,0),\" \")","v":" "}]
[null,null,null,null,{"$f":"IFERROR(VLOOKUP(D7563,Códigos!B:C,2,0),\" \")","v":" "}]
[null,null,null,null,{"$f":"IFERROR(VLOOKUP(D7564,Códigos!B:C,2,0),\" \")","v":" "}]
[null,null,null,null,{"$f":"IFERROR(VLOOKUP(D7565,Códigos!B:C,2,0),\" \")","v":" "}]
[null,null,null,null,{"$f":"IFERROR(VLOOKUP(D7566,Códigos!B:C,2,0),\" \")","v":" "}]
[null,null,null,null,{"$f":"IFERROR(VLOOKUP(D7567,Códigos!B:C,2,0),\" \")","v":" "}]
[null,null,null,null,{"$f":"IFERROR(VLOOKUP(D7568,Códigos!B:C,2,0),\" \")","v":" "}]
[null,null,null,null,{"$f":"IFERROR(VLOOKUP(D7569,Códigos!B:C,2,0),\" \")","v":" "}]
[null,null,null,null,{"$f":"IFERROR(VLOOKUP(D7570,Códigos!B:C,2,0),\" \")","v":" "}]
[null,null,null,null,{"$f":"IFERROR(VLOOKUP(D7571,Códigos!B:C,2,0),\" \")","v":" "}]
[null,null,null,null,{"$f":"IFERROR(VLOOKUP(D7572,Códigos!B:C,2,0),\" \")","v":" "}]
[null,null,null,null,{"$f":"IFERROR(VLOOKUP(D7573,Códigos!B:C,2,0),\" \")","v":" "}]
[null,null,null,null,{"$f":"IFERROR(VLOOKUP(D7574,Códigos!B:C,2,0),\" \")","v":" "}]
[null,null,null,null,{"$f":"IFERROR(VLOOKUP(D7575,Códigos!B:C,2,0),\" \")","v":" "}]
[null,null,null,null,{"$f":"IFERROR(VLOOKUP(D7576,Códigos!B:C,2,0),\" \")","v":" "}]
[null,null,null,null,{"$f":"IFERROR(VLOOKUP(D7577,Códigos!B:C,2,0),\" \")","v":" "}]
[null,null,null,null,{"$f":"IFERROR(VLOOKUP(D7578,Códigos!B:C,2,0),\" \")","v":" "}]
[null,null,null,null,{"$f":"IFERROR(VLOOKUP(D7579,Códigos!B:C,2,0),\" \")","v":" "}]
[null,null,null,null,{"$f":"IFERROR(VLOOKUP(D7580,Códigos!B:C,2,0),\" \")","v":" "}]
[null,null,null,null,{"$f":"IFERROR(VLOOKUP(D7581,Códigos!B:C,2,0),\" \")","v":" "}]
[null,null,null,null,{"$f":"IFERROR(VLOOKUP(D7582,Códigos!B:C,2,0),\" \")","v":" "}]
[null,null,null,null,{"$f":"IFERROR(VLOOKUP(D7583,Códigos!B:C,2,0),\" \")","v":" "}]
[null,null,null,null,{"$f":"IFERROR(VLOOKUP(D7584,Códigos!B:C,2,0),\" \")","v":" "}]
[null,null,null,null,{"$f":"IFERROR(VLOOKUP(D7585,Códigos!B:C,2,0),\" \")","v":" "}]
[null,null,null,null,{"$f":"IFERROR(VLOOKUP(D7586,Códigos!B:C,2,0),\" \")","v":" "}]
[null,null,null,null,{"$f":"IFERROR(VLOOKUP(D7587,Códigos!B:C,2,0),\" \")","v":" "}]
[null,null,null,null,{"$f":"IFERROR(VLOOKUP(D7588,Códigos!B:C,2,0),\" \")","v":" "}]
[null,null,null,null,{"$f":"IFERROR(VLOOKUP(D7589,Códigos!B:C,2,0),\" \")","v":" "}]
[null,null,null,null,{"$f":"IFERROR(VLOOKUP(D7590,Códigos!B:C,2,0),\" \")","v":" "}]
[null,null,null,null,{"$f":"IFERROR(VLOOKUP(D7591,Códigos!B:C,2,0),\" \")","v":" "}]
[null,null,null,null,{"$f":"IFERROR(VLOOKUP(D7592,Códigos!B:C,2,0),\" \")","v":" "}]
[null,null,null,null,{"$f":"IFERROR(VLOOKUP(D7593,Códigos!B:C,2,0),\" \")","v":" "}]
[null,null,null,null,{"$f":"IFERROR(VLOOKUP(D7594,Códigos!B:C,2,0),\" \")","v":" "}]
[null,null,null,null,{"$f":"IFERROR(VLOOKUP(D7595,Códigos!B:C,2,0),\" \")","v":" "}]
[null,null,null,null,{"$f":"IFERROR(VLOOKUP(D7596,Códigos!B:C,2,0),\" \")","v":" "}]
[null,null,null,null,{"$f":"IFERROR(VLOOKUP(D7597,Códigos!B:C,2,0),\" \")","v":" "}]
[null,null,null,null,{"$f":"IFERROR(VLOOKUP(D7598,Códigos!B:C,2,0),\" \")","v":" "}]
[null,null,null,null,{"$f":"IFERROR(VLOOKUP(D7599,Códigos!B:C,2,0),\" \")","v":" "}]
[null,null,null,null,{"$f":"IFERROR(VLOOKUP(D7600,Códigos!B:C,2,0),\" \")","v":" "}]
[null,null,null,null,{"$f":"IFERROR(VLOOKUP(D7601,Códigos!B:C,2,0),\" \")","v":" "}]
[null,null,null,null,{"$f":"IFERROR(VLOOKUP(D7602,Códigos!B:C,2,0),\" \")","v":" "}]
[null,null,null,null,{"$f":"IFERROR(VLOOKUP(D7603,Códigos!B:C,2,0),\" \")","v":" "}]
[null,null,null,null,{"$f":"IFERROR(VLOOKUP(D7604,Códigos!B:C,2,0),\" \")","v":" "}]
[null,null,null,null,{"$f":"IFERROR(VLOOKUP(D7605,Códigos!B:C,2,0),\" \")","v":" "}]
[null,null,null,null,{"$f":"IFERROR(VLOOKUP(D7606,Códigos!B:C,2,0),\" \")","v":" "}]
[null,null,null,null,{"$f":"IFERROR(VLOOKUP(D7607,Códigos!B:C,2,0),\" \")","v":" "}]
[null,null,null,null,{"$f":"IFERROR(VLOOKUP(D7608,Códigos!B:C,2,0),\" \")","v":" "}]
[null,null,null,null,{"$f":"IFERROR(VLOOKUP(D7609,Códigos!B:C,2,0),\" \")","v":" "}]
[null,null,null,null,{"$f":"IFERROR(VLOOKUP(D7610,Códigos!B:C,2,0),\" \")","v":" "}]
[null,null,null,null,{"$f":"IFERROR(VLOOKUP(D7611,Códigos!B:C,2,0),\" \")","v":" "}]
[null,null,null,null,{"$f":"IFERROR(VLOOKUP(D7612,Códigos!B:C,2,0),\" \")","v":" "}]
[null,null,null,null,{"$f":"IFERROR(VLOOKUP(D7613,Códigos!B:C,2,0),\" \")","v":" "}]
[null,null,null,null,{"$f":"IFERROR(VLOOKUP(D7614,Códigos!B:C,2,0),\" \")","v":" "}]
[null,null,null,null,{"$f":"IFERROR(VLOOKUP(D7615,Códigos!B:C,2,0),\" \")","v":" "}]
[null,null,null,null,{"$f":"IFERROR(VLOOKUP(D7616,Códigos!B:C,2,0),\" \")","v":" "}]
[null,null,null,null,{"$f":"IFERROR(VLOOKUP(D7617,Códigos!B:C,2,0),\" \")","v":" "}]
[null,null,null,null,{"$f":"IFERROR(VLOOKUP(D7618,Códigos!B:C,2,0),\" \")","v":" "}]
[null,null,null,null,{"$f":"IFERROR(VLOOKUP(D7619,Códigos!B:C,2,0),\" \")","v":" "}]
[null,null,null,null,{"$f":"IFERROR(VLOOKUP(D7620,Códigos!B:C,2,0),\" \")","v":" "}]
[null,null,null,null,{"$f":"IFERROR(VLOOKUP(D7621,Códigos!B:C,2,0),\" \")","v":" "}]
[null,null,null,null,{"$f":"IFERROR(VLOOKUP(D7622,Códigos!B:C,2,0),\" \")","v":" "}]
[null,null,null,null,{"$f":"IFERROR(VLOOKUP(D7623,Códigos!B:C,2,0),\" \")","v":" "}]
[null,null,null,null,{"$f":"IFERROR(VLOOKUP(D7624,Códigos!B:C,2,0),\" \")","v":" "}]
[null,null,null,null,{"$f":"IFERROR(VLOOKUP(D7625,Códigos!B:C,2,0),\" \")","v":" "}]
[null,null,null,null,{"$f":"IFERROR(VLOOKUP(D7626,Códigos!B:C,2,0),\" \")","v":" "}]
[null,null,null,null,{"$f":"IFERROR(VLOOKUP(D7627,Códigos!B:C,2,0),\" \")","v":" "}]
[null,null,null,null,{"$f":"IFERROR(VLOOKUP(D7628,Códigos!B:C,2,0),\" \")","v":" "}]
[null,null,null,null,{"$f":"IFERROR(VLOOKUP(D7629,Códigos!B:C,2,0),\" \")","v":" "}]
[null,null,null,null,{"$f":"IFERROR(VLOOKUP(D7630,Códigos!B:C,2,0),\" \")","v":" "}]
[null,null,null,null,{"$f":"IFERROR(VLOOKUP(D7631,Códigos!B:C,2,0),\" \")","v":" "}]
[null,null,null,null,{"$f":"IFERROR(VLOOKUP(D7632,Códigos!B:C,2,0),\" \")","v":" "}]
[null,null,null,null,{"$f":"IFERROR(VLOOKUP(D7633,Códigos!B:C,2,0),\" \")","v":" "}]
[null,null,null,null,{"$f":"IFERROR(VLOOKUP(D7634,Códigos!B:C,2,0),\" \")","v":" "}]
[null,null,null,null,{"$f":"IFERROR(VLOOKUP(D7635,Códigos!B:C,2,0),\" \")","v":" "}]
[null,null,null,null,{"$f":"IFERROR(VLOOKUP(D7636,Códigos!B:C,2,0),\" \")","v":" "}]
[null,null,null,null,{"$f":"IFERROR(VLOOKUP(D7637,Códigos!B:C,2,0),\" \")","v":" "}]
[null,null,null,null,{"$f":"IFERROR(VLOOKUP(D7638,Códigos!B:C,2,0),\" \")","v":" "}]
[null,null,null,null,{"$f":"IFERROR(VLOOKUP(D7639,Códigos!B:C,2,0),\" \")","v":" "}]
[null,null,null,null,{"$f":"IFERROR(VLOOKUP(D7640,Códigos!B:C,2,0),\" \")","v":" "}]
[null,null,null,null,{"$f":"IFERROR(VLOOKUP(D7641,Códigos!B:C,2,0),\" \")","v":" "}]
[null,null,null,null,{"$f":"IFERROR(VLOOKUP(D7642,Códigos!B:C,2,0),\" \")","v":" "}]
[null,null,null,null,{"$f":"IFERROR(VLOOKUP(D7643,Códigos!B:C,2,0),\" \")","v":" "}]
[null,null,null,null,{"$f":"IFERROR(VLOOKUP(D7644,Códigos!B:C,2,0),\" \")","v":" "}]
[null,null,null,null,{"$f":"IFERROR(VLOOKUP(D7645,Códigos!B:C,2,0),\" \")","v":" "}]
[null,null,null,null,{"$f":"IFERROR(VLOOKUP(D7646,Códigos!B:C,2,0),\" \")","v":" "}]
[null,null,null,null,{"$f":"IFERROR(VLOOKUP(D7647,Códigos!B:C,2,0),\" \")","v":" "}]
[null,null,null,null,{"$f":"IFERROR(VLOOKUP(D7648,Códigos!B:C,2,0),\" \")","v":" "}]
[null,null,null,null,{"$f":"IFERROR(VLOOKUP(D7649,Códigos!B:C,2,0),\" \")","v":" "}]
[null,null,null,null,{"$f":"IFERROR(VLOOKUP(D7650,Códigos!B:C,2,0),\" \")","v":" "}]
[null,null,null,null,{"$f":"IFERROR(VLOOKUP(D7651,Códigos!B:C,2,0),\" \")","v":" "}]
[null,null,null,null,{"$f":"IFERROR(VLOOKUP(D7652,Códigos!B:C,2,0),\" \")","v":" "}]
[null,null,null,null,{"$f":"IFERROR(VLOOKUP(D7653,Códigos!B:C,2,0),\" \")","v":" "}]
[null,null,null,null,{"$f":"IFERROR(VLOOKUP(D7654,Códigos!B:C,2,0),\" \")","v":" "}]
[null,null,null,null,{"$f":"IFERROR(VLOOKUP(D7655,Códigos!B:C,2,0),\" \")","v":" "}]
[null,null,null,null,{"$f":"IFERROR(VLOOKUP(D7656,Códigos!B:C,2,0),\" \")","v":" "}]
[null,null,null,null,{"$f":"IFERROR(VLOOKUP(D7657,Códigos!B:C,2,0),\" \")","v":" "}]
[null,null,null,null,{"$f":"IFERROR(VLOOKUP(D7658,Códigos!B:C,2,0),\" \")","v":" "}]
[null,null,null,null,{"$f":"IFERROR(VLOOKUP(D7659,Códigos!B:C,2,0),\" \")","v":" "}]
[null,null,null,null,{"$f":"IFERROR(VLOOKUP(D7660,Códigos!B:C,2,0),\" \")","v":" "}]
[null,null,null,null,{"$f":"IFERROR(VLOOKUP(D7661,Códigos!B:C,2,0),\" \")","v":" "}]
[null,null,null,null,{"$f":"IFERROR(VLOOKUP(D7662,Códigos!B:C,2,0),\" \")","v":" "}]
[null,null,null,null,{"$f":"IFERROR(VLOOKUP(D7663,Códigos!B:C,2,0),\" \")","v":" "}]
[null,null,null,null,{"$f":"IFERROR(VLOOKUP(D7664,Códigos!B:C,2,0),\" \")","v":" "}]
[null,null,null,null,{"$f":"IFERROR(VLOOKUP(D7665,Códigos!B:C,2,0),\" \")","v":" "}]
[null,null,null,null,{"$f":"IFERROR(VLOOKUP(D7666,Códigos!B:C,2,0),\" \")","v":" "}]
[null,null,null,null,{"$f":"IFERROR(VLOOKUP(D7667,Códigos!B:C,2,0),\" \")","v":" "}]
[null,null,null,null,{"$f":"IFERROR(VLOOKUP(D7668,Códigos!B:C,2,0),\" \")","v":" "}]
[null,null,null,null,{"$f":"IFERROR(VLOOKUP(D7669,Códigos!B:C,2,0),\" \")","v":" "}]
[null,null,null,null,{"$f":"IFERROR(VLOOKUP(D7670,Códigos!B:C,2,0),\" \")","v":" "}]
[null,null,null,null,{"$f":"IFERROR(VLOOKUP(D7671,Códigos!B:C,2,0),\" \")","v":" "}]
[null,null,null,null,{"$f":"IFERROR(VLOOKUP(D7672,Códigos!B:C,2,0),\" \")","v":" "}]
[null,null,null,null,{"$f":"IFERROR(VLOOKUP(D7673,Códigos!B:C,2,0),\" \")","v":" "}]
[null,null,null,null,{"$f":"IFERROR(VLOOKUP(D7674,Códigos!B:C,2,0),\" \")","v":" "}]
[null,null,null,null,{"$f":"IFERROR(VLOOKUP(D7675,Códigos!B:C,2,0),\" \")","v":" "}]
[null,null,null,null,{"$f":"IFERROR(VLOOKUP(D7676,Códigos!B:C,2,0),\" \")","v":" "}]
[null,null,null,null,{"$f":"IFERROR(VLOOKUP(D7677,Códigos!B:C,2,0),\" \")","v":" "}]
[null,null,null,null,{"$f":"IFERROR(VLOOKUP(D7678,Códigos!B:C,2,0),\" \")","v":" "}]
[null,null,null,null,{"$f":"IFERROR(VLOOKUP(D7679,Códigos!B:C,2,0),\" \")","v":" "}]
[null,null,null,null,{"$f":"IFERROR(VLOOKUP(D7680,Códigos!B:C,2,0),\" \")","v":" "}]
[null,null,null,null,{"$f":"IFERROR(VLOOKUP(D7681,Códigos!B:C,2,0),\" \")","v":" "}]
[null,null,null,null,{"$f":"IFERROR(VLOOKUP(D7682,Códigos!B:C,2,0),\" \")","v":" "}]
[null,null,null,null,{"$f":"IFERROR(VLOOKUP(D7683,Códigos!B:C,2,0),\" \")","v":" "}]
[null,null,null,null,{"$f":"IFERROR(VLOOKUP(D7684,Códigos!B:C,2,0),\" \")","v":" "}]
[null,null,null,null,{"$f":"IFERROR(VLOOKUP(D7685,Códigos!B:C,2,0),\" \")","v":" "}]
[null,null,null,null,{"$f":"IFERROR(VLOOKUP(D7686,Códigos!B:C,2,0),\" \")","v":" "}]
[null,null,null,null,{"$f":"IFERROR(VLOOKUP(D7687,Códigos!B:C,2,0),\" \")","v":" "}]
[null,null,null,null,{"$f":"IFERROR(VLOOKUP(D7688,Códigos!B:C,2,0),\" \")","v":" "}]
[null,null,null,null,{"$f":"IFERROR(VLOOKUP(D7689,Códigos!B:C,2,0),\" \")","v":" "}]
[null,null,null,null,{"$f":"IFERROR(VLOOKUP(D7690,Códigos!B:C,2,0),\" \")","v":" "}]
[null,null,null,null,{"$f":"IFERROR(VLOOKUP(D7691,Códigos!B:C,2,0),\" \")","v":" "}]
[null,null,null,null,{"$f":"IFERROR(VLOOKUP(D7692,Códigos!B:C,2,0),\" \")","v":" "}]
[null,null,null,null,{"$f":"IFERROR(VLOOKUP(D7693,Códigos!B:C,2,0),\" \")","v":" "}]
[null,null,null,null,{"$f":"IFERROR(VLOOKUP(D7694,Códigos!B:C,2,0),\" \")","v":" "}]
[null,null,null,null,{"$f":"IFERROR(VLOOKUP(D7695,Códigos!B:C,2,0),\" \")","v":" "}]
[null,null,null,null,{"$f":"IFERROR(VLOOKUP(D7696,Códigos!B:C,2,0),\" \")","v":" "}]
[null,null,null,null,{"$f":"IFERROR(VLOOKUP(D7697,Códigos!B:C,2,0),\" \")","v":" "}]
[null,null,null,null,{"$f":"IFERROR(VLOOKUP(D7698,Códigos!B:C,2,0),\" \")","v":" "}]
[null,null,null,null,{"$f":"IFERROR(VLOOKUP(D7699,Códigos!B:C,2,0),\" \")","v":" "}]
[null,null,null,null,{"$f":"IFERROR(VLOOKUP(D7700,Códigos!B:C,2,0),\" \")","v":" "}]
[null,null,null,null,{"$f":"IFERROR(VLOOKUP(D7701,Códigos!B:C,2,0),\" \")","v":" "}]
[null,null,null,null,{"$f":"IFERROR(VLOOKUP(D7702,Códigos!B:C,2,0),\" \")","v":" "}]
[null,null,null,null,{"$f":"IFERROR(VLOOKUP(D7703,Códigos!B:C,2,0),\" \")","v":" "}]
[null,null,null,null,{"$f":"IFERROR(VLOOKUP(D7704,Códigos!B:C,2,0),\" \")","v":" "}]
[null,null,null,null,{"$f":"IFERROR(VLOOKUP(D7705,Códigos!B:C,2,0),\" \")","v":" "}]
[null,null,null,null,{"$f":"IFERROR(VLOOKUP(D7706,Códigos!B:C,2,0),\" \")","v":" "}]
[null,null,null,null,{"$f":"IFERROR(VLOOKUP(D7707,Códigos!B:C,2,0),\" \")","v":" "}]
[null,null,null,null,{"$f":"IFERROR(VLOOKUP(D7708,Códigos!B:C,2,0),\" \")","v":" "}]
[null,null,null,null,{"$f":"IFERROR(VLOOKUP(D7709,Códigos!B:C,2,0),\" \")","v":" "}]
[null,null,null,null,{"$f":"IFERROR(VLOOKUP(D7710,Códigos!B:C,2,0),\" \")","v":" "}]
[null,null,null,null,{"$f":"IFERROR(VLOOKUP(D7711,Códigos!B:C,2,0),\" \")","v":" "}]
[null,null,null,null,{"$f":"IFERROR(VLOOKUP(D7712,Códigos!B:C,2,0),\" \")","v":" "}]
[null,null,null,null,{"$f":"IFERROR(VLOOKUP(D7713,Códigos!B:C,2,0),\" \")","v":" "}]
[null,null,null,null,{"$f":"IFERROR(VLOOKUP(D7714,Códigos!B:C,2,0),\" \")","v":" "}]
[null,null,null,null,{"$f":"IFERROR(VLOOKUP(D7715,Códigos!B:C,2,0),\" \")","v":" "}]
[null,null,null,null,{"$f":"IFERROR(VLOOKUP(D7716,Códigos!B:C,2,0),\" \")","v":" "}]
[null,null,null,null,{"$f":"IFERROR(VLOOKUP(D7717,Códigos!B:C,2,0),\" \")","v":" "}]
[null,null,null,null,{"$f":"IFERROR(VLOOKUP(D7718,Códigos!B:C,2,0),\" \")","v":" "}]
[null,null,null,null,{"$f":"IFERROR(VLOOKUP(D7719,Códigos!B:C,2,0),\" \")","v":" "}]
[null,null,null,null,{"$f":"IFERROR(VLOOKUP(D7720,Códigos!B:C,2,0),\" \")","v":" "}]
[null,null,null,null,{"$f":"IFERROR(VLOOKUP(D7721,Códigos!B:C,2,0),\" \")","v":" "}]
[null,null,null,null,{"$f":"IFERROR(VLOOKUP(D7722,Códigos!B:C,2,0),\" \")","v":" "}]
[null,null,null,null,{"$f":"IFERROR(VLOOKUP(D7723,Códigos!B:C,2,0),\" \")","v":" "}]
[null,null,null,null,{"$f":"IFERROR(VLOOKUP(D7724,Códigos!B:C,2,0),\" \")","v":" "}]
[null,null,null,null,{"$f":"IFERROR(VLOOKUP(D7725,Códigos!B:C,2,0),\" \")","v":" "}]
[null,null,null,null,{"$f":"IFERROR(VLOOKUP(D7726,Códigos!B:C,2,0),\" \")","v":" "}]
[null,null,null,null,{"$f":"IFERROR(VLOOKUP(D7727,Códigos!B:C,2,0),\" \")","v":" "}]
[null,null,null,null,{"$f":"IFERROR(VLOOKUP(D7728,Códigos!B:C,2,0),\" \")","v":" "}]
[null,null,null,null,{"$f":"IFERROR(VLOOKUP(D7729,Códigos!B:C,2,0),\" \")","v":" "}]
[null,null,null,null,{"$f":"IFERROR(VLOOKUP(D7730,Códigos!B:C,2,0),\" \")","v":" "}]
[null,null,null,null,{"$f":"IFERROR(VLOOKUP(D7731,Códigos!B:C,2,0),\" \")","v":" "}]
[null,null,null,null,{"$f":"IFERROR(VLOOKUP(D7732,Códigos!B:C,2,0),\" \")","v":" "}]
[null,null,null,null,{"$f":"IFERROR(VLOOKUP(D7733,Códigos!B:C,2,0),\" \")","v":" "}]
[null,null,null,null,{"$f":"IFERROR(VLOOKUP(D7734,Códigos!B:C,2,0),\" \")","v":" "}]
[null,null,null,null,{"$f":"IFERROR(VLOOKUP(D7735,Códigos!B:C,2,0),\" \")","v":" "}]
[null,null,null,null,{"$f":"IFERROR(VLOOKUP(D7736,Códigos!B:C,2,0),\" \")","v":" "}]
[null,null,null,null,{"$f":"IFERROR(VLOOKUP(D7737,Códigos!B:C,2,0),\" \")","v":" "}]
[null,null,null,null,{"$f":"IFERROR(VLOOKUP(D7738,Códigos!B:C,2,0),\" \")","v":" "}]
[null,null,null,null,{"$f":"IFERROR(VLOOKUP(D7739,Códigos!B:C,2,0),\" \")","v":" "}]
[null,null,null,null,{"$f":"IFERROR(VLOOKUP(D7740,Códigos!B:C,2,0),\" \")","v":" "}]
[null,null,null,null,{"$f":"IFERROR(VLOOKUP(D7741,Códigos!B:C,2,0),\" \")","v":" "}]
[null,null,null,null,{"$f":"IFERROR(VLOOKUP(D7742,Códigos!B:C,2,0),\" \")","v":" "}]
[null,null,null,null,{"$f":"IFERROR(VLOOKUP(D7743,Códigos!B:C,2,0),\" \")","v":" "}]
[null,null,null,null,{"$f":"IFERROR(VLOOKUP(D7744,Códigos!B:C,2,0),\" \")","v":" "}]
[null,null,null,null,{"$f":"IFERROR(VLOOKUP(D7745,Códigos!B:C,2,0),\" \")","v":" "}]
[null,null,null,null,{"$f":"IFERROR(VLOOKUP(D7746,Códigos!B:C,2,0),\" \")","v":" "}]
[null,null,null,null,{"$f":"IFERROR(VLOOKUP(D7747,Códigos!B:C,2,0),\" \")","v":" "}]
[null,null,null,null,{"$f":"IFERROR(VLOOKUP(D7748,Códigos!B:C,2,0),\" \")","v":" "}]
[null,null,null,null,{"$f":"IFERROR(VLOOKUP(D7749,Códigos!B:C,2,0),\" \")","v":" "}]
[null,null,null,null,{"$f":"IFERROR(VLOOKUP(D7750,Códigos!B:C,2,0),\" \")","v":" "}]
[null,null,null,null,{"$f":"IFERROR(VLOOKUP(D7751,Códigos!B:C,2,0),\" \")","v":" "}]
[null,null,null,null,{"$f":"IFERROR(VLOOKUP(D7752,Códigos!B:C,2,0),\" \")","v":" "}]
[null,null,null,null,{"$f":"IFERROR(VLOOKUP(D7753,Códigos!B:C,2,0),\" \")","v":" "}]
[null,null,null,null,{"$f":"IFERROR(VLOOKUP(D7754,Códigos!B:C,2,0),\" \")","v":" "}]
[null,null,null,null,{"$f":"IFERROR(VLOOKUP(D7755,Códigos!B:C,2,0),\" \")","v":" "}]
[null,null,null,null,{"$f":"IFERROR(VLOOKUP(D7756,Códigos!B:C,2,0),\" \")","v":" "}]
[null,null,null,null,{"$f":"IFERROR(VLOOKUP(D7757,Códigos!B:C,2,0),\" \")","v":" "}]
[null,null,null,null,{"$f":"IFERROR(VLOOKUP(D7758,Códigos!B:C,2,0),\" \")","v":" "}]
[null,null,null,null,{"$f":"IFERROR(VLOOKUP(D7759,Códigos!B:C,2,0),\" \")","v":" "}]
[null,null,null,null,{"$f":"IFERROR(VLOOKUP(D7760,Códigos!B:C,2,0),\" \")","v":" "}]
[null,null,null,null,{"$f":"IFERROR(VLOOKUP(D7761,Códigos!B:C,2,0),\" \")","v":" "}]
[null,null,null,null,{"$f":"IFERROR(VLOOKUP(D7762,Códigos!B:C,2,0),\" \")","v":" "}]
[null,null,null,null,{"$f":"IFERROR(VLOOKUP(D7763,Códigos!B:C,2,0),\" \")","v":" "}]
[null,null,null,null,{"$f":"IFERROR(VLOOKUP(D7764,Códigos!B:C,2,0),\" \")","v":" "}]
[null,null,null,null,{"$f":"IFERROR(VLOOKUP(D7765,Códigos!B:C,2,0),\" \")","v":" "}]
[null,null,null,null,{"$f":"IFERROR(VLOOKUP(D7766,Códigos!B:C,2,0),\" \")","v":" "}]
[null,null,null,null,{"$f":"IFERROR(VLOOKUP(D7767,Códigos!B:C,2,0),\" \")","v":" "}]
[null,null,null,null,{"$f":"IFERROR(VLOOKUP(D7768,Códigos!B:C,2,0),\" \")","v":" "}]
[null,null,null,null,{"$f":"IFERROR(VLOOKUP(D7769,Códigos!B:C,2,0),\" \")","v":" "}]
[null,null,null,null,{"$f":"IFERROR(VLOOKUP(D7770,Códigos!B:C,2,0),\" \")","v":" "}]
[null,null,null,null,{"$f":"IFERROR(VLOOKUP(D7771,Códigos!B:C,2,0),\" \")","v":" "}]
[null,null,null,null,{"$f":"IFERROR(VLOOKUP(D7772,Códigos!B:C,2,0),\" \")","v":" "}]
[null,null,null,null,{"$f":"IFERROR(VLOOKUP(D7773,Códigos!B:C,2,0),\" \")","v":" "}]
[null,null,null,null,{"$f":"IFERROR(VLOOKUP(D7774,Códigos!B:C,2,0),\" \")","v":" "}]
[null,null,null,null,{"$f":"IFERROR(VLOOKUP(D7775,Códigos!B:C,2,0),\" \")","v":" "}]
[null,null,null,null,{"$f":"IFERROR(VLOOKUP(D7776,Códigos!B:C,2,0),\" \")","v":" "}]
[null,null,null,null,{"$f":"IFERROR(VLOOKUP(D7777,Códigos!B:C,2,0),\" \")","v":" "}]
[null,null,null,null,{"$f":"IFERROR(VLOOKUP(D7778,Códigos!B:C,2,0),\" \")","v":" "}]
[null,null,null,null,{"$f":"IFERROR(VLOOKUP(D7779,Códigos!B:C,2,0),\" \")","v":" "}]
[null,null,null,null,{"$f":"IFERROR(VLOOKUP(D7780,Códigos!B:C,2,0),\" \")","v":" "}]
[null,null,null,null,{"$f":"IFERROR(VLOOKUP(D7781,Códigos!B:C,2,0),\" \")","v":" "}]
[null,null,null,null,{"$f":"IFERROR(VLOOKUP(D7782,Códigos!B:C,2,0),\" \")","v":" "}]
[null,null,null,null,{"$f":"IFERROR(VLOOKUP(D7783,Códigos!B:C,2,0),\" \")","v":" "}]
[null,null,null,null,{"$f":"IFERROR(VLOOKUP(D7784,Códigos!B:C,2,0),\" \")","v":" "}]
[null,null,null,null,{"$f":"IFERROR(VLOOKUP(D7785,Códigos!B:C,2,0),\" \")","v":" "}]
[null,null,null,null,{"$f":"IFERROR(VLOOKUP(D7786,Códigos!B:C,2,0),\" \")","v":" "}]
[null,null,null,null,{"$f":"IFERROR(VLOOKUP(D7787,Códigos!B:C,2,0),\" \")","v":" "}]
[null,null,null,null,{"$f":"IFERROR(VLOOKUP(D7788,Códigos!B:C,2,0),\" \")","v":" "}]
[null,null,null,null,{"$f":"IFERROR(VLOOKUP(D7789,Códigos!B:C,2,0),\" \")","v":" "}]
[null,null,null,null,{"$f":"IFERROR(VLOOKUP(D7790,Códigos!B:C,2,0),\" \")","v":" "}]
[null,null,null,null,{"$f":"IFERROR(VLOOKUP(D7791,Códigos!B:C,2,0),\" \")","v":" "}]
[null,null,null,null,{"$f":"IFERROR(VLOOKUP(D7792,Códigos!B:C,2,0),\" \")","v":" "}]
[null,null,null,null,{"$f":"IFERROR(VLOOKUP(D7793,Códigos!B:C,2,0),\" \")","v":" "}]
[null,null,null,null,{"$f":"IFERROR(VLOOKUP(D7794,Códigos!B:C,2,0),\" \")","v":" "}]
[null,null,null,null,{"$f":"IFERROR(VLOOKUP(D7795,Códigos!B:C,2,0),\" \")","v":" "}]
[null,null,null,null,{"$f":"IFERROR(VLOOKUP(D7796,Códigos!B:C,2,0),\" \")","v":" "}]
[null,null,null,null,{"$f":"IFERROR(VLOOKUP(D7797,Códigos!B:C,2,0),\" \")","v":" "}]
[null,null,null,null,{"$f":"IFERROR(VLOOKUP(D7798,Códigos!B:C,2,0),\" \")","v":" "}]
[null,null,null,null,{"$f":"IFERROR(VLOOKUP(D7799,Códigos!B:C,2,0),\" \")","v":" "}]
[null,null,null,null,{"$f":"IFERROR(VLOOKUP(D7800,Códigos!B:C,2,0),\" \")","v":" "}]
[null,null,null,null,{"$f":"IFERROR(VLOOKUP(D7801,Códigos!B:C,2,0),\" \")","v":" "}]
[null,null,null,null,{"$f":"IFERROR(VLOOKUP(D7802,Códigos!B:C,2,0),\" \")","v":" "}]
[null,null,null,null,{"$f":"IFERROR(VLOOKUP(D7803,Códigos!B:C,2,0),\" \")","v":" "}]
[null,null,null,null,{"$f":"IFERROR(VLOOKUP(D7804,Códigos!B:C,2,0),\" \")","v":" "}]
[null,null,null,null,{"$f":"IFERROR(VLOOKUP(D7805,Códigos!B:C,2,0),\" \")","v":" "}]
[null,null,null,null,{"$f":"IFERROR(VLOOKUP(D7806,Códigos!B:C,2,0),\" \")","v":" "}]
[null,null,null,null,{"$f":"IFERROR(VLOOKUP(D7807,Códigos!B:C,2,0),\" \")","v":" "}]
[null,null,null,null,{"$f":"IFERROR(VLOOKUP(D7808,Códigos!B:C,2,0),\" \")","v":" "}]
[null,null,null,null,{"$f":"IFERROR(VLOOKUP(D7809,Códigos!B:C,2,0),\" \")","v":" "}]
[null,null,null,null,{"$f":"IFERROR(VLOOKUP(D7810,Códigos!B:C,2,0),\" \")","v":" "}]
[null,null,null,null,{"$f":"IFERROR(VLOOKUP(D7811,Códigos!B:C,2,0),\" \")","v":" "}]
[null,null,null,null,{"$f":"IFERROR(VLOOKUP(D7812,Códigos!B:C,2,0),\" \")","v":" "}]
[null,null,null,null,{"$f":"IFERROR(VLOOKUP(D7813,Códigos!B:C,2,0),\" \")","v":" "}]
[null,null,null,null,{"$f":"IFERROR(VLOOKUP(D7814,Códigos!B:C,2,0),\" \")","v":" "}]
[null,null,null,null,{"$f":"IFERROR(VLOOKUP(D7815,Códigos!B:C,2,0),\" \")","v":" "}]
[null,null,null,null,{"$f":"IFERROR(VLOOKUP(D7816,Códigos!B:C,2,0),\" \")","v":" "}]
[null,null,null,null,{"$f":"IFERROR(VLOOKUP(D7817,Códigos!B:C,2,0),\" \")","v":" "}]
[null,null,null,null,{"$f":"IFERROR(VLOOKUP(D7818,Códigos!B:C,2,0),\" \")","v":" "}]
[null,null,null,null,{"$f":"IFERROR(VLOOKUP(D7819,Códigos!B:C,2,0),\" \")","v":" "}]
[null,null,null,null,{"$f":"IFERROR(VLOOKUP(D7820,Códigos!B:C,2,0),\" \")","v":" "}]
[null,null,null,null,{"$f":"IFERROR(VLOOKUP(D7821,Códigos!B:C,2,0),\" \")","v":" "}]
[null,null,null,null,{"$f":"IFERROR(VLOOKUP(D7822,Códigos!B:C,2,0),\" \")","v":" "}]
[null,null,null,null,{"$f":"IFERROR(VLOOKUP(D7823,Códigos!B:C,2,0),\" \")","v":" "}]
[null,null,null,null,{"$f":"IFERROR(VLOOKUP(D7824,Códigos!B:C,2,0),\" \")","v":" "}]
[null,null,null,null,{"$f":"IFERROR(VLOOKUP(D7825,Códigos!B:C,2,0),\" \")","v":" "}]
[null,null,null,null,{"$f":"IFERROR(VLOOKUP(D7826,Códigos!B:C,2,0),\" \")","v":" "}]
[null,null,null,null,{"$f":"IFERROR(VLOOKUP(D7827,Códigos!B:C,2,0),\" \")","v":" "}]
[null,null,null,null,{"$f":"IFERROR(VLOOKUP(D7828,Códigos!B:C,2,0),\" \")","v":" "}]
[null,null,null,null,{"$f":"IFERROR(VLOOKUP(D7829,Códigos!B:C,2,0),\" \")","v":" "}]
[null,null,null,null,{"$f":"IFERROR(VLOOKUP(D7830,Códigos!B:C,2,0),\" \")","v":" "}]
[null,null,null,null,{"$f":"IFERROR(VLOOKUP(D7831,Códigos!B:C,2,0),\" \")","v":" "}]
[null,null,null,null,{"$f":"IFERROR(VLOOKUP(D7832,Códigos!B:C,2,0),\" \")","v":" "}]
[null,null,null,null,{"$f":"IFERROR(VLOOKUP(D7833,Códigos!B:C,2,0),\" \")","v":" "}]
[null,null,null,null,{"$f":"IFERROR(VLOOKUP(D7834,Códigos!B:C,2,0),\" \")","v":" "}]
[null,null,null,null,{"$f":"IFERROR(VLOOKUP(D7835,Códigos!B:C,2,0),\" \")","v":" "}]
[null,null,null,null,{"$f":"IFERROR(VLOOKUP(D7836,Códigos!B:C,2,0),\" \")","v":" "}]
[null,null,null,null,{"$f":"IFERROR(VLOOKUP(D7837,Códigos!B:C,2,0),\" \")","v":" "}]
[null,null,null,null,{"$f":"IFERROR(VLOOKUP(D7838,Códigos!B:C,2,0),\" \")","v":" "}]
[null,null,null,null,{"$f":"IFERROR(VLOOKUP(D7839,Códigos!B:C,2,0),\" \")","v":" "}]
[null,null,null,null,{"$f":"IFERROR(VLOOKUP(D7840,Códigos!B:C,2,0),\" \")","v":" "}]
[null,null,null,null,{"$f":"IFERROR(VLOOKUP(D7841,Códigos!B:C,2,0),\" \")","v":" "}]
[null,null,null,null,{"$f":"IFERROR(VLOOKUP(D7842,Códigos!B:C,2,0),\" \")","v":" "}]
[null,null,null,null,{"$f":"IFERROR(VLOOKUP(D7843,Códigos!B:C,2,0),\" \")","v":" "}]
[null,null,null,null,{"$f":"IFERROR(VLOOKUP(D7844,Códigos!B:C,2,0),\" \")","v":" "}]
[null,null,null,null,{"$f":"IFERROR(VLOOKUP(D7845,Códigos!B:C,2,0),\" \")","v":" "}]
[null,null,null,null,{"$f":"IFERROR(VLOOKUP(D7846,Códigos!B:C,2,0),\" \")","v":" "}]
[null,null,null,null,{"$f":"IFERROR(VLOOKUP(D7847,Códigos!B:C,2,0),\" \")","v":" "}]
[null,null,null,null,{"$f":"IFERROR(VLOOKUP(D7848,Códigos!B:C,2,0),\" \")","v":" "}]
[null,null,null,null,{"$f":"IFERROR(VLOOKUP(D7849,Códigos!B:C,2,0),\" \")","v":" "}]
[null,null,null,null,{"$f":"IFERROR(VLOOKUP(D7850,Códigos!B:C,2,0),\" \")","v":" "}]
[null,null,null,null,{"$f":"IFERROR(VLOOKUP(D7851,Códigos!B:C,2,0),\" \")","v":" "}]
[null,null,null,null,{"$f":"IFERROR(VLOOKUP(D7852,Códigos!B:C,2,0),\" \")","v":" "}]
[null,null,null,null,{"$f":"IFERROR(VLOOKUP(D7853,Códigos!B:C,2,0),\" \")","v":" "}]
[null,null,null,null,{"$f":"IFERROR(VLOOKUP(D7854,Códigos!B:C,2,0),\" \")","v":" "}]
[null,null,null,null,{"$f":"IFERROR(VLOOKUP(D7855,Códigos!B:C,2,0),\" \")","v":" "}]
[null,null,null,null,{"$f":"IFERROR(VLOOKUP(D7856,Códigos!B:C,2,0),\" \")","v":" "}]
[null,null,null,null,{"$f":"IFERROR(VLOOKUP(D7857,Códigos!B:C,2,0),\" \")","v":" "}]
[null,null,null,null,{"$f":"IFERROR(VLOOKUP(D7858,Códigos!B:C,2,0),\" \")","v":" "}]
[null,null,null,null,{"$f":"IFERROR(VLOOKUP(D7859,Códigos!B:C,2,0),\" \")","v":" "}]
[null,null,null,null,{"$f":"IFERROR(VLOOKUP(D7860,Códigos!B:C,2,0),\" \")","v":" "}]
[null,null,null,null,{"$f":"IFERROR(VLOOKUP(D7861,Códigos!B:C,2,0),\" \")","v":" "}]
[null,null,null,null,{"$f":"IFERROR(VLOOKUP(D7862,Códigos!B:C,2,0),\" \")","v":" "}]
[null,null,null,null,{"$f":"IFERROR(VLOOKUP(D7863,Códigos!B:C,2,0),\" \")","v":" "}]
[null,null,null,null,{"$f":"IFERROR(VLOOKUP(D7864,Códigos!B:C,2,0),\" \")","v":" "}]
[null,null,null,null,{"$f":"IFERROR(VLOOKUP(D7865,Códigos!B:C,2,0),\" \")","v":" "}]
[null,null,null,null,{"$f":"IFERROR(VLOOKUP(D7866,Códigos!B:C,2,0),\" \")","v":" "}]
[null,null,null,null,{"$f":"IFERROR(VLOOKUP(D7867,Códigos!B:C,2,0),\" \")","v":" "}]
[null,null,null,null,{"$f":"IFERROR(VLOOKUP(D7868,Códigos!B:C,2,0),\" \")","v":" "}]
[null,null,null,null,{"$f":"IFERROR(VLOOKUP(D7869,Códigos!B:C,2,0),\" \")","v":" "}]
[null,null,null,null,{"$f":"IFERROR(VLOOKUP(D7870,Códigos!B:C,2,0),\" \")","v":" "}]
[null,null,null,null,{"$f":"IFERROR(VLOOKUP(D7871,Códigos!B:C,2,0),\" \")","v":" "}]
[null,null,null,null,{"$f":"IFERROR(VLOOKUP(D7872,Códigos!B:C,2,0),\" \")","v":" "}]
[null,null,null,null,{"$f":"IFERROR(VLOOKUP(D7873,Códigos!B:C,2,0),\" \")","v":" "}]
[null,null,null,null,{"$f":"IFERROR(VLOOKUP(D7874,Códigos!B:C,2,0),\" \")","v":" "}]
[null,null,null,null,{"$f":"IFERROR(VLOOKUP(D7875,Códigos!B:C,2,0),\" \")","v":" "}]
[null,null,null,null,{"$f":"IFERROR(VLOOKUP(D7876,Códigos!B:C,2,0),\" \")","v":" "}]
[null,null,null,null,{"$f":"IFERROR(VLOOKUP(D7877,Códigos!B:C,2,0),\" \")","v":" "}]
[null,null,null,null,{"$f":"IFERROR(VLOOKUP(D7878,Códigos!B:C,2,0),\" \")","v":" "}]
[null,null,null,null,{"$f":"IFERROR(VLOOKUP(D7879,Códigos!B:C,2,0),\" \")","v":" "}]
[null,null,null,null,{"$f":"IFERROR(VLOOKUP(D7880,Códigos!B:C,2,0),\" \")","v":" "}]
[null,null,null,null,{"$f":"IFERROR(VLOOKUP(D7881,Códigos!B:C,2,0),\" \")","v":" "}]
[null,null,null,null,{"$f":"IFERROR(VLOOKUP(D7882,Códigos!B:C,2,0),\" \")","v":" "}]
[null,null,null,null,{"$f":"IFERROR(VLOOKUP(D7883,Códigos!B:C,2,0),\" \")","v":" "}]
[null,null,null,null,{"$f":"IFERROR(VLOOKUP(D7884,Códigos!B:C,2,0),\" \")","v":" "}]
[null,null,null,null,{"$f":"IFERROR(VLOOKUP(D7885,Códigos!B:C,2,0),\" \")","v":" "}]
[null,null,null,null,{"$f":"IFERROR(VLOOKUP(D7886,Códigos!B:C,2,0),\" \")","v":" "}]
[null,null,null,null,{"$f":"IFERROR(VLOOKUP(D7887,Códigos!B:C,2,0),\" \")","v":" "}]
[null,null,null,null,{"$f":"IFERROR(VLOOKUP(D7888,Códigos!B:C,2,0),\" \")","v":" "}]
[null,null,null,null,{"$f":"IFERROR(VLOOKUP(D7889,Códigos!B:C,2,0),\" \")","v":" "}]
[null,null,null,null,{"$f":"IFERROR(VLOOKUP(D7890,Códigos!B:C,2,0),\" \")","v":" "}]
[null,null,null,null,{"$f":"IFERROR(VLOOKUP(D7891,Códigos!B:C,2,0),\" \")","v":" "}]
[null,null,null,null,{"$f":"IFERROR(VLOOKUP(D7892,Códigos!B:C,2,0),\" \")","v":" "}]
[null,null,null,null,{"$f":"IFERROR(VLOOKUP(D7893,Códigos!B:C,2,0),\" \")","v":" "}]
[null,null,null,null,{"$f":"IFERROR(VLOOKUP(D7894,Códigos!B:C,2,0),\" \")","v":" "}]
[null,null,null,null,{"$f":"IFERROR(VLOOKUP(D7895,Códigos!B:C,2,0),\" \")","v":" "}]
[null,null,null,null,{"$f":"IFERROR(VLOOKUP(D7896,Códigos!B:C,2,0),\" \")","v":" "}]
[null,null,null,null,{"$f":"IFERROR(VLOOKUP(D7897,Códigos!B:C,2,0),\" \")","v":" "}]
[null,null,null,null,{"$f":"IFERROR(VLOOKUP(D7898,Códigos!B:C,2,0),\" \")","v":" "}]
[null,null,null,null,{"$f":"IFERROR(VLOOKUP(D7899,Códigos!B:C,2,0),\" \")","v":" "}]
[null,null,null,null,{"$f":"IFERROR(VLOOKUP(D7900,Códigos!B:C,2,0),\" \")","v":" "}]
[null,null,null,null,{"$f":"IFERROR(VLOOKUP(D7901,Códigos!B:C,2,0),\" \")","v":" "}]
[null,null,null,null,{"$f":"IFERROR(VLOOKUP(D7902,Códigos!B:C,2,0),\" \")","v":" "}]
[null,null,null,null,{"$f":"IFERROR(VLOOKUP(D7903,Códigos!B:C,2,0),\" \")","v":" "}]
[null,null,null,null,{"$f":"IFERROR(VLOOKUP(D7904,Códigos!B:C,2,0),\" \")","v":" "}]
[null,null,null,null,{"$f":"IFERROR(VLOOKUP(D7905,Códigos!B:C,2,0),\" \")","v":" "}]
[null,null,null,null,{"$f":"IFERROR(VLOOKUP(D7906,Códigos!B:C,2,0),\" \")","v":" "}]
[null,null,null,null,{"$f":"IFERROR(VLOOKUP(D7907,Códigos!B:C,2,0),\" \")","v":" "}]
[null,null,null,null,{"$f":"IFERROR(VLOOKUP(D7908,Códigos!B:C,2,0),\" \")","v":" "}]
[null,null,null,null,{"$f":"IFERROR(VLOOKUP(D7909,Códigos!B:C,2,0),\" \")","v":" "}]
[null,null,null,null,{"$f":"IFERROR(VLOOKUP(D7910,Códigos!B:C,2,0),\" \")","v":" "}]
[null,null,null,null,{"$f":"IFERROR(VLOOKUP(D7911,Códigos!B:C,2,0),\" \")","v":" "}]
[null,null,null,null,{"$f":"IFERROR(VLOOKUP(D7912,Códigos!B:C,2,0),\" \")","v":" "}]
[null,null,null,null,{"$f":"IFERROR(VLOOKUP(D7913,Códigos!B:C,2,0),\" \")","v":" "}]
[null,null,null,null,{"$f":"IFERROR(VLOOKUP(D7914,Códigos!B:C,2,0),\" \")","v":" "}]
[null,null,null,null,{"$f":"IFERROR(VLOOKUP(D7915,Códigos!B:C,2,0),\" \")","v":" "}]
[null,null,null,null,{"$f":"IFERROR(VLOOKUP(D7916,Códigos!B:C,2,0),\" \")","v":" "}]
[null,null,null,null,{"$f":"IFERROR(VLOOKUP(D7917,Códigos!B:C,2,0),\" \")","v":" "}]
[null,null,null,null,{"$f":"IFERROR(VLOOKUP(D7918,Códigos!B:C,2,0),\" \")","v":" "}]
[null,null,null,null,{"$f":"IFERROR(VLOOKUP(D7919,Códigos!B:C,2,0),\" \")","v":" "}]
[null,null,null,null,{"$f":"IFERROR(VLOOKUP(D7920,Códigos!B:C,2,0),\" \")","v":" "}]
[null,null,null,null,{"$f":"IFERROR(VLOOKUP(D7921,Códigos!B:C,2,0),\" \")","v":" "}]
[null,null,null,null,{"$f":"IFERROR(VLOOKUP(D7922,Códigos!B:C,2,0),\" \")","v":" "}]
[null,null,null,null,{"$f":"IFERROR(VLOOKUP(D7923,Códigos!B:C,2,0),\" \")","v":" "}]
[null,null,null,null,{"$f":"IFERROR(VLOOKUP(D7924,Códigos!B:C,2,0),\" \")","v":" "}]
[null,null,null,null,{"$f":"IFERROR(VLOOKUP(D7925,Códigos!B:C,2,0),\" \")","v":" "}]
[null,null,null,null,{"$f":"IFERROR(VLOOKUP(D7926,Códigos!B:C,2,0),\" \")","v":" "}]
[null,null,null,null,{"$f":"IFERROR(VLOOKUP(D7927,Códigos!B:C,2,0),\" \")","v":" "}]
[null,null,null,null,{"$f":"IFERROR(VLOOKUP(D7928,Códigos!B:C,2,0),\" \")","v":" "}]
[null,null,null,null,{"$f":"IFERROR(VLOOKUP(D7929,Códigos!B:C,2,0),\" \")","v":" "}]
[null,null,null,null,{"$f":"IFERROR(VLOOKUP(D7930,Códigos!B:C,2,0),\" \")","v":" "}]
[null,null,null,null,{"$f":"IFERROR(VLOOKUP(D7931,Códigos!B:C,2,0),\" \")","v":" "}]
[null,null,null,null,{"$f":"IFERROR(VLOOKUP(D7932,Códigos!B:C,2,0),\" \")","v":" "}]
[null,null,null,null,{"$f":"IFERROR(VLOOKUP(D7933,Códigos!B:C,2,0),\" \")","v":" "}]
[null,null,null,null,{"$f":"IFERROR(VLOOKUP(D7934,Códigos!B:C,2,0),\" \")","v":" "}]
[null,null,null,null,{"$f":"IFERROR(VLOOKUP(D7935,Códigos!B:C,2,0),\" \")","v":" "}]
[null,null,null,null,{"$f":"IFERROR(VLOOKUP(D7936,Códigos!B:C,2,0),\" \")","v":" "}]
[null,null,null,null,{"$f":"IFERROR(VLOOKUP(D7937,Códigos!B:C,2,0),\" \")","v":" "}]
[null,null,null,null,{"$f":"IFERROR(VLOOKUP(D7938,Códigos!B:C,2,0),\" \")","v":" "}]
[null,null,null,null,{"$f":"IFERROR(VLOOKUP(D7939,Códigos!B:C,2,0),\" \")","v":" "}]
[null,null,null,null,{"$f":"IFERROR(VLOOKUP(D7940,Códigos!B:C,2,0),\" \")","v":" "}]
[null,null,null,null,{"$f":"IFERROR(VLOOKUP(D7941,Códigos!B:C,2,0),\" \")","v":" "}]
[null,null,null,null,{"$f":"IFERROR(VLOOKUP(D7942,Códigos!B:C,2,0),\" \")","v":" "}]
[null,null,null,null,{"$f":"IFERROR(VLOOKUP(D7943,Códigos!B:C,2,0),\" \")","v":" "}]
[null,null,null,null,{"$f":"IFERROR(VLOOKUP(D7944,Códigos!B:C,2,0),\" \")","v":" "}]
[null,null,null,null,{"$f":"IFERROR(VLOOKUP(D7945,Códigos!B:C,2,0),\" \")","v":" "}]
[null,null,null,null,{"$f":"IFERROR(VLOOKUP(D7946,Códigos!B:C,2,0),\" \")","v":" "}]
[null,null,null,null,{"$f":"IFERROR(VLOOKUP(D7947,Códigos!B:C,2,0),\" \")","v":" "}]
[null,null,null,null,{"$f":"IFERROR(VLOOKUP(D7948,Códigos!B:C,2,0),\" \")","v":" "}]
[null,null,null,null,{"$f":"IFERROR(VLOOKUP(D7949,Códigos!B:C,2,0),\" \")","v":" "}]
[null,null,null,null,{"$f":"IFERROR(VLOOKUP(D7950,Códigos!B:C,2,0),\" \")","v":" "}]
[null,null,null,null,{"$f":"IFERROR(VLOOKUP(D7951,Códigos!B:C,2,0),\" \")","v":" "}]
[null,null,null,null,{"$f":"IFERROR(VLOOKUP(D7952,Códigos!B:C,2,0),\" \")","v":" "}]
[null,null,null,null,{"$f":"IFERROR(VLOOKUP(D7953,Códigos!B:C,2,0),\" \")","v":" "}]
[null,null,null,null,{"$f":"IFERROR(VLOOKUP(D7954,Códigos!B:C,2,0),\" \")","v":" "}]
[null,null,null,null,{"$f":"IFERROR(VLOOKUP(D7955,Códigos!B:C,2,0),\" \")","v":" "}]
[null,null,null,null,{"$f":"IFERROR(VLOOKUP(D7956,Códigos!B:C,2,0),\" \")","v":" "}]
[null,null,null,null,{"$f":"IFERROR(VLOOKUP(D7957,Códigos!B:C,2,0),\" \")","v":" "}]
[null,null,null,null,{"$f":"IFERROR(VLOOKUP(D7958,Códigos!B:C,2,0),\" \")","v":" "}]
[null,null,null,null,{"$f":"IFERROR(VLOOKUP(D7959,Códigos!B:C,2,0),\" \")","v":" "}]
[null,null,null,null,{"$f":"IFERROR(VLOOKUP(D7960,Códigos!B:C,2,0),\" \")","v":" "}]
[null,null,null,null,{"$f":"IFERROR(VLOOKUP(D7961,Códigos!B:C,2,0),\" \")","v":" "}]
[null,null,null,null,{"$f":"IFERROR(VLOOKUP(D7962,Códigos!B:C,2,0),\" \")","v":" "}]
[null,null,null,null,{"$f":"IFERROR(VLOOKUP(D7963,Códigos!B:C,2,0),\" \")","v":" "}]
[null,null,null,null,{"$f":"IFERROR(VLOOKUP(D7964,Códigos!B:C,2,0),\" \")","v":" "}]
[null,null,null,null,{"$f":"IFERROR(VLOOKUP(D7965,Códigos!B:C,2,0),\" \")","v":" "}]
[null,null,null,null,{"$f":"IFERROR(VLOOKUP(D7966,Códigos!B:C,2,0),\" \")","v":" "}]
[null,null,null,null,{"$f":"IFERROR(VLOOKUP(D7967,Códigos!B:C,2,0),\" \")","v":" "}]
[null,null,null,null,{"$f":"IFERROR(VLOOKUP(D7968,Códigos!B:C,2,0),\" \")","v":" "}]
[null,null,null,null,{"$f":"IFERROR(VLOOKUP(D7969,Códigos!B:C,2,0),\" \")","v":" "}]
[null,null,null,null,{"$f":"IFERROR(VLOOKUP(D7970,Códigos!B:C,2,0),\" \")","v":" "}]
[null,null,null,null,{"$f":"IFERROR(VLOOKUP(D7971,Códigos!B:C,2,0),\" \")","v":" "}]
[null,null,null,null,{"$f":"IFERROR(VLOOKUP(D7972,Códigos!B:C,2,0),\" \")","v":" "}]
[null,null,null,null,{"$f":"IFERROR(VLOOKUP(D7973,Códigos!B:C,2,0),\" \")","v":" "}]
[null,null,null,null,{"$f":"IFERROR(VLOOKUP(D7974,Códigos!B:C,2,0),\" \")","v":" "}]
[null,null,null,null,{"$f":"IFERROR(VLOOKUP(D7975,Códigos!B:C,2,0),\" \")","v":" "}]
[null,null,null,null,{"$f":"IFERROR(VLOOKUP(D7976,Códigos!B:C,2,0),\" \")","v":" "}]
[null,null,null,null,{"$f":"IFERROR(VLOOKUP(D7977,Códigos!B:C,2,0),\" \")","v":" "}]
[null,null,null,null,{"$f":"IFERROR(VLOOKUP(D7978,Códigos!B:C,2,0),\" \")","v":" "}]
[null,null,null,null,{"$f":"IFERROR(VLOOKUP(D7979,Códigos!B:C,2,0),\" \")","v":" "}]
[null,null,null,null,{"$f":"IFERROR(VLOOKUP(D7980,Códigos!B:C,2,0),\" \")","v":" "}]
[null,null,null,null,{"$f":"IFERROR(VLOOKUP(D7981,Códigos!B:C,2,0),\" \")","v":" "}]
[null,null,null,null,{"$f":"IFERROR(VLOOKUP(D7982,Códigos!B:C,2,0),\" \")","v":" "}]
[null,null,null,null,{"$f":"IFERROR(VLOOKUP(D7983,Códigos!B:C,2,0),\" \")","v":" "}]
[null,null,null,null,{"$f":"IFERROR(VLOOKUP(D7984,Códigos!B:C,2,0),\" \")","v":" "}]
[null,null,null,null,{"$f":"IFERROR(VLOOKUP(D7985,Códigos!B:C,2,0),\" \")","v":" "}]
[null,null,null,null,{"$f":"IFERROR(VLOOKUP(D7986,Códigos!B:C,2,0),\" \")","v":" "}]
[null,null,null,null,{"$f":"IFERROR(VLOOKUP(D7987,Códigos!B:C,2,0),\" \")","v":" "}]
[null,null,null,null,{"$f":"IFERROR(VLOOKUP(D7988,Códigos!B:C,2,0),\" \")","v":" "}]
[null,null,null,null,{"$f":"IFERROR(VLOOKUP(D7989,Códigos!B:C,2,0),\" \")","v":" "}]
[null,null,null,null,{"$f":"IFERROR(VLOOKUP(D7990,Códigos!B:C,2,0),\" \")","v":" "}]
[null,null,null,null,{"$f":"IFERROR(VLOOKUP(D7991,Códigos!B:C,2,0),\" \")","v":" "}]
[null,null,null,null,{"$f":"IFERROR(VLOOKUP(D7992,Códigos!B:C,2,0),\" \")","v":" "}]
[null,null,null,null,{"$f":"IFERROR(VLOOKUP(D7993,Códigos!B:C,2,0),\" \")","v":" "}]
[null,null,null,null,{"$f":"IFERROR(VLOOKUP(D7994,Códigos!B:C,2,0),\" \")","v":" "}]
[null,null,null,null,{"$f":"IFERROR(VLOOKUP(D7995,Códigos!B:C,2,0),\" \")","v":" "}]
[null,null,null,null,{"$f":"IFERROR(VLOOKUP(D7996,Códigos!B:C,2,0),\" \")","v":" "}]
[null,null,null,null,{"$f":"IFERROR(VLOOKUP(D7997,Códigos!B:C,2,0),\" \")","v":" "}]
[null,null,null,null,{"$f":"IFERROR(VLOOKUP(D7998,Códigos!B:C,2,0),\" \")","v":" "}]
[null,null,null,null,{"$f":"IFERROR(VLOOKUP(D7999,Códigos!B:C,2,0),\" \")","v":" "}]
[null,null,null,null,{"$f":"IFERROR(VLOOKUP(D8000,Códigos!B:C,2,0),\" \")","v":" "}]
[null,null,null,null,{"$f":"IFERROR(VLOOKUP(D8001,Códigos!B:C,2,0),\" \")","v":" "}]
[null,null,null,null,{"$f":"IFERROR(VLOOKUP(D8002,Códigos!B:C,2,0),\" \")","v":" "}]
[null,null,null,null,{"$f":"IFERROR(VLOOKUP(D8003,Códigos!B:C,2,0),\" \")","v":" "}]
[null,null,null,null,{"$f":"IFERROR(VLOOKUP(D8004,Códigos!B:C,2,0),\" \")","v":" "}]
[null,null,null,null,{"$f":"IFERROR(VLOOKUP(D8005,Códigos!B:C,2,0),\" \")","v":" "}]
[null,null,null,null,{"$f":"IFERROR(VLOOKUP(D8006,Códigos!B:C,2,0),\" \")","v":" "}]
[null,null,null,null,{"$f":"IFERROR(VLOOKUP(D8007,Códigos!B:C,2,0),\" \")","v":" "}]
[null,null,null,null,{"$f":"IFERROR(VLOOKUP(D8008,Códigos!B:C,2,0),\" \")","v":" "}]
[null,null,null,null,{"$f":"IFERROR(VLOOKUP(D8009,Códigos!B:C,2,0),\" \")","v":" "}]
[null,null,null,null,{"$f":"IFERROR(VLOOKUP(D8010,Códigos!B:C,2,0),\" \")","v":" "}]
[null,null,null,null,{"$f":"IFERROR(VLOOKUP(D8011,Códigos!B:C,2,0),\" \")","v":" "}]
[null,null,null,null,{"$f":"IFERROR(VLOOKUP(D8012,Códigos!B:C,2,0),\" \")","v":" "}]
[null,null,null,null,{"$f":"IFERROR(VLOOKUP(D8013,Códigos!B:C,2,0),\" \")","v":" "}]
[null,null,null,null,{"$f":"IFERROR(VLOOKUP(D8014,Códigos!B:C,2,0),\" \")","v":" "}]
[null,null,null,null,{"$f":"IFERROR(VLOOKUP(D8015,Códigos!B:C,2,0),\" \")","v":" "}]
[null,null,null,null,{"$f":"IFERROR(VLOOKUP(D8016,Códigos!B:C,2,0),\" \")","v":" "}]
[null,null,null,null,{"$f":"IFERROR(VLOOKUP(D8017,Códigos!B:C,2,0),\" \")","v":" "}]
[null,null,null,null,{"$f":"IFERROR(VLOOKUP(D8018,Códigos!B:C,2,0),\" \")","v":" "}]
[null,null,null,null,{"$f":"IFERROR(VLOOKUP(D8019,Códigos!B:C,2,0),\" \")","v":" "}]
[null,null,null,null,{"$f":"IFERROR(VLOOKUP(D8020,Códigos!B:C,2,0),\" \")","v":" "}]
[null,null,null,null,{"$f":"IFERROR(VLOOKUP(D8021,Códigos!B:C,2,0),\" \")","v":" "}]
[null,null,null,null,{"$f":"IFERROR(VLOOKUP(D8022,Códigos!B:C,2,0),\" \")","v":" "}]
[null,null,null,null,{"$f":"IFERROR(VLOOKUP(D8023,Códigos!B:C,2,0),\" \")","v":" "}]
[null,null,null,null,{"$f":"IFERROR(VLOOKUP(D8024,Códigos!B:C,2,0),\" \")","v":" "}]
[null,null,null,null,{"$f":"IFERROR(VLOOKUP(D8025,Códigos!B:C,2,0),\" \")","v":" "}]
[null,null,null,null,{"$f":"IFERROR(VLOOKUP(D8026,Códigos!B:C,2,0),\" \")","v":" "}]
[null,null,null,null,{"$f":"IFERROR(VLOOKUP(D8027,Códigos!B:C,2,0),\" \")","v":" "}]
[null,null,null,null,{"$f":"IFERROR(VLOOKUP(D8028,Códigos!B:C,2,0),\" \")","v":" "}]
[null,null,null,null,{"$f":"IFERROR(VLOOKUP(D8029,Códigos!B:C,2,0),\" \")","v":" "}]
[null,null,null,null,{"$f":"IFERROR(VLOOKUP(D8030,Códigos!B:C,2,0),\" \")","v":" "}]
[null,null,null,null,{"$f":"IFERROR(VLOOKUP(D8031,Códigos!B:C,2,0),\" \")","v":" "}]
[null,null,null,null,{"$f":"IFERROR(VLOOKUP(D8032,Códigos!B:C,2,0),\" \")","v":" "}]
[null,null,null,null,{"$f":"IFERROR(VLOOKUP(D8033,Códigos!B:C,2,0),\" \")","v":" "}]
[null,null,null,null,{"$f":"IFERROR(VLOOKUP(D8034,Códigos!B:C,2,0),\" \")","v":" "}]
[null,null,null,null,{"$f":"IFERROR(VLOOKUP(D8035,Códigos!B:C,2,0),\" \")","v":" "}]
[null,null,null,null,{"$f":"IFERROR(VLOOKUP(D8036,Códigos!B:C,2,0),\" \")","v":" "}]
[null,null,null,null,{"$f":"IFERROR(VLOOKUP(D8037,Códigos!B:C,2,0),\" \")","v":" "}]
[null,null,null,null,{"$f":"IFERROR(VLOOKUP(D8038,Códigos!B:C,2,0),\" \")","v":" "}]
[null,null,null,null,{"$f":"IFERROR(VLOOKUP(D8039,Códigos!B:C,2,0),\" \")","v":" "}]
[null,null,null,null,{"$f":"IFERROR(VLOOKUP(D8040,Códigos!B:C,2,0),\" \")","v":" "}]
[null,null,null,null,{"$f":"IFERROR(VLOOKUP(D8041,Códigos!B:C,2,0),\" \")","v":" "}]
[null,null,null,null,{"$f":"IFERROR(VLOOKUP(D8042,Códigos!B:C,2,0),\" \")","v":" "}]
[null,null,null,null,{"$f":"IFERROR(VLOOKUP(D8043,Códigos!B:C,2,0),\" \")","v":" "}]
[null,null,null,null,{"$f":"IFERROR(VLOOKUP(D8044,Códigos!B:C,2,0),\" \")","v":" "}]
[null,null,null,null,{"$f":"IFERROR(VLOOKUP(D8045,Códigos!B:C,2,0),\" \")","v":" "}]
[null,null,null,null,{"$f":"IFERROR(VLOOKUP(D8046,Códigos!B:C,2,0),\" \")","v":" "}]
[null,null,null,null,{"$f":"IFERROR(VLOOKUP(D8047,Códigos!B:C,2,0),\" \")","v":" "}]
[null,null,null,null,{"$f":"IFERROR(VLOOKUP(D8048,Códigos!B:C,2,0),\" \")","v":" "}]
[null,null,null,null,{"$f":"IFERROR(VLOOKUP(D8049,Códigos!B:C,2,0),\" \")","v":" "}]
[null,null,null,null,{"$f":"IFERROR(VLOOKUP(D8050,Códigos!B:C,2,0),\" \")","v":" "}]
[null,null,null,null,{"$f":"IFERROR(VLOOKUP(D8051,Códigos!B:C,2,0),\" \")","v":" "}]
[null,null,null,null,{"$f":"IFERROR(VLOOKUP(D8052,Códigos!B:C,2,0),\" \")","v":" "}]
[null,null,null,null,{"$f":"IFERROR(VLOOKUP(D8053,Códigos!B:C,2,0),\" \")","v":" "}]
[null,null,null,null,{"$f":"IFERROR(VLOOKUP(D8054,Códigos!B:C,2,0),\" \")","v":" "}]
[null,null,null,null,{"$f":"IFERROR(VLOOKUP(D8055,Códigos!B:C,2,0),\" \")","v":" "}]
[null,null,null,null,{"$f":"IFERROR(VLOOKUP(D8056,Códigos!B:C,2,0),\" \")","v":" "}]
[null,null,null,null,{"$f":"IFERROR(VLOOKUP(D8057,Códigos!B:C,2,0),\" \")","v":" "}]
[null,null,null,null,{"$f":"IFERROR(VLOOKUP(D8058,Códigos!B:C,2,0),\" \")","v":" "}]
[null,null,null,null,{"$f":"IFERROR(VLOOKUP(D8059,Códigos!B:C,2,0),\" \")","v":" "}]
[null,null,null,null,{"$f":"IFERROR(VLOOKUP(D8060,Códigos!B:C,2,0),\" \")","v":" "}]
[null,null,null,null,{"$f":"IFERROR(VLOOKUP(D8061,Códigos!B:C,2,0),\" \")","v":" "}]
[null,null,null,null,{"$f":"IFERROR(VLOOKUP(D8062,Códigos!B:C,2,0),\" \")","v":" "}]
[null,null,null,null,{"$f":"IFERROR(VLOOKUP(D8063,Códigos!B:C,2,0),\" \")","v":" "}]
[null,null,null,null,{"$f":"IFERROR(VLOOKUP(D8064,Códigos!B:C,2,0),\" \")","v":" "}]
[null,null,null,null,{"$f":"IFERROR(VLOOKUP(D8065,Códigos!B:C,2,0),\" \")","v":" "}]
[null,null,null,null,{"$f":"IFERROR(VLOOKUP(D8066,Códigos!B:C,2,0),\" \")","v":" "}]
[null,null,null,null,{"$f":"IFERROR(VLOOKUP(D8067,Códigos!B:C,2,0),\" \")","v":" "}]
[null,null,null,null,{"$f":"IFERROR(VLOOKUP(D8068,Códigos!B:C,2,0),\" \")","v":" "}]
[null,null,null,null,{"$f":"IFERROR(VLOOKUP(D8069,Códigos!B:C,2,0),\" \")","v":" "}]
[null,null,null,null,{"$f":"IFERROR(VLOOKUP(D8070,Códigos!B:C,2,0),\" \")","v":" "}]
[null,null,null,null,{"$f":"IFERROR(VLOOKUP(D8071,Códigos!B:C,2,0),\" \")","v":" "}]
[null,null,null,null,{"$f":"IFERROR(VLOOKUP(D8072,Códigos!B:C,2,0),\" \")","v":" "}]
[null,null,null,null,{"$f":"IFERROR(VLOOKUP(D8073,Códigos!B:C,2,0),\" \")","v":" "}]
[null,null,null,null,{"$f":"IFERROR(VLOOKUP(D8074,Códigos!B:C,2,0),\" \")","v":" "}]
[null,null,null,null,{"$f":"IFERROR(VLOOKUP(D8075,Códigos!B:C,2,0),\" \")","v":" "}]
[null,null,null,null,{"$f":"IFERROR(VLOOKUP(D8076,Códigos!B:C,2,0),\" \")","v":" "}]
[null,null,null,null,{"$f":"IFERROR(VLOOKUP(D8077,Códigos!B:C,2,0),\" \")","v":" "}]
[null,null,null,null,{"$f":"IFERROR(VLOOKUP(D8078,Códigos!B:C,2,0),\" \")","v":" "}]
[null,null,null,null,{"$f":"IFERROR(VLOOKUP(D8079,Códigos!B:C,2,0),\" \")","v":" "}]
[null,null,null,null,{"$f":"IFERROR(VLOOKUP(D8080,Códigos!B:C,2,0),\" \")","v":" "}]
[null,null,null,null,{"$f":"IFERROR(VLOOKUP(D8081,Códigos!B:C,2,0),\" \")","v":" "}]
[null,null,null,null,{"$f":"IFERROR(VLOOKUP(D8082,Códigos!B:C,2,0),\" \")","v":" "}]
[null,null,null,null,{"$f":"IFERROR(VLOOKUP(D8083,Códigos!B:C,2,0),\" \")","v":" "}]
[null,null,null,null,{"$f":"IFERROR(VLOOKUP(D8084,Códigos!B:C,2,0),\" \")","v":" "}]
[null,null,null,null,{"$f":"IFERROR(VLOOKUP(D8085,Códigos!B:C,2,0),\" \")","v":" "}]
[null,null,null,null,{"$f":"IFERROR(VLOOKUP(D8086,Códigos!B:C,2,0),\" \")","v":" "}]
[null,null,null,null,{"$f":"IFERROR(VLOOKUP(D8087,Códigos!B:C,2,0),\" \")","v":" "}]
[null,null,null,null,{"$f":"IFERROR(VLOOKUP(D8088,Códigos!B:C,2,0),\" \")","v":" "}]
[null,null,null,null,{"$f":"IFERROR(VLOOKUP(D8089,Códigos!B:C,2,0),\" \")","v":" "}]
[null,null,null,null,{"$f":"IFERROR(VLOOKUP(D8090,Códigos!B:C,2,0),\" \")","v":" "}]
[null,null,null,null,{"$f":"IFERROR(VLOOKUP(D8091,Códigos!B:C,2,0),\" \")","v":" "}]
[null,null,null,null,{"$f":"IFERROR(VLOOKUP(D8092,Códigos!B:C,2,0),\" \")","v":" "}]
[null,null,null,null,{"$f":"IFERROR(VLOOKUP(D8093,Códigos!B:C,2,0),\" \")","v":" "}]
[null,null,null,null,{"$f":"IFERROR(VLOOKUP(D8094,Códigos!B:C,2,0),\" \")","v":" "}]
[null,null,null,null,{"$f":"IFERROR(VLOOKUP(D8095,Códigos!B:C,2,0),\" \")","v":" "}]
[null,null,null,null,{"$f":"IFERROR(VLOOKUP(D8096,Códigos!B:C,2,0),\" \")","v":" "}]
[null,null,null,null,{"$f":"IFERROR(VLOOKUP(D8097,Códigos!B:C,2,0),\" \")","v":" "}]
[null,null,null,null,{"$f":"IFERROR(VLOOKUP(D8098,Códigos!B:C,2,0),\" \")","v":" "}]
[null,null,null,null,{"$f":"IFERROR(VLOOKUP(D8099,Códigos!B:C,2,0),\" \")","v":" "}]
[null,null,null,null,{"$f":"IFERROR(VLOOKUP(D8100,Códigos!B:C,2,0),\" \")","v":" "}]
[null,null,null,null,{"$f":"IFERROR(VLOOKUP(D8101,Códigos!B:C,2,0),\" \")","v":" "}]
[null,null,null,null,{"$f":"IFERROR(VLOOKUP(D8102,Códigos!B:C,2,0),\" \")","v":" "}]
[null,null,null,null,{"$f":"IFERROR(VLOOKUP(D8103,Códigos!B:C,2,0),\" \")","v":" "}]
[null,null,null,null,{"$f":"IFERROR(VLOOKUP(D8104,Códigos!B:C,2,0),\" \")","v":" "}]
[null,null,null,null,{"$f":"IFERROR(VLOOKUP(D8105,Códigos!B:C,2,0),\" \")","v":" "}]
[null,null,null,null,{"$f":"IFERROR(VLOOKUP(D8106,Códigos!B:C,2,0),\" \")","v":" "}]
[null,null,null,null,{"$f":"IFERROR(VLOOKUP(D8107,Códigos!B:C,2,0),\" \")","v":" "}]
[null,null,null,null,{"$f":"IFERROR(VLOOKUP(D8108,Códigos!B:C,2,0),\" \")","v":" "}]
[null,null,null,null,{"$f":"IFERROR(VLOOKUP(D8109,Códigos!B:C,2,0),\" \")","v":" "}]
[null,null,null,null,{"$f":"IFERROR(VLOOKUP(D8110,Códigos!B:C,2,0),\" \")","v":" "}]
[null,null,null,null,{"$f":"IFERROR(VLOOKUP(D8111,Códigos!B:C,2,0),\" \")","v":" "}]
[null,null,null,null,{"$f":"IFERROR(VLOOKUP(D8112,Códigos!B:C,2,0),\" \")","v":" "}]
[null,null,null,null,{"$f":"IFERROR(VLOOKUP(D8113,Códigos!B:C,2,0),\" \")","v":" "}]
[null,null,null,null,{"$f":"IFERROR(VLOOKUP(D8114,Códigos!B:C,2,0),\" \")","v":" "}]
[null,null,null,null,{"$f":"IFERROR(VLOOKUP(D8115,Códigos!B:C,2,0),\" \")","v":" "}]
[null,null,null,null,{"$f":"IFERROR(VLOOKUP(D8116,Códigos!B:C,2,0),\" \")","v":" "}]
[null,null,null,null,{"$f":"IFERROR(VLOOKUP(D8117,Códigos!B:C,2,0),\" \")","v":" "}]
[null,null,null,null,{"$f":"IFERROR(VLOOKUP(D8118,Códigos!B:C,2,0),\" \")","v":" "}]
[null,null,null,null,{"$f":"IFERROR(VLOOKUP(D8119,Códigos!B:C,2,0),\" \")","v":" "}]
[null,null,null,null,{"$f":"IFERROR(VLOOKUP(D8120,Códigos!B:C,2,0),\" \")","v":" "}]
[null,null,null,null,{"$f":"IFERROR(VLOOKUP(D8121,Códigos!B:C,2,0),\" \")","v":" "}]
[null,null,null,null,{"$f":"IFERROR(VLOOKUP(D8122,Códigos!B:C,2,0),\" \")","v":" "}]
[null,null,null,null,{"$f":"IFERROR(VLOOKUP(D8123,Códigos!B:C,2,0),\" \")","v":" "}]
[null,null,null,null,{"$f":"IFERROR(VLOOKUP(D8124,Códigos!B:C,2,0),\" \")","v":" "}]
[null,null,null,null,{"$f":"IFERROR(VLOOKUP(D8125,Códigos!B:C,2,0),\" \")","v":" "}]
[null,null,null,null,{"$f":"IFERROR(VLOOKUP(D8126,Códigos!B:C,2,0),\" \")","v":" "}]
[null,null,null,null,{"$f":"IFERROR(VLOOKUP(D8127,Códigos!B:C,2,0),\" \")","v":" "}]
[null,null,null,null,{"$f":"IFERROR(VLOOKUP(D8128,Códigos!B:C,2,0),\" \")","v":" "}]
[null,null,null,null,{"$f":"IFERROR(VLOOKUP(D8129,Códigos!B:C,2,0),\" \")","v":" "}]
[null,null,null,null,{"$f":"IFERROR(VLOOKUP(D8130,Códigos!B:C,2,0),\" \")","v":" "}]
[null,null,null,null,{"$f":"IFERROR(VLOOKUP(D8131,Códigos!B:C,2,0),\" \")","v":" "}]
[null,null,null,null,{"$f":"IFERROR(VLOOKUP(D8132,Códigos!B:C,2,0),\" \")","v":" "}]
[null,null,null,null,{"$f":"IFERROR(VLOOKUP(D8133,Códigos!B:C,2,0),\" \")","v":" "}]
[null,null,null,null,{"$f":"IFERROR(VLOOKUP(D8134,Códigos!B:C,2,0),\" \")","v":" "}]
[null,null,null,null,{"$f":"IFERROR(VLOOKUP(D8135,Códigos!B:C,2,0),\" \")","v":" "}]
[null,null,null,null,{"$f":"IFERROR(VLOOKUP(D8136,Códigos!B:C,2,0),\" \")","v":" "}]
[null,null,null,null,{"$f":"IFERROR(VLOOKUP(D8137,Códigos!B:C,2,0),\" \")","v":" "}]
[null,null,null,null,{"$f":"IFERROR(VLOOKUP(D8138,Códigos!B:C,2,0),\" \")","v":" "}]
[null,null,null,null,{"$f":"IFERROR(VLOOKUP(D8139,Códigos!B:C,2,0),\" \")","v":" "}]
[null,null,null,null,{"$f":"IFERROR(VLOOKUP(D8140,Códigos!B:C,2,0),\" \")","v":" "}]
[null,null,null,null,{"$f":"IFERROR(VLOOKUP(D8141,Códigos!B:C,2,0),\" \")","v":" "}]
[null,null,null,null,{"$f":"IFERROR(VLOOKUP(D8142,Códigos!B:C,2,0),\" \")","v":" "}]
[null,null,null,null,{"$f":"IFERROR(VLOOKUP(D8143,Códigos!B:C,2,0),\" \")","v":" "}]
[null,null,null,null,{"$f":"IFERROR(VLOOKUP(D8144,Códigos!B:C,2,0),\" \")","v":" "}]
[null,null,null,null,{"$f":"IFERROR(VLOOKUP(D8145,Códigos!B:C,2,0),\" \")","v":" "}]
[null,null,null,null,{"$f":"IFERROR(VLOOKUP(D8146,Códigos!B:C,2,0),\" \")","v":" "}]
[null,null,null,null,{"$f":"IFERROR(VLOOKUP(D8147,Códigos!B:C,2,0),\" \")","v":" "}]
[null,null,null,null,{"$f":"IFERROR(VLOOKUP(D8148,Códigos!B:C,2,0),\" \")","v":" "}]
[null,null,null,null,{"$f":"IFERROR(VLOOKUP(D8149,Códigos!B:C,2,0),\" \")","v":" "}]
[null,null,null,null,{"$f":"IFERROR(VLOOKUP(D8150,Códigos!B:C,2,0),\" \")","v":" "}]
[null,null,null,null,{"$f":"IFERROR(VLOOKUP(D8151,Códigos!B:C,2,0),\" \")","v":" "}]
[null,null,null,null,{"$f":"IFERROR(VLOOKUP(D8152,Códigos!B:C,2,0),\" \")","v":" "}]
[null,null,null,null,{"$f":"IFERROR(VLOOKUP(D8153,Códigos!B:C,2,0),\" \")","v":" "}]
[null,null,null,null,{"$f":"IFERROR(VLOOKUP(D8154,Códigos!B:C,2,0),\" \")","v":" "}]
[null,null,null,null,{"$f":"IFERROR(VLOOKUP(D8155,Códigos!B:C,2,0),\" \")","v":" "}]
[null,null,null,null,{"$f":"IFERROR(VLOOKUP(D8156,Códigos!B:C,2,0),\" \")","v":" "}]
[null,null,null,null,{"$f":"IFERROR(VLOOKUP(D8157,Códigos!B:C,2,0),\" \")","v":" "}]
[null,null,null,null,{"$f":"IFERROR(VLOOKUP(D8158,Códigos!B:C,2,0),\" \")","v":" "}]
[null,null,null,null,{"$f":"IFERROR(VLOOKUP(D8159,Códigos!B:C,2,0),\" \")","v":" "}]
[null,null,null,null,{"$f":"IFERROR(VLOOKUP(D8160,Códigos!B:C,2,0),\" \")","v":" "}]
[null,null,null,null,{"$f":"IFERROR(VLOOKUP(D8161,Códigos!B:C,2,0),\" \")","v":" "}]
[null,null,null,null,{"$f":"IFERROR(VLOOKUP(D8162,Códigos!B:C,2,0),\" \")","v":" "}]
[null,null,null,null,{"$f":"IFERROR(VLOOKUP(D8163,Códigos!B:C,2,0),\" \")","v":" "}]
[null,null,null,null,{"$f":"IFERROR(VLOOKUP(D8164,Códigos!B:C,2,0),\" \")","v":" "}]
[null,null,null,null,{"$f":"IFERROR(VLOOKUP(D8165,Códigos!B:C,2,0),\" \")","v":" "}]
[null,null,null,null,{"$f":"IFERROR(VLOOKUP(D8166,Códigos!B:C,2,0),\" \")","v":" "}]
[null,null,null,null,{"$f":"IFERROR(VLOOKUP(D8167,Códigos!B:C,2,0),\" \")","v":" "}]
[null,null,null,null,{"$f":"IFERROR(VLOOKUP(D8168,Códigos!B:C,2,0),\" \")","v":" "}]
[null,null,null,null,{"$f":"IFERROR(VLOOKUP(D8169,Códigos!B:C,2,0),\" \")","v":" "}]
[null,null,null,null,{"$f":"IFERROR(VLOOKUP(D8170,Códigos!B:C,2,0),\" \")","v":" "}]
[null,null,null,null,{"$f":"IFERROR(VLOOKUP(D8171,Códigos!B:C,2,0),\" \")","v":" "}]
[null,null,null,null,{"$f":"IFERROR(VLOOKUP(D8172,Códigos!B:C,2,0),\" \")","v":" "}]
[null,null,null,null,{"$f":"IFERROR(VLOOKUP(D8173,Códigos!B:C,2,0),\" \")","v":" "}]
[null,null,null,null,{"$f":"IFERROR(VLOOKUP(D8174,Códigos!B:C,2,0),\" \")","v":" "}]
[null,null,null,null,{"$f":"IFERROR(VLOOKUP(D8175,Códigos!B:C,2,0),\" \")","v":" "}]
[null,null,null,null,{"$f":"IFERROR(VLOOKUP(D8176,Códigos!B:C,2,0),\" \")","v":" "}]
[null,null,null,null,{"$f":"IFERROR(VLOOKUP(D8177,Códigos!B:C,2,0),\" \")","v":" "}]
[null,null,null,null,{"$f":"IFERROR(VLOOKUP(D8178,Códigos!B:C,2,0),\" \")","v":" "}]
[null,null,null,null,{"$f":"IFERROR(VLOOKUP(D8179,Códigos!B:C,2,0),\" \")","v":" "}]
[null,null,null,null,{"$f":"IFERROR(VLOOKUP(D8180,Códigos!B:C,2,0),\" \")","v":" "}]
[null,null,null,null,{"$f":"IFERROR(VLOOKUP(D8181,Códigos!B:C,2,0),\" \")","v":" "}]
[null,null,null,null,{"$f":"IFERROR(VLOOKUP(D8182,Códigos!B:C,2,0),\" \")","v":" "}]
[null,null,null,null,{"$f":"IFERROR(VLOOKUP(D8183,Códigos!B:C,2,0),\" \")","v":" "}]
[null,null,null,null,{"$f":"IFERROR(VLOOKUP(D8184,Códigos!B:C,2,0),\" \")","v":" "}]
[null,null,null,null,{"$f":"IFERROR(VLOOKUP(D8185,Códigos!B:C,2,0),\" \")","v":" "}]
[null,null,null,null,{"$f":"IFERROR(VLOOKUP(D8186,Códigos!B:C,2,0),\" \")","v":" "}]
[null,null,null,null,{"$f":"IFERROR(VLOOKUP(D8187,Códigos!B:C,2,0),\" \")","v":" "}]
[null,null,null,null,{"$f":"IFERROR(VLOOKUP(D8188,Códigos!B:C,2,0),\" \")","v":" "}]
[null,null,null,null,{"$f":"IFERROR(VLOOKUP(D8189,Códigos!B:C,2,0),\" \")","v":" "}]
[null,null,null,null,{"$f":"IFERROR(VLOOKUP(D8190,Códigos!B:C,2,0),\" \")","v":" "}]
[null,null,null,null,{"$f":"IFERROR(VLOOKUP(D8191,Códigos!B:C,2,0),\" \")","v":" "}]
[null,null,null,null,{"$f":"IFERROR(VLOOKUP(D8192,Códigos!B:C,2,0),\" \")","v":" "}]
[null,null,null,null,{"$f":"IFERROR(VLOOKUP(D8193,Códigos!B:C,2,0),\" \")","v":" "}]
[null,null,null,null,{"$f":"IFERROR(VLOOKUP(D8194,Códigos!B:C,2,0),\" \")","v":" "}]
[null,null,null,null,{"$f":"IFERROR(VLOOKUP(D8195,Códigos!B:C,2,0),\" \")","v":" "}]
[null,null,null,null,{"$f":"IFERROR(VLOOKUP(D8196,Códigos!B:C,2,0),\" \")","v":" "}]
[null,null,null,null,{"$f":"IFERROR(VLOOKUP(D8197,Códigos!B:C,2,0),\" \")","v":" "}]
[null,null,null,null,{"$f":"IFERROR(VLOOKUP(D8198,Códigos!B:C,2,0),\" \")","v":" "}]
[null,null,null,null,{"$f":"IFERROR(VLOOKUP(D8199,Códigos!B:C,2,0),\" \")","v":" "}]
[null,null,null,null,{"$f":"IFERROR(VLOOKUP(D8200,Códigos!B:C,2,0),\" \")","v":" "}]
[null,null,null,null,{"$f":"IFERROR(VLOOKUP(D8201,Códigos!B:C,2,0),\" \")","v":" "}]
[null,null,null,null,{"$f":"IFERROR(VLOOKUP(D8202,Códigos!B:C,2,0),\" \")","v":" "}]
[null,null,null,null,{"$f":"IFERROR(VLOOKUP(D8203,Códigos!B:C,2,0),\" \")","v":" "}]
[null,null,null,null,{"$f":"IFERROR(VLOOKUP(D8204,Códigos!B:C,2,0),\" \")","v":" "}]
[null,null,null,null,{"$f":"IFERROR(VLOOKUP(D8205,Códigos!B:C,2,0),\" \")","v":" "}]
[null,null,null,null,{"$f":"IFERROR(VLOOKUP(D8206,Códigos!B:C,2,0),\" \")","v":" "}]
[null,null,null,null,{"$f":"IFERROR(VLOOKUP(D8207,Códigos!B:C,2,0),\" \")","v":" "}]
[null,null,null,null,{"$f":"IFERROR(VLOOKUP(D8208,Códigos!B:C,2,0),\" \")","v":" "}]
[null,null,null,null,{"$f":"IFERROR(VLOOKUP(D8209,Códigos!B:C,2,0),\" \")","v":" "}]
[null,null,null,null,{"$f":"IFERROR(VLOOKUP(D8210,Códigos!B:C,2,0),\" \")","v":" "}]
[null,null,null,null,{"$f":"IFERROR(VLOOKUP(D8211,Códigos!B:C,2,0),\" \")","v":" "}]
[null,null,null,null,{"$f":"IFERROR(VLOOKUP(D8212,Códigos!B:C,2,0),\" \")","v":" "}]
[null,null,null,null,{"$f":"IFERROR(VLOOKUP(D8213,Códigos!B:C,2,0),\" \")","v":" "}]
[null,null,null,null,{"$f":"IFERROR(VLOOKUP(D8214,Códigos!B:C,2,0),\" \")","v":" "}]
[null,null,null,null,{"$f":"IFERROR(VLOOKUP(D8215,Códigos!B:C,2,0),\" \")","v":" "}]
[null,null,null,null,{"$f":"IFERROR(VLOOKUP(D8216,Códigos!B:C,2,0),\" \")","v":" "}]
[null,null,null,null,{"$f":"IFERROR(VLOOKUP(D8217,Códigos!B:C,2,0),\" \")","v":" "}]
[null,null,null,null,{"$f":"IFERROR(VLOOKUP(D8218,Códigos!B:C,2,0),\" \")","v":" "}]
[null,null,null,null,{"$f":"IFERROR(VLOOKUP(D8219,Códigos!B:C,2,0),\" \")","v":" "}]
[null,null,null,null,{"$f":"IFERROR(VLOOKUP(D8220,Códigos!B:C,2,0),\" \")","v":" "}]
[null,null,null,null,{"$f":"IFERROR(VLOOKUP(D8221,Códigos!B:C,2,0),\" \")","v":" "}]
[null,null,null,null,{"$f":"IFERROR(VLOOKUP(D8222,Códigos!B:C,2,0),\" \")","v":" "}]
[null,null,null,null,{"$f":"IFERROR(VLOOKUP(D8223,Códigos!B:C,2,0),\" \")","v":" "}]
[null,null,null,null,{"$f":"IFERROR(VLOOKUP(D8224,Códigos!B:C,2,0),\" \")","v":" "}]
[null,null,null,null,{"$f":"IFERROR(VLOOKUP(D8225,Códigos!B:C,2,0),\" \")","v":" "}]
[null,null,null,null,{"$f":"IFERROR(VLOOKUP(D8226,Códigos!B:C,2,0),\" \")","v":" "}]
[null,null,null,null,{"$f":"IFERROR(VLOOKUP(D8227,Códigos!B:C,2,0),\" \")","v":" "}]
[null,null,null,null,{"$f":"IFERROR(VLOOKUP(D8228,Códigos!B:C,2,0),\" \")","v":" "}]
[null,null,null,null,{"$f":"IFERROR(VLOOKUP(D8229,Códigos!B:C,2,0),\" \")","v":" "}]
[null,null,null,null,{"$f":"IFERROR(VLOOKUP(D8230,Códigos!B:C,2,0),\" \")","v":" "}]
[null,null,null,null,{"$f":"IFERROR(VLOOKUP(D8231,Códigos!B:C,2,0),\" \")","v":" "}]
[null,null,null,null,{"$f":"IFERROR(VLOOKUP(D8232,Códigos!B:C,2,0),\" \")","v":" "}]
[null,null,null,null,{"$f":"IFERROR(VLOOKUP(D8233,Códigos!B:C,2,0),\" \")","v":" "}]
[null,null,null,null,{"$f":"IFERROR(VLOOKUP(D8234,Códigos!B:C,2,0),\" \")","v":" "}]
[null,null,null,null,{"$f":"IFERROR(VLOOKUP(D8235,Códigos!B:C,2,0),\" \")","v":" "}]
[null,null,null,null,{"$f":"IFERROR(VLOOKUP(D8236,Códigos!B:C,2,0),\" \")","v":" "}]
[null,null,null,null,{"$f":"IFERROR(VLOOKUP(D8237,Códigos!B:C,2,0),\" \")","v":" "}]
[null,null,null,null,{"$f":"IFERROR(VLOOKUP(D8238,Códigos!B:C,2,0),\" \")","v":" "}]
[null,null,null,null,{"$f":"IFERROR(VLOOKUP(D8239,Códigos!B:C,2,0),\" \")","v":" "}]
[null,null,null,null,{"$f":"IFERROR(VLOOKUP(D8240,Códigos!B:C,2,0),\" \")","v":" "}]
[null,null,null,null,{"$f":"IFERROR(VLOOKUP(D8241,Códigos!B:C,2,0),\" \")","v":" "}]
[null,null,null,null,{"$f":"IFERROR(VLOOKUP(D8242,Códigos!B:C,2,0),\" \")","v":" "}]
[null,null,null,null,{"$f":"IFERROR(VLOOKUP(D8243,Códigos!B:C,2,0),\" \")","v":" "}]
[null,null,null,null,{"$f":"IFERROR(VLOOKUP(D8244,Códigos!B:C,2,0),\" \")","v":" "}]
[null,null,null,null,{"$f":"IFERROR(VLOOKUP(D8245,Códigos!B:C,2,0),\" \")","v":" "}]
[null,null,null,null,{"$f":"IFERROR(VLOOKUP(D8246,Códigos!B:C,2,0),\" \")","v":" "}]
[null,null,null,null,{"$f":"IFERROR(VLOOKUP(D8247,Códigos!B:C,2,0),\" \")","v":" "}]
[null,null,null,null,{"$f":"IFERROR(VLOOKUP(D8248,Códigos!B:C,2,0),\" \")","v":" "}]
[null,null,null,null,{"$f":"IFERROR(VLOOKUP(D8249,Códigos!B:C,2,0),\" \")","v":" "}]
[null,null,null,null,{"$f":"IFERROR(VLOOKUP(D8250,Códigos!B:C,2,0),\" \")","v":" "}]
[null,null,null,null,{"$f":"IFERROR(VLOOKUP(D8251,Códigos!B:C,2,0),\" \")","v":" "}]
[null,null,null,null,{"$f":"IFERROR(VLOOKUP(D8252,Códigos!B:C,2,0),\" \")","v":" "}]
[null,null,null,null,{"$f":"IFERROR(VLOOKUP(D8253,Códigos!B:C,2,0),\" \")","v":" "}]
[null,null,null,null,{"$f":"IFERROR(VLOOKUP(D8254,Códigos!B:C,2,0),\" \")","v":" "}]
[null,null,null,null,{"$f":"IFERROR(VLOOKUP(D8255,Códigos!B:C,2,0),\" \")","v":" "}]
[null,null,null,null,{"$f":"IFERROR(VLOOKUP(D8256,Códigos!B:C,2,0),\" \")","v":" "}]
[null,null,null,null,{"$f":"IFERROR(VLOOKUP(D8257,Códigos!B:C,2,0),\" \")","v":" "}]
[null,null,null,null,{"$f":"IFERROR(VLOOKUP(D8258,Códigos!B:C,2,0),\" \")","v":" "}]
[null,null,null,null,{"$f":"IFERROR(VLOOKUP(D8259,Códigos!B:C,2,0),\" \")","v":" "}]
[null,null,null,null,{"$f":"IFERROR(VLOOKUP(D8260,Códigos!B:C,2,0),\" \")","v":" "}]
[null,null,null,null,{"$f":"IFERROR(VLOOKUP(D8261,Códigos!B:C,2,0),\" \")","v":" "}]
[null,null,null,null,{"$f":"IFERROR(VLOOKUP(D8262,Códigos!B:C,2,0),\" \")","v":" "}]
[null,null,null,null,{"$f":"IFERROR(VLOOKUP(D8263,Códigos!B:C,2,0),\" \")","v":" "}]
[null,null,null,null,{"$f":"IFERROR(VLOOKUP(D8264,Códigos!B:C,2,0),\" \")","v":" "}]
[null,null,null,null,{"$f":"IFERROR(VLOOKUP(D8265,Códigos!B:C,2,0),\" \")","v":" "}]
[null,null,null,null,{"$f":"IFERROR(VLOOKUP(D8266,Códigos!B:C,2,0),\" \")","v":" "}]
[null,null,null,null,{"$f":"IFERROR(VLOOKUP(D8267,Códigos!B:C,2,0),\" \")","v":" "}]
[null,null,null,null,{"$f":"IFERROR(VLOOKUP(D8268,Códigos!B:C,2,0),\" \")","v":" "}]
[null,null,null,null,{"$f":"IFERROR(VLOOKUP(D8269,Códigos!B:C,2,0),\" \")","v":" "}]
[null,null,null,null,{"$f":"IFERROR(VLOOKUP(D8270,Códigos!B:C,2,0),\" \")","v":" "}]
[null,null,null,null,{"$f":"IFERROR(VLOOKUP(D8271,Códigos!B:C,2,0),\" \")","v":" "}]
[null,null,null,null,{"$f":"IFERROR(VLOOKUP(D8272,Códigos!B:C,2,0),\" \")","v":" "}]
[null,null,null,null,{"$f":"IFERROR(VLOOKUP(D8273,Códigos!B:C,2,0),\" \")","v":" "}]
[null,null,null,null,{"$f":"IFERROR(VLOOKUP(D8274,Códigos!B:C,2,0),\" \")","v":" "}]
[null,null,null,null,{"$f":"IFERROR(VLOOKUP(D8275,Códigos!B:C,2,0),\" \")","v":" "}]
[null,null,null,null,{"$f":"IFERROR(VLOOKUP(D8276,Códigos!B:C,2,0),\" \")","v":" "}]
[null,null,null,null,{"$f":"IFERROR(VLOOKUP(D8277,Códigos!B:C,2,0),\" \")","v":" "}]
[null,null,null,null,{"$f":"IFERROR(VLOOKUP(D8278,Códigos!B:C,2,0),\" \")","v":" "}]
[null,null,null,null,{"$f":"IFERROR(VLOOKUP(D8279,Códigos!B:C,2,0),\" \")","v":" "}]
[null,null,null,null,{"$f":"IFERROR(VLOOKUP(D8280,Códigos!B:C,2,0),\" \")","v":" "}]
[null,null,null,null,{"$f":"IFERROR(VLOOKUP(D8281,Códigos!B:C,2,0),\" \")","v":" "}]
[null,null,null,null,{"$f":"IFERROR(VLOOKUP(D8282,Códigos!B:C,2,0),\" \")","v":" "}]
[null,null,null,null,{"$f":"IFERROR(VLOOKUP(D8283,Códigos!B:C,2,0),\" \")","v":" "}]
[null,null,null,null,{"$f":"IFERROR(VLOOKUP(D8284,Códigos!B:C,2,0),\" \")","v":" "}]
[null,null,null,null,{"$f":"IFERROR(VLOOKUP(D8285,Códigos!B:C,2,0),\" \")","v":" "}]
[null,null,null,null,{"$f":"IFERROR(VLOOKUP(D8286,Códigos!B:C,2,0),\" \")","v":" "}]
[null,null,null,null,{"$f":"IFERROR(VLOOKUP(D8287,Códigos!B:C,2,0),\" \")","v":" "}]
[null,null,null,null,{"$f":"IFERROR(VLOOKUP(D8288,Códigos!B:C,2,0),\" \")","v":" "}]
[null,null,null,null,{"$f":"IFERROR(VLOOKUP(D8289,Códigos!B:C,2,0),\" \")","v":" "}]
[null,null,null,null,{"$f":"IFERROR(VLOOKUP(D8290,Códigos!B:C,2,0),\" \")","v":" "}]
[null,null,null,null,{"$f":"IFERROR(VLOOKUP(D8291,Códigos!B:C,2,0),\" \")","v":" "}]
[null,null,null,null,{"$f":"IFERROR(VLOOKUP(D8292,Códigos!B:C,2,0),\" \")","v":" "}]
[null,null,null,null,{"$f":"IFERROR(VLOOKUP(D8293,Códigos!B:C,2,0),\" \")","v":" "}]
[null,null,null,null,{"$f":"IFERROR(VLOOKUP(D8294,Códigos!B:C,2,0),\" \")","v":" "}]
[null,null,null,null,{"$f":"IFERROR(VLOOKUP(D8295,Códigos!B:C,2,0),\" \")","v":" "}]
[null,null,null,null,{"$f":"IFERROR(VLOOKUP(D8296,Códigos!B:C,2,0),\" \")","v":" "}]
[null,null,null,null,{"$f":"IFERROR(VLOOKUP(D8297,Códigos!B:C,2,0),\" \")","v":" "}]
[null,null,null,null,{"$f":"IFERROR(VLOOKUP(D8298,Códigos!B:C,2,0),\" \")","v":" "}]
[null,null,null,null,{"$f":"IFERROR(VLOOKUP(D8299,Códigos!B:C,2,0),\" \")","v":" "}]
[null,null,null,null,{"$f":"IFERROR(VLOOKUP(D8300,Códigos!B:C,2,0),\" \")","v":" "}]
[null,null,null,null,{"$f":"IFERROR(VLOOKUP(D8301,Códigos!B:C,2,0),\" \")","v":" "}]
[null,null,null,null,{"$f":"IFERROR(VLOOKUP(D8302,Códigos!B:C,2,0),\" \")","v":" "}]
[null,null,null,null,{"$f":"IFERROR(VLOOKUP(D8303,Códigos!B:C,2,0),\" \")","v":" "}]
[null,null,null,null,{"$f":"IFERROR(VLOOKUP(D8304,Códigos!B:C,2,0),\" \")","v":" "}]
[null,null,null,null,{"$f":"IFERROR(VLOOKUP(D8305,Códigos!B:C,2,0),\" \")","v":" "}]
[null,null,null,null,{"$f":"IFERROR(VLOOKUP(D8306,Códigos!B:C,2,0),\" \")","v":" "}]
[null,null,null,null,{"$f":"IFERROR(VLOOKUP(D8307,Códigos!B:C,2,0),\" \")","v":" "}]
[null,null,null,null,{"$f":"IFERROR(VLOOKUP(D8308,Códigos!B:C,2,0),\" \")","v":" "}]
[null,null,null,null,{"$f":"IFERROR(VLOOKUP(D8309,Códigos!B:C,2,0),\" \")","v":" "}]
[null,null,null,null,{"$f":"IFERROR(VLOOKUP(D8310,Códigos!B:C,2,0),\" \")","v":" "}]
[null,null,null,null,{"$f":"IFERROR(VLOOKUP(D8311,Códigos!B:C,2,0),\" \")","v":" "}]
[null,null,null,null,{"$f":"IFERROR(VLOOKUP(D8312,Códigos!B:C,2,0),\" \")","v":" "}]
[null,null,null,null,{"$f":"IFERROR(VLOOKUP(D8313,Códigos!B:C,2,0),\" \")","v":" "}]
[null,null,null,null,{"$f":"IFERROR(VLOOKUP(D8314,Códigos!B:C,2,0),\" \")","v":" "}]
[null,null,null,null,{"$f":"IFERROR(VLOOKUP(D8315,Códigos!B:C,2,0),\" \")","v":" "}]
[null,null,null,null,{"$f":"IFERROR(VLOOKUP(D8316,Códigos!B:C,2,0),\" \")","v":" "}]
[null,null,null,null,{"$f":"IFERROR(VLOOKUP(D8317,Códigos!B:C,2,0),\" \")","v":" "}]
[null,null,null,null,{"$f":"IFERROR(VLOOKUP(D8318,Códigos!B:C,2,0),\" \")","v":" "}]
[null,null,null,null,{"$f":"IFERROR(VLOOKUP(D8319,Códigos!B:C,2,0),\" \")","v":" "}]
[null,null,null,null,{"$f":"IFERROR(VLOOKUP(D8320,Códigos!B:C,2,0),\" \")","v":" "}]
[null,null,null,null,{"$f":"IFERROR(VLOOKUP(D8321,Códigos!B:C,2,0),\" \")","v":" "}]
[null,null,null,null,{"$f":"IFERROR(VLOOKUP(D8322,Códigos!B:C,2,0),\" \")","v":" "}]
[null,null,null,null,{"$f":"IFERROR(VLOOKUP(D8323,Códigos!B:C,2,0),\" \")","v":" "}]
[null,null,null,null,{"$f":"IFERROR(VLOOKUP(D8324,Códigos!B:C,2,0),\" \")","v":" "}]
[null,null,null,null,{"$f":"IFERROR(VLOOKUP(D8325,Códigos!B:C,2,0),\" \")","v":" "}]
[null,null,null,null,{"$f":"IFERROR(VLOOKUP(D8326,Códigos!B:C,2,0),\" \")","v":" "}]
[null,null,null,null,{"$f":"IFERROR(VLOOKUP(D8327,Códigos!B:C,2,0),\" \")","v":" "}]
[null,null,null,null,{"$f":"IFERROR(VLOOKUP(D8328,Códigos!B:C,2,0),\" \")","v":" "}]
[null,null,null,null,{"$f":"IFERROR(VLOOKUP(D8329,Códigos!B:C,2,0),\" \")","v":" "}]
[null,null,null,null,{"$f":"IFERROR(VLOOKUP(D8330,Códigos!B:C,2,0),\" \")","v":" "}]
[null,null,null,null,{"$f":"IFERROR(VLOOKUP(D8331,Códigos!B:C,2,0),\" \")","v":" "}]
[null,null,null,null,{"$f":"IFERROR(VLOOKUP(D8332,Códigos!B:C,2,0),\" \")","v":" "}]
[null,null,null,null,{"$f":"IFERROR(VLOOKUP(D8333,Códigos!B:C,2,0),\" \")","v":" "}]
[null,null,null,null,{"$f":"IFERROR(VLOOKUP(D8334,Códigos!B:C,2,0),\" \")","v":" "}]
[null,null,null,null,{"$f":"IFERROR(VLOOKUP(D8335,Códigos!B:C,2,0),\" \")","v":" "}]
[null,null,null,null,{"$f":"IFERROR(VLOOKUP(D8336,Códigos!B:C,2,0),\" \")","v":" "}]
[null,null,null,null,{"$f":"IFERROR(VLOOKUP(D8337,Códigos!B:C,2,0),\" \")","v":" "}]
[null,null,null,null,{"$f":"IFERROR(VLOOKUP(D8338,Códigos!B:C,2,0),\" \")","v":" "}]
[null,null,null,null,{"$f":"IFERROR(VLOOKUP(D8339,Códigos!B:C,2,0),\" \")","v":" "}]
[null,null,null,null,{"$f":"IFERROR(VLOOKUP(D8340,Códigos!B:C,2,0),\" \")","v":" "}]
[null,null,null,null,{"$f":"IFERROR(VLOOKUP(D8341,Códigos!B:C,2,0),\" \")","v":" "}]
[null,null,null,null,{"$f":"IFERROR(VLOOKUP(D8342,Códigos!B:C,2,0),\" \")","v":" "}]
[null,null,null,null,{"$f":"IFERROR(VLOOKUP(D8343,Códigos!B:C,2,0),\" \")","v":" "}]
[null,null,null,null,{"$f":"IFERROR(VLOOKUP(D8344,Códigos!B:C,2,0),\" \")","v":" "}]
[null,null,null,null,{"$f":"IFERROR(VLOOKUP(D8345,Códigos!B:C,2,0),\" \")","v":" "}]
[null,null,null,null,{"$f":"IFERROR(VLOOKUP(D8346,Códigos!B:C,2,0),\" \")","v":" "}]
[null,null,null,null,{"$f":"IFERROR(VLOOKUP(D8347,Códigos!B:C,2,0),\" \")","v":" "}]
[null,null,null,null,{"$f":"IFERROR(VLOOKUP(D8348,Códigos!B:C,2,0),\" \")","v":" "}]
[null,null,null,null,{"$f":"IFERROR(VLOOKUP(D8349,Códigos!B:C,2,0),\" \")","v":" "}]
[null,null,null,null,{"$f":"IFERROR(VLOOKUP(D8350,Códigos!B:C,2,0),\" \")","v":" "}]
[null,null,null,null,{"$f":"IFERROR(VLOOKUP(D8351,Códigos!B:C,2,0),\" \")","v":" "}]
[null,null,null,null,{"$f":"IFERROR(VLOOKUP(D8352,Códigos!B:C,2,0),\" \")","v":" "}]
[null,null,null,null,{"$f":"IFERROR(VLOOKUP(D8353,Códigos!B:C,2,0),\" \")","v":" "}]
[null,null,null,null,{"$f":"IFERROR(VLOOKUP(D8354,Códigos!B:C,2,0),\" \")","v":" "}]
[null,null,null,null,{"$f":"IFERROR(VLOOKUP(D8355,Códigos!B:C,2,0),\" \")","v":" "}]
[null,null,null,null,{"$f":"IFERROR(VLOOKUP(D8356,Códigos!B:C,2,0),\" \")","v":" "}]
[null,null,null,null,{"$f":"IFERROR(VLOOKUP(D8357,Códigos!B:C,2,0),\" \")","v":" "}]
[null,null,null,null,{"$f":"IFERROR(VLOOKUP(D8358,Códigos!B:C,2,0),\" \")","v":" "}]
[null,null,null,null,{"$f":"IFERROR(VLOOKUP(D8359,Códigos!B:C,2,0),\" \")","v":" "}]
[null,null,null,null,{"$f":"IFERROR(VLOOKUP(D8360,Códigos!B:C,2,0),\" \")","v":" "}]
[null,null,null,null,{"$f":"IFERROR(VLOOKUP(D8361,Códigos!B:C,2,0),\" \")","v":" "}]
[null,null,null,null,{"$f":"IFERROR(VLOOKUP(D8362,Códigos!B:C,2,0),\" \")","v":" "}]
[null,null,null,null,{"$f":"IFERROR(VLOOKUP(D8363,Códigos!B:C,2,0),\" \")","v":" "}]
[null,null,null,null,{"$f":"IFERROR(VLOOKUP(D8364,Códigos!B:C,2,0),\" \")","v":" "}]
[null,null,null,null,{"$f":"IFERROR(VLOOKUP(D8365,Códigos!B:C,2,0),\" \")","v":" "}]
[null,null,null,null,{"$f":"IFERROR(VLOOKUP(D8366,Códigos!B:C,2,0),\" \")","v":" "}]
[null,null,null,null,{"$f":"IFERROR(VLOOKUP(D8367,Códigos!B:C,2,0),\" \")","v":" "}]
[null,null,null,null,{"$f":"IFERROR(VLOOKUP(D8368,Códigos!B:C,2,0),\" \")","v":" "}]
[null,null,null,null,{"$f":"IFERROR(VLOOKUP(D8369,Códigos!B:C,2,0),\" \")","v":" "}]
[null,null,null,null,{"$f":"IFERROR(VLOOKUP(D8370,Códigos!B:C,2,0),\" \")","v":" "}]
[null,null,null,null,{"$f":"IFERROR(VLOOKUP(D8371,Códigos!B:C,2,0),\" \")","v":" "}]
[null,null,null,null,{"$f":"IFERROR(VLOOKUP(D8372,Códigos!B:C,2,0),\" \")","v":" "}]
[null,null,null,null,{"$f":"IFERROR(VLOOKUP(D8373,Códigos!B:C,2,0),\" \")","v":" "}]
[null,null,null,null,{"$f":"IFERROR(VLOOKUP(D8374,Códigos!B:C,2,0),\" \")","v":" "}]
[null,null,null,null,{"$f":"IFERROR(VLOOKUP(D8375,Códigos!B:C,2,0),\" \")","v":" "}]
[null,null,null,null,{"$f":"IFERROR(VLOOKUP(D8376,Códigos!B:C,2,0),\" \")","v":" "}]
[null,null,null,null,{"$f":"IFERROR(VLOOKUP(D8377,Códigos!B:C,2,0),\" \")","v":" "}]
[null,null,null,null,{"$f":"IFERROR(VLOOKUP(D8378,Códigos!B:C,2,0),\" \")","v":" "}]
[null,null,null,null,{"$f":"IFERROR(VLOOKUP(D8379,Códigos!B:C,2,0),\" \")","v":" "}]
[null,null,null,null,{"$f":"IFERROR(VLOOKUP(D8380,Códigos!B:C,2,0),\" \")","v":" "}]
[null,null,null,null,{"$f":"IFERROR(VLOOKUP(D8381,Códigos!B:C,2,0),\" \")","v":" "}]
[null,null,null,null,{"$f":"IFERROR(VLOOKUP(D8382,Códigos!B:C,2,0),\" \")","v":" "}]
[null,null,null,null,{"$f":"IFERROR(VLOOKUP(D8383,Códigos!B:C,2,0),\" \")","v":" "}]
[null,null,null,null,{"$f":"IFERROR(VLOOKUP(D8384,Códigos!B:C,2,0),\" \")","v":" "}]
[null,null,null,null,{"$f":"IFERROR(VLOOKUP(D8385,Códigos!B:C,2,0),\" \")","v":" "}]
[null,null,null,null,{"$f":"IFERROR(VLOOKUP(D8386,Códigos!B:C,2,0),\" \")","v":" "}]
[null,null,null,null,{"$f":"IFERROR(VLOOKUP(D8387,Códigos!B:C,2,0),\" \")","v":" "}]
[null,null,null,null,{"$f":"IFERROR(VLOOKUP(D8388,Códigos!B:C,2,0),\" \")","v":" "}]
[null,null,null,null,{"$f":"IFERROR(VLOOKUP(D8389,Códigos!B:C,2,0),\" \")","v":" "}]
[null,null,null,null,{"$f":"IFERROR(VLOOKUP(D8390,Códigos!B:C,2,0),\" \")","v":" "}]
[null,null,null,null,{"$f":"IFERROR(VLOOKUP(D8391,Códigos!B:C,2,0),\" \")","v":" "}]
[null,null,null,null,{"$f":"IFERROR(VLOOKUP(D8392,Códigos!B:C,2,0),\" \")","v":" "}]
[null,null,null,null,{"$f":"IFERROR(VLOOKUP(D8393,Códigos!B:C,2,0),\" \")","v":" "}]
[null,null,null,null,{"$f":"IFERROR(VLOOKUP(D8394,Códigos!B:C,2,0),\" \")","v":" "}]
[null,null,null,null,{"$f":"IFERROR(VLOOKUP(D8395,Códigos!B:C,2,0),\" \")","v":" "}]
[null,null,null,null,{"$f":"IFERROR(VLOOKUP(D8396,Códigos!B:C,2,0),\" \")","v":" "}]
[null,null,null,null,{"$f":"IFERROR(VLOOKUP(D8397,Códigos!B:C,2,0),\" \")","v":" "}]
[null,null,null,null,{"$f":"IFERROR(VLOOKUP(D8398,Códigos!B:C,2,0),\" \")","v":" "}]
[null,null,null,null,{"$f":"IFERROR(VLOOKUP(D8399,Códigos!B:C,2,0),\" \")","v":" "}]
[null,null,null,null,{"$f":"IFERROR(VLOOKUP(D8400,Códigos!B:C,2,0),\" \")","v":" "}]
[null,null,null,null,{"$f":"IFERROR(VLOOKUP(D8401,Códigos!B:C,2,0),\" \")","v":" "}]
[null,null,null,null,{"$f":"IFERROR(VLOOKUP(D8402,Códigos!B:C,2,0),\" \")","v":" "}]
[null,null,null,null,{"$f":"IFERROR(VLOOKUP(D8403,Códigos!B:C,2,0),\" \")","v":" "}]
[null,null,null,null,{"$f":"IFERROR(VLOOKUP(D8404,Códigos!B:C,2,0),\" \")","v":" "}]
[null,null,null,null,{"$f":"IFERROR(VLOOKUP(D8405,Códigos!B:C,2,0),\" \")","v":" "}]
[null,null,null,null,{"$f":"IFERROR(VLOOKUP(D8406,Códigos!B:C,2,0),\" \")","v":" "}]
[null,null,null,null,{"$f":"IFERROR(VLOOKUP(D8407,Códigos!B:C,2,0),\" \")","v":" "}]
[null,null,null,null,{"$f":"IFERROR(VLOOKUP(D8408,Códigos!B:C,2,0),\" \")","v":" "}]
[null,null,null,null,{"$f":"IFERROR(VLOOKUP(D8409,Códigos!B:C,2,0),\" \")","v":" "}]
[null,null,null,null,{"$f":"IFERROR(VLOOKUP(D8410,Códigos!B:C,2,0),\" \")","v":" "}]
[null,null,null,null,{"$f":"IFERROR(VLOOKUP(D8411,Códigos!B:C,2,0),\" \")","v":" "}]
[null,null,null,null,{"$f":"IFERROR(VLOOKUP(D8412,Códigos!B:C,2,0),\" \")","v":" "}]
[null,null,null,null,{"$f":"IFERROR(VLOOKUP(D8413,Códigos!B:C,2,0),\" \")","v":" "}]
[null,null,null,null,{"$f":"IFERROR(VLOOKUP(D8414,Códigos!B:C,2,0),\" \")","v":" "}]
[null,null,null,null,{"$f":"IFERROR(VLOOKUP(D8415,Códigos!B:C,2,0),\" \")","v":" "}]
[null,null,null,null,{"$f":"IFERROR(VLOOKUP(D8416,Códigos!B:C,2,0),\" \")","v":" "}]
[null,null,null,null,{"$f":"IFERROR(VLOOKUP(D8417,Códigos!B:C,2,0),\" \")","v":" "}]
[null,null,null,null,{"$f":"IFERROR(VLOOKUP(D8418,Códigos!B:C,2,0),\" \")","v":" "}]
[null,null,null,null,{"$f":"IFERROR(VLOOKUP(D8419,Códigos!B:C,2,0),\" \")","v":" "}]
[null,null,null,null,{"$f":"IFERROR(VLOOKUP(D8420,Códigos!B:C,2,0),\" \")","v":" "}]
[null,null,null,null,{"$f":"IFERROR(VLOOKUP(D8421,Códigos!B:C,2,0),\" \")","v":" "}]
[null,null,null,null,{"$f":"IFERROR(VLOOKUP(D8422,Códigos!B:C,2,0),\" \")","v":" "}]
[null,null,null,null,{"$f":"IFERROR(VLOOKUP(D8423,Códigos!B:C,2,0),\" \")","v":" "}]
[null,null,null,null,{"$f":"IFERROR(VLOOKUP(D8424,Códigos!B:C,2,0),\" \")","v":" "}]
[null,null,null,null,{"$f":"IFERROR(VLOOKUP(D8425,Códigos!B:C,2,0),\" \")","v":" "}]
[null,null,null,null,{"$f":"IFERROR(VLOOKUP(D8426,Códigos!B:C,2,0),\" \")","v":" "}]
[null,null,null,null,{"$f":"IFERROR(VLOOKUP(D8427,Códigos!B:C,2,0),\" \")","v":" "}]
[null,null,null,null,{"$f":"IFERROR(VLOOKUP(D8428,Códigos!B:C,2,0),\" \")","v":" "}]
[null,null,null,null,{"$f":"IFERROR(VLOOKUP(D8429,Códigos!B:C,2,0),\" \")","v":" "}]
[null,null,null,null,{"$f":"IFERROR(VLOOKUP(D8430,Códigos!B:C,2,0),\" \")","v":" "}]
[null,null,null,null,{"$f":"IFERROR(VLOOKUP(D8431,Códigos!B:C,2,0),\" \")","v":" "}]
[null,null,null,null,{"$f":"IFERROR(VLOOKUP(D8432,Códigos!B:C,2,0),\" \")","v":" "}]
[null,null,null,null,{"$f":"IFERROR(VLOOKUP(D8433,Códigos!B:C,2,0),\" \")","v":" "}]
[null,null,null,null,{"$f":"IFERROR(VLOOKUP(D8434,Códigos!B:C,2,0),\" \")","v":" "}]
[null,null,null,null,{"$f":"IFERROR(VLOOKUP(D8435,Códigos!B:C,2,0),\" \")","v":" "}]
[null,null,null,null,{"$f":"IFERROR(VLOOKUP(D8436,Códigos!B:C,2,0),\" \")","v":" "}]
[null,null,null,null,{"$f":"IFERROR(VLOOKUP(D8437,Códigos!B:C,2,0),\" \")","v":" "}]
[null,null,null,null,{"$f":"IFERROR(VLOOKUP(D8438,Códigos!B:C,2,0),\" \")","v":" "}]
[null,null,null,null,{"$f":"IFERROR(VLOOKUP(D8439,Códigos!B:C,2,0),\" \")","v":" "}]
[null,null,null,null,{"$f":"IFERROR(VLOOKUP(D8440,Códigos!B:C,2,0),\" \")","v":" "}]
[null,null,null,null,{"$f":"IFERROR(VLOOKUP(D8441,Códigos!B:C,2,0),\" \")","v":" "}]
[null,null,null,null,{"$f":"IFERROR(VLOOKUP(D8442,Códigos!B:C,2,0),\" \")","v":" "}]
[null,null,null,null,{"$f":"IFERROR(VLOOKUP(D8443,Códigos!B:C,2,0),\" \")","v":" "}]
[null,null,null,null,{"$f":"IFERROR(VLOOKUP(D8444,Códigos!B:C,2,0),\" \")","v":" "}]
[null,null,null,null,{"$f":"IFERROR(VLOOKUP(D8445,Códigos!B:C,2,0),\" \")","v":" "}]
[null,null,null,null,{"$f":"IFERROR(VLOOKUP(D8446,Códigos!B:C,2,0),\" \")","v":" "}]
[null,null,null,null,{"$f":"IFERROR(VLOOKUP(D8447,Códigos!B:C,2,0),\" \")","v":" "}]
[null,null,null,null,{"$f":"IFERROR(VLOOKUP(D8448,Códigos!B:C,2,0),\" \")","v":" "}]
[null,null,null,null,{"$f":"IFERROR(VLOOKUP(D8449,Códigos!B:C,2,0),\" \")","v":" "}]
[null,null,null,null,{"$f":"IFERROR(VLOOKUP(D8450,Códigos!B:C,2,0),\" \")","v":" "}]
[null,null,null,null,{"$f":"IFERROR(VLOOKUP(D8451,Códigos!B:C,2,0),\" \")","v":" "}]
[null,null,null,null,{"$f":"IFERROR(VLOOKUP(D8452,Códigos!B:C,2,0),\" \")","v":" "}]
[null,null,null,null,{"$f":"IFERROR(VLOOKUP(D8453,Códigos!B:C,2,0),\" \")","v":" "}]
[null,null,null,null,{"$f":"IFERROR(VLOOKUP(D8454,Códigos!B:C,2,0),\" \")","v":" "}]
[null,null,null,null,{"$f":"IFERROR(VLOOKUP(D8455,Códigos!B:C,2,0),\" \")","v":" "}]
[null,null,null,null,{"$f":"IFERROR(VLOOKUP(D8456,Códigos!B:C,2,0),\" \")","v":" "}]
[null,null,null,null,{"$f":"IFERROR(VLOOKUP(D8457,Códigos!B:C,2,0),\" \")","v":" "}]
[null,null,null,null,{"$f":"IFERROR(VLOOKUP(D8458,Códigos!B:C,2,0),\" \")","v":" "}]
[null,null,null,null,{"$f":"IFERROR(VLOOKUP(D8459,Códigos!B:C,2,0),\" \")","v":" "}]
[null,null,null,null,{"$f":"IFERROR(VLOOKUP(D8460,Códigos!B:C,2,0),\" \")","v":" "}]
[null,null,null,null,{"$f":"IFERROR(VLOOKUP(D8461,Códigos!B:C,2,0),\" \")","v":" "}]
[null,null,null,null,{"$f":"IFERROR(VLOOKUP(D8462,Códigos!B:C,2,0),\" \")","v":" "}]
[null,null,null,null,{"$f":"IFERROR(VLOOKUP(D8463,Códigos!B:C,2,0),\" \")","v":" "}]
[null,null,null,null,{"$f":"IFERROR(VLOOKUP(D8464,Códigos!B:C,2,0),\" \")","v":" "}]
[null,null,null,null,{"$f":"IFERROR(VLOOKUP(D8465,Códigos!B:C,2,0),\" \")","v":" "}]
[null,null,null,null,{"$f":"IFERROR(VLOOKUP(D8466,Códigos!B:C,2,0),\" \")","v":" "}]
[null,null,null,null,{"$f":"IFERROR(VLOOKUP(D8467,Códigos!B:C,2,0),\" \")","v":" "}]
[null,null,null,null,{"$f":"IFERROR(VLOOKUP(D8468,Códigos!B:C,2,0),\" \")","v":" "}]
[null,null,null,null,{"$f":"IFERROR(VLOOKUP(D8469,Códigos!B:C,2,0),\" \")","v":" "}]
[null,null,null,null,{"$f":"IFERROR(VLOOKUP(D8470,Códigos!B:C,2,0),\" \")","v":" "}]
[null,null,null,null,{"$f":"IFERROR(VLOOKUP(D8471,Códigos!B:C,2,0),\" \")","v":" "}]
[null,null,null,null,{"$f":"IFERROR(VLOOKUP(D8472,Códigos!B:C,2,0),\" \")","v":" "}]
[null,null,null,null,{"$f":"IFERROR(VLOOKUP(D8473,Códigos!B:C,2,0),\" \")","v":" "}]
[null,null,null,null,{"$f":"IFERROR(VLOOKUP(D8474,Códigos!B:C,2,0),\" \")","v":" "}]
[null,null,null,null,{"$f":"IFERROR(VLOOKUP(D8475,Códigos!B:C,2,0),\" \")","v":" "}]
[null,null,null,null,{"$f":"IFERROR(VLOOKUP(D8476,Códigos!B:C,2,0),\" \")","v":" "}]
[null,null,null,null,{"$f":"IFERROR(VLOOKUP(D8477,Códigos!B:C,2,0),\" \")","v":" "}]
[null,null,null,null,{"$f":"IFERROR(VLOOKUP(D8478,Códigos!B:C,2,0),\" \")","v":" "}]
[null,null,null,null,{"$f":"IFERROR(VLOOKUP(D8479,Códigos!B:C,2,0),\" \")","v":" "}]
[null,null,null,null,{"$f":"IFERROR(VLOOKUP(D8480,Códigos!B:C,2,0),\" \")","v":" "}]
[null,null,null,null,{"$f":"IFERROR(VLOOKUP(D8481,Códigos!B:C,2,0),\" \")","v":" "}]
[null,null,null,null,{"$f":"IFERROR(VLOOKUP(D8482,Códigos!B:C,2,0),\" \")","v":" "}]
[null,null,null,null,{"$f":"IFERROR(VLOOKUP(D8483,Códigos!B:C,2,0),\" \")","v":" "}]
[null,null,null,null,{"$f":"IFERROR(VLOOKUP(D8484,Códigos!B:C,2,0),\" \")","v":" "}]
[null,null,null,null,{"$f":"IFERROR(VLOOKUP(D8485,Códigos!B:C,2,0),\" \")","v":" "}]
[null,null,null,null,{"$f":"IFERROR(VLOOKUP(D8486,Códigos!B:C,2,0),\" \")","v":" "}]
[null,null,null,null,{"$f":"IFERROR(VLOOKUP(D8487,Códigos!B:C,2,0),\" \")","v":" "}]
[null,null,null,null,{"$f":"IFERROR(VLOOKUP(D8488,Códigos!B:C,2,0),\" \")","v":" "}]
[null,null,null,null,{"$f":"IFERROR(VLOOKUP(D8489,Códigos!B:C,2,0),\" \")","v":" "}]
[null,null,null,null,{"$f":"IFERROR(VLOOKUP(D8490,Códigos!B:C,2,0),\" \")","v":" "}]
[null,null,null,null,{"$f":"IFERROR(VLOOKUP(D8491,Códigos!B:C,2,0),\" \")","v":" "}]
[null,null,null,null,{"$f":"IFERROR(VLOOKUP(D8492,Códigos!B:C,2,0),\" \")","v":" "}]
[null,null,null,null,{"$f":"IFERROR(VLOOKUP(D8493,Códigos!B:C,2,0),\" \")","v":" "}]
[null,null,null,null,{"$f":"IFERROR(VLOOKUP(D8494,Códigos!B:C,2,0),\" \")","v":" "}]
[null,null,null,null,{"$f":"IFERROR(VLOOKUP(D8495,Códigos!B:C,2,0),\" \")","v":" "}]
[null,null,null,null,{"$f":"IFERROR(VLOOKUP(D8496,Códigos!B:C,2,0),\" \")","v":" "}]
[null,null,null,null,{"$f":"IFERROR(VLOOKUP(D8497,Códigos!B:C,2,0),\" \")","v":" "}]
[null,null,null,null,{"$f":"IFERROR(VLOOKUP(D8498,Códigos!B:C,2,0),\" \")","v":" "}]
[null,null,null,null,{"$f":"IFERROR(VLOOKUP(D8499,Códigos!B:C,2,0),\" \")","v":" "}]
[null,null,null,null,{"$f":"IFERROR(VLOOKUP(D8500,Códigos!B:C,2,0),\" \")","v":" "}]
[null,null,null,null,{"$f":"IFERROR(VLOOKUP(D8501,Códigos!B:C,2,0),\" \")","v":" "}]
[null,null,null,null,{"$f":"IFERROR(VLOOKUP(D8502,Códigos!B:C,2,0),\" \")","v":" "}]
[null,null,null,null,{"$f":"IFERROR(VLOOKUP(D8503,Códigos!B:C,2,0),\" \")","v":" "}]
[null,null,null,null,{"$f":"IFERROR(VLOOKUP(D8504,Códigos!B:C,2,0),\" \")","v":" "}]
[null,null,null,null,{"$f":"IFERROR(VLOOKUP(D8505,Códigos!B:C,2,0),\" \")","v":" "}]
[null,null,null,null,{"$f":"IFERROR(VLOOKUP(D8506,Códigos!B:C,2,0),\" \")","v":" "}]
[null,null,null,null,{"$f":"IFERROR(VLOOKUP(D8507,Códigos!B:C,2,0),\" \")","v":" "}]
[null,null,null,null,{"$f":"IFERROR(VLOOKUP(D8508,Códigos!B:C,2,0),\" \")","v":" "}]
[null,null,null,null,{"$f":"IFERROR(VLOOKUP(D8509,Códigos!B:C,2,0),\" \")","v":" "}]
[null,null,null,null,{"$f":"IFERROR(VLOOKUP(D8510,Códigos!B:C,2,0),\" \")","v":" "}]
[null,null,null,null,{"$f":"IFERROR(VLOOKUP(D8511,Códigos!B:C,2,0),\" \")","v":" "}]
[null,null,null,null,{"$f":"IFERROR(VLOOKUP(D8512,Códigos!B:C,2,0),\" \")","v":" "}]
[null,null,null,null,{"$f":"IFERROR(VLOOKUP(D8513,Códigos!B:C,2,0),\" \")","v":" "}]
[null,null,null,null,{"$f":"IFERROR(VLOOKUP(D8514,Códigos!B:C,2,0),\" \")","v":" "}]
[null,null,null,null,{"$f":"IFERROR(VLOOKUP(D8515,Códigos!B:C,2,0),\" \")","v":" "}]
[null,null,null,null,{"$f":"IFERROR(VLOOKUP(D8516,Códigos!B:C,2,0),\" \")","v":" "}]
[null,null,null,null,{"$f":"IFERROR(VLOOKUP(D8517,Códigos!B:C,2,0),\" \")","v":" "}]
[null,null,null,null,{"$f":"IFERROR(VLOOKUP(D8518,Códigos!B:C,2,0),\" \")","v":" "}]
[null,null,null,null,{"$f":"IFERROR(VLOOKUP(D8519,Códigos!B:C,2,0),\" \")","v":" "}]
[null,null,null,null,{"$f":"IFERROR(VLOOKUP(D8520,Códigos!B:C,2,0),\" \")","v":" "}]
[null,null,null,null,{"$f":"IFERROR(VLOOKUP(D8521,Códigos!B:C,2,0),\" \")","v":" "}]
[null,null,null,null,{"$f":"IFERROR(VLOOKUP(D8522,Códigos!B:C,2,0),\" \")","v":" "}]
[null,null,null,null,{"$f":"IFERROR(VLOOKUP(D8523,Códigos!B:C,2,0),\" \")","v":" "}]
[null,null,null,null,{"$f":"IFERROR(VLOOKUP(D8524,Códigos!B:C,2,0),\" \")","v":" "}]
[null,null,null,null,{"$f":"IFERROR(VLOOKUP(D8525,Códigos!B:C,2,0),\" \")","v":" "}]
[null,null,null,null,{"$f":"IFERROR(VLOOKUP(D8526,Códigos!B:C,2,0),\" \")","v":" "}]
[null,null,null,null,{"$f":"IFERROR(VLOOKUP(D8527,Códigos!B:C,2,0),\" \")","v":" "}]
[null,null,null,null,{"$f":"IFERROR(VLOOKUP(D8528,Códigos!B:C,2,0),\" \")","v":" "}]
[null,null,null,null,{"$f":"IFERROR(VLOOKUP(D8529,Códigos!B:C,2,0),\" \")","v":" "}]
[null,null,null,null,{"$f":"IFERROR(VLOOKUP(D8530,Códigos!B:C,2,0),\" \")","v":" "}]
[null,null,null,null,{"$f":"IFERROR(VLOOKUP(D8531,Códigos!B:C,2,0),\" \")","v":" "}]
[null,null,null,null,{"$f":"IFERROR(VLOOKUP(D8532,Códigos!B:C,2,0),\" \")","v":" "}]
[null,null,null,null,{"$f":"IFERROR(VLOOKUP(D8533,Códigos!B:C,2,0),\" \")","v":" "}]
[null,null,null,null,{"$f":"IFERROR(VLOOKUP(D8534,Códigos!B:C,2,0),\" \")","v":" "}]
[null,null,null,null,{"$f":"IFERROR(VLOOKUP(D8535,Códigos!B:C,2,0),\" \")","v":" "}]
[null,null,null,null,{"$f":"IFERROR(VLOOKUP(D8536,Códigos!B:C,2,0),\" \")","v":" "}]
[null,null,null,null,{"$f":"IFERROR(VLOOKUP(D8537,Códigos!B:C,2,0),\" \")","v":" "}]
[null,null,null,null,{"$f":"IFERROR(VLOOKUP(D8538,Códigos!B:C,2,0),\" \")","v":" "}]
[null,null,null,null,{"$f":"IFERROR(VLOOKUP(D8539,Códigos!B:C,2,0),\" \")","v":" "}]
[null,null,null,null,{"$f":"IFERROR(VLOOKUP(D8540,Códigos!B:C,2,0),\" \")","v":" "}]
[null,null,null,null,{"$f":"IFERROR(VLOOKUP(D8541,Códigos!B:C,2,0),\" \")","v":" "}]
[null,null,null,null,{"$f":"IFERROR(VLOOKUP(D8542,Códigos!B:C,2,0),\" \")","v":" "}]
[null,null,null,null,{"$f":"IFERROR(VLOOKUP(D8543,Códigos!B:C,2,0),\" \")","v":" "}]
[null,null,null,null,{"$f":"IFERROR(VLOOKUP(D8544,Códigos!B:C,2,0),\" \")","v":" "}]
[null,null,null,null,{"$f":"IFERROR(VLOOKUP(D8545,Códigos!B:C,2,0),\" \")","v":" "}]
[null,null,null,null,{"$f":"IFERROR(VLOOKUP(D8546,Códigos!B:C,2,0),\" \")","v":" "}]
[null,null,null,null,{"$f":"IFERROR(VLOOKUP(D8547,Códigos!B:C,2,0),\" \")","v":" "}]
[null,null,null,null,{"$f":"IFERROR(VLOOKUP(D8548,Códigos!B:C,2,0),\" \")","v":" "}]
[null,null,null,null,{"$f":"IFERROR(VLOOKUP(D8549,Códigos!B:C,2,0),\" \")","v":" "}]
[null,null,null,null,{"$f":"IFERROR(VLOOKUP(D8550,Códigos!B:C,2,0),\" \")","v":" "}]
[null,null,null,null,{"$f":"IFERROR(VLOOKUP(D8551,Códigos!B:C,2,0),\" \")","v":" "}]
[null,null,null,null,{"$f":"IFERROR(VLOOKUP(D8552,Códigos!B:C,2,0),\" \")","v":" "}]
[null,null,null,null,{"$f":"IFERROR(VLOOKUP(D8553,Códigos!B:C,2,0),\" \")","v":" "}]
[null,null,null,null,{"$f":"IFERROR(VLOOKUP(D8554,Códigos!B:C,2,0),\" \")","v":" "}]
[null,null,null,null,{"$f":"IFERROR(VLOOKUP(D8555,Códigos!B:C,2,0),\" \")","v":" "}]
[null,null,null,null,{"$f":"IFERROR(VLOOKUP(D8556,Códigos!B:C,2,0),\" \")","v":" "}]
[null,null,null,null,{"$f":"IFERROR(VLOOKUP(D8557,Códigos!B:C,2,0),\" \")","v":" "}]
[null,null,null,null,{"$f":"IFERROR(VLOOKUP(D8558,Códigos!B:C,2,0),\" \")","v":" "}]
[null,null,null,null,{"$f":"IFERROR(VLOOKUP(D8559,Códigos!B:C,2,0),\" \")","v":" "}]
[null,null,null,null,{"$f":"IFERROR(VLOOKUP(D8560,Códigos!B:C,2,0),\" \")","v":" "}]
[null,null,null,null,{"$f":"IFERROR(VLOOKUP(D8561,Códigos!B:C,2,0),\" \")","v":" "}]
[null,null,null,null,{"$f":"IFERROR(VLOOKUP(D8562,Códigos!B:C,2,0),\" \")","v":" "}]
[null,null,null,null,{"$f":"IFERROR(VLOOKUP(D8563,Códigos!B:C,2,0),\" \")","v":" "}]
[null,null,null,null,{"$f":"IFERROR(VLOOKUP(D8564,Códigos!B:C,2,0),\" \")","v":" "}]
[null,null,null,null,{"$f":"IFERROR(VLOOKUP(D8565,Códigos!B:C,2,0),\" \")","v":" "}]
[null,null,null,null,{"$f":"IFERROR(VLOOKUP(D8566,Códigos!B:C,2,0),\" \")","v":" "}]
[null,null,null,null,{"$f":"IFERROR(VLOOKUP(D8567,Códigos!B:C,2,0),\" \")","v":" "}]
[null,null,null,null,{"$f":"IFERROR(VLOOKUP(D8568,Códigos!B:C,2,0),\" \")","v":" "}]
[null,null,null,null,{"$f":"IFERROR(VLOOKUP(D8569,Códigos!B:C,2,0),\" \")","v":" "}]
[null,null,null,null,{"$f":"IFERROR(VLOOKUP(D8570,Códigos!B:C,2,0),\" \")","v":" "}]
[null,null,null,null,{"$f":"IFERROR(VLOOKUP(D8571,Códigos!B:C,2,0),\" \")","v":" "}]
[null,null,null,null,{"$f":"IFERROR(VLOOKUP(D8572,Códigos!B:C,2,0),\" \")","v":" "}]
[null,null,null,null,{"$f":"IFERROR(VLOOKUP(D8573,Códigos!B:C,2,0),\" \")","v":" "}]
[null,null,null,null,{"$f":"IFERROR(VLOOKUP(D8574,Códigos!B:C,2,0),\" \")","v":" "}]
[null,null,null,null,{"$f":"IFERROR(VLOOKUP(D8575,Códigos!B:C,2,0),\" \")","v":" "}]
[null,null,null,null,{"$f":"IFERROR(VLOOKUP(D8576,Códigos!B:C,2,0),\" \")","v":" "}]
[null,null,null,null,{"$f":"IFERROR(VLOOKUP(D8577,Códigos!B:C,2,0),\" \")","v":" "}]
[null,null,null,null,{"$f":"IFERROR(VLOOKUP(D8578,Códigos!B:C,2,0),\" \")","v":" "}]
[null,null,null,null,{"$f":"IFERROR(VLOOKUP(D8579,Códigos!B:C,2,0),\" \")","v":" "}]
[null,null,null,null,{"$f":"IFERROR(VLOOKUP(D8580,Códigos!B:C,2,0),\" \")","v":" "}]
[null,null,null,null,{"$f":"IFERROR(VLOOKUP(D8581,Códigos!B:C,2,0),\" \")","v":" "}]
[null,null,null,null,{"$f":"IFERROR(VLOOKUP(D8582,Códigos!B:C,2,0),\" \")","v":" "}]
[null,null,null,null,{"$f":"IFERROR(VLOOKUP(D8583,Códigos!B:C,2,0),\" \")","v":" "}]
[null,null,null,null,{"$f":"IFERROR(VLOOKUP(D8584,Códigos!B:C,2,0),\" \")","v":" "}]
[null,null,null,null,{"$f":"IFERROR(VLOOKUP(D8585,Códigos!B:C,2,0),\" \")","v":" "}]
[null,null,null,null,{"$f":"IFERROR(VLOOKUP(D8586,Códigos!B:C,2,0),\" \")","v":" "}]
[null,null,null,null,{"$f":"IFERROR(VLOOKUP(D8587,Códigos!B:C,2,0),\" \")","v":" "}]
[null,null,null,null,{"$f":"IFERROR(VLOOKUP(D8588,Códigos!B:C,2,0),\" \")","v":" "}]
[null,null,null,null,{"$f":"IFERROR(VLOOKUP(D8589,Códigos!B:C,2,0),\" \")","v":" "}]
[null,null,null,null,{"$f":"IFERROR(VLOOKUP(D8590,Códigos!B:C,2,0),\" \")","v":" "}]
[null,null,null,null,{"$f":"IFERROR(VLOOKUP(D8591,Códigos!B:C,2,0),\" \")","v":" "}]
[null,null,null,null,{"$f":"IFERROR(VLOOKUP(D8592,Códigos!B:C,2,0),\" \")","v":" "}]
[null,null,null,null,{"$f":"IFERROR(VLOOKUP(D8593,Códigos!B:C,2,0),\" \")","v":" "}]
[null,null,null,null,{"$f":"IFERROR(VLOOKUP(D8594,Códigos!B:C,2,0),\" \")","v":" "}]
[null,null,null,null,{"$f":"IFERROR(VLOOKUP(D8595,Códigos!B:C,2,0),\" \")","v":" "}]
[null,null,null,null,{"$f":"IFERROR(VLOOKUP(D8596,Códigos!B:C,2,0),\" \")","v":" "}]
[null,null,null,null,{"$f":"IFERROR(VLOOKUP(D8597,Códigos!B:C,2,0),\" \")","v":" "}]
[null,null,null,null,{"$f":"IFERROR(VLOOKUP(D8598,Códigos!B:C,2,0),\" \")","v":" "}]
[null,null,null,null,{"$f":"IFERROR(VLOOKUP(D8599,Códigos!B:C,2,0),\" \")","v":" "}]
[null,null,null,null,{"$f":"IFERROR(VLOOKUP(D8600,Códigos!B:C,2,0),\" \")","v":" "}]
[null,null,null,null,{"$f":"IFERROR(VLOOKUP(D8601,Códigos!B:C,2,0),\" \")","v":" "}]
[null,null,null,null,{"$f":"IFERROR(VLOOKUP(D8602,Códigos!B:C,2,0),\" \")","v":" "}]
[null,null,null,null,{"$f":"IFERROR(VLOOKUP(D8603,Códigos!B:C,2,0),\" \")","v":" "}]
[null,null,null,null,{"$f":"IFERROR(VLOOKUP(D8604,Códigos!B:C,2,0),\" \")","v":" "}]
[null,null,null,null,{"$f":"IFERROR(VLOOKUP(D8605,Códigos!B:C,2,0),\" \")","v":" "}]
[null,null,null,null,{"$f":"IFERROR(VLOOKUP(D8606,Códigos!B:C,2,0),\" \")","v":" "}]
[null,null,null,null,{"$f":"IFERROR(VLOOKUP(D8607,Códigos!B:C,2,0),\" \")","v":" "}]
[null,null,null,null,{"$f":"IFERROR(VLOOKUP(D8608,Códigos!B:C,2,0),\" \")","v":" "}]
[null,null,null,null,{"$f":"IFERROR(VLOOKUP(D8609,Códigos!B:C,2,0),\" \")","v":" "}]
[null,null,null,null,{"$f":"IFERROR(VLOOKUP(D8610,Códigos!B:C,2,0),\" \")","v":" "}]
[null,null,null,null,{"$f":"IFERROR(VLOOKUP(D8611,Códigos!B:C,2,0),\" \")","v":" "}]
[null,null,null,null,{"$f":"IFERROR(VLOOKUP(D8612,Códigos!B:C,2,0),\" \")","v":" "}]
[null,null,null,null,{"$f":"IFERROR(VLOOKUP(D8613,Códigos!B:C,2,0),\" \")","v":" "}]
[null,null,null,null,{"$f":"IFERROR(VLOOKUP(D8614,Códigos!B:C,2,0),\" \")","v":" "}]
[null,null,null,null,{"$f":"IFERROR(VLOOKUP(D8615,Códigos!B:C,2,0),\" \")","v":" "}]
[null,null,null,null,{"$f":"IFERROR(VLOOKUP(D8616,Códigos!B:C,2,0),\" \")","v":" "}]
[null,null,null,null,{"$f":"IFERROR(VLOOKUP(D8617,Códigos!B:C,2,0),\" \")","v":" "}]
[null,null,null,null,{"$f":"IFERROR(VLOOKUP(D8618,Códigos!B:C,2,0),\" \")","v":" "}]
[null,null,null,null,{"$f":"IFERROR(VLOOKUP(D8619,Códigos!B:C,2,0),\" \")","v":" "}]
[null,null,null,null,{"$f":"IFERROR(VLOOKUP(D8620,Códigos!B:C,2,0),\" \")","v":" "}]
[null,null,null,null,{"$f":"IFERROR(VLOOKUP(D8621,Códigos!B:C,2,0),\" \")","v":" "}]
[null,null,null,null,{"$f":"IFERROR(VLOOKUP(D8622,Códigos!B:C,2,0),\" \")","v":" "}]
[null,null,null,null,{"$f":"IFERROR(VLOOKUP(D8623,Códigos!B:C,2,0),\" \")","v":" "}]
[null,null,null,null,{"$f":"IFERROR(VLOOKUP(D8624,Códigos!B:C,2,0),\" \")","v":" "}]
[null,null,null,null,{"$f":"IFERROR(VLOOKUP(D8625,Códigos!B:C,2,0),\" \")","v":" "}]
[null,null,null,null,{"$f":"IFERROR(VLOOKUP(D8626,Códigos!B:C,2,0),\" \")","v":" "}]
[null,null,null,null,{"$f":"IFERROR(VLOOKUP(D8627,Códigos!B:C,2,0),\" \")","v":" "}]
[null,null,null,null,{"$f":"IFERROR(VLOOKUP(D8628,Códigos!B:C,2,0),\" \")","v":" "}]
[null,null,null,null,{"$f":"IFERROR(VLOOKUP(D8629,Códigos!B:C,2,0),\" \")","v":" "}]
[null,null,null,null,{"$f":"IFERROR(VLOOKUP(D8630,Códigos!B:C,2,0),\" \")","v":" "}]
[null,null,null,null,{"$f":"IFERROR(VLOOKUP(D8631,Códigos!B:C,2,0),\" \")","v":" "}]
[null,null,null,null,{"$f":"IFERROR(VLOOKUP(D8632,Códigos!B:C,2,0),\" \")","v":" "}]
[null,null,null,null,{"$f":"IFERROR(VLOOKUP(D8633,Códigos!B:C,2,0),\" \")","v":" "}]
[null,null,null,null,{"$f":"IFERROR(VLOOKUP(D8634,Códigos!B:C,2,0),\" \")","v":" "}]
[null,null,null,null,{"$f":"IFERROR(VLOOKUP(D8635,Códigos!B:C,2,0),\" \")","v":" "}]
[null,null,null,null,{"$f":"IFERROR(VLOOKUP(D8636,Códigos!B:C,2,0),\" \")","v":" "}]
[null,null,null,null,{"$f":"IFERROR(VLOOKUP(D8637,Códigos!B:C,2,0),\" \")","v":" "}]
[null,null,null,null,{"$f":"IFERROR(VLOOKUP(D8638,Códigos!B:C,2,0),\" \")","v":" "}]
[null,null,null,null,{"$f":"IFERROR(VLOOKUP(D8639,Códigos!B:C,2,0),\" \")","v":" "}]
[null,null,null,null,{"$f":"IFERROR(VLOOKUP(D8640,Códigos!B:C,2,0),\" \")","v":" "}]
[null,null,null,null,{"$f":"IFERROR(VLOOKUP(D8641,Códigos!B:C,2,0),\" \")","v":" "}]
[null,null,null,null,{"$f":"IFERROR(VLOOKUP(D8642,Códigos!B:C,2,0),\" \")","v":" "}]
[null,null,null,null,{"$f":"IFERROR(VLOOKUP(D8643,Códigos!B:C,2,0),\" \")","v":" "}]
[null,null,null,null,{"$f":"IFERROR(VLOOKUP(D8644,Códigos!B:C,2,0),\" \")","v":" "}]
[null,null,null,null,{"$f":"IFERROR(VLOOKUP(D8645,Códigos!B:C,2,0),\" \")","v":" "}]
[null,null,null,null,{"$f":"IFERROR(VLOOKUP(D8646,Códigos!B:C,2,0),\" \")","v":" "}]
[null,null,null,null,{"$f":"IFERROR(VLOOKUP(D8647,Códigos!B:C,2,0),\" \")","v":" "}]
[null,null,null,null,{"$f":"IFERROR(VLOOKUP(D8648,Códigos!B:C,2,0),\" \")","v":" "}]
[null,null,null,null,{"$f":"IFERROR(VLOOKUP(D8649,Códigos!B:C,2,0),\" \")","v":" "}]
[null,null,null,null,{"$f":"IFERROR(VLOOKUP(D8650,Códigos!B:C,2,0),\" \")","v":" "}]
[null,null,null,null,{"$f":"IFERROR(VLOOKUP(D8651,Códigos!B:C,2,0),\" \")","v":" "}]
[null,null,null,null,{"$f":"IFERROR(VLOOKUP(D8652,Códigos!B:C,2,0),\" \")","v":" "}]
[null,null,null,null,{"$f":"IFERROR(VLOOKUP(D8653,Códigos!B:C,2,0),\" \")","v":" "}]
[null,null,null,null,{"$f":"IFERROR(VLOOKUP(D8654,Códigos!B:C,2,0),\" \")","v":" "}]
[null,null,null,null,{"$f":"IFERROR(VLOOKUP(D8655,Códigos!B:C,2,0),\" \")","v":" "}]
[null,null,null,null,{"$f":"IFERROR(VLOOKUP(D8656,Códigos!B:C,2,0),\" \")","v":" "}]
[null,null,null,null,{"$f":"IFERROR(VLOOKUP(D8657,Códigos!B:C,2,0),\" \")","v":" "}]
[null,null,null,null,{"$f":"IFERROR(VLOOKUP(D8658,Códigos!B:C,2,0),\" \")","v":" "}]
[null,null,null,null,{"$f":"IFERROR(VLOOKUP(D8659,Códigos!B:C,2,0),\" \")","v":" "}]
[null,null,null,null,{"$f":"IFERROR(VLOOKUP(D8660,Códigos!B:C,2,0),\" \")","v":" "}]
[null,null,null,null,{"$f":"IFERROR(VLOOKUP(D8661,Códigos!B:C,2,0),\" \")","v":" "}]
[null,null,null,null,{"$f":"IFERROR(VLOOKUP(D8662,Códigos!B:C,2,0),\" \")","v":" "}]
[null,null,null,null,{"$f":"IFERROR(VLOOKUP(D8663,Códigos!B:C,2,0),\" \")","v":" "}]
[null,null,null,null,{"$f":"IFERROR(VLOOKUP(D8664,Códigos!B:C,2,0),\" \")","v":" "}]
[null,null,null,null,{"$f":"IFERROR(VLOOKUP(D8665,Códigos!B:C,2,0),\" \")","v":" "}]
[null,null,null,null,{"$f":"IFERROR(VLOOKUP(D8666,Códigos!B:C,2,0),\" \")","v":" "}]
[null,null,null,null,{"$f":"IFERROR(VLOOKUP(D8667,Códigos!B:C,2,0),\" \")","v":" "}]
[null,null,null,null,{"$f":"IFERROR(VLOOKUP(D8668,Códigos!B:C,2,0),\" \")","v":" "}]
[null,null,null,null,{"$f":"IFERROR(VLOOKUP(D8669,Códigos!B:C,2,0),\" \")","v":" "}]
[null,null,null,null,{"$f":"IFERROR(VLOOKUP(D8670,Códigos!B:C,2,0),\" \")","v":" "}]
[null,null,null,null,{"$f":"IFERROR(VLOOKUP(D8671,Códigos!B:C,2,0),\" \")","v":" "}]
[null,null,null,null,{"$f":"IFERROR(VLOOKUP(D8672,Códigos!B:C,2,0),\" \")","v":" "}]
[null,null,null,null,{"$f":"IFERROR(VLOOKUP(D8673,Códigos!B:C,2,0),\" \")","v":" "}]
[null,null,null,null,{"$f":"IFERROR(VLOOKUP(D8674,Códigos!B:C,2,0),\" \")","v":" "}]
[null,null,null,null,{"$f":"IFERROR(VLOOKUP(D8675,Códigos!B:C,2,0),\" \")","v":" "}]
[null,null,null,null,{"$f":"IFERROR(VLOOKUP(D8676,Códigos!B:C,2,0),\" \")","v":" "}]
[null,null,null,null,{"$f":"IFERROR(VLOOKUP(D8677,Códigos!B:C,2,0),\" \")","v":" "}]
[null,null,null,null,{"$f":"IFERROR(VLOOKUP(D8678,Códigos!B:C,2,0),\" \")","v":" "}]
[null,null,null,null,{"$f":"IFERROR(VLOOKUP(D8679,Códigos!B:C,2,0),\" \")","v":" "}]
[null,null,null,null,{"$f":"IFERROR(VLOOKUP(D8680,Códigos!B:C,2,0),\" \")","v":" "}]
[null,null,null,null,{"$f":"IFERROR(VLOOKUP(D8681,Códigos!B:C,2,0),\" \")","v":" "}]
[null,null,null,null,{"$f":"IFERROR(VLOOKUP(D8682,Códigos!B:C,2,0),\" \")","v":" "}]
[null,null,null,null,{"$f":"IFERROR(VLOOKUP(D8683,Códigos!B:C,2,0),\" \")","v":" "}]
[null,null,null,null,{"$f":"IFERROR(VLOOKUP(D8684,Códigos!B:C,2,0),\" \")","v":" "}]
[null,null,null,null,{"$f":"IFERROR(VLOOKUP(D8685,Códigos!B:C,2,0),\" \")","v":" "}]
[null,null,null,null,{"$f":"IFERROR(VLOOKUP(D8686,Códigos!B:C,2,0),\" \")","v":" "}]
[null,null,null,null,{"$f":"IFERROR(VLOOKUP(D8687,Códigos!B:C,2,0),\" \")","v":" "}]
[null,null,null,null,{"$f":"IFERROR(VLOOKUP(D8688,Códigos!B:C,2,0),\" \")","v":" "}]
[null,null,null,null,{"$f":"IFERROR(VLOOKUP(D8689,Códigos!B:C,2,0),\" \")","v":" "}]
[null,null,null,null,{"$f":"IFERROR(VLOOKUP(D8690,Códigos!B:C,2,0),\" \")","v":" "}]
[null,null,null,null,{"$f":"IFERROR(VLOOKUP(D8691,Códigos!B:C,2,0),\" \")","v":" "}]
[null,null,null,null,{"$f":"IFERROR(VLOOKUP(D8692,Códigos!B:C,2,0),\" \")","v":" "}]
[null,null,null,null,{"$f":"IFERROR(VLOOKUP(D8693,Códigos!B:C,2,0),\" \")","v":" "}]
[null,null,null,null,{"$f":"IFERROR(VLOOKUP(D8694,Códigos!B:C,2,0),\" \")","v":" "}]
[null,null,null,null,{"$f":"IFERROR(VLOOKUP(D8695,Códigos!B:C,2,0),\" \")","v":" "}]
[null,null,null,null,{"$f":"IFERROR(VLOOKUP(D8696,Códigos!B:C,2,0),\" \")","v":" "}]
[null,null,null,null,{"$f":"IFERROR(VLOOKUP(D8697,Códigos!B:C,2,0),\" \")","v":" "}]
[null,null,null,null,{"$f":"IFERROR(VLOOKUP(D8698,Códigos!B:C,2,0),\" \")","v":" "}]
[null,null,null,null,{"$f":"IFERROR(VLOOKUP(D8699,Códigos!B:C,2,0),\" \")","v":" "}]
[null,null,null,null,{"$f":"IFERROR(VLOOKUP(D8700,Códigos!B:C,2,0),\" \")","v":" "}]
[null,null,null,null,{"$f":"IFERROR(VLOOKUP(D8701,Códigos!B:C,2,0),\" \")","v":" "}]
[null,null,null,null,{"$f":"IFERROR(VLOOKUP(D8702,Códigos!B:C,2,0),\" \")","v":" "}]
[null,null,null,null,{"$f":"IFERROR(VLOOKUP(D8703,Códigos!B:C,2,0),\" \")","v":" "}]
[null,null,null,null,{"$f":"IFERROR(VLOOKUP(D8704,Códigos!B:C,2,0),\" \")","v":" "}]
[null,null,null,null,{"$f":"IFERROR(VLOOKUP(D8705,Códigos!B:C,2,0),\" \")","v":" "}]
[null,null,null,null,{"$f":"IFERROR(VLOOKUP(D8706,Códigos!B:C,2,0),\" \")","v":" "}]
[null,null,null,null,{"$f":"IFERROR(VLOOKUP(D8707,Códigos!B:C,2,0),\" \")","v":" "}]
[null,null,null,null,{"$f":"IFERROR(VLOOKUP(D8708,Códigos!B:C,2,0),\" \")","v":" "}]
[null,null,null,null,{"$f":"IFERROR(VLOOKUP(D8709,Códigos!B:C,2,0),\" \")","v":" "}]
[null,null,null,null,{"$f":"IFERROR(VLOOKUP(D8710,Códigos!B:C,2,0),\" \")","v":" "}]
[null,null,null,null,{"$f":"IFERROR(VLOOKUP(D8711,Códigos!B:C,2,0),\" \")","v":" "}]
[null,null,null,null,{"$f":"IFERROR(VLOOKUP(D8712,Códigos!B:C,2,0),\" \")","v":" "}]
[null,null,null,null,{"$f":"IFERROR(VLOOKUP(D8713,Códigos!B:C,2,0),\" \")","v":" "}]
[null,null,null,null,{"$f":"IFERROR(VLOOKUP(D8714,Códigos!B:C,2,0),\" \")","v":" "}]
[null,null,null,null,{"$f":"IFERROR(VLOOKUP(D8715,Códigos!B:C,2,0),\" \")","v":" "}]
[null,null,null,null,{"$f":"IFERROR(VLOOKUP(D8716,Códigos!B:C,2,0),\" \")","v":" "}]
[null,null,null,null,{"$f":"IFERROR(VLOOKUP(D8717,Códigos!B:C,2,0),\" \")","v":" "}]
[null,null,null,null,{"$f":"IFERROR(VLOOKUP(D8718,Códigos!B:C,2,0),\" \")","v":" "}]
[null,null,null,null,{"$f":"IFERROR(VLOOKUP(D8719,Códigos!B:C,2,0),\" \")","v":" "}]
[null,null,null,null,{"$f":"IFERROR(VLOOKUP(D8720,Códigos!B:C,2,0),\" \")","v":" "}]
[null,null,null,null,{"$f":"IFERROR(VLOOKUP(D8721,Códigos!B:C,2,0),\" \")","v":" "}]
[null,null,null,null,{"$f":"IFERROR(VLOOKUP(D8722,Códigos!B:C,2,0),\" \")","v":" "}]
[null,null,null,null,{"$f":"IFERROR(VLOOKUP(D8723,Códigos!B:C,2,0),\" \")","v":" "}]
[null,null,null,null,{"$f":"IFERROR(VLOOKUP(D8724,Códigos!B:C,2,0),\" \")","v":" "}]
[null,null,null,null,{"$f":"IFERROR(VLOOKUP(D8725,Códigos!B:C,2,0),\" \")","v":" "}]
[null,null,null,null,{"$f":"IFERROR(VLOOKUP(D8726,Códigos!B:C,2,0),\" \")","v":" "}]
[null,null,null,null,{"$f":"IFERROR(VLOOKUP(D8727,Códigos!B:C,2,0),\" \")","v":" "}]
[null,null,null,null,{"$f":"IFERROR(VLOOKUP(D8728,Códigos!B:C,2,0),\" \")","v":" "}]
[null,null,null,null,{"$f":"IFERROR(VLOOKUP(D8729,Códigos!B:C,2,0),\" \")","v":" "}]
[null,null,null,null,{"$f":"IFERROR(VLOOKUP(D8730,Códigos!B:C,2,0),\" \")","v":" "}]
[null,null,null,null,{"$f":"IFERROR(VLOOKUP(D8731,Códigos!B:C,2,0),\" \")","v":" "}]
[null,null,null,null,{"$f":"IFERROR(VLOOKUP(D8732,Códigos!B:C,2,0),\" \")","v":" "}]
[null,null,null,null,{"$f":"IFERROR(VLOOKUP(D8733,Códigos!B:C,2,0),\" \")","v":" "}]
[null,null,null,null,{"$f":"IFERROR(VLOOKUP(D8734,Códigos!B:C,2,0),\" \")","v":" "}]
[null,null,null,null,{"$f":"IFERROR(VLOOKUP(D8735,Códigos!B:C,2,0),\" \")","v":" "}]
[null,null,null,null,{"$f":"IFERROR(VLOOKUP(D8736,Códigos!B:C,2,0),\" \")","v":" "}]
[null,null,null,null,{"$f":"IFERROR(VLOOKUP(D8737,Códigos!B:C,2,0),\" \")","v":" "}]
[null,null,null,null,{"$f":"IFERROR(VLOOKUP(D8738,Códigos!B:C,2,0),\" \")","v":" "}]
[null,null,null,null,{"$f":"IFERROR(VLOOKUP(D8739,Códigos!B:C,2,0),\" \")","v":" "}]
[null,null,null,null,{"$f":"IFERROR(VLOOKUP(D8740,Códigos!B:C,2,0),\" \")","v":" "}]
[null,null,null,null,{"$f":"IFERROR(VLOOKUP(D8741,Códigos!B:C,2,0),\" \")","v":" "}]
[null,null,null,null,{"$f":"IFERROR(VLOOKUP(D8742,Códigos!B:C,2,0),\" \")","v":" "}]
[null,null,null,null,{"$f":"IFERROR(VLOOKUP(D8743,Códigos!B:C,2,0),\" \")","v":" "}]
[null,null,null,null,{"$f":"IFERROR(VLOOKUP(D8744,Códigos!B:C,2,0),\" \")","v":" "}]
[null,null,null,null,{"$f":"IFERROR(VLOOKUP(D8745,Códigos!B:C,2,0),\" \")","v":" "}]
[null,null,null,null,{"$f":"IFERROR(VLOOKUP(D8746,Códigos!B:C,2,0),\" \")","v":" "}]
[null,null,null,null,{"$f":"IFERROR(VLOOKUP(D8747,Códigos!B:C,2,0),\" \")","v":" "}]
[null,null,null,null,{"$f":"IFERROR(VLOOKUP(D8748,Códigos!B:C,2,0),\" \")","v":" "}]
[null,null,null,null,{"$f":"IFERROR(VLOOKUP(D8749,Códigos!B:C,2,0),\" \")","v":" "}]
[null,null,null,null,{"$f":"IFERROR(VLOOKUP(D8750,Códigos!B:C,2,0),\" \")","v":" "}]
[null,null,null,null,{"$f":"IFERROR(VLOOKUP(D8751,Códigos!B:C,2,0),\" \")","v":" "}]
[null,null,null,null,{"$f":"IFERROR(VLOOKUP(D8752,Códigos!B:C,2,0),\" \")","v":" "}]
[null,null,null,null,{"$f":"IFERROR(VLOOKUP(D8753,Códigos!B:C,2,0),\" \")","v":" "}]
[null,null,null,null,{"$f":"IFERROR(VLOOKUP(D8754,Códigos!B:C,2,0),\" \")","v":" "}]
[null,null,null,null,{"$f":"IFERROR(VLOOKUP(D8755,Códigos!B:C,2,0),\" \")","v":" "}]
[null,null,null,null,{"$f":"IFERROR(VLOOKUP(D8756,Códigos!B:C,2,0),\" \")","v":" "}]
[null,null,null,null,{"$f":"IFERROR(VLOOKUP(D8757,Códigos!B:C,2,0),\" \")","v":" "}]
[null,null,null,null,{"$f":"IFERROR(VLOOKUP(D8758,Códigos!B:C,2,0),\" \")","v":" "}]
[null,null,null,null,{"$f":"IFERROR(VLOOKUP(D8759,Códigos!B:C,2,0),\" \")","v":" "}]
[null,null,null,null,{"$f":"IFERROR(VLOOKUP(D8760,Códigos!B:C,2,0),\" \")","v":" "}]
[null,null,null,null,{"$f":"IFERROR(VLOOKUP(D8761,Códigos!B:C,2,0),\" \")","v":" "}]
[null,null,null,null,{"$f":"IFERROR(VLOOKUP(D8762,Códigos!B:C,2,0),\" \")","v":" "}]
[null,null,null,null,{"$f":"IFERROR(VLOOKUP(D8763,Códigos!B:C,2,0),\" \")","v":" "}]
[null,null,null,null,{"$f":"IFERROR(VLOOKUP(D8764,Códigos!B:C,2,0),\" \")","v":" "}]
[null,null,null,null,{"$f":"IFERROR(VLOOKUP(D8765,Códigos!B:C,2,0),\" \")","v":" "}]
[null,null,null,null,{"$f":"IFERROR(VLOOKUP(D8766,Códigos!B:C,2,0),\" \")","v":" "}]
[null,null,null,null,{"$f":"IFERROR(VLOOKUP(D8767,Códigos!B:C,2,0),\" \")","v":" "}]
[null,null,null,null,{"$f":"IFERROR(VLOOKUP(D8768,Códigos!B:C,2,0),\" \")","v":" "}]
[null,null,null,null,{"$f":"IFERROR(VLOOKUP(D8769,Códigos!B:C,2,0),\" \")","v":" "}]
[null,null,null,null,{"$f":"IFERROR(VLOOKUP(D8770,Códigos!B:C,2,0),\" \")","v":" "}]
[null,null,null,null,{"$f":"IFERROR(VLOOKUP(D8771,Códigos!B:C,2,0),\" \")","v":" "}]
[null,null,null,null,{"$f":"IFERROR(VLOOKUP(D8772,Códigos!B:C,2,0),\" \")","v":" "}]
[null,null,null,null,{"$f":"IFERROR(VLOOKUP(D8773,Códigos!B:C,2,0),\" \")","v":" "}]
[null,null,null,null,{"$f":"IFERROR(VLOOKUP(D8774,Códigos!B:C,2,0),\" \")","v":" "}]
[null,null,null,null,{"$f":"IFERROR(VLOOKUP(D8775,Códigos!B:C,2,0),\" \")","v":" "}]
[null,null,null,null,{"$f":"IFERROR(VLOOKUP(D8776,Códigos!B:C,2,0),\" \")","v":" "}]
[null,null,null,null,{"$f":"IFERROR(VLOOKUP(D8777,Códigos!B:C,2,0),\" \")","v":" "}]
[null,null,null,null,{"$f":"IFERROR(VLOOKUP(D8778,Códigos!B:C,2,0),\" \")","v":" "}]
[null,null,null,null,{"$f":"IFERROR(VLOOKUP(D8779,Códigos!B:C,2,0),\" \")","v":" "}]
[null,null,null,null,{"$f":"IFERROR(VLOOKUP(D8780,Códigos!B:C,2,0),\" \")","v":" "}]
[null,null,null,null,{"$f":"IFERROR(VLOOKUP(D8781,Códigos!B:C,2,0),\" \")","v":" "}]
[null,null,null,null,{"$f":"IFERROR(VLOOKUP(D8782,Códigos!B:C,2,0),\" \")","v":" "}]
[null,null,null,null,{"$f":"IFERROR(VLOOKUP(D8783,Códigos!B:C,2,0),\" \")","v":" "}]
[null,null,null,null,{"$f":"IFERROR(VLOOKUP(D8784,Códigos!B:C,2,0),\" \")","v":" "}]
[null,null,null,null,{"$f":"IFERROR(VLOOKUP(D8785,Códigos!B:C,2,0),\" \")","v":" "}]
[null,null,null,null,{"$f":"IFERROR(VLOOKUP(D8786,Códigos!B:C,2,0),\" \")","v":" "}]
[null,null,null,null,{"$f":"IFERROR(VLOOKUP(D8787,Códigos!B:C,2,0),\" \")","v":" "}]
[null,null,null,null,{"$f":"IFERROR(VLOOKUP(D8788,Códigos!B:C,2,0),\" \")","v":" "}]
[null,null,null,null,{"$f":"IFERROR(VLOOKUP(D8789,Códigos!B:C,2,0),\" \")","v":" "}]
[null,null,null,null,{"$f":"IFERROR(VLOOKUP(D8790,Códigos!B:C,2,0),\" \")","v":" "}]
[null,null,null,null,{"$f":"IFERROR(VLOOKUP(D8791,Códigos!B:C,2,0),\" \")","v":" "}]
[null,null,null,null,{"$f":"IFERROR(VLOOKUP(D8792,Códigos!B:C,2,0),\" \")","v":" "}]
[null,null,null,null,{"$f":"IFERROR(VLOOKUP(D8793,Códigos!B:C,2,0),\" \")","v":" "}]
[null,null,null,null,{"$f":"IFERROR(VLOOKUP(D8794,Códigos!B:C,2,0),\" \")","v":" "}]
[null,null,null,null,{"$f":"IFERROR(VLOOKUP(D8795,Códigos!B:C,2,0),\" \")","v":" "}]
[null,null,null,null,{"$f":"IFERROR(VLOOKUP(D8796,Códigos!B:C,2,0),\" \")","v":" "}]
[null,null,null,null,{"$f":"IFERROR(VLOOKUP(D8797,Códigos!B:C,2,0),\" \")","v":" "}]
[null,null,null,null,{"$f":"IFERROR(VLOOKUP(D8798,Códigos!B:C,2,0),\" \")","v":" "}]
[null,null,null,null,{"$f":"IFERROR(VLOOKUP(D8799,Códigos!B:C,2,0),\" \")","v":" "}]
[null,null,null,null,{"$f":"IFERROR(VLOOKUP(D8800,Códigos!B:C,2,0),\" \")","v":" "}]
[null,null,null,null,{"$f":"IFERROR(VLOOKUP(D8801,Códigos!B:C,2,0),\" \")","v":" "}]
[null,null,null,null,{"$f":"IFERROR(VLOOKUP(D8802,Códigos!B:C,2,0),\" \")","v":" "}]
[null,null,null,null,{"$f":"IFERROR(VLOOKUP(D8803,Códigos!B:C,2,0),\" \")","v":" "}]
[null,null,null,null,{"$f":"IFERROR(VLOOKUP(D8804,Códigos!B:C,2,0),\" \")","v":" "}]
[null,null,null,null,{"$f":"IFERROR(VLOOKUP(D8805,Códigos!B:C,2,0),\" \")","v":" "}]
[null,null,null,null,{"$f":"IFERROR(VLOOKUP(D8806,Códigos!B:C,2,0),\" \")","v":" "}]
[null,null,null,null,{"$f":"IFERROR(VLOOKUP(D8807,Códigos!B:C,2,0),\" \")","v":" "}]
[null,null,null,null,{"$f":"IFERROR(VLOOKUP(D8808,Códigos!B:C,2,0),\" \")","v":" "}]
[null,null,null,null,{"$f":"IFERROR(VLOOKUP(D8809,Códigos!B:C,2,0),\" \")","v":" "}]
[null,null,null,null,{"$f":"IFERROR(VLOOKUP(D8810,Códigos!B:C,2,0),\" \")","v":" "}]
[null,null,null,null,{"$f":"IFERROR(VLOOKUP(D8811,Códigos!B:C,2,0),\" \")","v":" "}]
[null,null,null,null,{"$f":"IFERROR(VLOOKUP(D8812,Códigos!B:C,2,0),\" \")","v":" "}]
[null,null,null,null,{"$f":"IFERROR(VLOOKUP(D8813,Códigos!B:C,2,0),\" \")","v":" "}]
[null,null,null,null,{"$f":"IFERROR(VLOOKUP(D8814,Códigos!B:C,2,0),\" \")","v":" "}]
[null,null,null,null,{"$f":"IFERROR(VLOOKUP(D8815,Códigos!B:C,2,0),\" \")","v":" "}]
[null,null,null,null,{"$f":"IFERROR(VLOOKUP(D8816,Códigos!B:C,2,0),\" \")","v":" "}]
[null,null,null,null,{"$f":"IFERROR(VLOOKUP(D8817,Códigos!B:C,2,0),\" \")","v":" "}]
[null,null,null,null,{"$f":"IFERROR(VLOOKUP(D8818,Códigos!B:C,2,0),\" \")","v":" "}]
[null,null,null,null,{"$f":"IFERROR(VLOOKUP(D8819,Códigos!B:C,2,0),\" \")","v":" "}]
[null,null,null,null,{"$f":"IFERROR(VLOOKUP(D8820,Códigos!B:C,2,0),\" \")","v":" "}]
[null,null,null,null,{"$f":"IFERROR(VLOOKUP(D8821,Códigos!B:C,2,0),\" \")","v":" "}]
[null,null,null,null,{"$f":"IFERROR(VLOOKUP(D8822,Códigos!B:C,2,0),\" \")","v":" "}]
[null,null,null,null,{"$f":"IFERROR(VLOOKUP(D8823,Códigos!B:C,2,0),\" \")","v":" "}]
[null,null,null,null,{"$f":"IFERROR(VLOOKUP(D8824,Códigos!B:C,2,0),\" \")","v":" "}]
[null,null,null,null,{"$f":"IFERROR(VLOOKUP(D8825,Códigos!B:C,2,0),\" \")","v":" "}]
[null,null,null,null,{"$f":"IFERROR(VLOOKUP(D8826,Códigos!B:C,2,0),\" \")","v":" "}]
[null,null,null,null,{"$f":"IFERROR(VLOOKUP(D8827,Códigos!B:C,2,0),\" \")","v":" "}]
[null,null,null,null,{"$f":"IFERROR(VLOOKUP(D8828,Códigos!B:C,2,0),\" \")","v":" "}]
[null,null,null,null,{"$f":"IFERROR(VLOOKUP(D8829,Códigos!B:C,2,0),\" \")","v":" "}]
[null,null,null,null,{"$f":"IFERROR(VLOOKUP(D8830,Códigos!B:C,2,0),\" \")","v":" "}]
[null,null,null,null,{"$f":"IFERROR(VLOOKUP(D8831,Códigos!B:C,2,0),\" \")","v":" "}]
[null,null,null,null,{"$f":"IFERROR(VLOOKUP(D8832,Códigos!B:C,2,0),\" \")","v":" "}]
[null,null,null,null,{"$f":"IFERROR(VLOOKUP(D8833,Códigos!B:C,2,0),\" \")","v":" "}]
[null,null,null,null,{"$f":"IFERROR(VLOOKUP(D8834,Códigos!B:C,2,0),\" \")","v":" "}]
[null,null,null,null,{"$f":"IFERROR(VLOOKUP(D8835,Códigos!B:C,2,0),\" \")","v":" "}]
[null,null,null,null,{"$f":"IFERROR(VLOOKUP(D8836,Códigos!B:C,2,0),\" \")","v":" "}]
[null,null,null,null,{"$f":"IFERROR(VLOOKUP(D8837,Códigos!B:C,2,0),\" \")","v":" "}]
[null,null,null,null,{"$f":"IFERROR(VLOOKUP(D8838,Códigos!B:C,2,0),\" \")","v":" "}]
[null,null,null,null,{"$f":"IFERROR(VLOOKUP(D8839,Códigos!B:C,2,0),\" \")","v":" "}]
[null,null,null,null,{"$f":"IFERROR(VLOOKUP(D8840,Códigos!B:C,2,0),\" \")","v":" "}]
[null,null,null,null,{"$f":"IFERROR(VLOOKUP(D8841,Códigos!B:C,2,0),\" \")","v":" "}]
[null,null,null,null,{"$f":"IFERROR(VLOOKUP(D8842,Códigos!B:C,2,0),\" \")","v":" "}]
[null,null,null,null,{"$f":"IFERROR(VLOOKUP(D8843,Códigos!B:C,2,0),\" \")","v":" "}]
[null,null,null,null,{"$f":"IFERROR(VLOOKUP(D8844,Códigos!B:C,2,0),\" \")","v":" "}]
[null,null,null,null,{"$f":"IFERROR(VLOOKUP(D8845,Códigos!B:C,2,0),\" \")","v":" "}]
[null,null,null,null,{"$f":"IFERROR(VLOOKUP(D8846,Códigos!B:C,2,0),\" \")","v":" "}]
[null,null,null,null,{"$f":"IFERROR(VLOOKUP(D8847,Códigos!B:C,2,0),\" \")","v":" "}]
[null,null,null,null,{"$f":"IFERROR(VLOOKUP(D8848,Códigos!B:C,2,0),\" \")","v":" "}]
[null,null,null,null,{"$f":"IFERROR(VLOOKUP(D8849,Códigos!B:C,2,0),\" \")","v":" "}]
[null,null,null,null,{"$f":"IFERROR(VLOOKUP(D8850,Códigos!B:C,2,0),\" \")","v":" "}]
[null,null,null,null,{"$f":"IFERROR(VLOOKUP(D8851,Códigos!B:C,2,0),\" \")","v":" "}]
[null,null,null,null,{"$f":"IFERROR(VLOOKUP(D8852,Códigos!B:C,2,0),\" \")","v":" "}]
[null,null,null,null,{"$f":"IFERROR(VLOOKUP(D8853,Códigos!B:C,2,0),\" \")","v":" "}]
[null,null,null,null,{"$f":"IFERROR(VLOOKUP(D8854,Códigos!B:C,2,0),\" \")","v":" "}]
[null,null,null,null,{"$f":"IFERROR(VLOOKUP(D8855,Códigos!B:C,2,0),\" \")","v":" "}]
[null,null,null,null,{"$f":"IFERROR(VLOOKUP(D8856,Códigos!B:C,2,0),\" \")","v":" "}]
[null,null,null,null,{"$f":"IFERROR(VLOOKUP(D8857,Códigos!B:C,2,0),\" \")","v":" "}]
[null,null,null,null,{"$f":"IFERROR(VLOOKUP(D8858,Códigos!B:C,2,0),\" \")","v":" "}]
[null,null,null,null,{"$f":"IFERROR(VLOOKUP(D8859,Códigos!B:C,2,0),\" \")","v":" "}]
[null,null,null,null,{"$f":"IFERROR(VLOOKUP(D8860,Códigos!B:C,2,0),\" \")","v":" "}]
[null,null,null,null,{"$f":"IFERROR(VLOOKUP(D8861,Códigos!B:C,2,0),\" \")","v":" "}]
[null,null,null,null,{"$f":"IFERROR(VLOOKUP(D8862,Códigos!B:C,2,0),\" \")","v":" "}]
[null,null,null,null,{"$f":"IFERROR(VLOOKUP(D8863,Códigos!B:C,2,0),\" \")","v":" "}]
[null,null,null,null,{"$f":"IFERROR(VLOOKUP(D8864,Códigos!B:C,2,0),\" \")","v":" "}]
[null,null,null,null,{"$f":"IFERROR(VLOOKUP(D8865,Códigos!B:C,2,0),\" \")","v":" "}]
[null,null,null,null,{"$f":"IFERROR(VLOOKUP(D8866,Códigos!B:C,2,0),\" \")","v":" "}]
[null,null,null,null,{"$f":"IFERROR(VLOOKUP(D8867,Códigos!B:C,2,0),\" \")","v":" "}]
[null,null,null,null,{"$f":"IFERROR(VLOOKUP(D8868,Códigos!B:C,2,0),\" \")","v":" "}]
[null,null,null,null,{"$f":"IFERROR(VLOOKUP(D8869,Códigos!B:C,2,0),\" \")","v":" "}]
[null,null,null,null,{"$f":"IFERROR(VLOOKUP(D8870,Códigos!B:C,2,0),\" \")","v":" "}]
[null,null,null,null,{"$f":"IFERROR(VLOOKUP(D8871,Códigos!B:C,2,0),\" \")","v":" "}]
[null,null,null,null,{"$f":"IFERROR(VLOOKUP(D8872,Códigos!B:C,2,0),\" \")","v":" "}]
[null,null,null,null,{"$f":"IFERROR(VLOOKUP(D8873,Códigos!B:C,2,0),\" \")","v":" "}]
[null,null,null,null,{"$f":"IFERROR(VLOOKUP(D8874,Códigos!B:C,2,0),\" \")","v":" "}]
[null,null,null,null,{"$f":"IFERROR(VLOOKUP(D8875,Códigos!B:C,2,0),\" \")","v":" "}]
[null,null,null,null,{"$f":"IFERROR(VLOOKUP(D8876,Códigos!B:C,2,0),\" \")","v":" "}]
[null,null,null,null,{"$f":"IFERROR(VLOOKUP(D8877,Códigos!B:C,2,0),\" \")","v":" "}]
[null,null,null,null,{"$f":"IFERROR(VLOOKUP(D8878,Códigos!B:C,2,0),\" \")","v":" "}]
[null,null,null,null,{"$f":"IFERROR(VLOOKUP(D8879,Códigos!B:C,2,0),\" \")","v":" "}]
[null,null,null,null,{"$f":"IFERROR(VLOOKUP(D8880,Códigos!B:C,2,0),\" \")","v":" "}]
[null,null,null,null,{"$f":"IFERROR(VLOOKUP(D8881,Códigos!B:C,2,0),\" \")","v":" "}]
[null,null,null,null,{"$f":"IFERROR(VLOOKUP(D8882,Códigos!B:C,2,0),\" \")","v":" "}]
[null,null,null,null,{"$f":"IFERROR(VLOOKUP(D8883,Códigos!B:C,2,0),\" \")","v":" "}]
[null,null,null,null,{"$f":"IFERROR(VLOOKUP(D8884,Códigos!B:C,2,0),\" \")","v":" "}]
[null,null,null,null,{"$f":"IFERROR(VLOOKUP(D8885,Códigos!B:C,2,0),\" \")","v":" "}]
[null,null,null,null,{"$f":"IFERROR(VLOOKUP(D8886,Códigos!B:C,2,0),\" \")","v":" "}]
[null,null,null,null,{"$f":"IFERROR(VLOOKUP(D8887,Códigos!B:C,2,0),\" \")","v":" "}]
[null,null,null,null,{"$f":"IFERROR(VLOOKUP(D8888,Códigos!B:C,2,0),\" \")","v":" "}]
[null,null,null,null,{"$f":"IFERROR(VLOOKUP(D8889,Códigos!B:C,2,0),\" \")","v":" "}]
[null,null,null,null,{"$f":"IFERROR(VLOOKUP(D8890,Códigos!B:C,2,0),\" \")","v":" "}]
[null,null,null,null,{"$f":"IFERROR(VLOOKUP(D8891,Códigos!B:C,2,0),\" \")","v":" "}]
[null,null,null,null,{"$f":"IFERROR(VLOOKUP(D8892,Códigos!B:C,2,0),\" \")","v":" "}]
[null,null,null,null,{"$f":"IFERROR(VLOOKUP(D8893,Códigos!B:C,2,0),\" \")","v":" "}]
[null,null,null,null,{"$f":"IFERROR(VLOOKUP(D8894,Códigos!B:C,2,0),\" \")","v":" "}]
[null,null,null,null,{"$f":"IFERROR(VLOOKUP(D8895,Códigos!B:C,2,0),\" \")","v":" "}]
[null,null,null,null,{"$f":"IFERROR(VLOOKUP(D8896,Códigos!B:C,2,0),\" \")","v":" "}]
[null,null,null,null,{"$f":"IFERROR(VLOOKUP(D8897,Códigos!B:C,2,0),\" \")","v":" "}]
[null,null,null,null,{"$f":"IFERROR(VLOOKUP(D8898,Códigos!B:C,2,0),\" \")","v":" "}]
[null,null,null,null,{"$f":"IFERROR(VLOOKUP(D8899,Códigos!B:C,2,0),\" \")","v":" "}]
[null,null,null,null,{"$f":"IFERROR(VLOOKUP(D8900,Códigos!B:C,2,0),\" \")","v":" "}]
[null,null,null,null,{"$f":"IFERROR(VLOOKUP(D8901,Códigos!B:C,2,0),\" \")","v":" "}]
[null,null,null,null,{"$f":"IFERROR(VLOOKUP(D8902,Códigos!B:C,2,0),\" \")","v":" "}]
[null,null,null,null,{"$f":"IFERROR(VLOOKUP(D8903,Códigos!B:C,2,0),\" \")","v":" "}]
[null,null,null,null,{"$f":"IFERROR(VLOOKUP(D8904,Códigos!B:C,2,0),\" \")","v":" "}]
[null,null,null,null,{"$f":"IFERROR(VLOOKUP(D8905,Códigos!B:C,2,0),\" \")","v":" "}]
[null,null,null,null,{"$f":"IFERROR(VLOOKUP(D8906,Códigos!B:C,2,0),\" \")","v":" "}]
[null,null,null,null,{"$f":"IFERROR(VLOOKUP(D8907,Códigos!B:C,2,0),\" \")","v":" "}]
[null,null,null,null,{"$f":"IFERROR(VLOOKUP(D8908,Códigos!B:C,2,0),\" \")","v":" "}]
[null,null,null,null,{"$f":"IFERROR(VLOOKUP(D8909,Códigos!B:C,2,0),\" \")","v":" "}]
[null,null,null,null,{"$f":"IFERROR(VLOOKUP(D8910,Códigos!B:C,2,0),\" \")","v":" "}]
[null,null,null,null,{"$f":"IFERROR(VLOOKUP(D8911,Códigos!B:C,2,0),\" \")","v":" "}]
[null,null,null,null,{"$f":"IFERROR(VLOOKUP(D8912,Códigos!B:C,2,0),\" \")","v":" "}]
[null,null,null,null,{"$f":"IFERROR(VLOOKUP(D8913,Códigos!B:C,2,0),\" \")","v":" "}]
[null,null,null,null,{"$f":"IFERROR(VLOOKUP(D8914,Códigos!B:C,2,0),\" \")","v":" "}]
[null,null,null,null,{"$f":"IFERROR(VLOOKUP(D8915,Códigos!B:C,2,0),\" \")","v":" "}]
[null,null,null,null,{"$f":"IFERROR(VLOOKUP(D8916,Códigos!B:C,2,0),\" \")","v":" "}]
[null,null,null,null,{"$f":"IFERROR(VLOOKUP(D8917,Códigos!B:C,2,0),\" \")","v":" "}]
[null,null,null,null,{"$f":"IFERROR(VLOOKUP(D8918,Códigos!B:C,2,0),\" \")","v":" "}]
[null,null,null,null,{"$f":"IFERROR(VLOOKUP(D8919,Códigos!B:C,2,0),\" \")","v":" "}]
[null,null,null,null,{"$f":"IFERROR(VLOOKUP(D8920,Códigos!B:C,2,0),\" \")","v":" "}]
[null,null,null,null,{"$f":"IFERROR(VLOOKUP(D8921,Códigos!B:C,2,0),\" \")","v":" "}]
[null,null,null,null,{"$f":"IFERROR(VLOOKUP(D8922,Códigos!B:C,2,0),\" \")","v":" "}]
[null,null,null,null,{"$f":"IFERROR(VLOOKUP(D8923,Códigos!B:C,2,0),\" \")","v":" "}]
[null,null,null,null,{"$f":"IFERROR(VLOOKUP(D8924,Códigos!B:C,2,0),\" \")","v":" "}]
[null,null,null,null,{"$f":"IFERROR(VLOOKUP(D8925,Códigos!B:C,2,0),\" \")","v":" "}]
[null,null,null,null,{"$f":"IFERROR(VLOOKUP(D8926,Códigos!B:C,2,0),\" \")","v":" "}]
[null,null,null,null,{"$f":"IFERROR(VLOOKUP(D8927,Códigos!B:C,2,0),\" \")","v":" "}]
[null,null,null,null,{"$f":"IFERROR(VLOOKUP(D8928,Códigos!B:C,2,0),\" \")","v":" "}]
[null,null,null,null,{"$f":"IFERROR(VLOOKUP(D8929,Códigos!B:C,2,0),\" \")","v":" "}]
[null,null,null,null,{"$f":"IFERROR(VLOOKUP(D8930,Códigos!B:C,2,0),\" \")","v":" "}]
[null,null,null,null,{"$f":"IFERROR(VLOOKUP(D8931,Códigos!B:C,2,0),\" \")","v":" "}]
[null,null,null,null,{"$f":"IFERROR(VLOOKUP(D8932,Códigos!B:C,2,0),\" \")","v":" "}]
[null,null,null,null,{"$f":"IFERROR(VLOOKUP(D8933,Códigos!B:C,2,0),\" \")","v":" "}]
[null,null,null,null,{"$f":"IFERROR(VLOOKUP(D8934,Códigos!B:C,2,0),\" \")","v":" "}]
[null,null,null,null,{"$f":"IFERROR(VLOOKUP(D8935,Códigos!B:C,2,0),\" \")","v":" "}]
[null,null,null,null,{"$f":"IFERROR(VLOOKUP(D8936,Códigos!B:C,2,0),\" \")","v":" "}]
[null,null,null,null,{"$f":"IFERROR(VLOOKUP(D8937,Códigos!B:C,2,0),\" \")","v":" "}]
[null,null,null,null,{"$f":"IFERROR(VLOOKUP(D8938,Códigos!B:C,2,0),\" \")","v":" "}]
[null,null,null,null,{"$f":"IFERROR(VLOOKUP(D8939,Códigos!B:C,2,0),\" \")","v":" "}]
[null,null,null,null,{"$f":"IFERROR(VLOOKUP(D8940,Códigos!B:C,2,0),\" \")","v":" "}]
[null,null,null,null,{"$f":"IFERROR(VLOOKUP(D8941,Códigos!B:C,2,0),\" \")","v":" "}]
[null,null,null,null,{"$f":"IFERROR(VLOOKUP(D8942,Códigos!B:C,2,0),\" \")","v":" "}]
[null,null,null,null,{"$f":"IFERROR(VLOOKUP(D8943,Códigos!B:C,2,0),\" \")","v":" "}]
[null,null,null,null,{"$f":"IFERROR(VLOOKUP(D8944,Códigos!B:C,2,0),\" \")","v":" "}]
[null,null,null,null,{"$f":"IFERROR(VLOOKUP(D8945,Códigos!B:C,2,0),\" \")","v":" "}]
[null,null,null,null,{"$f":"IFERROR(VLOOKUP(D8946,Códigos!B:C,2,0),\" \")","v":" "}]
[null,null,null,null,{"$f":"IFERROR(VLOOKUP(D8947,Códigos!B:C,2,0),\" \")","v":" "}]
[null,null,null,null,{"$f":"IFERROR(VLOOKUP(D8948,Códigos!B:C,2,0),\" \")","v":" "}]
[null,null,null,null,{"$f":"IFERROR(VLOOKUP(D8949,Códigos!B:C,2,0),\" \")","v":" "}]
[null,null,null,null,{"$f":"IFERROR(VLOOKUP(D8950,Códigos!B:C,2,0),\" \")","v":" "}]
[null,null,null,null,{"$f":"IFERROR(VLOOKUP(D8951,Códigos!B:C,2,0),\" \")","v":" "}]
[null,null,null,null,{"$f":"IFERROR(VLOOKUP(D8952,Códigos!B:C,2,0),\" \")","v":" "}]
[null,null,null,null,{"$f":"IFERROR(VLOOKUP(D8953,Códigos!B:C,2,0),\" \")","v":" "}]
[null,null,null,null,{"$f":"IFERROR(VLOOKUP(D8954,Códigos!B:C,2,0),\" \")","v":" "}]
[null,null,null,null,{"$f":"IFERROR(VLOOKUP(D8955,Códigos!B:C,2,0),\" \")","v":" "}]
[null,null,null,null,{"$f":"IFERROR(VLOOKUP(D8956,Códigos!B:C,2,0),\" \")","v":" "}]
[null,null,null,null,{"$f":"IFERROR(VLOOKUP(D8957,Códigos!B:C,2,0),\" \")","v":" "}]
[null,null,null,null,{"$f":"IFERROR(VLOOKUP(D8958,Códigos!B:C,2,0),\" \")","v":" "}]
[null,null,null,null,{"$f":"IFERROR(VLOOKUP(D8959,Códigos!B:C,2,0),\" \")","v":" "}]
[null,null,null,null,{"$f":"IFERROR(VLOOKUP(D8960,Códigos!B:C,2,0),\" \")","v":" "}]
[null,null,null,null,{"$f":"IFERROR(VLOOKUP(D8961,Códigos!B:C,2,0),\" \")","v":" "}]
[null,null,null,null,{"$f":"IFERROR(VLOOKUP(D8962,Códigos!B:C,2,0),\" \")","v":" "}]
[null,null,null,null,{"$f":"IFERROR(VLOOKUP(D8963,Códigos!B:C,2,0),\" \")","v":" "}]
[null,null,null,null,{"$f":"IFERROR(VLOOKUP(D8964,Códigos!B:C,2,0),\" \")","v":" "}]
[null,null,null,null,{"$f":"IFERROR(VLOOKUP(D8965,Códigos!B:C,2,0),\" \")","v":" "}]
[null,null,null,null,{"$f":"IFERROR(VLOOKUP(D8966,Códigos!B:C,2,0),\" \")","v":" "}]
[null,null,null,null,{"$f":"IFERROR(VLOOKUP(D8967,Códigos!B:C,2,0),\" \")","v":" "}]
[null,null,null,null,{"$f":"IFERROR(VLOOKUP(D8968,Códigos!B:C,2,0),\" \")","v":" "}]
[null,null,null,null,{"$f":"IFERROR(VLOOKUP(D8969,Códigos!B:C,2,0),\" \")","v":" "}]
[null,null,null,null,{"$f":"IFERROR(VLOOKUP(D8970,Códigos!B:C,2,0),\" \")","v":" "}]
[null,null,null,null,{"$f":"IFERROR(VLOOKUP(D8971,Códigos!B:C,2,0),\" \")","v":" "}]
[null,null,null,null,{"$f":"IFERROR(VLOOKUP(D8972,Códigos!B:C,2,0),\" \")","v":" "}]
[null,null,null,null,{"$f":"IFERROR(VLOOKUP(D8973,Códigos!B:C,2,0),\" \")","v":" "}]
[null,null,null,null,{"$f":"IFERROR(VLOOKUP(D8974,Códigos!B:C,2,0),\" \")","v":" "}]
[null,null,null,null,{"$f":"IFERROR(VLOOKUP(D8975,Códigos!B:C,2,0),\" \")","v":" "}]
[null,null,null,null,{"$f":"IFERROR(VLOOKUP(D8976,Códigos!B:C,2,0),\" \")","v":" "}]
[null,null,null,null,{"$f":"IFERROR(VLOOKUP(D8977,Códigos!B:C,2,0),\" \")","v":" "}]
[null,null,null,null,{"$f":"IFERROR(VLOOKUP(D8978,Códigos!B:C,2,0),\" \")","v":" "}]
[null,null,null,null,{"$f":"IFERROR(VLOOKUP(D8979,Códigos!B:C,2,0),\" \")","v":" "}]
[null,null,null,null,{"$f":"IFERROR(VLOOKUP(D8980,Códigos!B:C,2,0),\" \")","v":" "}]
[null,null,null,null,{"$f":"IFERROR(VLOOKUP(D8981,Códigos!B:C,2,0),\" \")","v":" "}]
[null,null,null,null,{"$f":"IFERROR(VLOOKUP(D8982,Códigos!B:C,2,0),\" \")","v":" "}]
[null,null,null,null,{"$f":"IFERROR(VLOOKUP(D8983,Códigos!B:C,2,0),\" \")","v":" "}]
[null,null,null,null,{"$f":"IFERROR(VLOOKUP(D8984,Códigos!B:C,2,0),\" \")","v":" "}]
[null,null,null,null,{"$f":"IFERROR(VLOOKUP(D8985,Códigos!B:C,2,0),\" \")","v":" "}]
[null,null,null,null,{"$f":"IFERROR(VLOOKUP(D8986,Códigos!B:C,2,0),\" \")","v":" "}]
[null,null,null,null,{"$f":"IFERROR(VLOOKUP(D8987,Códigos!B:C,2,0),\" \")","v":" "}]
[null,null,null,null,{"$f":"IFERROR(VLOOKUP(D8988,Códigos!B:C,2,0),\" \")","v":" "}]
[null,null,null,null,{"$f":"IFERROR(VLOOKUP(D8989,Códigos!B:C,2,0),\" \")","v":" "}]
[null,null,null,null,{"$f":"IFERROR(VLOOKUP(D8990,Códigos!B:C,2,0),\" \")","v":" "}]
[null,null,null,null,{"$f":"IFERROR(VLOOKUP(D8991,Códigos!B:C,2,0),\" \")","v":" "}]
[null,null,null,null,{"$f":"IFERROR(VLOOKUP(D8992,Códigos!B:C,2,0),\" \")","v":" "}]
[null,null,null,null,{"$f":"IFERROR(VLOOKUP(D8993,Códigos!B:C,2,0),\" \")","v":" "}]
[null,null,null,null,{"$f":"IFERROR(VLOOKUP(D8994,Códigos!B:C,2,0),\" \")","v":" "}]
[null,null,null,null,{"$f":"IFERROR(VLOOKUP(D8995,Códigos!B:C,2,0),\" \")","v":" "}]
[null,null,null,null,{"$f":"IFERROR(VLOOKUP(D8996,Códigos!B:C,2,0),\" \")","v":" "}]
[null,null,null,null,{"$f":"IFERROR(VLOOKUP(D8997,Códigos!B:C,2,0),\" \")","v":" "}]
[null,null,null,null,{"$f":"IFERROR(VLOOKUP(D8998,Códigos!B:C,2,0),\" \")","v":" "}]
[null,null,null,null,{"$f":"IFERROR(VLOOKUP(D8999,Códigos!B:C,2,0),\" \")","v":" "}]
[null,null,null,null,{"$f":"IFERROR(VLOOKUP(D9000,Códigos!B:C,2,0),\" \")","v":" "}]
[null,null,null,null,{"$f":"IFERROR(VLOOKUP(D9001,Códigos!B:C,2,0),\" \")","v":" "}]
[null,null,null,null,{"$f":"IFERROR(VLOOKUP(D9002,Códigos!B:C,2,0),\" \")","v":" "}]
[null,null,null,null,{"$f":"IFERROR(VLOOKUP(D9003,Códigos!B:C,2,0),\" \")","v":" "}]
[null,null,null,null,{"$f":"IFERROR(VLOOKUP(D9004,Códigos!B:C,2,0),\" \")","v":" "}]
[null,null,null,null,{"$f":"IFERROR(VLOOKUP(D9005,Códigos!B:C,2,0),\" \")","v":" "}]
[null,null,null,null,{"$f":"IFERROR(VLOOKUP(D9006,Códigos!B:C,2,0),\" \")","v":" "}]
[null,null,null,null,{"$f":"IFERROR(VLOOKUP(D9007,Códigos!B:C,2,0),\" \")","v":" "}]
[null,null,null,null,{"$f":"IFERROR(VLOOKUP(D9008,Códigos!B:C,2,0),\" \")","v":" "}]
[null,null,null,null,{"$f":"IFERROR(VLOOKUP(D9009,Códigos!B:C,2,0),\" \")","v":" "}]
[null,null,null,null,{"$f":"IFERROR(VLOOKUP(D9010,Códigos!B:C,2,0),\" \")","v":" "}]
[null,null,null,null,{"$f":"IFERROR(VLOOKUP(D9011,Códigos!B:C,2,0),\" \")","v":" "}]
[null,null,null,null,{"$f":"IFERROR(VLOOKUP(D9012,Códigos!B:C,2,0),\" \")","v":" "}]
[null,null,null,null,{"$f":"IFERROR(VLOOKUP(D9013,Códigos!B:C,2,0),\" \")","v":" "}]
[null,null,null,null,{"$f":"IFERROR(VLOOKUP(D9014,Códigos!B:C,2,0),\" \")","v":" "}]
[null,null,null,null,{"$f":"IFERROR(VLOOKUP(D9015,Códigos!B:C,2,0),\" \")","v":" "}]
[null,null,null,null,{"$f":"IFERROR(VLOOKUP(D9016,Códigos!B:C,2,0),\" \")","v":" "}]
[null,null,null,null,{"$f":"IFERROR(VLOOKUP(D9017,Códigos!B:C,2,0),\" \")","v":" "}]
[null,null,null,null,{"$f":"IFERROR(VLOOKUP(D9018,Códigos!B:C,2,0),\" \")","v":" "}]
[null,null,null,null,{"$f":"IFERROR(VLOOKUP(D9019,Códigos!B:C,2,0),\" \")","v":" "}]
[null,null,null,null,{"$f":"IFERROR(VLOOKUP(D9020,Códigos!B:C,2,0),\" \")","v":" "}]
[null,null,null,null,{"$f":"IFERROR(VLOOKUP(D9021,Códigos!B:C,2,0),\" \")","v":" "}]
[null,null,null,null,{"$f":"IFERROR(VLOOKUP(D9022,Códigos!B:C,2,0),\" \")","v":" "}]
[null,null,null,null,{"$f":"IFERROR(VLOOKUP(D9023,Códigos!B:C,2,0),\" \")","v":" "}]
[null,null,null,null,{"$f":"IFERROR(VLOOKUP(D9024,Códigos!B:C,2,0),\" \")","v":" "}]
[null,null,null,null,{"$f":"IFERROR(VLOOKUP(D9025,Códigos!B:C,2,0),\" \")","v":" "}]
[null,null,null,null,{"$f":"IFERROR(VLOOKUP(D9026,Códigos!B:C,2,0),\" \")","v":" "}]
[null,null,null,null,{"$f":"IFERROR(VLOOKUP(D9027,Códigos!B:C,2,0),\" \")","v":" "}]
[null,null,null,null,{"$f":"IFERROR(VLOOKUP(D9028,Códigos!B:C,2,0),\" \")","v":" "}]
[null,null,null,null,{"$f":"IFERROR(VLOOKUP(D9029,Códigos!B:C,2,0),\" \")","v":" "}]
[null,null,null,null,{"$f":"IFERROR(VLOOKUP(D9030,Códigos!B:C,2,0),\" \")","v":" "}]
[null,null,null,null,{"$f":"IFERROR(VLOOKUP(D9031,Códigos!B:C,2,0),\" \")","v":" "}]
[null,null,null,null,{"$f":"IFERROR(VLOOKUP(D9032,Códigos!B:C,2,0),\" \")","v":" "}]
[null,null,null,null,{"$f":"IFERROR(VLOOKUP(D9033,Códigos!B:C,2,0),\" \")","v":" "}]
[null,null,null,null,{"$f":"IFERROR(VLOOKUP(D9034,Códigos!B:C,2,0),\" \")","v":" "}]
[null,null,null,null,{"$f":"IFERROR(VLOOKUP(D9035,Códigos!B:C,2,0),\" \")","v":" "}]
[null,null,null,null,{"$f":"IFERROR(VLOOKUP(D9036,Códigos!B:C,2,0),\" \")","v":" "}]
[null,null,null,null,{"$f":"IFERROR(VLOOKUP(D9037,Códigos!B:C,2,0),\" \")","v":" "}]
[null,null,null,null,{"$f":"IFERROR(VLOOKUP(D9038,Códigos!B:C,2,0),\" \")","v":" "}]
[null,null,null,null,{"$f":"IFERROR(VLOOKUP(D9039,Códigos!B:C,2,0),\" \")","v":" "}]
[null,null,null,null,{"$f":"IFERROR(VLOOKUP(D9040,Códigos!B:C,2,0),\" \")","v":" "}]
[null,null,null,null,{"$f":"IFERROR(VLOOKUP(D9041,Códigos!B:C,2,0),\" \")","v":" "}]
[null,null,null,null,{"$f":"IFERROR(VLOOKUP(D9042,Códigos!B:C,2,0),\" \")","v":" "}]
[null,null,null,null,{"$f":"IFERROR(VLOOKUP(D9043,Códigos!B:C,2,0),\" \")","v":" "}]
[null,null,null,null,{"$f":"IFERROR(VLOOKUP(D9044,Códigos!B:C,2,0),\" \")","v":" "}]
[null,null,null,null,{"$f":"IFERROR(VLOOKUP(D9045,Códigos!B:C,2,0),\" \")","v":" "}]
[null,null,null,null,{"$f":"IFERROR(VLOOKUP(D9046,Códigos!B:C,2,0),\" \")","v":" "}]
[null,null,null,null,{"$f":"IFERROR(VLOOKUP(D9047,Códigos!B:C,2,0),\" \")","v":" "}]
[null,null,null,null,{"$f":"IFERROR(VLOOKUP(D9048,Códigos!B:C,2,0),\" \")","v":" "}]
[null,null,null,null,{"$f":"IFERROR(VLOOKUP(D9049,Códigos!B:C,2,0),\" \")","v":" "}]
[null,null,null,null,{"$f":"IFERROR(VLOOKUP(D9050,Códigos!B:C,2,0),\" \")","v":" "}]
[null,null,null,null,{"$f":"IFERROR(VLOOKUP(D9051,Códigos!B:C,2,0),\" \")","v":" "}]
[null,null,null,null,{"$f":"IFERROR(VLOOKUP(D9052,Códigos!B:C,2,0),\" \")","v":" "}]
[null,null,null,null,{"$f":"IFERROR(VLOOKUP(D9053,Códigos!B:C,2,0),\" \")","v":" "}]
[null,null,null,null,{"$f":"IFERROR(VLOOKUP(D9054,Códigos!B:C,2,0),\" \")","v":" "}]
[null,null,null,null,{"$f":"IFERROR(VLOOKUP(D9055,Códigos!B:C,2,0),\" \")","v":" "}]
[null,null,null,null,{"$f":"IFERROR(VLOOKUP(D9056,Códigos!B:C,2,0),\" \")","v":" "}]
[null,null,null,null,{"$f":"IFERROR(VLOOKUP(D9057,Códigos!B:C,2,0),\" \")","v":" "}]
[null,null,null,null,{"$f":"IFERROR(VLOOKUP(D9058,Códigos!B:C,2,0),\" \")","v":" "}]
[null,null,null,null,{"$f":"IFERROR(VLOOKUP(D9059,Códigos!B:C,2,0),\" \")","v":" "}]
[null,null,null,null,{"$f":"IFERROR(VLOOKUP(D9060,Códigos!B:C,2,0),\" \")","v":" "}]
[null,null,null,null,{"$f":"IFERROR(VLOOKUP(D9061,Códigos!B:C,2,0),\" \")","v":" "}]
[null,null,null,null,{"$f":"IFERROR(VLOOKUP(D9062,Códigos!B:C,2,0),\" \")","v":" "}]
[null,null,null,null,{"$f":"IFERROR(VLOOKUP(D9063,Códigos!B:C,2,0),\" \")","v":" "}]
[null,null,null,null,{"$f":"IFERROR(VLOOKUP(D9064,Códigos!B:C,2,0),\" \")","v":" "}]
[null,null,null,null,{"$f":"IFERROR(VLOOKUP(D9065,Códigos!B:C,2,0),\" \")","v":" "}]
[null,null,null,null,{"$f":"IFERROR(VLOOKUP(D9066,Códigos!B:C,2,0),\" \")","v":" "}]
[null,null,null,null,{"$f":"IFERROR(VLOOKUP(D9067,Códigos!B:C,2,0),\" \")","v":" "}]
[null,null,null,null,{"$f":"IFERROR(VLOOKUP(D9068,Códigos!B:C,2,0),\" \")","v":" "}]
[null,null,null,null,{"$f":"IFERROR(VLOOKUP(D9069,Códigos!B:C,2,0),\" \")","v":" "}]
[null,null,null,null,{"$f":"IFERROR(VLOOKUP(D9070,Códigos!B:C,2,0),\" \")","v":" "}]
[null,null,null,null,{"$f":"IFERROR(VLOOKUP(D9071,Códigos!B:C,2,0),\" \")","v":" "}]
[null,null,null,null,{"$f":"IFERROR(VLOOKUP(D9072,Códigos!B:C,2,0),\" \")","v":" "}]
[null,null,null,null,{"$f":"IFERROR(VLOOKUP(D9073,Códigos!B:C,2,0),\" \")","v":" "}]
[null,null,null,null,{"$f":"IFERROR(VLOOKUP(D9074,Códigos!B:C,2,0),\" \")","v":" "}]
[null,null,null,null,{"$f":"IFERROR(VLOOKUP(D9075,Códigos!B:C,2,0),\" \")","v":" "}]
[null,null,null,null,{"$f":"IFERROR(VLOOKUP(D9076,Códigos!B:C,2,0),\" \")","v":" "}]
[null,null,null,null,{"$f":"IFERROR(VLOOKUP(D9077,Códigos!B:C,2,0),\" \")","v":" "}]
[null,null,null,null,{"$f":"IFERROR(VLOOKUP(D9078,Códigos!B:C,2,0),\" \")","v":" "}]
[null,null,null,null,{"$f":"IFERROR(VLOOKUP(D9079,Códigos!B:C,2,0),\" \")","v":" "}]
[null,null,null,null,{"$f":"IFERROR(VLOOKUP(D9080,Códigos!B:C,2,0),\" \")","v":" "}]
[null,null,null,null,{"$f":"IFERROR(VLOOKUP(D9081,Códigos!B:C,2,0),\" \")","v":" "}]
[null,null,null,null,{"$f":"IFERROR(VLOOKUP(D9082,Códigos!B:C,2,0),\" \")","v":" "}]
[null,null,null,null,{"$f":"IFERROR(VLOOKUP(D9083,Códigos!B:C,2,0),\" \")","v":" "}]
[null,null,null,null,{"$f":"IFERROR(VLOOKUP(D9084,Códigos!B:C,2,0),\" \")","v":" "}]
[null,null,null,null,{"$f":"IFERROR(VLOOKUP(D9085,Códigos!B:C,2,0),\" \")","v":" "}]
[null,null,null,null,{"$f":"IFERROR(VLOOKUP(D9086,Códigos!B:C,2,0),\" \")","v":" "}]
[null,null,null,null,{"$f":"IFERROR(VLOOKUP(D9087,Códigos!B:C,2,0),\" \")","v":" "}]
[null,null,null,null,{"$f":"IFERROR(VLOOKUP(D9088,Códigos!B:C,2,0),\" \")","v":" "}]
[null,null,null,null,{"$f":"IFERROR(VLOOKUP(D9089,Códigos!B:C,2,0),\" \")","v":" "}]
[null,null,null,null,{"$f":"IFERROR(VLOOKUP(D9090,Códigos!B:C,2,0),\" \")","v":" "}]
[null,null,null,null,{"$f":"IFERROR(VLOOKUP(D9091,Códigos!B:C,2,0),\" \")","v":" "}]
[null,null,null,null,{"$f":"IFERROR(VLOOKUP(D9092,Códigos!B:C,2,0),\" \")","v":" "}]
[null,null,null,null,{"$f":"IFERROR(VLOOKUP(D9093,Códigos!B:C,2,0),\" \")","v":" "}]
[null,null,null,null,{"$f":"IFERROR(VLOOKUP(D9094,Códigos!B:C,2,0),\" \")","v":" "}]
[null,null,null,null,{"$f":"IFERROR(VLOOKUP(D9095,Códigos!B:C,2,0),\" \")","v":" "}]
[null,null,null,null,{"$f":"IFERROR(VLOOKUP(D9096,Códigos!B:C,2,0),\" \")","v":" "}]
[null,null,null,null,{"$f":"IFERROR(VLOOKUP(D9097,Códigos!B:C,2,0),\" \")","v":" "}]
[null,null,null,null,{"$f":"IFERROR(VLOOKUP(D9098,Códigos!B:C,2,0),\" \")","v":" "}]
[null,null,null,null,{"$f":"IFERROR(VLOOKUP(D9099,Códigos!B:C,2,0),\" \")","v":" "}]
[null,null,null,null,{"$f":"IFERROR(VLOOKUP(D9100,Códigos!B:C,2,0),\" \")","v":" "}]
[null,null,null,null,{"$f":"IFERROR(VLOOKUP(D9101,Códigos!B:C,2,0),\" \")","v":" "}]
[null,null,null,null,{"$f":"IFERROR(VLOOKUP(D9102,Códigos!B:C,2,0),\" \")","v":" "}]
[null,null,null,null,{"$f":"IFERROR(VLOOKUP(D9103,Códigos!B:C,2,0),\" \")","v":" "}]
[null,null,null,null,{"$f":"IFERROR(VLOOKUP(D9104,Códigos!B:C,2,0),\" \")","v":" "}]
[null,null,null,null,{"$f":"IFERROR(VLOOKUP(D9105,Códigos!B:C,2,0),\" \")","v":" "}]
[null,null,null,null,{"$f":"IFERROR(VLOOKUP(D9106,Códigos!B:C,2,0),\" \")","v":" "}]
[null,null,null,null,{"$f":"IFERROR(VLOOKUP(D9107,Códigos!B:C,2,0),\" \")","v":" "}]
[null,null,null,null,{"$f":"IFERROR(VLOOKUP(D9108,Códigos!B:C,2,0),\" \")","v":" "}]
[null,null,null,null,{"$f":"IFERROR(VLOOKUP(D9109,Códigos!B:C,2,0),\" \")","v":" "}]
[null,null,null,null,{"$f":"IFERROR(VLOOKUP(D9110,Códigos!B:C,2,0),\" \")","v":" "}]
[null,null,null,null,{"$f":"IFERROR(VLOOKUP(D9111,Códigos!B:C,2,0),\" \")","v":" "}]
[null,null,null,null,{"$f":"IFERROR(VLOOKUP(D9112,Códigos!B:C,2,0),\" \")","v":" "}]
[null,null,null,null,{"$f":"IFERROR(VLOOKUP(D9113,Códigos!B:C,2,0),\" \")","v":" "}]
[null,null,null,null,{"$f":"IFERROR(VLOOKUP(D9114,Códigos!B:C,2,0),\" \")","v":" "}]
[null,null,null,null,{"$f":"IFERROR(VLOOKUP(D9115,Códigos!B:C,2,0),\" \")","v":" "}]
[null,null,null,null,{"$f":"IFERROR(VLOOKUP(D9116,Códigos!B:C,2,0),\" \")","v":" "}]
[null,null,null,null,{"$f":"IFERROR(VLOOKUP(D9117,Códigos!B:C,2,0),\" \")","v":" "}]
[null,null,null,null,{"$f":"IFERROR(VLOOKUP(D9118,Códigos!B:C,2,0),\" \")","v":" "}]
[null,null,null,null,{"$f":"IFERROR(VLOOKUP(D9119,Códigos!B:C,2,0),\" \")","v":" "}]
[null,null,null,null,{"$f":"IFERROR(VLOOKUP(D9120,Códigos!B:C,2,0),\" \")","v":" "}]
[null,null,null,null,{"$f":"IFERROR(VLOOKUP(D9121,Códigos!B:C,2,0),\" \")","v":" "}]
[null,null,null,null,{"$f":"IFERROR(VLOOKUP(D9122,Códigos!B:C,2,0),\" \")","v":" "}]
[null,null,null,null,{"$f":"IFERROR(VLOOKUP(D9123,Códigos!B:C,2,0),\" \")","v":" "}]
[null,null,null,null,{"$f":"IFERROR(VLOOKUP(D9124,Códigos!B:C,2,0),\" \")","v":" "}]
[null,null,null,null,{"$f":"IFERROR(VLOOKUP(D9125,Códigos!B:C,2,0),\" \")","v":" "}]
[null,null,null,null,{"$f":"IFERROR(VLOOKUP(D9126,Códigos!B:C,2,0),\" \")","v":" "}]
[null,null,null,null,{"$f":"IFERROR(VLOOKUP(D9127,Códigos!B:C,2,0),\" \")","v":" "}]
[null,null,null,null,{"$f":"IFERROR(VLOOKUP(D9128,Códigos!B:C,2,0),\" \")","v":" "}]
[null,null,null,null,{"$f":"IFERROR(VLOOKUP(D9129,Códigos!B:C,2,0),\" \")","v":" "}]
[null,null,null,null,{"$f":"IFERROR(VLOOKUP(D9130,Códigos!B:C,2,0),\" \")","v":" "}]
[null,null,null,null,{"$f":"IFERROR(VLOOKUP(D9131,Códigos!B:C,2,0),\" \")","v":" "}]
[null,null,null,null,{"$f":"IFERROR(VLOOKUP(D9132,Códigos!B:C,2,0),\" \")","v":" "}]
[null,null,null,null,{"$f":"IFERROR(VLOOKUP(D9133,Códigos!B:C,2,0),\" \")","v":" "}]
[null,null,null,null,{"$f":"IFERROR(VLOOKUP(D9134,Códigos!B:C,2,0),\" \")","v":" "}]
[null,null,null,null,{"$f":"IFERROR(VLOOKUP(D9135,Códigos!B:C,2,0),\" \")","v":" "}]
[null,null,null,null,{"$f":"IFERROR(VLOOKUP(D9136,Códigos!B:C,2,0),\" \")","v":" "}]
[null,null,null,null,{"$f":"IFERROR(VLOOKUP(D9137,Códigos!B:C,2,0),\" \")","v":" "}]
[null,null,null,null,{"$f":"IFERROR(VLOOKUP(D9138,Códigos!B:C,2,0),\" \")","v":" "}]
[null,null,null,null,{"$f":"IFERROR(VLOOKUP(D9139,Códigos!B:C,2,0),\" \")","v":" "}]
[null,null,null,null,{"$f":"IFERROR(VLOOKUP(D9140,Códigos!B:C,2,0),\" \")","v":" "}]
[null,null,null,null,{"$f":"IFERROR(VLOOKUP(D9141,Códigos!B:C,2,0),\" \")","v":" "}]
[null,null,null,null,{"$f":"IFERROR(VLOOKUP(D9142,Códigos!B:C,2,0),\" \")","v":" "}]
[null,null,null,null,{"$f":"IFERROR(VLOOKUP(D9143,Códigos!B:C,2,0),\" \")","v":" "}]
[null,null,null,null,{"$f":"IFERROR(VLOOKUP(D9144,Códigos!B:C,2,0),\" \")","v":" "}]
[null,null,null,null,{"$f":"IFERROR(VLOOKUP(D9145,Códigos!B:C,2,0),\" \")","v":" "}]
[null,null,null,null,{"$f":"IFERROR(VLOOKUP(D9146,Códigos!B:C,2,0),\" \")","v":" "}]
[null,null,null,null,{"$f":"IFERROR(VLOOKUP(D9147,Códigos!B:C,2,0),\" \")","v":" "}]
[null,null,null,null,{"$f":"IFERROR(VLOOKUP(D9148,Códigos!B:C,2,0),\" \")","v":" "}]
[null,null,null,null,{"$f":"IFERROR(VLOOKUP(D9149,Códigos!B:C,2,0),\" \")","v":" "}]
[null,null,null,null,{"$f":"IFERROR(VLOOKUP(D9150,Códigos!B:C,2,0),\" \")","v":" "}]
[null,null,null,null,{"$f":"IFERROR(VLOOKUP(D9151,Códigos!B:C,2,0),\" \")","v":" "}]
[null,null,null,null,{"$f":"IFERROR(VLOOKUP(D9152,Códigos!B:C,2,0),\" \")","v":" "}]
[null,null,null,null,{"$f":"IFERROR(VLOOKUP(D9153,Códigos!B:C,2,0),\" \")","v":" "}]
[null,null,null,null,{"$f":"IFERROR(VLOOKUP(D9154,Códigos!B:C,2,0),\" \")","v":" "}]
[null,null,null,null,{"$f":"IFERROR(VLOOKUP(D9155,Códigos!B:C,2,0),\" \")","v":" "}]
[null,null,null,null,{"$f":"IFERROR(VLOOKUP(D9156,Códigos!B:C,2,0),\" \")","v":" "}]
[null,null,null,null,{"$f":"IFERROR(VLOOKUP(D9157,Códigos!B:C,2,0),\" \")","v":" "}]
[null,null,null,null,{"$f":"IFERROR(VLOOKUP(D9158,Códigos!B:C,2,0),\" \")","v":" "}]
[null,null,null,null,{"$f":"IFERROR(VLOOKUP(D9159,Códigos!B:C,2,0),\" \")","v":" "}]
[null,null,null,null,{"$f":"IFERROR(VLOOKUP(D9160,Códigos!B:C,2,0),\" \")","v":" "}]
[null,null,null,null,{"$f":"IFERROR(VLOOKUP(D9161,Códigos!B:C,2,0),\" \")","v":" "}]
[null,null,null,null,{"$f":"IFERROR(VLOOKUP(D9162,Códigos!B:C,2,0),\" \")","v":" "}]
[null,null,null,null,{"$f":"IFERROR(VLOOKUP(D9163,Códigos!B:C,2,0),\" \")","v":" "}]
[null,null,null,null,{"$f":"IFERROR(VLOOKUP(D9164,Códigos!B:C,2,0),\" \")","v":" "}]
[null,null,null,null,{"$f":"IFERROR(VLOOKUP(D9165,Códigos!B:C,2,0),\" \")","v":" "}]
[null,null,null,null,{"$f":"IFERROR(VLOOKUP(D9166,Códigos!B:C,2,0),\" \")","v":" "}]
[null,null,null,null,{"$f":"IFERROR(VLOOKUP(D9167,Códigos!B:C,2,0),\" \")","v":" "}]
[null,null,null,null,{"$f":"IFERROR(VLOOKUP(D9168,Códigos!B:C,2,0),\" \")","v":" "}]
[null,null,null,null,{"$f":"IFERROR(VLOOKUP(D9169,Códigos!B:C,2,0),\" \")","v":" "}]
[null,null,null,null,{"$f":"IFERROR(VLOOKUP(D9170,Códigos!B:C,2,0),\" \")","v":" "}]
[null,null,null,null,{"$f":"IFERROR(VLOOKUP(D9171,Códigos!B:C,2,0),\" \")","v":" "}]
[null,null,null,null,{"$f":"IFERROR(VLOOKUP(D9172,Códigos!B:C,2,0),\" \")","v":" "}]
[null,null,null,null,{"$f":"IFERROR(VLOOKUP(D9173,Códigos!B:C,2,0),\" \")","v":" "}]
[null,null,null,null,{"$f":"IFERROR(VLOOKUP(D9174,Códigos!B:C,2,0),\" \")","v":" "}]
[null,null,null,null,{"$f":"IFERROR(VLOOKUP(D9175,Códigos!B:C,2,0),\" \")","v":" "}]
[null,null,null,null,{"$f":"IFERROR(VLOOKUP(D9176,Códigos!B:C,2,0),\" \")","v":" "}]
[null,null,null,null,{"$f":"IFERROR(VLOOKUP(D9177,Códigos!B:C,2,0),\" \")","v":" "}]
[null,null,null,null,{"$f":"IFERROR(VLOOKUP(D9178,Códigos!B:C,2,0),\" \")","v":" "}]
[null,null,null,null,{"$f":"IFERROR(VLOOKUP(D9179,Códigos!B:C,2,0),\" \")","v":" "}]
[null,null,null,null,{"$f":"IFERROR(VLOOKUP(D9180,Códigos!B:C,2,0),\" \")","v":" "}]
[null,null,null,null,{"$f":"IFERROR(VLOOKUP(D9181,Códigos!B:C,2,0),\" \")","v":" "}]
[null,null,null,null,{"$f":"IFERROR(VLOOKUP(D9182,Códigos!B:C,2,0),\" \")","v":" "}]
[null,null,null,null,{"$f":"IFERROR(VLOOKUP(D9183,Códigos!B:C,2,0),\" \")","v":" "}]
[null,null,null,null,{"$f":"IFERROR(VLOOKUP(D9184,Códigos!B:C,2,0),\" \")","v":" "}]
[null,null,null,null,{"$f":"IFERROR(VLOOKUP(D9185,Códigos!B:C,2,0),\" \")","v":" "}]
[null,null,null,null,{"$f":"IFERROR(VLOOKUP(D9186,Códigos!B:C,2,0),\" \")","v":" "}]
[null,null,null,null,{"$f":"IFERROR(VLOOKUP(D9187,Códigos!B:C,2,0),\" \")","v":" "}]
[null,null,null,null,{"$f":"IFERROR(VLOOKUP(D9188,Códigos!B:C,2,0),\" \")","v":" "}]
[null,null,null,null,{"$f":"IFERROR(VLOOKUP(D9189,Códigos!B:C,2,0),\" \")","v":" "}]
[null,null,null,null,{"$f":"IFERROR(VLOOKUP(D9190,Códigos!B:C,2,0),\" \")","v":" "}]
[null,null,null,null,{"$f":"IFERROR(VLOOKUP(D9191,Códigos!B:C,2,0),\" \")","v":" "}]
[null,null,null,null,{"$f":"IFERROR(VLOOKUP(D9192,Códigos!B:C,2,0),\" \")","v":" "}]
[null,null,null,null,{"$f":"IFERROR(VLOOKUP(D9193,Códigos!B:C,2,0),\" \")","v":" "}]
[null,null,null,null,{"$f":"IFERROR(VLOOKUP(D9194,Códigos!B:C,2,0),\" \")","v":" "}]
[null,null,null,null,{"$f":"IFERROR(VLOOKUP(D9195,Códigos!B:C,2,0),\" \")","v":" "}]
[null,null,null,null,{"$f":"IFERROR(VLOOKUP(D9196,Códigos!B:C,2,0),\" \")","v":" "}]
[null,null,null,null,{"$f":"IFERROR(VLOOKUP(D9197,Códigos!B:C,2,0),\" \")","v":" "}]
[null,null,null,null,{"$f":"IFERROR(VLOOKUP(D9198,Códigos!B:C,2,0),\" \")","v":" "}]
[null,null,null,null,{"$f":"IFERROR(VLOOKUP(D9199,Códigos!B:C,2,0),\" \")","v":" "}]
[null,null,null,null,{"$f":"IFERROR(VLOOKUP(D9200,Códigos!B:C,2,0),\" \")","v":" "}]
[null,null,null,null,{"$f":"IFERROR(VLOOKUP(D9201,Códigos!B:C,2,0),\" \")","v":" "}]
[null,null,null,null,{"$f":"IFERROR(VLOOKUP(D9202,Códigos!B:C,2,0),\" \")","v":" "}]
[null,null,null,null,{"$f":"IFERROR(VLOOKUP(D9203,Códigos!B:C,2,0),\" \")","v":" "}]
[null,null,null,null,{"$f":"IFERROR(VLOOKUP(D9204,Códigos!B:C,2,0),\" \")","v":" "}]
[null,null,null,null,{"$f":"IFERROR(VLOOKUP(D9205,Códigos!B:C,2,0),\" \")","v":" "}]
[null,null,null,null,{"$f":"IFERROR(VLOOKUP(D9206,Códigos!B:C,2,0),\" \")","v":" "}]
[null,null,null,null,{"$f":"IFERROR(VLOOKUP(D9207,Códigos!B:C,2,0),\" \")","v":" "}]
[null,null,null,null,{"$f":"IFERROR(VLOOKUP(D9208,Códigos!B:C,2,0),\" \")","v":" "}]
[null,null,null,null,{"$f":"IFERROR(VLOOKUP(D9209,Códigos!B:C,2,0),\" \")","v":" "}]
[null,null,null,null,{"$f":"IFERROR(VLOOKUP(D9210,Códigos!B:C,2,0),\" \")","v":" "}]
[null,null,null,null,{"$f":"IFERROR(VLOOKUP(D9211,Códigos!B:C,2,0),\" \")","v":" "}]
[null,null,null,null,{"$f":"IFERROR(VLOOKUP(D9212,Códigos!B:C,2,0),\" \")","v":" "}]
[null,null,null,null,{"$f":"IFERROR(VLOOKUP(D9213,Códigos!B:C,2,0),\" \")","v":" "}]
[null,null,null,null,{"$f":"IFERROR(VLOOKUP(D9214,Códigos!B:C,2,0),\" \")","v":" "}]
[null,null,null,null,{"$f":"IFERROR(VLOOKUP(D9215,Códigos!B:C,2,0),\" \")","v":" "}]
[null,null,null,null,{"$f":"IFERROR(VLOOKUP(D9216,Códigos!B:C,2,0),\" \")","v":" "}]
[null,null,null,null,{"$f":"IFERROR(VLOOKUP(D9217,Códigos!B:C,2,0),\" \")","v":" "}]
[null,null,null,null,{"$f":"IFERROR(VLOOKUP(D9218,Códigos!B:C,2,0),\" \")","v":" "}]
[null,null,null,null,{"$f":"IFERROR(VLOOKUP(D9219,Códigos!B:C,2,0),\" \")","v":" "}]
[null,null,null,null,{"$f":"IFERROR(VLOOKUP(D9220,Códigos!B:C,2,0),\" \")","v":" "}]
[null,null,null,null,{"$f":"IFERROR(VLOOKUP(D9221,Códigos!B:C,2,0),\" \")","v":" "}]
[null,null,null,null,{"$f":"IFERROR(VLOOKUP(D9222,Códigos!B:C,2,0),\" \")","v":" "}]
[null,null,null,null,{"$f":"IFERROR(VLOOKUP(D9223,Códigos!B:C,2,0),\" \")","v":" "}]
[null,null,null,null,{"$f":"IFERROR(VLOOKUP(D9224,Códigos!B:C,2,0),\" \")","v":" "}]
[null,null,null,null,{"$f":"IFERROR(VLOOKUP(D9225,Códigos!B:C,2,0),\" \")","v":" "}]
[null,null,null,null,{"$f":"IFERROR(VLOOKUP(D9226,Códigos!B:C,2,0),\" \")","v":" "}]
[null,null,null,null,{"$f":"IFERROR(VLOOKUP(D9227,Códigos!B:C,2,0),\" \")","v":" "}]
[null,null,null,null,{"$f":"IFERROR(VLOOKUP(D9228,Códigos!B:C,2,0),\" \")","v":" "}]
[null,null,null,null,{"$f":"IFERROR(VLOOKUP(D9229,Códigos!B:C,2,0),\" \")","v":" "}]
[null,null,null,null,{"$f":"IFERROR(VLOOKUP(D9230,Códigos!B:C,2,0),\" \")","v":" "}]
[null,null,null,null,{"$f":"IFERROR(VLOOKUP(D9231,Códigos!B:C,2,0),\" \")","v":" "}]
[null,null,null,null,{"$f":"IFERROR(VLOOKUP(D9232,Códigos!B:C,2,0),\" \")","v":" "}]
[null,null,null,null,{"$f":"IFERROR(VLOOKUP(D9233,Códigos!B:C,2,0),\" \")","v":" "}]
[null,null,null,null,{"$f":"IFERROR(VLOOKUP(D9234,Códigos!B:C,2,0),\" \")","v":" "}]
[null,null,null,null,{"$f":"IFERROR(VLOOKUP(D9235,Códigos!B:C,2,0),\" \")","v":" "}]
[null,null,null,null,{"$f":"IFERROR(VLOOKUP(D9236,Códigos!B:C,2,0),\" \")","v":" "}]
[null,null,null,null,{"$f":"IFERROR(VLOOKUP(D9237,Códigos!B:C,2,0),\" \")","v":" "}]
[null,null,null,null,{"$f":"IFERROR(VLOOKUP(D9238,Códigos!B:C,2,0),\" \")","v":" "}]
[null,null,null,null,{"$f":"IFERROR(VLOOKUP(D9239,Códigos!B:C,2,0),\" \")","v":" "}]
[null,null,null,null,{"$f":"IFERROR(VLOOKUP(D9240,Códigos!B:C,2,0),\" \")","v":" "}]
[null,null,null,null,{"$f":"IFERROR(VLOOKUP(D9241,Códigos!B:C,2,0),\" \")","v":" "}]
[null,null,null,null,{"$f":"IFERROR(VLOOKUP(D9242,Códigos!B:C,2,0),\" \")","v":" "}]
[null,null,null,null,{"$f":"IFERROR(VLOOKUP(D9243,Códigos!B:C,2,0),\" \")","v":" "}]
[null,null,null,null,{"$f":"IFERROR(VLOOKUP(D9244,Códigos!B:C,2,0),\" \")","v":" "}]
[null,null,null,null,{"$f":"IFERROR(VLOOKUP(D9245,Códigos!B:C,2,0),\" \")","v":" "}]
[null,null,null,null,{"$f":"IFERROR(VLOOKUP(D9246,Códigos!B:C,2,0),\" \")","v":" "}]
[null,null,null,null,{"$f":"IFERROR(VLOOKUP(D9247,Códigos!B:C,2,0),\" \")","v":" "}]
[null,null,null,null,{"$f":"IFERROR(VLOOKUP(D9248,Códigos!B:C,2,0),\" \")","v":" "}]
[null,null,null,null,{"$f":"IFERROR(VLOOKUP(D9249,Códigos!B:C,2,0),\" \")","v":" "}]
[null,null,null,null,{"$f":"IFERROR(VLOOKUP(D9250,Códigos!B:C,2,0),\" \")","v":" "}]
[null,null,null,null,{"$f":"IFERROR(VLOOKUP(D9251,Códigos!B:C,2,0),\" \")","v":" "}]
[null,null,null,null,{"$f":"IFERROR(VLOOKUP(D9252,Códigos!B:C,2,0),\" \")","v":" "}]
[null,null,null,null,{"$f":"IFERROR(VLOOKUP(D9253,Códigos!B:C,2,0),\" \")","v":" "}]
[null,null,null,null,{"$f":"IFERROR(VLOOKUP(D9254,Códigos!B:C,2,0),\" \")","v":" "}]
[null,null,null,null,{"$f":"IFERROR(VLOOKUP(D9255,Códigos!B:C,2,0),\" \")","v":" "}]
[null,null,null,null,{"$f":"IFERROR(VLOOKUP(D9256,Códigos!B:C,2,0),\" \")","v":" "}]
[null,null,null,null,{"$f":"IFERROR(VLOOKUP(D9257,Códigos!B:C,2,0),\" \")","v":" "}]
[null,null,null,null,{"$f":"IFERROR(VLOOKUP(D9258,Códigos!B:C,2,0),\" \")","v":" "}]
[null,null,null,null,{"$f":"IFERROR(VLOOKUP(D9259,Códigos!B:C,2,0),\" \")","v":" "}]
[null,null,null,null,{"$f":"IFERROR(VLOOKUP(D9260,Códigos!B:C,2,0),\" \")","v":" "}]
[null,null,null,null,{"$f":"IFERROR(VLOOKUP(D9261,Códigos!B:C,2,0),\" \")","v":" "}]
[null,null,null,null,{"$f":"IFERROR(VLOOKUP(D9262,Códigos!B:C,2,0),\" \")","v":" "}]
[null,null,null,null,{"$f":"IFERROR(VLOOKUP(D9263,Códigos!B:C,2,0),\" \")","v":" "}]
[null,null,null,null,{"$f":"IFERROR(VLOOKUP(D9264,Códigos!B:C,2,0),\" \")","v":" "}]
[null,null,null,null,{"$f":"IFERROR(VLOOKUP(D9265,Códigos!B:C,2,0),\" \")","v":" "}]
[null,null,null,null,{"$f":"IFERROR(VLOOKUP(D9266,Códigos!B:C,2,0),\" \")","v":" "}]
[null,null,null,null,{"$f":"IFERROR(VLOOKUP(D9267,Códigos!B:C,2,0),\" \")","v":" "}]
[null,null,null,null,{"$f":"IFERROR(VLOOKUP(D9268,Códigos!B:C,2,0),\" \")","v":" "}]
[null,null,null,null,{"$f":"IFERROR(VLOOKUP(D9269,Códigos!B:C,2,0),\" \")","v":" "}]
[null,null,null,null,{"$f":"IFERROR(VLOOKUP(D9270,Códigos!B:C,2,0),\" \")","v":" "}]
[null,null,null,null,{"$f":"IFERROR(VLOOKUP(D9271,Códigos!B:C,2,0),\" \")","v":" "}]
[null,null,null,null,{"$f":"IFERROR(VLOOKUP(D9272,Códigos!B:C,2,0),\" \")","v":" "}]
[null,null,null,null,{"$f":"IFERROR(VLOOKUP(D9273,Códigos!B:C,2,0),\" \")","v":" "}]
[null,null,null,null,{"$f":"IFERROR(VLOOKUP(D9274,Códigos!B:C,2,0),\" \")","v":" "}]
[null,null,null,null,{"$f":"IFERROR(VLOOKUP(D9275,Códigos!B:C,2,0),\" \")","v":" "}]
[null,null,null,null,{"$f":"IFERROR(VLOOKUP(D9276,Códigos!B:C,2,0),\" \")","v":" "}]
[null,null,null,null,{"$f":"IFERROR(VLOOKUP(D9277,Códigos!B:C,2,0),\" \")","v":" "}]
[null,null,null,null,{"$f":"IFERROR(VLOOKUP(D9278,Códigos!B:C,2,0),\" \")","v":" "}]
[null,null,null,null,{"$f":"IFERROR(VLOOKUP(D9279,Códigos!B:C,2,0),\" \")","v":" "}]
[null,null,null,null,{"$f":"IFERROR(VLOOKUP(D9280,Códigos!B:C,2,0),\" \")","v":" "}]
[null,null,null,null,{"$f":"IFERROR(VLOOKUP(D9281,Códigos!B:C,2,0),\" \")","v":" "}]
[null,null,null,null,{"$f":"IFERROR(VLOOKUP(D9282,Códigos!B:C,2,0),\" \")","v":" "}]
[null,null,null,null,{"$f":"IFERROR(VLOOKUP(D9283,Códigos!B:C,2,0),\" \")","v":" "}]
[null,null,null,null,{"$f":"IFERROR(VLOOKUP(D9284,Códigos!B:C,2,0),\" \")","v":" "}]
[null,null,null,null,{"$f":"IFERROR(VLOOKUP(D9285,Códigos!B:C,2,0),\" \")","v":" "}]
[null,null,null,null,{"$f":"IFERROR(VLOOKUP(D9286,Códigos!B:C,2,0),\" \")","v":" "}]
[null,null,null,null,{"$f":"IFERROR(VLOOKUP(D9287,Códigos!B:C,2,0),\" \")","v":" "}]
[null,null,null,null,{"$f":"IFERROR(VLOOKUP(D9288,Códigos!B:C,2,0),\" \")","v":" "}]
[null,null,null,null,{"$f":"IFERROR(VLOOKUP(D9289,Códigos!B:C,2,0),\" \")","v":" "}]
[null,null,null,null,{"$f":"IFERROR(VLOOKUP(D9290,Códigos!B:C,2,0),\" \")","v":" "}]
[null,null,null,null,{"$f":"IFERROR(VLOOKUP(D9291,Códigos!B:C,2,0),\" \")","v":" "}]
[null,null,null,null,{"$f":"IFERROR(VLOOKUP(D9292,Códigos!B:C,2,0),\" \")","v":" "}]
[null,null,null,null,{"$f":"IFERROR(VLOOKUP(D9293,Códigos!B:C,2,0),\" \")","v":" "}]
[null,null,null,null,{"$f":"IFERROR(VLOOKUP(D9294,Códigos!B:C,2,0),\" \")","v":" "}]
[null,null,null,null,{"$f":"IFERROR(VLOOKUP(D9295,Códigos!B:C,2,0),\" \")","v":" "}]
[null,null,null,null,{"$f":"IFERROR(VLOOKUP(D9296,Códigos!B:C,2,0),\" \")","v":" "}]
[null,null,null,null,{"$f":"IFERROR(VLOOKUP(D9297,Códigos!B:C,2,0),\" \")","v":" "}]
[null,null,null,null,{"$f":"IFERROR(VLOOKUP(D9298,Códigos!B:C,2,0),\" \")","v":" "}]
[null,null,null,null,{"$f":"IFERROR(VLOOKUP(D9299,Códigos!B:C,2,0),\" \")","v":" "}]
[null,null,null,null,{"$f":"IFERROR(VLOOKUP(D9300,Códigos!B:C,2,0),\" \")","v":" "}]
[null,null,null,null,{"$f":"IFERROR(VLOOKUP(D9301,Códigos!B:C,2,0),\" \")","v":" "}]
[null,null,null,null,{"$f":"IFERROR(VLOOKUP(D9302,Códigos!B:C,2,0),\" \")","v":" "}]
[null,null,null,null,{"$f":"IFERROR(VLOOKUP(D9303,Códigos!B:C,2,0),\" \")","v":" "}]
[null,null,null,null,{"$f":"IFERROR(VLOOKUP(D9304,Códigos!B:C,2,0),\" \")","v":" "}]
[null,null,null,null,{"$f":"IFERROR(VLOOKUP(D9305,Códigos!B:C,2,0),\" \")","v":" "}]
[null,null,null,null,{"$f":"IFERROR(VLOOKUP(D9306,Códigos!B:C,2,0),\" \")","v":" "}]
[null,null,null,null,{"$f":"IFERROR(VLOOKUP(D9307,Códigos!B:C,2,0),\" \")","v":" "}]
[null,null,null,null,{"$f":"IFERROR(VLOOKUP(D9308,Códigos!B:C,2,0),\" \")","v":" "}]
[null,null,null,null,{"$f":"IFERROR(VLOOKUP(D9309,Códigos!B:C,2,0),\" \")","v":" "}]
[null,null,null,null,{"$f":"IFERROR(VLOOKUP(D9310,Códigos!B:C,2,0),\" \")","v":" "}]
[null,null,null,null,{"$f":"IFERROR(VLOOKUP(D9311,Códigos!B:C,2,0),\" \")","v":" "}]
[null,null,null,null,{"$f":"IFERROR(VLOOKUP(D9312,Códigos!B:C,2,0),\" \")","v":" "}]
[null,null,null,null,{"$f":"IFERROR(VLOOKUP(D9313,Códigos!B:C,2,0),\" \")","v":" "}]
[null,null,null,null,{"$f":"IFERROR(VLOOKUP(D9314,Códigos!B:C,2,0),\" \")","v":" "}]
[null,null,null,null,{"$f":"IFERROR(VLOOKUP(D9315,Códigos!B:C,2,0),\" \")","v":" "}]
[null,null,null,null,{"$f":"IFERROR(VLOOKUP(D9316,Códigos!B:C,2,0),\" \")","v":" "}]
[null,null,null,null,{"$f":"IFERROR(VLOOKUP(D9317,Códigos!B:C,2,0),\" \")","v":" "}]
[null,null,null,null,{"$f":"IFERROR(VLOOKUP(D9318,Códigos!B:C,2,0),\" \")","v":" "}]
[null,null,null,null,{"$f":"IFERROR(VLOOKUP(D9319,Códigos!B:C,2,0),\" \")","v":" "}]
[null,null,null,null,{"$f":"IFERROR(VLOOKUP(D9320,Códigos!B:C,2,0),\" \")","v":" "}]
[null,null,null,null,{"$f":"IFERROR(VLOOKUP(D9321,Códigos!B:C,2,0),\" \")","v":" "}]
[null,null,null,null,{"$f":"IFERROR(VLOOKUP(D9322,Códigos!B:C,2,0),\" \")","v":" "}]
[null,null,null,null,{"$f":"IFERROR(VLOOKUP(D9323,Códigos!B:C,2,0),\" \")","v":" "}]
[null,null,null,null,{"$f":"IFERROR(VLOOKUP(D9324,Códigos!B:C,2,0),\" \")","v":" "}]
[null,null,null,null,{"$f":"IFERROR(VLOOKUP(D9325,Códigos!B:C,2,0),\" \")","v":" "}]
[null,null,null,null,{"$f":"IFERROR(VLOOKUP(D9326,Códigos!B:C,2,0),\" \")","v":" "}]
[null,null,null,null,{"$f":"IFERROR(VLOOKUP(D9327,Códigos!B:C,2,0),\" \")","v":" "}]
[null,null,null,null,{"$f":"IFERROR(VLOOKUP(D9328,Códigos!B:C,2,0),\" \")","v":" "}]
[null,null,null,null,{"$f":"IFERROR(VLOOKUP(D9329,Códigos!B:C,2,0),\" \")","v":" "}]
[null,null,null,null,{"$f":"IFERROR(VLOOKUP(D9330,Códigos!B:C,2,0),\" \")","v":" "}]
[null,null,null,null,{"$f":"IFERROR(VLOOKUP(D9331,Códigos!B:C,2,0),\" \")","v":" "}]
[null,null,null,null,{"$f":"IFERROR(VLOOKUP(D9332,Códigos!B:C,2,0),\" \")","v":" "}]
[null,null,null,null,{"$f":"IFERROR(VLOOKUP(D9333,Códigos!B:C,2,0),\" \")","v":" "}]
[null,null,null,null,{"$f":"IFERROR(VLOOKUP(D9334,Códigos!B:C,2,0),\" \")","v":" "}]
[null,null,null,null,{"$f":"IFERROR(VLOOKUP(D9335,Códigos!B:C,2,0),\" \")","v":" "}]
[null,null,null,null,{"$f":"IFERROR(VLOOKUP(D9336,Códigos!B:C,2,0),\" \")","v":" "}]
[null,null,null,null,{"$f":"IFERROR(VLOOKUP(D9337,Códigos!B:C,2,0),\" \")","v":" "}]
[null,null,null,null,{"$f":"IFERROR(VLOOKUP(D9338,Códigos!B:C,2,0),\" \")","v":" "}]
[null,null,null,null,{"$f":"IFERROR(VLOOKUP(D9339,Códigos!B:C,2,0),\" \")","v":" "}]
[null,null,null,null,{"$f":"IFERROR(VLOOKUP(D9340,Códigos!B:C,2,0),\" \")","v":" "}]
[null,null,null,null,{"$f":"IFERROR(VLOOKUP(D9341,Códigos!B:C,2,0),\" \")","v":" "}]
[null,null,null,null,{"$f":"IFERROR(VLOOKUP(D9342,Códigos!B:C,2,0),\" \")","v":" "}]
[null,null,null,null,{"$f":"IFERROR(VLOOKUP(D9343,Códigos!B:C,2,0),\" \")","v":" "}]
[null,null,null,null,{"$f":"IFERROR(VLOOKUP(D9344,Códigos!B:C,2,0),\" \")","v":" "}]
[null,null,null,null,{"$f":"IFERROR(VLOOKUP(D9345,Códigos!B:C,2,0),\" \")","v":" "}]
[null,null,null,null,{"$f":"IFERROR(VLOOKUP(D9346,Códigos!B:C,2,0),\" \")","v":" "}]
[null,null,null,null,{"$f":"IFERROR(VLOOKUP(D9347,Códigos!B:C,2,0),\" \")","v":" "}]
[null,null,null,null,{"$f":"IFERROR(VLOOKUP(D9348,Códigos!B:C,2,0),\" \")","v":" "}]
[null,null,null,null,{"$f":"IFERROR(VLOOKUP(D9349,Códigos!B:C,2,0),\" \")","v":" "}]
[null,null,null,null,{"$f":"IFERROR(VLOOKUP(D9350,Códigos!B:C,2,0),\" \")","v":" "}]
[null,null,null,null,{"$f":"IFERROR(VLOOKUP(D9351,Códigos!B:C,2,0),\" \")","v":" "}]
[null,null,null,null,{"$f":"IFERROR(VLOOKUP(D9352,Códigos!B:C,2,0),\" \")","v":" "}]
[null,null,null,null,{"$f":"IFERROR(VLOOKUP(D9353,Códigos!B:C,2,0),\" \")","v":" "}]
[null,null,null,null,{"$f":"IFERROR(VLOOKUP(D9354,Códigos!B:C,2,0),\" \")","v":" "}]
[null,null,null,null,{"$f":"IFERROR(VLOOKUP(D9355,Códigos!B:C,2,0),\" \")","v":" "}]
[null,null,null,null,{"$f":"IFERROR(VLOOKUP(D9356,Códigos!B:C,2,0),\" \")","v":" "}]
[null,null,null,null,{"$f":"IFERROR(VLOOKUP(D9357,Códigos!B:C,2,0),\" \")","v":" "}]
[null,null,null,null,{"$f":"IFERROR(VLOOKUP(D9358,Códigos!B:C,2,0),\" \")","v":" "}]
[null,null,null,null,{"$f":"IFERROR(VLOOKUP(D9359,Códigos!B:C,2,0),\" \")","v":" "}]
[null,null,null,null,{"$f":"IFERROR(VLOOKUP(D9360,Códigos!B:C,2,0),\" \")","v":" "}]
[null,null,null,null,{"$f":"IFERROR(VLOOKUP(D9361,Códigos!B:C,2,0),\" \")","v":" "}]
[null,null,null,null,{"$f":"IFERROR(VLOOKUP(D9362,Códigos!B:C,2,0),\" \")","v":" "}]
[null,null,null,null,{"$f":"IFERROR(VLOOKUP(D9363,Códigos!B:C,2,0),\" \")","v":" "}]
[null,null,null,null,{"$f":"IFERROR(VLOOKUP(D9364,Códigos!B:C,2,0),\" \")","v":" "}]
[null,null,null,null,{"$f":"IFERROR(VLOOKUP(D9365,Códigos!B:C,2,0),\" \")","v":" "}]
[null,null,null,null,{"$f":"IFERROR(VLOOKUP(D9366,Códigos!B:C,2,0),\" \")","v":" "}]
[null,null,null,null,{"$f":"IFERROR(VLOOKUP(D9367,Códigos!B:C,2,0),\" \")","v":" "}]
[null,null,null,null,{"$f":"IFERROR(VLOOKUP(D9368,Códigos!B:C,2,0),\" \")","v":" "}]
[null,null,null,null,{"$f":"IFERROR(VLOOKUP(D9369,Códigos!B:C,2,0),\" \")","v":" "}]
[null,null,null,null,{"$f":"IFERROR(VLOOKUP(D9370,Códigos!B:C,2,0),\" \")","v":" "}]
[null,null,null,null,{"$f":"IFERROR(VLOOKUP(D9371,Códigos!B:C,2,0),\" \")","v":" "}]
[null,null,null,null,{"$f":"IFERROR(VLOOKUP(D9372,Códigos!B:C,2,0),\" \")","v":" "}]
[null,null,null,null,{"$f":"IFERROR(VLOOKUP(D9373,Códigos!B:C,2,0),\" \")","v":" "}]
[null,null,null,null,{"$f":"IFERROR(VLOOKUP(D9374,Códigos!B:C,2,0),\" \")","v":" "}]
[null,null,null,null,{"$f":"IFERROR(VLOOKUP(D9375,Códigos!B:C,2,0),\" \")","v":" "}]
[null,null,null,null,{"$f":"IFERROR(VLOOKUP(D9376,Códigos!B:C,2,0),\" \")","v":" "}]
[null,null,null,null,{"$f":"IFERROR(VLOOKUP(D9377,Códigos!B:C,2,0),\" \")","v":" "}]
[null,null,null,null,{"$f":"IFERROR(VLOOKUP(D9378,Códigos!B:C,2,0),\" \")","v":" "}]
[null,null,null,null,{"$f":"IFERROR(VLOOKUP(D9379,Códigos!B:C,2,0),\" \")","v":" "}]
[null,null,null,null,{"$f":"IFERROR(VLOOKUP(D9380,Códigos!B:C,2,0),\" \")","v":" "}]
[null,null,null,null,{"$f":"IFERROR(VLOOKUP(D9381,Códigos!B:C,2,0),\" \")","v":" "}]
[null,null,null,null,{"$f":"IFERROR(VLOOKUP(D9382,Códigos!B:C,2,0),\" \")","v":" "}]
[null,null,null,null,{"$f":"IFERROR(VLOOKUP(D9383,Códigos!B:C,2,0),\" \")","v":" "}]
[null,null,null,null,{"$f":"IFERROR(VLOOKUP(D9384,Códigos!B:C,2,0),\" \")","v":" "}]
[null,null,null,null,{"$f":"IFERROR(VLOOKUP(D9385,Códigos!B:C,2,0),\" \")","v":" "}]
[null,null,null,null,{"$f":"IFERROR(VLOOKUP(D9386,Códigos!B:C,2,0),\" \")","v":" "}]
[null,null,null,null,{"$f":"IFERROR(VLOOKUP(D9387,Códigos!B:C,2,0),\" \")","v":" "}]
[null,null,null,null,{"$f":"IFERROR(VLOOKUP(D9388,Códigos!B:C,2,0),\" \")","v":" "}]
[null,null,null,null,{"$f":"IFERROR(VLOOKUP(D9389,Códigos!B:C,2,0),\" \")","v":" "}]
[null,null,null,null,{"$f":"IFERROR(VLOOKUP(D9390,Códigos!B:C,2,0),\" \")","v":" "}]
[null,null,null,null,{"$f":"IFERROR(VLOOKUP(D9391,Códigos!B:C,2,0),\" \")","v":" "}]
[null,null,null,null,{"$f":"IFERROR(VLOOKUP(D9392,Códigos!B:C,2,0),\" \")","v":" "}]
[null,null,null,null,{"$f":"IFERROR(VLOOKUP(D9393,Códigos!B:C,2,0),\" \")","v":" "}]
[null,null,null,null,{"$f":"IFERROR(VLOOKUP(D9394,Códigos!B:C,2,0),\" \")","v":" "}]
[null,null,null,null,{"$f":"IFERROR(VLOOKUP(D9395,Códigos!B:C,2,0),\" \")","v":" "}]
[null,null,null,null,{"$f":"IFERROR(VLOOKUP(D9396,Códigos!B:C,2,0),\" \")","v":" "}]
[null,null,null,null,{"$f":"IFERROR(VLOOKUP(D9397,Códigos!B:C,2,0),\" \")","v":" "}]
[null,null,null,null,{"$f":"IFERROR(VLOOKUP(D9398,Códigos!B:C,2,0),\" \")","v":" "}]
[null,null,null,null,{"$f":"IFERROR(VLOOKUP(D9399,Códigos!B:C,2,0),\" \")","v":" "}]
[null,null,null,null,{"$f":"IFERROR(VLOOKUP(D9400,Códigos!B:C,2,0),\" \")","v":" "}]
[null,null,null,null,{"$f":"IFERROR(VLOOKUP(D9401,Códigos!B:C,2,0),\" \")","v":" "}]
[null,null,null,null,{"$f":"IFERROR(VLOOKUP(D9402,Códigos!B:C,2,0),\" \")","v":" "}]
[null,null,null,null,{"$f":"IFERROR(VLOOKUP(D9403,Códigos!B:C,2,0),\" \")","v":" "}]
[null,null,null,null,{"$f":"IFERROR(VLOOKUP(D9404,Códigos!B:C,2,0),\" \")","v":" "}]
[null,null,null,null,{"$f":"IFERROR(VLOOKUP(D9405,Códigos!B:C,2,0),\" \")","v":" "}]
[null,null,null,null,{"$f":"IFERROR(VLOOKUP(D9406,Códigos!B:C,2,0),\" \")","v":" "}]
[null,null,null,null,{"$f":"IFERROR(VLOOKUP(D9407,Códigos!B:C,2,0),\" \")","v":" "}]
[null,null,null,null,{"$f":"IFERROR(VLOOKUP(D9408,Códigos!B:C,2,0),\" \")","v":" "}]
[null,null,null,null,{"$f":"IFERROR(VLOOKUP(D9409,Códigos!B:C,2,0),\" \")","v":" "}]
[null,null,null,null,{"$f":"IFERROR(VLOOKUP(D9410,Códigos!B:C,2,0),\" \")","v":" "}]
[null,null,null,null,{"$f":"IFERROR(VLOOKUP(D9411,Códigos!B:C,2,0),\" \")","v":" "}]
[null,null,null,null,{"$f":"IFERROR(VLOOKUP(D9412,Códigos!B:C,2,0),\" \")","v":" "}]
[null,null,null,null,{"$f":"IFERROR(VLOOKUP(D9413,Códigos!B:C,2,0),\" \")","v":" "}]
[null,null,null,null,{"$f":"IFERROR(VLOOKUP(D9414,Códigos!B:C,2,0),\" \")","v":" "}]
[null,null,null,null,{"$f":"IFERROR(VLOOKUP(D9415,Códigos!B:C,2,0),\" \")","v":" "}]
[null,null,null,null,{"$f":"IFERROR(VLOOKUP(D9416,Códigos!B:C,2,0),\" \")","v":" "}]
[null,null,null,null,{"$f":"IFERROR(VLOOKUP(D9417,Códigos!B:C,2,0),\" \")","v":" "}]
[null,null,null,null,{"$f":"IFERROR(VLOOKUP(D9418,Códigos!B:C,2,0),\" \")","v":" "}]
[null,null,null,null,{"$f":"IFERROR(VLOOKUP(D9419,Códigos!B:C,2,0),\" \")","v":" "}]
[null,null,null,null,{"$f":"IFERROR(VLOOKUP(D9420,Códigos!B:C,2,0),\" \")","v":" "}]
[null,null,null,null,{"$f":"IFERROR(VLOOKUP(D9421,Códigos!B:C,2,0),\" \")","v":" "}]
[null,null,null,null,{"$f":"IFERROR(VLOOKUP(D9422,Códigos!B:C,2,0),\" \")","v":" "}]
[null,null,null,null,{"$f":"IFERROR(VLOOKUP(D9423,Códigos!B:C,2,0),\" \")","v":" "}]
[null,null,null,null,{"$f":"IFERROR(VLOOKUP(D9424,Códigos!B:C,2,0),\" \")","v":" "}]
[null,null,null,null,{"$f":"IFERROR(VLOOKUP(D9425,Códigos!B:C,2,0),\" \")","v":" "}]
[null,null,null,null,{"$f":"IFERROR(VLOOKUP(D9426,Códigos!B:C,2,0),\" \")","v":" "}]
[null,null,null,null,{"$f":"IFERROR(VLOOKUP(D9427,Códigos!B:C,2,0),\" \")","v":" "}]
[null,null,null,null,{"$f":"IFERROR(VLOOKUP(D9428,Códigos!B:C,2,0),\" \")","v":" "}]
[null,null,null,null,{"$f":"IFERROR(VLOOKUP(D9429,Códigos!B:C,2,0),\" \")","v":" "}]
[null,null,null,null,{"$f":"IFERROR(VLOOKUP(D9430,Códigos!B:C,2,0),\" \")","v":" "}]
[null,null,null,null,{"$f":"IFERROR(VLOOKUP(D9431,Códigos!B:C,2,0),\" \")","v":" "}]
[null,null,null,null,{"$f":"IFERROR(VLOOKUP(D9432,Códigos!B:C,2,0),\" \")","v":" "}]
[null,null,null,null,{"$f":"IFERROR(VLOOKUP(D9433,Códigos!B:C,2,0),\" \")","v":" "}]
[null,null,null,null,{"$f":"IFERROR(VLOOKUP(D9434,Códigos!B:C,2,0),\" \")","v":" "}]
[null,null,null,null,{"$f":"IFERROR(VLOOKUP(D9435,Códigos!B:C,2,0),\" \")","v":" "}]
[null,null,null,null,{"$f":"IFERROR(VLOOKUP(D9436,Códigos!B:C,2,0),\" \")","v":" "}]
[null,null,null,null,{"$f":"IFERROR(VLOOKUP(D9437,Códigos!B:C,2,0),\" \")","v":" "}]
[null,null,null,null,{"$f":"IFERROR(VLOOKUP(D9438,Códigos!B:C,2,0),\" \")","v":" "}]
[null,null,null,null,{"$f":"IFERROR(VLOOKUP(D9439,Códigos!B:C,2,0),\" \")","v":" "}]
[null,null,null,null,{"$f":"IFERROR(VLOOKUP(D9440,Códigos!B:C,2,0),\" \")","v":" "}]
[null,null,null,null,{"$f":"IFERROR(VLOOKUP(D9441,Códigos!B:C,2,0),\" \")","v":" "}]
[null,null,null,null,{"$f":"IFERROR(VLOOKUP(D9442,Códigos!B:C,2,0),\" \")","v":" "}]
[null,null,null,null,{"$f":"IFERROR(VLOOKUP(D9443,Códigos!B:C,2,0),\" \")","v":" "}]
[null,null,null,null,{"$f":"IFERROR(VLOOKUP(D9444,Códigos!B:C,2,0),\" \")","v":" "}]
[null,null,null,null,{"$f":"IFERROR(VLOOKUP(D9445,Códigos!B:C,2,0),\" \")","v":" "}]
[null,null,null,null,{"$f":"IFERROR(VLOOKUP(D9446,Códigos!B:C,2,0),\" \")","v":" "}]
[null,null,null,null,{"$f":"IFERROR(VLOOKUP(D9447,Códigos!B:C,2,0),\" \")","v":" "}]
[null,null,null,null,{"$f":"IFERROR(VLOOKUP(D9448,Códigos!B:C,2,0),\" \")","v":" "}]
[null,null,null,null,{"$f":"IFERROR(VLOOKUP(D9449,Códigos!B:C,2,0),\" \")","v":" "}]
[null,null,null,null,{"$f":"IFERROR(VLOOKUP(D9450,Códigos!B:C,2,0),\" \")","v":" "}]
[null,null,null,null,{"$f":"IFERROR(VLOOKUP(D9451,Códigos!B:C,2,0),\" \")","v":" "}]
[null,null,null,null,{"$f":"IFERROR(VLOOKUP(D9452,Códigos!B:C,2,0),\" \")","v":" "}]
[null,null,null,null,{"$f":"IFERROR(VLOOKUP(D9453,Códigos!B:C,2,0),\" \")","v":" "}]
[null,null,null,null,{"$f":"IFERROR(VLOOKUP(D9454,Códigos!B:C,2,0),\" \")","v":" "}]
[null,null,null,null,{"$f":"IFERROR(VLOOKUP(D9455,Códigos!B:C,2,0),\" \")","v":" "}]
[null,null,null,null,{"$f":"IFERROR(VLOOKUP(D9456,Códigos!B:C,2,0),\" \")","v":" "}]
[null,null,null,null,{"$f":"IFERROR(VLOOKUP(D9457,Códigos!B:C,2,0),\" \")","v":" "}]
[null,null,null,null,{"$f":"IFERROR(VLOOKUP(D9458,Códigos!B:C,2,0),\" \")","v":" "}]
[null,null,null,null,{"$f":"IFERROR(VLOOKUP(D9459,Códigos!B:C,2,0),\" \")","v":" "}]
[null,null,null,null,{"$f":"IFERROR(VLOOKUP(D9460,Códigos!B:C,2,0),\" \")","v":" "}]
[null,null,null,null,{"$f":"IFERROR(VLOOKUP(D9461,Códigos!B:C,2,0),\" \")","v":" "}]
[null,null,null,null,{"$f":"IFERROR(VLOOKUP(D9462,Códigos!B:C,2,0),\" \")","v":" "}]
[null,null,null,null,{"$f":"IFERROR(VLOOKUP(D9463,Códigos!B:C,2,0),\" \")","v":" "}]
[null,null,null,null,{"$f":"IFERROR(VLOOKUP(D9464,Códigos!B:C,2,0),\" \")","v":" "}]
[null,null,null,null,{"$f":"IFERROR(VLOOKUP(D9465,Códigos!B:C,2,0),\" \")","v":" "}]
[null,null,null,null,{"$f":"IFERROR(VLOOKUP(D9466,Códigos!B:C,2,0),\" \")","v":" "}]
[null,null,null,null,{"$f":"IFERROR(VLOOKUP(D9467,Códigos!B:C,2,0),\" \")","v":" "}]
[null,null,null,null,{"$f":"IFERROR(VLOOKUP(D9468,Códigos!B:C,2,0),\" \")","v":" "}]
[null,null,null,null,{"$f":"IFERROR(VLOOKUP(D9469,Códigos!B:C,2,0),\" \")","v":" "}]
[null,null,null,null,{"$f":"IFERROR(VLOOKUP(D9470,Códigos!B:C,2,0),\" \")","v":" "}]
[null,null,null,null,{"$f":"IFERROR(VLOOKUP(D9471,Códigos!B:C,2,0),\" \")","v":" "}]
[null,null,null,null,{"$f":"IFERROR(VLOOKUP(D9472,Códigos!B:C,2,0),\" \")","v":" "}]
[null,null,null,null,{"$f":"IFERROR(VLOOKUP(D9473,Códigos!B:C,2,0),\" \")","v":" "}]
[null,null,null,null,{"$f":"IFERROR(VLOOKUP(D9474,Códigos!B:C,2,0),\" \")","v":" "}]
[null,null,null,null,{"$f":"IFERROR(VLOOKUP(D9475,Códigos!B:C,2,0),\" \")","v":" "}]
[null,null,null,null,{"$f":"IFERROR(VLOOKUP(D9476,Códigos!B:C,2,0),\" \")","v":" "}]
[null,null,null,null,{"$f":"IFERROR(VLOOKUP(D9477,Códigos!B:C,2,0),\" \")","v":" "}]
[null,null,null,null,{"$f":"IFERROR(VLOOKUP(D9478,Códigos!B:C,2,0),\" \")","v":" "}]
[null,null,null,null,{"$f":"IFERROR(VLOOKUP(D9479,Códigos!B:C,2,0),\" \")","v":" "}]
[null,null,null,null,{"$f":"IFERROR(VLOOKUP(D9480,Códigos!B:C,2,0),\" \")","v":" "}]
[null,null,null,null,{"$f":"IFERROR(VLOOKUP(D9481,Códigos!B:C,2,0),\" \")","v":" "}]
[null,null,null,null,{"$f":"IFERROR(VLOOKUP(D9482,Códigos!B:C,2,0),\" \")","v":" "}]
[null,null,null,null,{"$f":"IFERROR(VLOOKUP(D9483,Códigos!B:C,2,0),\" \")","v":" "}]
[null,null,null,null,{"$f":"IFERROR(VLOOKUP(D9484,Códigos!B:C,2,0),\" \")","v":" "}]
[null,null,null,null,{"$f":"IFERROR(VLOOKUP(D9485,Códigos!B:C,2,0),\" \")","v":" "}]
[null,null,null,null,{"$f":"IFERROR(VLOOKUP(D9486,Códigos!B:C,2,0),\" \")","v":" "}]
[null,null,null,null,{"$f":"IFERROR(VLOOKUP(D9487,Códigos!B:C,2,0),\" \")","v":" "}]
[null,null,null,null,{"$f":"IFERROR(VLOOKUP(D9488,Códigos!B:C,2,0),\" \")","v":" "}]
[null,null,null,null,{"$f":"IFERROR(VLOOKUP(D9489,Códigos!B:C,2,0),\" \")","v":" "}]
[null,null,null,null,{"$f":"IFERROR(VLOOKUP(D9490,Códigos!B:C,2,0),\" \")","v":" "}]
[null,null,null,null,{"$f":"IFERROR(VLOOKUP(D9491,Códigos!B:C,2,0),\" \")","v":" "}]
[null,null,null,null,{"$f":"IFERROR(VLOOKUP(D9492,Códigos!B:C,2,0),\" \")","v":" "}]
[null,null,null,null,{"$f":"IFERROR(VLOOKUP(D9493,Códigos!B:C,2,0),\" \")","v":" "}]
[null,null,null,null,{"$f":"IFERROR(VLOOKUP(D9494,Códigos!B:C,2,0),\" \")","v":" "}]
[null,null,null,null,{"$f":"IFERROR(VLOOKUP(D9495,Códigos!B:C,2,0),\" \")","v":" "}]
[null,null,null,null,{"$f":"IFERROR(VLOOKUP(D9496,Códigos!B:C,2,0),\" \")","v":" "}]
[null,null,null,null,{"$f":"IFERROR(VLOOKUP(D9497,Códigos!B:C,2,0),\" \")","v":" "}]
[null,null,null,null,{"$f":"IFERROR(VLOOKUP(D9498,Códigos!B:C,2,0),\" \")","v":" "}]
[null,null,null,null,{"$f":"IFERROR(VLOOKUP(D9499,Códigos!B:C,2,0),\" \")","v":" "}]
[null,null,null,null,{"$f":"IFERROR(VLOOKUP(D9500,Códigos!B:C,2,0),\" \")","v":" "}]
[null,null,null,null,{"$f":"IFERROR(VLOOKUP(D9501,Códigos!B:C,2,0),\" \")","v":" "}]
[null,null,null,null,{"$f":"IFERROR(VLOOKUP(D9502,Códigos!B:C,2,0),\" \")","v":" "}]
[null,null,null,null,{"$f":"IFERROR(VLOOKUP(D9503,Códigos!B:C,2,0),\" \")","v":" "}]
[null,null,null,null,{"$f":"IFERROR(VLOOKUP(D9504,Códigos!B:C,2,0),\" \")","v":" "}]
[null,null,null,null,{"$f":"IFERROR(VLOOKUP(D9505,Códigos!B:C,2,0),\" \")","v":" "}]
[null,null,null,null,{"$f":"IFERROR(VLOOKUP(D9506,Códigos!B:C,2,0),\" \")","v":" "}]
[null,null,null,null,{"$f":"IFERROR(VLOOKUP(D9507,Códigos!B:C,2,0),\" \")","v":" "}]
[null,null,null,null,{"$f":"IFERROR(VLOOKUP(D9508,Códigos!B:C,2,0),\" \")","v":" "}]
[null,null,null,null,{"$f":"IFERROR(VLOOKUP(D9509,Códigos!B:C,2,0),\" \")","v":" "}]
[null,null,null,null,{"$f":"IFERROR(VLOOKUP(D9510,Códigos!B:C,2,0),\" \")","v":" "}]
[null,null,null,null,{"$f":"IFERROR(VLOOKUP(D9511,Códigos!B:C,2,0),\" \")","v":" "}]
[null,null,null,null,{"$f":"IFERROR(VLOOKUP(D9512,Códigos!B:C,2,0),\" \")","v":" "}]
[null,null,null,null,{"$f":"IFERROR(VLOOKUP(D9513,Códigos!B:C,2,0),\" \")","v":" "}]
[null,null,null,null,{"$f":"IFERROR(VLOOKUP(D9514,Códigos!B:C,2,0),\" \")","v":" "}]
[null,null,null,null,{"$f":"IFERROR(VLOOKUP(D9515,Códigos!B:C,2,0),\" \")","v":" "}]
[null,null,null,null,{"$f":"IFERROR(VLOOKUP(D9516,Códigos!B:C,2,0),\" \")","v":" "}]
[null,null,null,null,{"$f":"IFERROR(VLOOKUP(D9517,Códigos!B:C,2,0),\" \")","v":" "}]
[null,null,null,null,{"$f":"IFERROR(VLOOKUP(D9518,Códigos!B:C,2,0),\" \")","v":" "}]
[null,null,null,null,{"$f":"IFERROR(VLOOKUP(D9519,Códigos!B:C,2,0),\" \")","v":" "}]
[null,null,null,null,{"$f":"IFERROR(VLOOKUP(D9520,Códigos!B:C,2,0),\" \")","v":" "}]
[null,null,null,null,{"$f":"IFERROR(VLOOKUP(D9521,Códigos!B:C,2,0),\" \")","v":" "}]
[null,null,null,null,{"$f":"IFERROR(VLOOKUP(D9522,Códigos!B:C,2,0),\" \")","v":" "}]
[null,null,null,null,{"$f":"IFERROR(VLOOKUP(D9523,Códigos!B:C,2,0),\" \")","v":" "}]
[null,null,null,null,{"$f":"IFERROR(VLOOKUP(D9524,Códigos!B:C,2,0),\" \")","v":" "}]
[null,null,null,null,{"$f":"IFERROR(VLOOKUP(D9525,Códigos!B:C,2,0),\" \")","v":" "}]
[null,null,null,null,{"$f":"IFERROR(VLOOKUP(D9526,Códigos!B:C,2,0),\" \")","v":" "}]
[null,null,null,null,{"$f":"IFERROR(VLOOKUP(D9527,Códigos!B:C,2,0),\" \")","v":" "}]
[null,null,null,null,{"$f":"IFERROR(VLOOKUP(D9528,Códigos!B:C,2,0),\" \")","v":" "}]
[null,null,null,null,{"$f":"IFERROR(VLOOKUP(D9529,Códigos!B:C,2,0),\" \")","v":" "}]
[null,null,null,null,{"$f":"IFERROR(VLOOKUP(D9530,Códigos!B:C,2,0),\" \")","v":" "}]
[null,null,null,null,{"$f":"IFERROR(VLOOKUP(D9531,Códigos!B:C,2,0),\" \")","v":" "}]
[null,null,null,null,{"$f":"IFERROR(VLOOKUP(D9532,Códigos!B:C,2,0),\" \")","v":" "}]
[null,null,null,null,{"$f":"IFERROR(VLOOKUP(D9533,Códigos!B:C,2,0),\" \")","v":" "}]
[null,null,null,null,{"$f":"IFERROR(VLOOKUP(D9534,Códigos!B:C,2,0),\" \")","v":" "}]
[null,null,null,null,{"$f":"IFERROR(VLOOKUP(D9535,Códigos!B:C,2,0),\" \")","v":" "}]
[null,null,null,null,{"$f":"IFERROR(VLOOKUP(D9536,Códigos!B:C,2,0),\" \")","v":" "}]
[null,null,null,null,{"$f":"IFERROR(VLOOKUP(D9537,Códigos!B:C,2,0),\" \")","v":" "}]
[null,null,null,null,{"$f":"IFERROR(VLOOKUP(D9538,Códigos!B:C,2,0),\" \")","v":" "}]
[null,null,null,null,{"$f":"IFERROR(VLOOKUP(D9539,Códigos!B:C,2,0),\" \")","v":" "}]
[null,null,null,null,{"$f":"IFERROR(VLOOKUP(D9540,Códigos!B:C,2,0),\" \")","v":" "}]
[null,null,null,null,{"$f":"IFERROR(VLOOKUP(D9541,Códigos!B:C,2,0),\" \")","v":" "}]
[null,null,null,null,{"$f":"IFERROR(VLOOKUP(D9542,Códigos!B:C,2,0),\" \")","v":" "}]
[null,null,null,null,{"$f":"IFERROR(VLOOKUP(D9543,Códigos!B:C,2,0),\" \")","v":" "}]
[null,null,null,null,{"$f":"IFERROR(VLOOKUP(D9544,Códigos!B:C,2,0),\" \")","v":" "}]
[null,null,null,null,{"$f":"IFERROR(VLOOKUP(D9545,Códigos!B:C,2,0),\" \")","v":" "}]
[null,null,null,null,{"$f":"IFERROR(VLOOKUP(D9546,Códigos!B:C,2,0),\" \")","v":" "}]
[null,null,null,null,{"$f":"IFERROR(VLOOKUP(D9547,Códigos!B:C,2,0),\" \")","v":" "}]
[null,null,null,null,{"$f":"IFERROR(VLOOKUP(D9548,Códigos!B:C,2,0),\" \")","v":" "}]
[null,null,null,null,{"$f":"IFERROR(VLOOKUP(D9549,Códigos!B:C,2,0),\" \")","v":" "}]
[null,null,null,null,{"$f":"IFERROR(VLOOKUP(D9550,Códigos!B:C,2,0),\" \")","v":" "}]
[null,null,null,null,{"$f":"IFERROR(VLOOKUP(D9551,Códigos!B:C,2,0),\" \")","v":" "}]
[null,null,null,null,{"$f":"IFERROR(VLOOKUP(D9552,Códigos!B:C,2,0),\" \")","v":" "}]
[null,null,null,null,{"$f":"IFERROR(VLOOKUP(D9553,Códigos!B:C,2,0),\" \")","v":" "}]
[null,null,null,null,{"$f":"IFERROR(VLOOKUP(D9554,Códigos!B:C,2,0),\" \")","v":" "}]
[null,null,null,null,{"$f":"IFERROR(VLOOKUP(D9555,Códigos!B:C,2,0),\" \")","v":" "}]
[null,null,null,null,{"$f":"IFERROR(VLOOKUP(D9556,Códigos!B:C,2,0),\" \")","v":" "}]
[null,null,null,null,{"$f":"IFERROR(VLOOKUP(D9557,Códigos!B:C,2,0),\" \")","v":" "}]
[null,null,null,null,{"$f":"IFERROR(VLOOKUP(D9558,Códigos!B:C,2,0),\" \")","v":" "}]
[null,null,null,null,{"$f":"IFERROR(VLOOKUP(D9559,Códigos!B:C,2,0),\" \")","v":" "}]
[null,null,null,null,{"$f":"IFERROR(VLOOKUP(D9560,Códigos!B:C,2,0),\" \")","v":" "}]
[null,null,null,null,{"$f":"IFERROR(VLOOKUP(D9561,Códigos!B:C,2,0),\" \")","v":" "}]
[null,null,null,null,{"$f":"IFERROR(VLOOKUP(D9562,Códigos!B:C,2,0),\" \")","v":" "}]
[null,null,null,null,{"$f":"IFERROR(VLOOKUP(D9563,Códigos!B:C,2,0),\" \")","v":" "}]
[null,null,null,null,{"$f":"IFERROR(VLOOKUP(D9564,Códigos!B:C,2,0),\" \")","v":" "}]
[null,null,null,null,{"$f":"IFERROR(VLOOKUP(D9565,Códigos!B:C,2,0),\" \")","v":" "}]
[null,null,null,null,{"$f":"IFERROR(VLOOKUP(D9566,Códigos!B:C,2,0),\" \")","v":" "}]
[null,null,null,null,{"$f":"IFERROR(VLOOKUP(D9567,Códigos!B:C,2,0),\" \")","v":" "}]
[null,null,null,null,{"$f":"IFERROR(VLOOKUP(D9568,Códigos!B:C,2,0),\" \")","v":" "}]
[null,null,null,null,{"$f":"IFERROR(VLOOKUP(D9569,Códigos!B:C,2,0),\" \")","v":" "}]
[null,null,null,null,{"$f":"IFERROR(VLOOKUP(D9570,Códigos!B:C,2,0),\" \")","v":" "}]
[null,null,null,null,{"$f":"IFERROR(VLOOKUP(D9571,Códigos!B:C,2,0),\" \")","v":" "}]
[null,null,null,null,{"$f":"IFERROR(VLOOKUP(D9572,Códigos!B:C,2,0),\" \")","v":" "}]
[null,null,null,null,{"$f":"IFERROR(VLOOKUP(D9573,Códigos!B:C,2,0),\" \")","v":" "}]
[null,null,null,null,{"$f":"IFERROR(VLOOKUP(D9574,Códigos!B:C,2,0),\" \")","v":" "}]
[null,null,null,null,{"$f":"IFERROR(VLOOKUP(D9575,Códigos!B:C,2,0),\" \")","v":" "}]
[null,null,null,null,{"$f":"IFERROR(VLOOKUP(D9576,Códigos!B:C,2,0),\" \")","v":" "}]
[null,null,null,null,{"$f":"IFERROR(VLOOKUP(D9577,Códigos!B:C,2,0),\" \")","v":" "}]
[null,null,null,null,{"$f":"IFERROR(VLOOKUP(D9578,Códigos!B:C,2,0),\" \")","v":" "}]
[null,null,null,null,{"$f":"IFERROR(VLOOKUP(D9579,Códigos!B:C,2,0),\" \")","v":" "}]
[null,null,null,null,{"$f":"IFERROR(VLOOKUP(D9580,Códigos!B:C,2,0),\" \")","v":" "}]
[null,null,null,null,{"$f":"IFERROR(VLOOKUP(D9581,Códigos!B:C,2,0),\" \")","v":" "}]
[null,null,null,null,{"$f":"IFERROR(VLOOKUP(D9582,Códigos!B:C,2,0),\" \")","v":" "}]
[null,null,null,null,{"$f":"IFERROR(VLOOKUP(D9583,Códigos!B:C,2,0),\" \")","v":" "}]
[null,null,null,null,{"$f":"IFERROR(VLOOKUP(D9584,Códigos!B:C,2,0),\" \")","v":" "}]
[null,null,null,null,{"$f":"IFERROR(VLOOKUP(D9585,Códigos!B:C,2,0),\" \")","v":" "}]
[null,null,null,null,{"$f":"IFERROR(VLOOKUP(D9586,Códigos!B:C,2,0),\" \")","v":" "}]
[null,null,null,null,{"$f":"IFERROR(VLOOKUP(D9587,Códigos!B:C,2,0),\" \")","v":" "}]
[null,null,null,null,{"$f":"IFERROR(VLOOKUP(D9588,Códigos!B:C,2,0),\" \")","v":" "}]
[null,null,null,null,{"$f":"IFERROR(VLOOKUP(D9589,Códigos!B:C,2,0),\" \")","v":" "}]
[null,null,null,null,{"$f":"IFERROR(VLOOKUP(D9590,Códigos!B:C,2,0),\" \")","v":" "}]
[null,null,null,null,{"$f":"IFERROR(VLOOKUP(D9591,Códigos!B:C,2,0),\" \")","v":" "}]
[null,null,null,null,{"$f":"IFERROR(VLOOKUP(D9592,Códigos!B:C,2,0),\" \")","v":" "}]
[null,null,null,null,{"$f":"IFERROR(VLOOKUP(D9593,Códigos!B:C,2,0),\" \")","v":" "}]
[null,null,null,null,{"$f":"IFERROR(VLOOKUP(D9594,Códigos!B:C,2,0),\" \")","v":" "}]
[null,null,null,null,{"$f":"IFERROR(VLOOKUP(D9595,Códigos!B:C,2,0),\" \")","v":" "}]
[null,null,null,null,{"$f":"IFERROR(VLOOKUP(D9596,Códigos!B:C,2,0),\" \")","v":" "}]
[null,null,null,null,{"$f":"IFERROR(VLOOKUP(D9597,Códigos!B:C,2,0),\" \")","v":" "}]
[null,null,null,null,{"$f":"IFERROR(VLOOKUP(D9598,Códigos!B:C,2,0),\" \")","v":" "}]
[null,null,null,null,{"$f":"IFERROR(VLOOKUP(D9599,Códigos!B:C,2,0),\" \")","v":" "}]
[null,null,null,null,{"$f":"IFERROR(VLOOKUP(D9600,Códigos!B:C,2,0),\" \")","v":" "}]
[null,null,null,null,{"$f":"IFERROR(VLOOKUP(D9601,Códigos!B:C,2,0),\" \")","v":" "}]
[null,null,null,null,{"$f":"IFERROR(VLOOKUP(D9602,Códigos!B:C,2,0),\" \")","v":" "}]
[null,null,null,null,{"$f":"IFERROR(VLOOKUP(D9603,Códigos!B:C,2,0),\" \")","v":" "}]
[null,null,null,null,{"$f":"IFERROR(VLOOKUP(D9604,Códigos!B:C,2,0),\" \")","v":" "}]
[null,null,null,null,{"$f":"IFERROR(VLOOKUP(D9605,Códigos!B:C,2,0),\" \")","v":" "}]
[null,null,null,null,{"$f":"IFERROR(VLOOKUP(D9606,Códigos!B:C,2,0),\" \")","v":" "}]
[null,null,null,null,{"$f":"IFERROR(VLOOKUP(D9607,Códigos!B:C,2,0),\" \")","v":" "}]
[null,null,null,null,{"$f":"IFERROR(VLOOKUP(D9608,Códigos!B:C,2,0),\" \")","v":" "}]
[null,null,null,null,{"$f":"IFERROR(VLOOKUP(D9609,Códigos!B:C,2,0),\" \")","v":" "}]
[null,null,null,null,{"$f":"IFERROR(VLOOKUP(D9610,Códigos!B:C,2,0),\" \")","v":" "}]
[null,null,null,null,{"$f":"IFERROR(VLOOKUP(D9611,Códigos!B:C,2,0),\" \")","v":" "}]
[null,null,null,null,{"$f":"IFERROR(VLOOKUP(D9612,Códigos!B:C,2,0),\" \")","v":" "}]
[null,null,null,null,{"$f":"IFERROR(VLOOKUP(D9613,Códigos!B:C,2,0),\" \")","v":" "}]
[null,null,null,null,{"$f":"IFERROR(VLOOKUP(D9614,Códigos!B:C,2,0),\" \")","v":" "}]
[null,null,null,null,{"$f":"IFERROR(VLOOKUP(D9615,Códigos!B:C,2,0),\" \")","v":" "}]
[null,null,null,null,{"$f":"IFERROR(VLOOKUP(D9616,Códigos!B:C,2,0),\" \")","v":" "}]
[null,null,null,null,{"$f":"IFERROR(VLOOKUP(D9617,Códigos!B:C,2,0),\" \")","v":" "}]
[null,null,null,null,{"$f":"IFERROR(VLOOKUP(D9618,Códigos!B:C,2,0),\" \")","v":" "}]
[null,null,null,null,{"$f":"IFERROR(VLOOKUP(D9619,Códigos!B:C,2,0),\" \")","v":" "}]
[null,null,null,null,{"$f":"IFERROR(VLOOKUP(D9620,Códigos!B:C,2,0),\" \")","v":" "}]
[null,null,null,null,{"$f":"IFERROR(VLOOKUP(D9621,Códigos!B:C,2,0),\" \")","v":" "}]
[null,null,null,null,{"$f":"IFERROR(VLOOKUP(D9622,Códigos!B:C,2,0),\" \")","v":" "}]
[null,null,null,null,{"$f":"IFERROR(VLOOKUP(D9623,Códigos!B:C,2,0),\" \")","v":" "}]
[null,null,null,null,{"$f":"IFERROR(VLOOKUP(D9624,Códigos!B:C,2,0),\" \")","v":" "}]
[null,null,null,null,{"$f":"IFERROR(VLOOKUP(D9625,Códigos!B:C,2,0),\" \")","v":" "}]
[null,null,null,null,{"$f":"IFERROR(VLOOKUP(D9626,Códigos!B:C,2,0),\" \")","v":" "}]
[null,null,null,null,{"$f":"IFERROR(VLOOKUP(D9627,Códigos!B:C,2,0),\" \")","v":" "}]
[null,null,null,null,{"$f":"IFERROR(VLOOKUP(D9628,Códigos!B:C,2,0),\" \")","v":" "}]
[null,null,null,null,{"$f":"IFERROR(VLOOKUP(D9629,Códigos!B:C,2,0),\" \")","v":" "}]
[null,null,null,null,{"$f":"IFERROR(VLOOKUP(D9630,Códigos!B:C,2,0),\" \")","v":" "}]
[null,null,null,null,{"$f":"IFERROR(VLOOKUP(D9631,Códigos!B:C,2,0),\" \")","v":" "}]
[null,null,null,null,{"$f":"IFERROR(VLOOKUP(D9632,Códigos!B:C,2,0),\" \")","v":" "}]
[null,null,null,null,{"$f":"IFERROR(VLOOKUP(D9633,Códigos!B:C,2,0),\" \")","v":" "}]
[null,null,null,null,{"$f":"IFERROR(VLOOKUP(D9634,Códigos!B:C,2,0),\" \")","v":" "}]
[null,null,null,null,{"$f":"IFERROR(VLOOKUP(D9635,Códigos!B:C,2,0),\" \")","v":" "}]
[null,null,null,null,{"$f":"IFERROR(VLOOKUP(D9636,Códigos!B:C,2,0),\" \")","v":" "}]
[null,null,null,null,{"$f":"IFERROR(VLOOKUP(D9637,Códigos!B:C,2,0),\" \")","v":" "}]
[null,null,null,null,{"$f":"IFERROR(VLOOKUP(D9638,Códigos!B:C,2,0),\" \")","v":" "}]
[null,null,null,null,{"$f":"IFERROR(VLOOKUP(D9639,Códigos!B:C,2,0),\" \")","v":" "}]
[null,null,null,null,{"$f":"IFERROR(VLOOKUP(D9640,Códigos!B:C,2,0),\" \")","v":" "}]
[null,null,null,null,{"$f":"IFERROR(VLOOKUP(D9641,Códigos!B:C,2,0),\" \")","v":" "}]
[null,null,null,null,{"$f":"IFERROR(VLOOKUP(D9642,Códigos!B:C,2,0),\" \")","v":" "}]
[null,null,null,null,{"$f":"IFERROR(VLOOKUP(D9643,Códigos!B:C,2,0),\" \")","v":" "}]
[null,null,null,null,{"$f":"IFERROR(VLOOKUP(D9644,Códigos!B:C,2,0),\" \")","v":" "}]
[null,null,null,null,{"$f":"IFERROR(VLOOKUP(D9645,Códigos!B:C,2,0),\" \")","v":" "}]
[null,null,null,null,{"$f":"IFERROR(VLOOKUP(D9646,Códigos!B:C,2,0),\" \")","v":" "}]
[null,null,null,null,{"$f":"IFERROR(VLOOKUP(D9647,Códigos!B:C,2,0),\" \")","v":" "}]
[null,null,null,null,{"$f":"IFERROR(VLOOKUP(D9648,Códigos!B:C,2,0),\" \")","v":" "}]
[null,null,null,null,{"$f":"IFERROR(VLOOKUP(D9649,Códigos!B:C,2,0),\" \")","v":" "}]
[null,null,null,null,{"$f":"IFERROR(VLOOKUP(D9650,Códigos!B:C,2,0),\" \")","v":" "}]
[null,null,null,null,{"$f":"IFERROR(VLOOKUP(D9651,Códigos!B:C,2,0),\" \")","v":" "}]
[null,null,null,null,{"$f":"IFERROR(VLOOKUP(D9652,Códigos!B:C,2,0),\" \")","v":" "}]
[null,null,null,null,{"$f":"IFERROR(VLOOKUP(D9653,Códigos!B:C,2,0),\" \")","v":" "}]
[null,null,null,null,{"$f":"IFERROR(VLOOKUP(D9654,Códigos!B:C,2,0),\" \")","v":" "}]
[null,null,null,null,{"$f":"IFERROR(VLOOKUP(D9655,Códigos!B:C,2,0),\" \")","v":" "}]
[null,null,null,null,{"$f":"IFERROR(VLOOKUP(D9656,Códigos!B:C,2,0),\" \")","v":" "}]
[null,null,null,null,{"$f":"IFERROR(VLOOKUP(D9657,Códigos!B:C,2,0),\" \")","v":" "}]
[null,null,null,null,{"$f":"IFERROR(VLOOKUP(D9658,Códigos!B:C,2,0),\" \")","v":" "}]
[null,null,null,null,{"$f":"IFERROR(VLOOKUP(D9659,Códigos!B:C,2,0),\" \")","v":" "}]
[null,null,null,null,{"$f":"IFERROR(VLOOKUP(D9660,Códigos!B:C,2,0),\" \")","v":" "}]
[null,null,null,null,{"$f":"IFERROR(VLOOKUP(D9661,Códigos!B:C,2,0),\" \")","v":" "}]
[null,null,null,null,{"$f":"IFERROR(VLOOKUP(D9662,Códigos!B:C,2,0),\" \")","v":" "}]
[null,null,null,null,{"$f":"IFERROR(VLOOKUP(D9663,Códigos!B:C,2,0),\" \")","v":" "}]
[null,null,null,null,{"$f":"IFERROR(VLOOKUP(D9664,Códigos!B:C,2,0),\" \")","v":" "}]
[null,null,null,null,{"$f":"IFERROR(VLOOKUP(D9665,Códigos!B:C,2,0),\" \")","v":" "}]
[null,null,null,null,{"$f":"IFERROR(VLOOKUP(D9666,Códigos!B:C,2,0),\" \")","v":" "}]
[null,null,null,null,{"$f":"IFERROR(VLOOKUP(D9667,Códigos!B:C,2,0),\" \")","v":" "}]
[null,null,null,null,{"$f":"IFERROR(VLOOKUP(D9668,Códigos!B:C,2,0),\" \")","v":" "}]
[null,null,null,null,{"$f":"IFERROR(VLOOKUP(D9669,Códigos!B:C,2,0),\" \")","v":" "}]
[null,null,null,null,{"$f":"IFERROR(VLOOKUP(D9670,Códigos!B:C,2,0),\" \")","v":" "}]
[null,null,null,null,{"$f":"IFERROR(VLOOKUP(D9671,Códigos!B:C,2,0),\" \")","v":" "}]
[null,null,null,null,{"$f":"IFERROR(VLOOKUP(D9672,Códigos!B:C,2,0),\" \")","v":" "}]
[null,null,null,null,{"$f":"IFERROR(VLOOKUP(D9673,Códigos!B:C,2,0),\" \")","v":" "}]
[null,null,null,null,{"$f":"IFERROR(VLOOKUP(D9674,Códigos!B:C,2,0),\" \")","v":" "}]
[null,null,null,null,{"$f":"IFERROR(VLOOKUP(D9675,Códigos!B:C,2,0),\" \")","v":" "}]
[null,null,null,null,{"$f":"IFERROR(VLOOKUP(D9676,Códigos!B:C,2,0),\" \")","v":" "}]
[null,null,null,null,{"$f":"IFERROR(VLOOKUP(D9677,Códigos!B:C,2,0),\" \")","v":" "}]
[null,null,null,null,{"$f":"IFERROR(VLOOKUP(D9678,Códigos!B:C,2,0),\" \")","v":" "}]
[null,null,null,null,{"$f":"IFERROR(VLOOKUP(D9679,Códigos!B:C,2,0),\" \")","v":" "}]
[null,null,null,null,{"$f":"IFERROR(VLOOKUP(D9680,Códigos!B:C,2,0),\" \")","v":" "}]
[null,null,null,null,{"$f":"IFERROR(VLOOKUP(D9681,Códigos!B:C,2,0),\" \")","v":" "}]
[null,null,null,null,{"$f":"IFERROR(VLOOKUP(D9682,Códigos!B:C,2,0),\" \")","v":" "}]
[null,null,null,null,{"$f":"IFERROR(VLOOKUP(D9683,Códigos!B:C,2,0),\" \")","v":" "}]
[null,null,null,null,{"$f":"IFERROR(VLOOKUP(D9684,Códigos!B:C,2,0),\" \")","v":" "}]
[null,null,null,null,{"$f":"IFERROR(VLOOKUP(D9685,Códigos!B:C,2,0),\" \")","v":" "}]
[null,null,null,null,{"$f":"IFERROR(VLOOKUP(D9686,Códigos!B:C,2,0),\" \")","v":" "}]
[null,null,null,null,{"$f":"IFERROR(VLOOKUP(D9687,Códigos!B:C,2,0),\" \")","v":" "}]
[null,null,null,null,{"$f":"IFERROR(VLOOKUP(D9688,Códigos!B:C,2,0),\" \")","v":" "}]
[null,null,null,null,{"$f":"IFERROR(VLOOKUP(D9689,Códigos!B:C,2,0),\" \")","v":" "}]
[null,null,null,null,{"$f":"IFERROR(VLOOKUP(D9690,Códigos!B:C,2,0),\" \")","v":" "}]
[null,null,null,null,{"$f":"IFERROR(VLOOKUP(D9691,Códigos!B:C,2,0),\" \")","v":" "}]
[null,null,null,null,{"$f":"IFERROR(VLOOKUP(D9692,Códigos!B:C,2,0),\" \")","v":" "}]
[null,null,null,null,{"$f":"IFERROR(VLOOKUP(D9693,Códigos!B:C,2,0),\" \")","v":" "}]
[null,null,null,null,{"$f":"IFERROR(VLOOKUP(D9694,Códigos!B:C,2,0),\" \")","v":" "}]
[null,null,null,null,{"$f":"IFERROR(VLOOKUP(D9695,Códigos!B:C,2,0),\" \")","v":" "}]
[null,null,null,null,{"$f":"IFERROR(VLOOKUP(D9696,Códigos!B:C,2,0),\" \")","v":" "}]
[null,null,null,null,{"$f":"IFERROR(VLOOKUP(D9697,Códigos!B:C,2,0),\" \")","v":" "}]
[null,null,null,null,{"$f":"IFERROR(VLOOKUP(D9698,Códigos!B:C,2,0),\" \")","v":" "}]
[null,null,null,null,{"$f":"IFERROR(VLOOKUP(D9699,Códigos!B:C,2,0),\" \")","v":" "}]
[null,null,null,null,{"$f":"IFERROR(VLOOKUP(D9700,Códigos!B:C,2,0),\" \")","v":" "}]
[null,null,null,null,{"$f":"IFERROR(VLOOKUP(D9701,Códigos!B:C,2,0),\" \")","v":" "}]
[null,null,null,null,{"$f":"IFERROR(VLOOKUP(D9702,Códigos!B:C,2,0),\" \")","v":" "}]
[null,null,null,null,{"$f":"IFERROR(VLOOKUP(D9703,Códigos!B:C,2,0),\" \")","v":" "}]
[null,null,null,null,{"$f":"IFERROR(VLOOKUP(D9704,Códigos!B:C,2,0),\" \")","v":" "}]
[null,null,null,null,{"$f":"IFERROR(VLOOKUP(D9705,Códigos!B:C,2,0),\" \")","v":" "}]
[null,null,null,null,{"$f":"IFERROR(VLOOKUP(D9706,Códigos!B:C,2,0),\" \")","v":" "}]
[null,null,null,null,{"$f":"IFERROR(VLOOKUP(D9707,Códigos!B:C,2,0),\" \")","v":" "}]
[null,null,null,null,{"$f":"IFERROR(VLOOKUP(D9708,Códigos!B:C,2,0),\" \")","v":" "}]
[null,null,null,null,{"$f":"IFERROR(VLOOKUP(D9709,Códigos!B:C,2,0),\" \")","v":" "}]
[null,null,null,null,{"$f":"IFERROR(VLOOKUP(D9710,Códigos!B:C,2,0),\" \")","v":" "}]
[null,null,null,null,{"$f":"IFERROR(VLOOKUP(D9711,Códigos!B:C,2,0),\" \")","v":" "}]
[null,null,null,null,{"$f":"IFERROR(VLOOKUP(D9712,Códigos!B:C,2,0),\" \")","v":" "}]
[null,null,null,null,{"$f":"IFERROR(VLOOKUP(D9713,Códigos!B:C,2,0),\" \")","v":" "}]
[null,null,null,null,{"$f":"IFERROR(VLOOKUP(D9714,Códigos!B:C,2,0),\" \")","v":" "}]
[null,null,null,null,{"$f":"IFERROR(VLOOKUP(D9715,Códigos!B:C,2,0),\" \")","v":" "}]
[null,null,null,null,{"$f":"IFERROR(VLOOKUP(D9716,Códigos!B:C,2,0),\" \")","v":" "}]
[null,null,null,null,{"$f":"IFERROR(VLOOKUP(D9717,Códigos!B:C,2,0),\" \")","v":" "}]
[null,null,null,null,{"$f":"IFERROR(VLOOKUP(D9718,Códigos!B:C,2,0),\" \")","v":" "}]
[null,null,null,null,{"$f":"IFERROR(VLOOKUP(D9719,Códigos!B:C,2,0),\" \")","v":" "}]
[null,null,null,null,{"$f":"IFERROR(VLOOKUP(D9720,Códigos!B:C,2,0),\" \")","v":" "}]
[null,null,null,null,{"$f":"IFERROR(VLOOKUP(D9721,Códigos!B:C,2,0),\" \")","v":" "}]
[null,null,null,null,{"$f":"IFERROR(VLOOKUP(D9722,Códigos!B:C,2,0),\" \")","v":" "}]
[null,null,null,null,{"$f":"IFERROR(VLOOKUP(D9723,Códigos!B:C,2,0),\" \")","v":" "}]
[null,null,null,null,{"$f":"IFERROR(VLOOKUP(D9724,Códigos!B:C,2,0),\" \")","v":" "}]
[null,null,null,null,{"$f":"IFERROR(VLOOKUP(D9725,Códigos!B:C,2,0),\" \")","v":" "}]
[null,null,null,null,{"$f":"IFERROR(VLOOKUP(D9726,Códigos!B:C,2,0),\" \")","v":" "}]
[null,null,null,null,{"$f":"IFERROR(VLOOKUP(D9727,Códigos!B:C,2,0),\" \")","v":" "}]
[null,null,null,null,{"$f":"IFERROR(VLOOKUP(D9728,Códigos!B:C,2,0),\" \")","v":" "}]
[null,null,null,null,{"$f":"IFERROR(VLOOKUP(D9729,Códigos!B:C,2,0),\" \")","v":" "}]
[null,null,null,null,{"$f":"IFERROR(VLOOKUP(D9730,Códigos!B:C,2,0),\" \")","v":" "}]
[null,null,null,null,{"$f":"IFERROR(VLOOKUP(D9731,Códigos!B:C,2,0),\" \")","v":" "}]
[null,null,null,null,{"$f":"IFERROR(VLOOKUP(D9732,Códigos!B:C,2,0),\" \")","v":" "}]
[null,null,null,null,{"$f":"IFERROR(VLOOKUP(D9733,Códigos!B:C,2,0),\" \")","v":" "}]
[null,null,null,null,{"$f":"IFERROR(VLOOKUP(D9734,Códigos!B:C,2,0),\" \")","v":" "}]
[null,null,null,null,{"$f":"IFERROR(VLOOKUP(D9735,Códigos!B:C,2,0),\" \")","v":" "}]
[null,null,null,null,{"$f":"IFERROR(VLOOKUP(D9736,Códigos!B:C,2,0),\" \")","v":" "}]
[null,null,null,null,{"$f":"IFERROR(VLOOKUP(D9737,Códigos!B:C,2,0),\" \")","v":" "}]
[null,null,null,null,{"$f":"IFERROR(VLOOKUP(D9738,Códigos!B:C,2,0),\" \")","v":" "}]
[null,null,null,null,{"$f":"IFERROR(VLOOKUP(D9739,Códigos!B:C,2,0),\" \")","v":" "}]
[null,null,null,null,{"$f":"IFERROR(VLOOKUP(D9740,Códigos!B:C,2,0),\" \")","v":" "}]
[null,null,null,null,{"$f":"IFERROR(VLOOKUP(D9741,Códigos!B:C,2,0),\" \")","v":" "}]
[null,null,null,null,{"$f":"IFERROR(VLOOKUP(D9742,Códigos!B:C,2,0),\" \")","v":" "}]
[null,null,null,null,{"$f":"IFERROR(VLOOKUP(D9743,Códigos!B:C,2,0),\" \")","v":" "}]
[null,null,null,null,{"$f":"IFERROR(VLOOKUP(D9744,Códigos!B:C,2,0),\" \")","v":" "}]
[null,null,null,null,{"$f":"IFERROR(VLOOKUP(D9745,Códigos!B:C,2,0),\" \")","v":" "}]
[null,null,null,null,{"$f":"IFERROR(VLOOKUP(D9746,Códigos!B:C,2,0),\" \")","v":" "}]
[null,null,null,null,{"$f":"IFERROR(VLOOKUP(D9747,Códigos!B:C,2,0),\" \")","v":" "}]
[null,null,null,null,{"$f":"IFERROR(VLOOKUP(D9748,Códigos!B:C,2,0),\" \")","v":" "}]
[null,null,null,null,{"$f":"IFERROR(VLOOKUP(D9749,Códigos!B:C,2,0),\" \")","v":" "}]
[null,null,null,null,{"$f":"IFERROR(VLOOKUP(D9750,Códigos!B:C,2,0),\" \")","v":" "}]
[null,null,null,null,{"$f":"IFERROR(VLOOKUP(D9751,Códigos!B:C,2,0),\" \")","v":" "}]
[null,null,null,null,{"$f":"IFERROR(VLOOKUP(D9752,Códigos!B:C,2,0),\" \")","v":" "}]
[null,null,null,null,{"$f":"IFERROR(VLOOKUP(D9753,Códigos!B:C,2,0),\" \")","v":" "}]
[null,null,null,null,{"$f":"IFERROR(VLOOKUP(D9754,Códigos!B:C,2,0),\" \")","v":" "}]
[null,null,null,null,{"$f":"IFERROR(VLOOKUP(D9755,Códigos!B:C,2,0),\" \")","v":" "}]
[null,null,null,null,{"$f":"IFERROR(VLOOKUP(D9756,Códigos!B:C,2,0),\" \")","v":" "}]
[null,null,null,null,{"$f":"IFERROR(VLOOKUP(D9757,Códigos!B:C,2,0),\" \")","v":" "}]
[null,null,null,null,{"$f":"IFERROR(VLOOKUP(D9758,Códigos!B:C,2,0),\" \")","v":" "}]
[null,null,null,null,{"$f":"IFERROR(VLOOKUP(D9759,Códigos!B:C,2,0),\" \")","v":" "}]
[null,null,null,null,{"$f":"IFERROR(VLOOKUP(D9760,Códigos!B:C,2,0),\" \")","v":" "}]
[null,null,null,null,{"$f":"IFERROR(VLOOKUP(D9761,Códigos!B:C,2,0),\" \")","v":" "}]
[null,null,null,null,{"$f":"IFERROR(VLOOKUP(D9762,Códigos!B:C,2,0),\" \")","v":" "}]
[null,null,null,null,{"$f":"IFERROR(VLOOKUP(D9763,Códigos!B:C,2,0),\" \")","v":" "}]
[null,null,null,null,{"$f":"IFERROR(VLOOKUP(D9764,Códigos!B:C,2,0),\" \")","v":" "}]
[null,null,null,null,{"$f":"IFERROR(VLOOKUP(D9765,Códigos!B:C,2,0),\" \")","v":" "}]
[null,null,null,null,{"$f":"IFERROR(VLOOKUP(D9766,Códigos!B:C,2,0),\" \")","v":" "}]
[null,null,null,null,{"$f":"IFERROR(VLOOKUP(D9767,Códigos!B:C,2,0),\" \")","v":" "}]
[null,null,null,null,{"$f":"IFERROR(VLOOKUP(D9768,Códigos!B:C,2,0),\" \")","v":" "}]
[null,null,null,null,{"$f":"IFERROR(VLOOKUP(D9769,Códigos!B:C,2,0),\" \")","v":" "}]
[null,null,null,null,{"$f":"IFERROR(VLOOKUP(D9770,Códigos!B:C,2,0),\" \")","v":" "}]
[null,null,null,null,{"$f":"IFERROR(VLOOKUP(D9771,Códigos!B:C,2,0),\" \")","v":" "}]
[null,null,null,null,{"$f":"IFERROR(VLOOKUP(D9772,Códigos!B:C,2,0),\" \")","v":" "}]
[null,null,null,null,{"$f":"IFERROR(VLOOKUP(D9773,Códigos!B:C,2,0),\" \")","v":" "}]
[null,null,null,null,{"$f":"IFERROR(VLOOKUP(D9774,Códigos!B:C,2,0),\" \")","v":" "}]
[null,null,null,null,{"$f":"IFERROR(VLOOKUP(D9775,Códigos!B:C,2,0),\" \")","v":" "}]
[null,null,null,null,{"$f":"IFERROR(VLOOKUP(D9776,Códigos!B:C,2,0),\" \")","v":" "}]
[null,null,null,null,{"$f":"IFERROR(VLOOKUP(D9777,Códigos!B:C,2,0),\" \")","v":" "}]
[null,null,null,null,{"$f":"IFERROR(VLOOKUP(D9778,Códigos!B:C,2,0),\" \")","v":" "}]
[null,null,null,null,{"$f":"IFERROR(VLOOKUP(D9779,Códigos!B:C,2,0),\" \")","v":" "}]
[null,null,null,null,{"$f":"IFERROR(VLOOKUP(D9780,Códigos!B:C,2,0),\" \")","v":" "}]
[null,null,null,null,{"$f":"IFERROR(VLOOKUP(D9781,Códigos!B:C,2,0),\" \")","v":" "}]
[null,null,null,null,{"$f":"IFERROR(VLOOKUP(D9782,Códigos!B:C,2,0),\" \")","v":" "}]
[null,null,null,null,{"$f":"IFERROR(VLOOKUP(D9783,Códigos!B:C,2,0),\" \")","v":" "}]
[null,null,null,null,{"$f":"IFERROR(VLOOKUP(D9784,Códigos!B:C,2,0),\" \")","v":" "}]
[null,null,null,null,{"$f":"IFERROR(VLOOKUP(D9785,Códigos!B:C,2,0),\" \")","v":" "}]
[null,null,null,null,{"$f":"IFERROR(VLOOKUP(D9786,Códigos!B:C,2,0),\" \")","v":" "}]
[null,null,null,null,{"$f":"IFERROR(VLOOKUP(D9787,Códigos!B:C,2,0),\" \")","v":" "}]
[null,null,null,null,{"$f":"IFERROR(VLOOKUP(D9788,Códigos!B:C,2,0),\" \")","v":" "}]
[null,null,null,null,{"$f":"IFERROR(VLOOKUP(D9789,Códigos!B:C,2,0),\" \")","v":" "}]
[null,null,null,null,{"$f":"IFERROR(VLOOKUP(D9790,Códigos!B:C,2,0),\" \")","v":" "}]
[null,null,null,null,{"$f":"IFERROR(VLOOKUP(D9791,Códigos!B:C,2,0),\" \")","v":" "}]
[null,null,null,null,{"$f":"IFERROR(VLOOKUP(D9792,Códigos!B:C,2,0),\" \")","v":" "}]
[null,null,null,null,{"$f":"IFERROR(VLOOKUP(D9793,Códigos!B:C,2,0),\" \")","v":" "}]
[null,null,null,null,{"$f":"IFERROR(VLOOKUP(D9794,Códigos!B:C,2,0),\" \")","v":" "}]
[null,null,null,null,{"$f":"IFERROR(VLOOKUP(D9795,Códigos!B:C,2,0),\" \")","v":" "}]
[null,null,null,null,{"$f":"IFERROR(VLOOKUP(D9796,Códigos!B:C,2,0),\" \")","v":" "}]
[null,null,null,null,{"$f":"IFERROR(VLOOKUP(D9797,Códigos!B:C,2,0),\" \")","v":" "}]
[null,null,null,null,{"$f":"IFERROR(VLOOKUP(D9798,Códigos!B:C,2,0),\" \")","v":" "}]
[null,null,null,null,{"$f":"IFERROR(VLOOKUP(D9799,Códigos!B:C,2,0),\" \")","v":" "}]
[null,null,null,null,{"$f":"IFERROR(VLOOKUP(D9800,Códigos!B:C,2,0),\" \")","v":" "}]
[null,null,null,null,{"$f":"IFERROR(VLOOKUP(D9801,Códigos!B:C,2,0),\" \")","v":" "}]
[null,null,null,null,{"$f":"IFERROR(VLOOKUP(D9802,Códigos!B:C,2,0),\" \")","v":" "}]
[null,null,null,null,{"$f":"IFERROR(VLOOKUP(D9803,Códigos!B:C,2,0),\" \")","v":" "}]
[null,null,null,null,{"$f":"IFERROR(VLOOKUP(D9804,Códigos!B:C,2,0),\" \")","v":" "}]
[null,null,null,null,{"$f":"IFERROR(VLOOKUP(D9805,Códigos!B:C,2,0),\" \")","v":" "}]
[null,null,null,null,{"$f":"IFERROR(VLOOKUP(D9806,Códigos!B:C,2,0),\" \")","v":" "}]
[null,null,null,null,{"$f":"IFERROR(VLOOKUP(D9807,Códigos!B:C,2,0),\" \")","v":" "}]
[null,null,null,null,{"$f":"IFERROR(VLOOKUP(D9808,Códigos!B:C,2,0),\" \")","v":" "}]
[null,null,null,null,{"$f":"IFERROR(VLOOKUP(D9809,Códigos!B:C,2,0),\" \")","v":" "}]
[null,null,null,null,{"$f":"IFERROR(VLOOKUP(D9810,Códigos!B:C,2,0),\" \")","v":" "}]
[null,null,null,null,{"$f":"IFERROR(VLOOKUP(D9811,Códigos!B:C,2,0),\" \")","v":" "}]
[null,null,null,null,{"$f":"IFERROR(VLOOKUP(D9812,Códigos!B:C,2,0),\" \")","v":" "}]
[null,null,null,null,{"$f":"IFERROR(VLOOKUP(D9813,Códigos!B:C,2,0),\" \")","v":" "}]
[null,null,null,null,{"$f":"IFERROR(VLOOKUP(D9814,Códigos!B:C,2,0),\" \")","v":" "}]
[null,null,null,null,{"$f":"IFERROR(VLOOKUP(D9815,Códigos!B:C,2,0),\" \")","v":" "}]
[null,null,null,null,{"$f":"IFERROR(VLOOKUP(D9816,Códigos!B:C,2,0),\" \")","v":" "}]
[null,null,null,null,{"$f":"IFERROR(VLOOKUP(D9817,Códigos!B:C,2,0),\" \")","v":" "}]
[null,null,null,null,{"$f":"IFERROR(VLOOKUP(D9818,Códigos!B:C,2,0),\" \")","v":" "}]
[null,null,null,null,{"$f":"IFERROR(VLOOKUP(D9819,Códigos!B:C,2,0),\" \")","v":" "}]
[null,null,null,null,{"$f":"IFERROR(VLOOKUP(D9820,Códigos!B:C,2,0),\" \")","v":" "}]
[null,null,null,null,{"$f":"IFERROR(VLOOKUP(D9821,Códigos!B:C,2,0),\" \")","v":" "}]
[null,null,null,null,{"$f":"IFERROR(VLOOKUP(D9822,Códigos!B:C,2,0),\" \")","v":" "}]
[null,null,null,null,{"$f":"IFERROR(VLOOKUP(D9823,Códigos!B:C,2,0),\" \")","v":" "}]
[null,null,null,null,{"$f":"IFERROR(VLOOKUP(D9824,Códigos!B:C,2,0),\" \")","v":" "}]
[null,null,null,null,{"$f":"IFERROR(VLOOKUP(D9825,Códigos!B:C,2,0),\" \")","v":" "}]
[null,null,null,null,{"$f":"IFERROR(VLOOKUP(D9826,Códigos!B:C,2,0),\" \")","v":" "}]
[null,null,null,null,{"$f":"IFERROR(VLOOKUP(D9827,Códigos!B:C,2,0),\" \")","v":" "}]
[null,null,null,null,{"$f":"IFERROR(VLOOKUP(D9828,Códigos!B:C,2,0),\" \")","v":" "}]
[null,null,null,null,{"$f":"IFERROR(VLOOKUP(D9829,Códigos!B:C,2,0),\" \")","v":" "}]
[null,null,null,null,{"$f":"IFERROR(VLOOKUP(D9830,Códigos!B:C,2,0),\" \")","v":" "}]
[null,null,null,null,{"$f":"IFERROR(VLOOKUP(D9831,Códigos!B:C,2,0),\" \")","v":" "}]
[null,null,null,null,{"$f":"IFERROR(VLOOKUP(D9832,Códigos!B:C,2,0),\" \")","v":" "}]
[null,null,null,null,{"$f":"IFERROR(VLOOKUP(D9833,Códigos!B:C,2,0),\" \")","v":" "}]
[null,null,null,null,{"$f":"IFERROR(VLOOKUP(D9834,Códigos!B:C,2,0),\" \")","v":" "}]
[null,null,null,null,{"$f":"IFERROR(VLOOKUP(D9835,Códigos!B:C,2,0),\" \")","v":" "}]
[null,null,null,null,{"$f":"IFERROR(VLOOKUP(D9836,Códigos!B:C,2,0),\" \")","v":" "}]
[null,null,null,null,{"$f":"IFERROR(VLOOKUP(D9837,Códigos!B:C,2,0),\" \")","v":" "}]
[null,null,null,null,{"$f":"IFERROR(VLOOKUP(D9838,Códigos!B:C,2,0),\" \")","v":" "}]
[null,null,null,null,{"$f":"IFERROR(VLOOKUP(D9839,Códigos!B:C,2,0),\" \")","v":" "}]
[null,null,null,null,{"$f":"IFERROR(VLOOKUP(D9840,Códigos!B:C,2,0),\" \")","v":" "}]
[null,null,null,null,{"$f":"IFERROR(VLOOKUP(D9841,Códigos!B:C,2,0),\" \")","v":" "}]
[null,null,null,null,{"$f":"IFERROR(VLOOKUP(D9842,Códigos!B:C,2,0),\" \")","v":" "}]
[null,null,null,null,{"$f":"IFERROR(VLOOKUP(D9843,Códigos!B:C,2,0),\" \")","v":" "}]
[null,null,null,null,{"$f":"IFERROR(VLOOKUP(D9844,Códigos!B:C,2,0),\" \")","v":" "}]
[null,null,null,null,{"$f":"IFERROR(VLOOKUP(D9845,Códigos!B:C,2,0),\" \")","v":" "}]
[null,null,null,null,{"$f":"IFERROR(VLOOKUP(D9846,Códigos!B:C,2,0),\" \")","v":" "}]
[null,null,null,null,{"$f":"IFERROR(VLOOKUP(D9847,Códigos!B:C,2,0),\" \")","v":" "}]
[null,null,null,null,{"$f":"IFERROR(VLOOKUP(D9848,Códigos!B:C,2,0),\" \")","v":" "}]
[null,null,null,null,{"$f":"IFERROR(VLOOKUP(D9849,Códigos!B:C,2,0),\" \")","v":" "}]
[null,null,null,null,{"$f":"IFERROR(VLOOKUP(D9850,Códigos!B:C,2,0),\" \")","v":" "}]
[null,null,null,null,{"$f":"IFERROR(VLOOKUP(D9851,Códigos!B:C,2,0),\" \")","v":" "}]
[null,null,null,null,{"$f":"IFERROR(VLOOKUP(D9852,Códigos!B:C,2,0),\" \")","v":" "}]
[null,null,null,null,{"$f":"IFERROR(VLOOKUP(D9853,Códigos!B:C,2,0),\" \")","v":" "}]
[null,null,null,null,{"$f":"IFERROR(VLOOKUP(D9854,Códigos!B:C,2,0),\" \")","v":" "}]
[null,null,null,null,{"$f":"IFERROR(VLOOKUP(D9855,Códigos!B:C,2,0),\" \")","v":" "}]
[null,null,null,null,{"$f":"IFERROR(VLOOKUP(D9856,Códigos!B:C,2,0),\" \")","v":" "}]
[null,null,null,null,{"$f":"IFERROR(VLOOKUP(D9857,Códigos!B:C,2,0),\" \")","v":" "}]
[null,null,null,null,{"$f":"IFERROR(VLOOKUP(D9858,Códigos!B:C,2,0),\" \")","v":" "}]
[null,null,null,null,{"$f":"IFERROR(VLOOKUP(D9859,Códigos!B:C,2,0),\" \")","v":" "}]
[null,null,null,null,{"$f":"IFERROR(VLOOKUP(D9860,Códigos!B:C,2,0),\" \")","v":" "}]
[null,null,null,null,{"$f":"IFERROR(VLOOKUP(D9861,Códigos!B:C,2,0),\" \")","v":" "}]
[null,null,null,null,{"$f":"IFERROR(VLOOKUP(D9862,Códigos!B:C,2,0),\" \")","v":" "}]
[null,null,null,null,{"$f":"IFERROR(VLOOKUP(D9863,Códigos!B:C,2,0),\" \")","v":" "}]
[null,null,null,null,{"$f":"IFERROR(VLOOKUP(D9864,Códigos!B:C,2,0),\" \")","v":" "}]
[null,null,null,null,{"$f":"IFERROR(VLOOKUP(D9865,Códigos!B:C,2,0),\" \")","v":" "}]
[null,null,null,null,{"$f":"IFERROR(VLOOKUP(D9866,Códigos!B:C,2,0),\" \")","v":" "}]
[null,null,null,null,{"$f":"IFERROR(VLOOKUP(D9867,Códigos!B:C,2,0),\" \")","v":" "}]
[null,null,null,null,{"$f":"IFERROR(VLOOKUP(D9868,Códigos!B:C,2,0),\" \")","v":" "}]
[null,null,null,null,{"$f":"IFERROR(VLOOKUP(D9869,Códigos!B:C,2,0),\" \")","v":" "}]
[null,null,null,null,{"$f":"IFERROR(VLOOKUP(D9870,Códigos!B:C,2,0),\" \")","v":" "}]
[null,null,null,null,{"$f":"IFERROR(VLOOKUP(D9871,Códigos!B:C,2,0),\" \")","v":" "}]
[null,null,null,null,{"$f":"IFERROR(VLOOKUP(D9872,Códigos!B:C,2,0),\" \")","v":" "}]
[null,null,null,null,{"$f":"IFERROR(VLOOKUP(D9873,Códigos!B:C,2,0),\" \")","v":" "}]
[null,null,null,null,{"$f":"IFERROR(VLOOKUP(D9874,Códigos!B:C,2,0),\" \")","v":" "}]
[null,null,null,null,{"$f":"IFERROR(VLOOKUP(D9875,Códigos!B:C,2,0),\" \")","v":" "}]
[null,null,null,null,{"$f":"IFERROR(VLOOKUP(D9876,Códigos!B:C,2,0),\" \")","v":" "}]
[null,null,null,null,{"$f":"IFERROR(VLOOKUP(D9877,Códigos!B:C,2,0),\" \")","v":" "}]
[null,null,null,null,{"$f":"IFERROR(VLOOKUP(D9878,Códigos!B:C,2,0),\" \")","v":" "}]
[null,null,null,null,{"$f":"IFERROR(VLOOKUP(D9879,Códigos!B:C,2,0),\" \")","v":" "}]
[null,null,null,null,{"$f":"IFERROR(VLOOKUP(D9880,Códigos!B:C,2,0),\" \")","v":" "}]
[null,null,null,null,{"$f":"IFERROR(VLOOKUP(D9881,Códigos!B:C,2,0),\" \")","v":" "}]
[null,null,null,null,{"$f":"IFERROR(VLOOKUP(D9882,Códigos!B:C,2,0),\" \")","v":" "}]
[null,null,null,null,{"$f":"IFERROR(VLOOKUP(D9883,Códigos!B:C,2,0),\" \")","v":" "}]
[null,null,null,null,{"$f":"IFERROR(VLOOKUP(D9884,Códigos!B:C,2,0),\" \")","v":" "}]
[null,null,null,null,{"$f":"IFERROR(VLOOKUP(D9885,Códigos!B:C,2,0),\" \")","v":" "}]
[null,null,null,null,{"$f":"IFERROR(VLOOKUP(D9886,Códigos!B:C,2,0),\" \")","v":" "}]
[null,null,null,null,{"$f":"IFERROR(VLOOKUP(D9887,Códigos!B:C,2,0),\" \")","v":" "}]
[null,null,null,null,{"$f":"IFERROR(VLOOKUP(D9888,Códigos!B:C,2,0),\" \")","v":" "}]
[null,null,null,null,{"$f":"IFERROR(VLOOKUP(D9889,Códigos!B:C,2,0),\" \")","v":" "}]
[null,null,null,null,{"$f":"IFERROR(VLOOKUP(D9890,Códigos!B:C,2,0),\" \")","v":" "}]
[null,null,null,null,{"$f":"IFERROR(VLOOKUP(D9891,Códigos!B:C,2,0),\" \")","v":" "}]
[null,null,null,null,{"$f":"IFERROR(VLOOKUP(D9892,Códigos!B:C,2,0),\" \")","v":" "}]
[null,null,null,null,{"$f":"IFERROR(VLOOKUP(D9893,Códigos!B:C,2,0),\" \")","v":" "}]
[null,null,null,null,{"$f":"IFERROR(VLOOKUP(D9894,Códigos!B:C,2,0),\" \")","v":" "}]
[null,null,null,null,{"$f":"IFERROR(VLOOKUP(D9895,Códigos!B:C,2,0),\" \")","v":" "}]
[null,null,null,null,{"$f":"IFERROR(VLOOKUP(D9896,Códigos!B:C,2,0),\" \")","v":" "}]
[null,null,null,null,{"$f":"IFERROR(VLOOKUP(D9897,Códigos!B:C,2,0),\" \")","v":" "}]
[null,null,null,null,{"$f":"IFERROR(VLOOKUP(D9898,Códigos!B:C,2,0),\" \")","v":" "}]
[null,null,null,null,{"$f":"IFERROR(VLOOKUP(D9899,Códigos!B:C,2,0),\" \")","v":" "}]
[null,null,null,null,{"$f":"IFERROR(VLOOKUP(D9900,Códigos!B:C,2,0),\" \")","v":" "}]
[null,null,null,null,{"$f":"IFERROR(VLOOKUP(D9901,Códigos!B:C,2,0),\" \")","v":" "}]
[null,null,null,null,{"$f":"IFERROR(VLOOKUP(D9902,Códigos!B:C,2,0),\" \")","v":" "}]
[null,null,null,null,{"$f":"IFERROR(VLOOKUP(D9903,Códigos!B:C,2,0),\" \")","v":" "}]
[null,null,null,null,{"$f":"IFERROR(VLOOKUP(D9904,Códigos!B:C,2,0),\" \")","v":" "}]
[null,null,null,null,{"$f":"IFERROR(VLOOKUP(D9905,Códigos!B:C,2,0),\" \")","v":" "}]
[null,null,null,null,{"$f":"IFERROR(VLOOKUP(D9906,Códigos!B:C,2,0),\" \")","v":" "}]
[null,null,null,null,{"$f":"IFERROR(VLOOKUP(D9907,Códigos!B:C,2,0),\" \")","v":" "}]
[null,null,null,null,{"$f":"IFERROR(VLOOKUP(D9908,Códigos!B:C,2,0),\" \")","v":" "}]
[null,null,null,null,{"$f":"IFERROR(VLOOKUP(D9909,Códigos!B:C,2,0),\" \")","v":" "}]
[null,null,null,null,{"$f":"IFERROR(VLOOKUP(D9910,Códigos!B:C,2,0),\" \")","v":" "}]
[null,null,null,null,{"$f":"IFERROR(VLOOKUP(D9911,Códigos!B:C,2,0),\" \")","v":" "}]
[null,null,null,null,{"$f":"IFERROR(VLOOKUP(D9912,Códigos!B:C,2,0),\" \")","v":" "}]
[null,null,null,null,{"$f":"IFERROR(VLOOKUP(D9913,Códigos!B:C,2,0),\" \")","v":" "}]
[null,null,null,null,{"$f":"IFERROR(VLOOKUP(D9914,Códigos!B:C,2,0),\" \")","v":" "}]
[null,null,null,null,{"$f":"IFERROR(VLOOKUP(D9915,Códigos!B:C,2,0),\" \")","v":" "}]
[null,null,null,null,{"$f":"IFERROR(VLOOKUP(D9916,Códigos!B:C,2,0),\" \")","v":" "}]
[null,null,null,null,{"$f":"IFERROR(VLOOKUP(D9917,Códigos!B:C,2,0),\" \")","v":" "}]
[null,null,null,null,{"$f":"IFERROR(VLOOKUP(D9918,Códigos!B:C,2,0),\" \")","v":" "}]
[null,null,null,null,{"$f":"IFERROR(VLOOKUP(D9919,Códigos!B:C,2,0),\" \")","v":" "}]
[null,null,null,null,{"$f":"IFERROR(VLOOKUP(D9920,Códigos!B:C,2,0),\" \")","v":" "}]
[null,null,null,null,{"$f":"IFERROR(VLOOKUP(D9921,Códigos!B:C,2,0),\" \")","v":" "}]
[null,null,null,null,{"$f":"IFERROR(VLOOKUP(D9922,Códigos!B:C,2,0),\" \")","v":" "}]
[null,null,null,null,{"$f":"IFERROR(VLOOKUP(D9923,Códigos!B:C,2,0),\" \")","v":" "}]
[null,null,null,null,{"$f":"IFERROR(VLOOKUP(D9924,Códigos!B:C,2,0),\" \")","v":" "}]
[null,null,null,null,{"$f":"IFERROR(VLOOKUP(D9925,Códigos!B:C,2,0),\" \")","v":" "}]
[null,null,null,null,{"$f":"IFERROR(VLOOKUP(D9926,Códigos!B:C,2,0),\" \")","v":" "}]
[null,null,null,null,{"$f":"IFERROR(VLOOKUP(D9927,Códigos!B:C,2,0),\" \")","v":" "}]
[null,null,null,null,{"$f":"IFERROR(VLOOKUP(D9928,Códigos!B:C,2,0),\" \")","v":" "}]
[null,null,null,null,{"$f":"IFERROR(VLOOKUP(D9929,Códigos!B:C,2,0),\" \")","v":" "}]
[null,null,null,null,{"$f":"IFERROR(VLOOKUP(D9930,Códigos!B:C,2,0),\" \")","v":" "}]
[null,null,null,null,{"$f":"IFERROR(VLOOKUP(D9931,Códigos!B:C,2,0),\" \")","v":" "}]
[null,null,null,null,{"$f":"IFERROR(VLOOKUP(D9932,Códigos!B:C,2,0),\" \")","v":" "}]
[null,null,null,null,{"$f":"IFERROR(VLOOKUP(D9933,Códigos!B:C,2,0),\" \")","v":" "}]
[null,null,null,null,{"$f":"IFERROR(VLOOKUP(D9934,Códigos!B:C,2,0),\" \")","v":" "}]
[null,null,null,null,{"$f":"IFERROR(VLOOKUP(D9935,Códigos!B:C,2,0),\" \")","v":" "}]
[null,null,null,null,{"$f":"IFERROR(VLOOKUP(D9936,Códigos!B:C,2,0),\" \")","v":" "}]
[null,null,null,null,{"$f":"IFERROR(VLOOKUP(D9937,Códigos!B:C,2,0),\" \")","v":" "}]
[null,null,null,null,{"$f":"IFERROR(VLOOKUP(D9938,Códigos!B:C,2,0),\" \")","v":" "}]
[null,null,null,null,{"$f":"IFERROR(VLOOKUP(D9939,Códigos!B:C,2,0),\" \")","v":" "}]
[null,null,null,null,{"$f":"IFERROR(VLOOKUP(D9940,Códigos!B:C,2,0),\" \")","v":" "}]
[null,null,null,null,{"$f":"IFERROR(VLOOKUP(D9941,Códigos!B:C,2,0),\" \")","v":" "}]
[null,null,null,null,{"$f":"IFERROR(VLOOKUP(D9942,Códigos!B:C,2,0),\" \")","v":" "}]
[null,null,null,null,{"$f":"IFERROR(VLOOKUP(D9943,Códigos!B:C,2,0),\" \")","v":" "}]
[null,null,null,null,{"$f":"IFERROR(VLOOKUP(D9944,Códigos!B:C,2,0),\" \")","v":" "}]
[null,null,null,null,{"$f":"IFERROR(VLOOKUP(D9945,Códigos!B:C,2,0),\" \")","v":" "}]
[null,null,null,null,{"$f":"IFERROR(VLOOKUP(D9946,Códigos!B:C,2,0),\" \")","v":" "}]
[null,null,null,null,{"$f":"IFERROR(VLOOKUP(D9947,Códigos!B:C,2,0),\" \")","v":" "}]
[null,null,null,null,{"$f":"IFERROR(VLOOKUP(D9948,Códigos!B:C,2,0),\" \")","v":" "}]
[null,null,null,null,{"$f":"IFERROR(VLOOKUP(D9949,Códigos!B:C,2,0),\" \")","v":" "}]
[null,null,null,null,{"$f":"IFERROR(VLOOKUP(D9950,Códigos!B:C,2,0),\" \")","v":" "}]
[null,null,null,null,{"$f":"IFERROR(VLOOKUP(D9951,Códigos!B:C,2,0),\" \")","v":" "}]
[null,null,null,null,{"$f":"IFERROR(VLOOKUP(D9952,Códigos!B:C,2,0),\" \")","v":" "}]
[null,null,null,null,{"$f":"IFERROR(VLOOKUP(D9953,Códigos!B:C,2,0),\" \")","v":" "}]
[null,null,null,null,{"$f":"IFERROR(VLOOKUP(D9954,Códigos!B:C,2,0),\" \")","v":" "}]
[null,null,null,null,{"$f":"IFERROR(VLOOKUP(D9955,Códigos!B:C,2,0),\" \")","v":" "}]
[null,null,null,null,{"$f":"IFERROR(VLOOKUP(D9956,Códigos!B:C,2,0),\" \")","v":" "}]
[null,null,null,null,{"$f":"IFERROR(VLOOKUP(D9957,Códigos!B:C,2,0),\" \")","v":" "}]
[null,null,null,null,{"$f":"IFERROR(VLOOKUP(D9958,Códigos!B:C,2,0),\" \")","v":" "}]
[null,null,null,null,{"$f":"IFERROR(VLOOKUP(D9959,Códigos!B:C,2,0),\" \")","v":" "}]
[null,null,null,null,{"$f":"IFERROR(VLOOKUP(D9960,Códigos!B:C,2,0),\" \")","v":" "}]
[null,null,null,null,{"$f":"IFERROR(VLOOKUP(D9961,Códigos!B:C,2,0),\" \")","v":" "}]
[null,null,null,null,{"$f":"IFERROR(VLOOKUP(D9962,Códigos!B:C,2,0),\" \")","v":" "}]
[null,null,null,null,{"$f":"IFERROR(VLOOKUP(D9963,Códigos!B:C,2,0),\" \")","v":" "}]
[null,null,null,null,{"$f":"IFERROR(VLOOKUP(D9964,Códigos!B:C,2,0),\" \")","v":" "}]
[null,null,null,null,{"$f":"IFERROR(VLOOKUP(D9965,Códigos!B:C,2,0),\" \")","v":" "}]
[null,null,null,null,{"$f":"IFERROR(VLOOKUP(D9966,Códigos!B:C,2,0),\" \")","v":" "}]
[null,null,null,null,{"$f":"IFERROR(VLOOKUP(D9967,Códigos!B:C,2,0),\" \")","v":" "}]
[null,null,null,null,{"$f":"IFERROR(VLOOKUP(D9968,Códigos!B:C,2,0),\" \")","v":" "}]
[null,null,null,null,{"$f":"IFERROR(VLOOKUP(D9969,Códigos!B:C,2,0),\" \")","v":" "}]
[null,null,null,null,{"$f":"IFERROR(VLOOKUP(D9970,Códigos!B:C,2,0),\" \")","v":" "}]
[null,null,null,null,{"$f":"IFERROR(VLOOKUP(D9971,Códigos!B:C,2,0),\" \")","v":" "}]
[null,null,null,null,{"$f":"IFERROR(VLOOKUP(D9972,Códigos!B:C,2,0),\" \")","v":" "}]
[null,null,null,null,{"$f":"IFERROR(VLOOKUP(D9973,Códigos!B:C,2,0),\" \")","v":" "}]
[null,null,null,null,{"$f":"IFERROR(VLOOKUP(D9974,Códigos!B:C,2,0),\" \")","v":" "}]
[null,null,null,null,{"$f":"IFERROR(VLOOKUP(D9975,Códigos!B:C,2,0),\" \")","v":" "}]
[null,null,null,null,{"$f":"IFERROR(VLOOKUP(D9976,Códigos!B:C,2,0),\" \")","v":" "}]
[null,null,null,null,{"$f":"IFERROR(VLOOKUP(D9977,Códigos!B:C,2,0),\" \")","v":" "}]
[null,null,null,null,{"$f":"IFERROR(VLOOKUP(D9978,Códigos!B:C,2,0),\" \")","v":" "}]
[null,null,null,null,{"$f":"IFERROR(VLOOKUP(D9979,Códigos!B:C,2,0),\" \")","v":" "}]
[null,null,null,null,{"$f":"IFERROR(VLOOKUP(D9980,Códigos!B:C,2,0),\" \")","v":" "}]
[null,null,null,null,{"$f":"IFERROR(VLOOKUP(D9981,Códigos!B:C,2,0),\" \")","v":" "}]
[null,null,null,null,{"$f":"IFERROR(VLOOKUP(D9982,Códigos!B:C,2,0),\" \")","v":" "}]
[null,null,null,null,{"$f":"IFERROR(VLOOKUP(D9983,Códigos!B:C,2,0),\" \")","v":" "}]
[null,null,null,null,{"$f":"IFERROR(VLOOKUP(D9984,Códigos!B:C,2,0),\" \")","v":" "}]
[null,null,null,null,{"$f":"IFERROR(VLOOKUP(D9985,Códigos!B:C,2,0),\" \")","v":" "}]
[null,null,null,null,{"$f":"IFERROR(VLOOKUP(D9986,Códigos!B:C,2,0),\" \")","v":" "}]
[null,null,null,null,{"$f":"IFERROR(VLOOKUP(D9987,Códigos!B:C,2,0),\" \")","v":" "}]
[null,null,null,null,{"$f":"IFERROR(VLOOKUP(D9988,Códigos!B:C,2,0),\" \")","v":" "}]
[null,null,null,null,{"$f":"IFERROR(VLOOKUP(D9989,Códigos!B:C,2,0),\" \")","v":" "}]
[null,null,null,null,{"$f":"IFERROR(VLOOKUP(D9990,Códigos!B:C,2,0),\" \")","v":" "}]
[null,null,null,null,{"$f":"IFERROR(VLOOKUP(D9991,Códigos!B:C,2,0),\" \")","v":" "}]
[null,null,null,null,{"$f":"IFERROR(VLOOKUP(D9992,Códigos!B:C,2,0),\" \")","v":" "}]
[null,null,null,null,{"$f":"IFERROR(VLOOKUP(D9993,Códigos!B:C,2,0),\" \")","v":" "}]
[null,null,null,null,{"$f":"IFERROR(VLOOKUP(D9994,Códigos!B:C,2,0),\" \")","v":" "}]
[null,null,null,null,{"$f":"IFERROR(VLOOKUP(D9995,Códigos!B:C,2,0),\" \")","v":" "}]
[null,null,null,null,{"$f":"IFERROR(VLOOKUP(D9996,Códigos!B:C,2,0),\" \")","v":" "}]
[null,null,null,null,{"$f":"IFERROR(VLOOKUP(D9997,Códigos!B:C,2,0),\" \")","v":" "}]
[null,null,null,null,{"$f":"IFERROR(VLOOKUP(D9998,Códigos!B:C,2,0),\" \")","v":" "}]
[null,null,null,null,{"$f":"IFERROR(VLOOKUP(D9999,Códigos!B:C,2,0),\" \")","v":" "}]
[null,null,null,null,{"$f":"IFERROR(VLOOKUP(D10000,Códigos!B:C,2,0),\" \")","v":" "}]

{"sheet":"Códigos","index":4,"n_rows":996,"n_cols":3,"rows_kept":996,"cut":false,"hidden":false,"merged":[[0,0,0,2],[995,0,995,2]]}
["FORMULARIO  PARA  EL REGISTRO DE GESTORES DE  RESIDUOS"]
["Categorización de los residuos","Codigo LER","Descripción del Residuo"]
[null,1,"RESIDUOS DE LA PROSPECCIÓN, EXTRACCIÓN DE MINAS Y CANTERAS Y TRATAMIENTOS FÍSICOS Y QUÍMICOS DE MINERALES"]
[null,"01 01","Residuos de la extracción de minerales"]
["No peligrosos","01 01 01","Residuos de la extracción de minerales metálicos"]
["No peligrosos","01 01 02","Residuos de la extracción de minerales no metálicos"]
[null,"01 03","Residuos de la transformación física y química de minerales metálicos"]
["Peligrosos","01 03 04*","Estériles que generan ácido procedentes de la transformación de minerales sulfurados"]
["Peligrosos","01 03 05*","Otros estériles que contienen sustancias peligrosas"]
["No peligrosos","01 03 06","Estériles distintos de los mencionados en los códigos 01 03 04 y 01 03 05"]
["Peligrosos","01 03 07*","Otros residuos que contienen sustancias peligrosas procedentes de la transformación física y química de minerales metálicos"]
["No peligrosos","01 03 08","Residuos de polvo y arenilla distintos de los mencionados en el código 01 03 07"]
["No peligrosos","01 03 09","Lodos rojos procedentes de la producción de alúmina distintos de los mencionados en el código 01 03 10"]
["Peligrosos","01 03 10*","Lodos rojos procedentes de la producción de alúmina que contienen sustancias peligrosas distintos de los residuos mencionados en el código 01 03 07"]
["No peligrosos","01 03 99","Residuos no especificados en otra categoría"]
[null,"01 04","Residuos de la transformación física y química de minerales no metálicos"]
["Peligrosos","01 04 07*","Residuos que contienen sustancias peligrosas procedentes de la transformación física y química de minerales no metálicos"]
["No peligrosos","01 04 08","Residuos de grava y rocas trituradas distintos de los mencionados en el código 01 04 07"]
["No peligrosos","01 04 09","Residuos de arena y arcillas"]
["No peligrosos","01 04 10","Residuos de polvo y arenilla distintos de los mencionados en el código 01 04 07"]
["No peligrosos","01 04 11","Residuos de la transformación de potasa y sal gema distintos de los mencionados en el código 01 04 07"]
["No peligrosos","01 04 12","Estériles y otros residuos del lavado y limpieza de minerales, distintos de los mencionados en los códigos 01 04 07 y 01 04 11"]
["No peligrosos","01 04 13","Residuos del corte y serrado de piedra distintos de los mencionados en el código 01 04 07"]
["No peligrosos","01 04 99","Residuos no especificados en otra categoría"]
[null,"01 05","Lodos y otros residuos de perforaciones"]
["No peligrosos","01 05 04","Lodos y residuos de perforaciones que contienen agua dulce"]
["Peligrosos","01 05 05*","Lodos y residuos de perforaciones que contienen hidrocarburos"]
["Peligrosos","01 05 06*","Lodos y otros residuos de perforaciones que contienen sustancias peligrosas"]
["No peligrosos","01 05 07","Lodos y otros residuos de perforaciones que contienen barita distintos de los mencionados en los códigos 01 05 05 y 01 05 06"]
["No peligrosos","01 05 08","Lodos y otros residuos de perforaciones que contienen cloruros distintos de los mencionados en los códigos 01 05 05 y 01 05 06"]
["No peligrosos","01 05 99","Residuos no especificados en otra categoría"]
[]
[null,2,"RESIDUOS DE LA AGRICULTURA, HORTICULTURA, ACUICULTURA, SILVICULTURA, CAZA Y PESCA; RESIDUOS DE LA PREPARACIÓN Y ELABORACIÓN DE ALIMENTOS"]
[null,"02 01","Residuos de la agricultura, horticultura, acuicultura, silvicultura, caza y pesca"]
["No peligrosos","02 01 01","Lodos de lavado y limpieza"]
["No peligrosos","02 01 02","Residuos de tejidos de animales"]
["No peligrosos","02 01 03","Residuos de tejidos de vegetales"]
["No peligrosos","02 01 04","Residuos de plásticos (excepto embalajes)"]
["No peligrosos","02 01 06","Heces de animales, orina y estiércol (incluida paja podrida), efluentes, recogidos selectivamente y tratados fuera del lugar donde se generan"]
["No peligrosos","02 01 07","Residuos de la silvicultura"]
["Peligrosos","02 01 08*","Residuos agroquímicos que contienen sustancias peligrosas"]
["No peligrosos","02 01 09","Residuos agroquímicos distintos de los mencionados en el código 02 01 08"]
["No peligrosos","02 01 10","Residuos metálicos"]
["No peligrosos","02 01 99","Residuos no especificados en otra categoría"]
[null,"02 02","Residuos de la preparación y elaboración de carne, pescado y otros alimentos de origen animal"]
["No peligrosos","02 02 01","Lodos del lavado y limpieza"]
["No peligrosos","02 02 02","Residuos de tejidos de animales"]
["No peligrosos","02 02 03","Materiales inadecuados para el consumo o la elaboración"]
["No peligrosos","02 02 04","Lodos del tratamiento in situ de efluentes"]
["No peligrosos","02 02 99","Residuos no especificados en otra categoría"]
[null,"02 03","Residuos de la preparación y elaboración de frutas, hortalizas, cereales, aceites comestibles, cacao, café, té y tabaco; producción de conservas; producción de levadura y extracto de levadura, preparación y fermentación de melazas"]
["No peligrosos","02 03 01","Lodos del lavado, limpieza, pelado, centrifugado y separación"]
["No peligrosos","02 03 02","Residuos de conservantes"]
["No peligrosos","02 03 03","Residuos de la extracción con disolventes"]
["No peligrosos","02 03 04","Materiales inadecuados para el consumo o la elaboración"]
["No peligrosos","02 03 05","Lodos del tratamiento in situ de efluentes"]
["No peligrosos","02 03 99","Residuos no especificados en otra categoría"]
[null,"02 04","Residuos de la elaboración de azúcar"]
["No peligrosos","02 04 01","Tierra procedente de la limpieza y lavado de la remolacha"]
["No peligrosos","02 04 02","Carbonato cálcico fuera de especificación"]
["No peligrosos","02 04 03","Lodos del tratamiento in situ de efluentes"]
["No peligrosos","02 04 99","Residuos no especificados en otra categoría"]
[null,"02 05","Residuos de la industria de productos lácteos"]
["No peligrosos","02 05 01","Materiales inadecuados para el consumo o la elaboración"]
["No peligrosos","02 05 02","Lodos del tratamiento in situ de efluentes"]
["No peligrosos","02 05 99","Residuos no especificados en otra categoría"]
[null,"02 06","Residuos de la industria de panadería y pastelería"]
["No peligrosos","02 06 01","Materiales inadecuados para el consumo o la elaboración"]
["No peligrosos","02 06 02","Residuos de conservantes"]
["No peligrosos","02 06 03","Lodos del tratamiento in situ de efluentes"]
["No peligrosos","02 06 99","Residuos no especificados en otra categoría"]
[null,"02 07","Residuos de la producción de bebidas alcohólicas y no alcohólicas (excepto café, té y cacao)"]
["No peligrosos","02 07 01","Residuos del lavado, limpieza y reducción mecánica de materias primas"]
["No peligrosos","02 07 02","Residuos de la destilación de alcoholes"]
["No peligrosos","02 07 03","Residuos del tratamiento químico"]
["No peligrosos","02 07 04","Materiales inadecuados para el consumo o la elaboración"]
["No peligrosos","02 07 05","Lodos del tratamiento in situ de efluentes"]
["No peligrosos","02 07 99","Residuos no especificados en otra categoría"]
[]
[null,3,"RESIDUOS DE LA TRANSFORMACIÓN DE LA MADERA Y DE LA PRODUCCIÓN DE TABLEROS Y MUEBLES, PASTA DE PAPEL, PAPEL Y CARTÓN"]
[null,"03 01","Residuos de la transformación de la madera y de la producción de tableros y muebles"]
["No peligrosos","03 01 01","Residuos de corteza y corcho"]
["Peligrosos","03 01 04*","Serrín, virutas, recortes, madera, tableros de partículas y chapas que contienen sustancias peligrosas"]
["No peligrosos","03 01 05","Serrín, virutas, recortes, madera, tableros de partículas y chapas distintos de los mencionados en el código 03 01 04"]
["No peligrosos","03 01 99","Residuos no especificados en otra categoría"]
[null,"03 02","Residuos de los tratamientos de conservación de la madera"]
["Peligrosos","03 02 01*","Conservantes de la madera orgánicos no halogenados"]
["Peligrosos","03 02 02*","Conservantes de la madera organoclorados"]
["Peligrosos","03 02 03*","Conservantes de la madera organometálicos"]
["Peligrosos","03 02 04*","Conservantes de la madera inorgánicos"]
["Peligrosos","03 02 05*","Otros conservantes de la madera que contienen sustancias peligrosas"]
["No peligrosos","03 02 99","Conservantes de la madera no especificados en otra categoría"]
[null,"03 03","Residuos de la producción y transformación de pasta de papel, papel y cartón"]
["No peligrosos","03 03 01","Residuos de corteza y madera"]
["No peligrosos","03 03 02","Lodos de lejías verdes (procedentes de la recuperación de lejías de cocción)"]
["No peligrosos","03 03 05","Lodos de destintado procedentes del reciclado de papel"]
["No peligrosos","03 03 07","Desechos, separados mecánicamente, de pasta elaborada a partir de residuos de papel y cartón"]
["No peligrosos","03 03 08","Residuos procedentes de la clasificación de papel y cartón destinados al reciclado"]
["No peligrosos","03 03 09","Residuos de lodos calizos"]
["No peligrosos","03 03 10","Desechos de fibras y lodos de fibras, de materiales de carga y de estucado, obtenidos por separación mecánica"]
["No peligrosos","03 03 11","Lodos del tratamiento in situ de efluentes, distintos de los especificados en el código 03 03 10"]
["No peligrosos","03 03 99","Residuos no especificados en otra categoría"]
[]
[null,4,"RESIDUOS DE LAS INDUSTRIAS DEL CUERO, DE LA PIEL Y TEXTIL"]
[null,"04 01","Residuos de las industrias del cuero y de la piel"]
["No peligrosos","04 01 01","Residuos de descarnaduras y cuarteado de cal"]
["No peligrosos","04 01 02","Residuos del encalado"]
["Peligrosos","04 01 03*","Residuos del desengrasado que contienen disolventes sin fase líquida"]
["No peligrosos","04 01 04","Residuos líquidos de curtición que contienen cromo"]
["No peligrosos","04 01 05","Residuos líquidos de curtición que no contienen cromo"]
["No peligrosos","04 01 06","Lodos, en particular los procedentes del tratamiento in situ de efluentes, que contienen cromo"]
["No peligrosos","04 01 07","Lodos, en particular los procedentes del tratamiento in situ de efluentes, que no contienen cromo"]
["No peligrosos","04 01 08","Residuos de piel curtida (serrajes, rebajaduras, recortes y polvo de esmerilado) que contienen cromo"]
["No peligrosos","04 01 09","Residuos de confección y acabado"]
["No peligrosos","04 01 99","Residuos no especificados en otra categoría"]
[null,"04 02","Residuos de la industria textil"]
["No peligrosos","04 02 09","Residuos de materiales compuestos (textiles impregnados, elastómeros, plastómeros)"]
["No peligrosos","04 02 10","Materia orgánica de productos naturales (por ejemplo, grasa, cera)"]
["Peligrosos","04 02 14*","Residuos del acabado que contienen disolventes orgánicos"]
["No peligrosos","04 02 15","Residuos del acabado distintos de los especificados en el código 04 02 14"]
["Peligrosos","04 02 16*","Colorantes y pigmentos que contienen sustancias peligrosas"]
["No peligrosos","04 02 17","Colorantes y pigmentos distintos de los mencionados en el código 04 02 16"]
["Peligrosos","04 02 19*","Lodos del tratamiento in situ de efluentes que contienen sustancias peligrosas"]
["No peligrosos","04 02 20","Lodos del tratamiento in situ de efluentes, distintos de los especificados en el código 04 02 19"]
["No peligrosos","04 02 21","Residuos de fibras textiles no transformadas"]
["No peligrosos","04 02 22","Residuos de fibras textiles transformadas"]
["No peligrosos","04 02 99","Residuos no especificados en otra categoría"]
[]
[null,5,"RESIDUOS DEL REFINO DE PETRÓLEO, PURIFICACIÓN DEL GAS NATURAL Y TRATAMIENTO PIROLÍTICO DEL CARBÓN"]
[null,"05 01","Residuos del refino de petróleo"]
["Peligrosos","05 01 02*","Lodos de la desalación"]
["Peligrosos","05 01 03*","Lodos de fondos de tanques"]
["Peligrosos","05 01 04*","Lodos de ácidos alquilo"]
["Peligrosos","05 01 05*","Derrames de hidrocarburos"]
["Peligrosos","05 01 06*","Lodos oleosos procedentes de operaciones de mantenimiento de plantas o equipos"]
["Peligrosos","05 01 07*","Alquitranes ácidos"]
["Peligrosos","05 01 08*","Otros alquitranes"]
["Peligrosos","05 01 09*","Lodos del tratamiento in situ de efluentes que contienen sustancias peligrosas"]
["No peligrosos","05 01 10","Lodos del tratamiento in situ de efluentes, distintos de los especificados en el código 05 01 09"]
["Peligrosos","05 01 11*","Residuos procedentes de la limpieza de combustibles con bases"]
["Peligrosos","05 01 12*","Hidrocarburos que contienen ácidos"]
["No peligrosos","05 01 13","Lodos procedentes del agua de alimentación de calderas"]
["No peligrosos","05 01 14","Residuos de columnas de refrigeración"]
["Peligrosos","05 01 15*","Arcillas de filtración usadas"]
["No peligrosos","05 01 16","Residuos que contienen azufre procedentes de la desulfuración del petróleo"]
["No peligrosos","05 01 17","Betunes"]
["No peligrosos","05 01 99","Residuos no especificados en otra categoría"]
[null,"05 06","Residuos del tratamiento pirolítico del carbón"]
["Peligrosos","05 06 01*","Alquitranes ácidos"]
["Peligrosos","05 06 03*","Otros alquitranes"]
["No peligrosos","05 06 04","Residuos de columnas de refrigeración"]
["No peligrosos","05 06 99","Residuos no especificados en otra categoría"]
[null,"05 07","Residuos de la purificación y el transporte de gas natural"]
["Peligrosos","05 07 01*","Residuos que contienen mercurio"]
["No peligrosos","05 07 02","Residuos que contienen azufre"]
["No peligrosos","05 07 99","Residuos no especificados en otra categoría"]
[]
[null,6,"RESIDUOS DE PROCESOS QUÍMICOS INORGÁNICOS"]
[null,"06 01","Residuos de la fabricación, formulación, distribución y utilización (FFDU) de ácidos"]
["Peligrosos","06 01 01*","Ácido sulfúrico y ácido sulfuroso"]
["Peligrosos","06 01 02*","Ácido clorhídrico"]
["Peligrosos","06 01 03*","Ácido fluorhídrico"]
["Peligrosos","06 01 04*","Ácido fosfórico y ácido fosforoso"]
["Peligrosos","06 01 05*","Ácido nítrico y ácido nitroso"]
["Peligrosos","06 01 06*","Otros ácidos"]
["No peligrosos","06 01 99","Residuos no especificados en otra categoría"]
[null,"06 02","Residuos de la FFDU de bases"]
["Peligrosos","06 02 01*","Hidróxido cálcico"]
["Peligrosos","06 02 03*","Hidróxido amónico"]
["Peligrosos","06 02 04*","Hidróxido potásico e hidróxido sódico"]
["Peligrosos","06 02 05*","Otras bases"]
["No peligrosos","06 02 99","Residuos no especificados en otra categoría"]
[null,"06 03","Residuos de la FFDU de sales y sus soluciones y de óxidos metálicos"]
["Peligrosos","06 03 11*","Sales sólidas y soluciones que contienen cianuros"]
["Peligrosos","06 03 13*","Sales sólidas y soluciones que contienen metales pesados"]
["No peligrosos","06 03 14","Sales sólidas y soluciones distintas de las mencionadas en los códigos 06 03 11 y 06 03 13"]
["Peligrosos","06 03 15*","Óxidos metálicos que contienen metales pesados"]
["No peligrosos","06 03 16","Óxidos metálicos distintos de los mencionados en el código 06 03 15"]
["No peligrosos","06 03 99","Residuos no especificados en otra categoría"]
[null,"06 04","Residuos que contienen metales distintos de los especificados en el código 06 03"]
["Peligrosos","06 04 03*","Residuos que contienen arsénico"]
["Peligrosos","06 04 04*","Residuos que contienen mercurio"]
["Peligrosos","06 04 05*","Residuos que contienen otros metales pesados"]
["No peligrosos","06 04 99","Residuos no especificados en otra categoría"]
[null,"06 05","Lodos del tratamiento in situ de efluentes"]
["Peligrosos","06 05 02*","Lodos del tratamiento in situ de efluentes que contienen sustancias peligrosas"]
["No peligrosos","06 05 03","Lodos del tratamiento in situ de efluentes, distintos de los especificados en el código 06 05 02"]
[null,"06 06","Residuos de la FFDU de los productos químicos que contienen azufre, de los procesos químicos del azufre y de los procesos de desulfuración"]
["Peligrosos","06 06 02*","Residuos que contienen sulfuros peligrosos"]
["No peligrosos","06 06 03","Residuos que contienen sulfuros distintos de los mencionados en el código 06 06 02"]
["No peligrosos","06 06 99","Residuos no especificados en otra categoría"]
[null,"06 07","Residuos de la FFDU de halógenos y de los procesos químicos de los halógenos"]
["Peligrosos","06 07 01*","Residuos de electrólisis que contienen amianto"]
["Peligrosos","06 07 02*","Carbón activo procedente de la producción de cloro"]
["Peligrosos","06 07 03*","Lodos de sulfato bárico que contienen mercurio"]
["Peligrosos","06 07 04*","Soluciones y ácidos, por ejemplo, ácido de contacto"]
["No peligrosos","06 07 99","Residuos no especificados en otra categoría"]
[null,"06 08","Residuos de la FFDU del silicio y sus derivados"]
["Peligrosos","06 08 02*","Residuos que contienen clorosilanos peligrosos"]
["No peligrosos","06 08 99","Residuos no especificados en otra categoría"]
[null,"06 09","Residuos de la FFDU de productos químicos que contienen fósforo y de los procesos químicos del fósforo"]
["No peligrosos","06 09 02","Escorias de fósforo"]
["Peligrosos","06 09 03*","Residuos cálcicos de reacción que contienen o están contaminados con sustancias peligrosas"]
["No peligrosos","06 09 04","Residuos cálcicos de reacción distintos de los mencionados en el código 06 09 03"]
["No peligrosos","06 09 99","Residuos no especificados en otra categoría"]
[null,"06 10","Residuos de la FFDU de productos químicos que contienen nitrógeno y de los procesos químicos del nitrógeno y de la fabricación de fertilizantes"]
["Peligrosos","06 10 02*","Residuos que contienen sustancias peligrosas"]
["No peligrosos","06 10 99","Residuos no especificados en otra categoría"]
[null,"06 11","Residuos de la fabricación de pigmentos inorgánicos y opacificantes"]
["No peligrosos","06 11 01","Residuos cálcicos de reacción procedentes de la producción de dióxido de titanio"]
["No peligrosos","06 11 99","Residuos no especificados en otra categoría"]
[null,"06 13","Residuos de los procesos químicos inorgánicos no especificados en otra categoría"]
["Peligrosos","06 13 01*","Productos fitosanitarios inorgánicos, conservantes de la madera y otros biocidas"]
["Peligrosos","06 13 02*","Carbón activo usado (excepto la categoría 06 07 02)"]
["No peligrosos","06 13 03","Negro de carbón"]
["Peligrosos","06 13 04*","Residuos procedentes de la transformación del amianto"]
["Peligrosos","06 13 05*","Hollín"]
["No peligrosos","06 13 99","Residuos no especificados en otra categoría"]
[]
[null,7,"RESIDUOS DE LOS PROCESOS QUÍMICOS ORGÁNICOS"]
[null,"07 01","Residuos de la fabricación, formulación, distribución y utilización (FFDU) de productos químicos orgánicos de base"]
["Peligrosos","07 01 01*","Líquidos de limpieza y licores madre acuosos"]
["Peligrosos","07 01 03*","Disolventes, líquidos de limpieza y licores madre organohalogenados"]
["Peligrosos","07 01 04*","Otros disolventes, líquidos de limpieza y licores madre orgánicos"]
["Peligrosos","07 01 07*","Residuos de reacción y de destilación halogenados"]
["Peligrosos","07 01 08*","Otros residuos de reacción y de destilación"]
["Peligrosos","07 01 09*","Tortas de filtración y absorbentes usados halogenados"]
["Peligrosos","07 01 10*","Otras tortas de filtración y absorbentes usados"]
["Peligrosos","07 01 11*","Lodos del tratamiento in situ de efluentes que contienen sustancias peligrosas"]
["No peligrosos","07 01 12","Lodos del tratamiento in situ de efluentes, distintos de los especificados en el código 07 01 11"]
["No peligrosos","07 01 99","Residuos no especificados en otra categoría"]
[null,"07 02","Residuos de la FFDU de plásticos, caucho sintético y fibras artificiales"]
["Peligrosos","07 02 01*","Líquidos de limpieza y licores madre acuosos"]
["Peligrosos","07 02 03*","Disolventes, líquidos de limpieza y licores madre organohalogenados"]
["Peligrosos","07 02 04*","Otros disolventes, líquidos de limpieza y licores madre orgánicos"]
["Peligrosos","07 02 07*","Residuos de reacción y de destilación halogenados"]
["Peligrosos","07 02 08*","Otros residuos de reacción y de destilación"]
["Peligrosos","07 02 09*","Tortas de filtración y absorbentes usados halogenados"]
["Peligrosos","07 02 10*","Otras tortas de filtración y absorbentes usados"]
["Peligrosos","07 02 11*","Lodos del tratamiento in situ de efluentes que contienen sustancias peligrosas"]
["No peligrosos","07 02 12","Lodos del tratamiento in situ de efluentes, distintos de los especificados en el código 07 02 11"]
["No peligrosos","07 02 13","Residuos de plástico"]
["Peligrosos","07 02 14*","Residuos procedentes de aditivos que contienen sustancias peligrosas"]
["No peligrosos","07 02 15","Residuos procedentes de aditivos distintos de los especificados en el código 07 02 14"]
["Peligrosos","07 02 16*","Residuos que contienen siliconas peligrosas"]
["No peligrosos","07 02 17","Residuos que contienen siliconas distintos de los mencionados en el código 07 02 16"]
["No peligrosos","07 02 99","Residuos no especificados en otra categoría"]
[null,"07 03","Residuos de la FFDU de tintes y pigmentos orgánicos (excepto los del subcapítulo 06 11)"]
["Peligrosos","07 03 01*","Líquidos de limpieza y licores madre acuosos"]
["Peligrosos","07 03 03*","Disolventes, líquidos de limpieza y licores madre organohalogenados"]
["Peligrosos","07 03 04*","Otros disolventes, líquidos de limpieza y licores madre orgánicos"]
["Peligrosos","07 03 07*","Residuos de reacción y de destilación halogenados"]
["Peligrosos","07 03 08*","Otros residuos de reacción y de destilación"]
["Peligrosos","07 03 09*","Tortas de filtración y absorbentes usados halogenados"]
["Peligrosos","07 03 10*","Otras tortas de filtración y absorbentes usados"]
["Peligrosos","07 03 11*","Lodos del tratamiento in situ de efluentes que contienen sustancias peligrosas"]
["No peligrosos","07 03 12","Lodos del tratamiento in situ de efluentes, distintos de los especificados en el código 07 03 11"]
["No peligrosos","07 03 99","Residuos no especificados en otra categoría"]
[null,"07 04","Residuos de la FFDU de productos fitosanitarios orgánicos (excepto los de los códigos 02 01 08 y 02 01 09), de conservantes de la madera (excepto los del subcapítulo 03 02) y de otros biocidas"]
["Peligrosos","07 04 01*","Líquidos de limpieza y licores madre acuosos"]
["Peligrosos","07 04 03*","Disolventes, líquidos de limpieza y licores madre organohalogenados"]
["Peligrosos","07 04 04*","Otros disolventes, líquidos de limpieza y licores madre orgánicos"]
["Peligrosos","07 04 07*","Residuos de reacción y de destilación halogenados"]
["Peligrosos","07 04 08*","Otros residuos de reacción y de destilación"]
["Peligrosos","07 04 09*","Tortas de filtración y absorbentes usados halogenados"]
["Peligrosos","07 04 10*","Otras tortas de filtración y absorbentes usados"]
["Peligrosos","07 04 11*","Lodos del tratamiento in situ de efluentes que contienen sustancias peligrosas"]
["No peligrosos","07 04 12","Lodos del tratamiento in situ de efluentes, distintos de los especificados en el código 07 04 11"]
["Peligrosos","07 04 13*","Residuos sólidos que contienen sustancias peligrosas"]
["No peligrosos","07 04 99","Residuos no especificados en otra categoría"]
[null,"07 05","Residuos de la FFDU de productos farmacéuticos"]
["Peligrosos","07 05 01*","Líquidos de limpieza y licores madre acuosos"]
["Peligrosos","07 05 03*","Disolventes, líquidos de limpieza y licores madre organohalogenados"]
["Peligrosos","07 05 04*","Otros disolventes, líquidos de limpieza y licores madre orgánicos"]
["Peligrosos","07 05 07*","Residuos de reacción y de destilación halogenados"]
["Peligrosos","07 05 08*","Otros residuos de reacción y de destilación"]
["Peligrosos","07 05 09*","Tortas de filtración y absorbentes usados halogenados"]
["Peligrosos","07 05 10*","Otras tortas de filtración y absorbentes usados"]
["Peligrosos","07 05 11*","Lodos del tratamiento in situ de efluentes que contienen sustancias peligrosas"]
["No peligrosos","07 05 12","Lodos del tratamiento in situ de efluentes, distintos de los especificados en el código 07 05 11"]
["Peligrosos","07 05 13*","Residuos sólidos que contienen sustancias peligrosas"]
["No peligrosos","07 05 14","Residuos sólidos distintos de los especificados en el código 07 05 13"]
["No peligrosos","07 05 99","Residuos no especificados en otra categoría"]
[null,"07 06","Residuos de la FFDU de grasas, jabones, detergentes, desinfectantes y cosméticos"]
["Peligrosos","07 06 01*","Líquidos de limpieza y licores madre acuosos"]
["Peligrosos","07 06 03*","Disolventes, líquidos de limpieza y licores madre organohalogenados"]
["Peligrosos","07 06 04*","Otros disolventes, líquidos de limpieza y licores madre orgánicos"]
["Peligrosos","07 06 07*","Residuos de reacción y de destilación halogenados"]
["Peligrosos","07 06 08*","Otros residuos de reacción y de destilación"]
["Peligrosos","07 06 09*","Tortas de filtración y absorbentes usados halogenados"]
["Peligrosos","07 06 10*","Otras tortas de filtración y absorbentes usados"]
["Peligrosos","07 06 11*","Lodos del tratamiento in situ de efluentes que contienen sustancias peligrosas"]
["No peligrosos","07 06 12","Lodos del tratamiento in situ de efluentes, distintos de los especificados en el código 07 06 11"]
["No peligrosos","07 06 99","Residuos no especificados en otra categoría"]
[null,"07 07","Residuos de la FFDU de productos químicos resultantes de la química fina y productos químicos no especificados en otra categoría"]
["Peligrosos","07 07 01*","Líquidos de limpieza y licores madre acuosos"]
["Peligrosos","07 07 03*","Disolventes, líquidos de limpieza y licores madre organohalogenados"]
["Peligrosos","07 07 04*","Otros disolventes, líquidos de limpieza y licores madre orgánicos"]
["Peligrosos","07 07 07*","Residuos de reacción y de destilación halogenados"]
["Peligrosos","07 07 08*","Otros residuos de reacción y de destilación"]
["Peligrosos","07 07 09*","Tortas de filtración y absorbentes usados halogenados"]
["Peligrosos","07 07 10*","Otras tortas de filtración y absorbentes usados"]
["Peligrosos","07 07 11*","Lodos del tratamiento in situ de efluentes que contienen sustancias peligrosas"]
["No peligrosos","07 07 12","Lodos del tratamiento in situ de efluentes, distintos de los especificados en el código 07 07 11"]
["No peligrosos","07 07 99","Residuos no especificados en otra categoría"]
[]
[null,8,"RESIDUOS DE LA FABRICACIÓN, FORMULACIÓN, DISTRIBUCIÓN Y UTILIZACIÓN (FFDU) DE REVESTIMIENTOS (PINTURAS, BARNICES Y ESMALTES VÍTREOS), ADHESIVOS, SELLANTES Y TINTAS DE IMPRESIÓN"]
[null,"08 01","Residuos de la FFDU y del decapado o eliminación de pintura y barniz"]
["Peligrosos","08 01 11*","Residuos de pintura y barniz que contienen disolventes orgánicos u otras sustancias peligrosas"]
["No peligrosos","08 01 12","Residuos de pintura y barniz, distintos de los especificados en el código 08 01 11"]
["Peligrosos","08 01 13*","Lodos de pintura y barniz que contienen disolventes orgánicos u otras sustancias peligrosas"]
["No peligrosos","08 01 14","Lodos de pintura y barniz, distintos de los especificados en el código 08 01 13"]
["Peligrosos","08 01 15*","Lodos acuosos que contienen pintura o barniz con disolventes orgánicos u otras sustancias peligrosas"]
["No peligrosos","08 01 16","Lodos acuosos que contienen pintura o barniz, distintos de los especificados en el código 08 01 15"]
["Peligrosos","08 01 17*","Residuos del decapado o eliminación de pintura y barniz que contienen disolventes orgánicos u otras sustancias peligrosas"]
["No peligrosos","08 01 18","Residuos del decapado o eliminación de pintura y barniz, distintos de los especificados en el código 08 01 17"]
["Peligrosos","08 01 19*","Suspensiones acuosas que contienen pintura o barniz con disolventes orgánicos u otras sustancias peligrosas"]
["No peligrosos","08 01 20","Suspensiones acuosas que contienen pintura o barniz, distintas de las especificadas en el código 08 01 19"]
["Peligrosos","08 01 21*","Residuos de decapantes o eliminadores de pintura y barniz"]
["No peligrosos","08 01 99","Residuos no especificados en otra categoría"]
[null,"08 02","Residuos de la FFDU de otros revestimientos (incluidos materiales cerámicos)"]
["No peligrosos","08 02 01","Residuos de arenillas de revestimiento"]
["No peligrosos","08 02 02","Lodos acuosos que contienen materiales cerámicos"]
["No peligrosos","08 02 03","Suspensiones acuosas que contienen materiales cerámicos"]
["No peligrosos","08 02 99","Residuos no especificados en otra categoría"]
[null,"08 03","Residuos de la FFDU de tintas de impresión"]
["No peligrosos","08 03 07","Lodos acuosos que contienen tinta"]
["No peligrosos","08 03 08","Residuos líquidos acuosos que contienen tinta"]
["Peligrosos","08 03 12*","Residuos de tintas que contienen sustancias peligrosas"]
["No peligrosos","08 03 13","Residuos de tintas distintos de los especificados en el código 08 03 12"]
["Peligrosos","08 03 14*","Lodos de tinta que contienen sustancias peligrosas"]
["No peligrosos","08 03 15","Lodos de tinta distintos de los especificados en el código 08 03 14"]
["Peligrosos","08 03 16*","Residuos de soluciones corrosivas"]
["Peligrosos","08 03 17*","Residuos de tóner de impresión que contienen sustancias peligrosas"]
["No peligrosos","08 03 18","Residuos de tóner de impresión, distintos de los especificados en el código 08 03 17"]
["Peligrosos","08 03 19*","Aceites de dispersión"]
["No peligrosos","08 03 99","Residuos no especificados en otra categoría"]
[null,"08 04","Residuos de la FFDU de adhesivos y sellantes (incluidos productos de impermeabilización)"]
["Peligrosos","08 04 09*","Residuos de adhesivos y sellantes que contienen disolventes orgánicos u otras sustancias peligrosas"]
["No peligrosos","08 04 10","Residuos de adhesivos y sellantes, distintos de los especificados en el código 08 04 09"]
["Peligrosos","08 04 11*","Lodos de adhesivos y sellantes que contienen disolventes orgánicos u otras sustancias peligrosas"]
["No peligrosos","08 04 12","Lodos de adhesivos y sellantes, distintos de los especificados en el código 08 04 11"]
["Peligrosos","08 04 13*","Lodos acuosos que contienen adhesivos o sellantes con disolventes orgánicos u otras sustancias peligrosas"]
["No peligrosos","08 04 14","Lodos acuosos que contienen adhesivos o sellantes, distintos de los especificados en el código 08 04 13"]
["Peligrosos","08 04 15*","Residuos líquidos acuosos que contienen adhesivos o sellantes con disolventes orgánicos u otras sustancias peligrosas"]
["No peligrosos","08 04 16","Residuos líquidos acuosos que contienen adhesivos o sellantes, distintos de los especificados en el código 08 04 15"]
["Peligrosos","08 04 17*","Aceite de resina"]
["No peligrosos","08 04 99","Residuos no especificados en otra categoría"]
[null,"08 05","Residuos no especificados de otra forma en el capítulo 08"]
["Peligrosos","08 05 01*","Isocianatos residuales"]
[]
[null,9,"RESIDUOS DE LA INDUSTRIA FOTOGRÁFICA"]
[null,"09 01","Residuos de la industria fotográfica"]
["Peligrosos","09 01 01*","Soluciones de revelado y soluciones activadoras al agua"]
["Peligrosos","09 01 02*","Soluciones de revelado de placas de impresión al agua"]
["Peligrosos","09 01 03*","Soluciones de revelado con disolventes"]
["Peligrosos","09 01 04*","Soluciones de fijado"]
["Peligrosos","09 01 05*","Soluciones de blanqueo y soluciones de blanqueo-fijado"]
["Peligrosos","09 01 06*","Residuos que contienen plata procedente del tratamiento in situ de residuos fotográficos"]
["No peligrosos","09 01 07","Películas y papel fotográfico que contienen plata o compuestos de plata"]
["No peligrosos","09 01 08","Películas y papel fotográfico que no contienen plata ni compuestos de plata"]
["No peligrosos","09 01 10","Cámaras de un solo uso sin pilas ni acumuladores"]
["Peligrosos","09 01 11*","Cámaras de un solo uso con pilas o acumuladores incluidos en los códigos 16 06 01, 16 06 02 o 16 06 03"]
["No peligrosos","09 01 12","Cámaras de un solo uso con pilas o acumuladores distintas de las especificadas en el código 09 01 11"]
["Peligrosos","09 01 13*","Residuos líquidos acuosos procedentes de la recuperación in situ de plata distintos de los especificados en el código 09 01 06"]
["No peligrosos","09 01 99","Residuos no especificados en otra categoría"]
[]
[null,10,"RESIDUOS DE PROCESOS TÉRMICOS"]
[null,"10 01","Residuos de centrales eléctricas y otras plantas de combustión (excepto el capítulo 19)"]
["No peligrosos","10 01 01","Ceniza de fondo de horno, escorias y polvo de caldera (excepto el polvo de caldera especificado en el código 10 01 04)"]
["No peligrosos","10 01 02","Cenizas volantes de carbón"]
["No peligrosos","10 01 03","Cenizas volantes de turba y de madera (no tratada)"]
["Peligrosos","10 01 04*","Cenizas volantes y polvo de caldera de hidrocarburos"]
["No peligrosos","10 01 05","Residuos cálcicos de reacción, en forma sólida, procedentes de la desulfuración de gases de combustión"]
["No peligrosos","10 01 07","Residuos cálcicos de reacción, en forma de lodos, procedentes de la desulfuración de gases de combustión"]
["Peligrosos","10 01 09*","Ácido sulfúrico"]
["Peligrosos","10 01 13*","Cenizas volantes de hidrocarburos emulsionados usados como combustibles"]
["Peligrosos","10 01 14*","Ceniza de fondo de horno, escorias y polvo de caldera procedentes de la coincineración que contienen sustancias peligrosas"]
["No peligrosos","10 01 15","Ceniza de fondo de horno, escorias y polvo de caldera procedentes de la coincineración, distintos de los especificados en el código 10 01 14"]
["Peligrosos","10 01 16*","Cenizas volantes procedentes de la co-incineración que contienen sustancias peligrosas"]
["No peligrosos","10 01 17","Cenizas volantes procedentes de la co-incineración distintas de las especificadas en el código 10 01 16"]
["Peligrosos","10 01 18*","Residuos procedentes de la depuración de gases que contienen sustancias peligrosas"]
["No peligrosos","10 01 19","Residuos procedentes de la depuración de gases distintos de los especificados en los códigos 10 01 05, 10 01 07 y 10 01 18"]
["Peligrosos","10 01 20*","Lodos del tratamiento in situ de efluentes que contienen sustancias peligrosas"]
["No peligrosos","10 01 21","Lodos del tratamiento in situ de efluentes, distintos de los especificados en el código 10 01 20"]
["Peligrosos","10 01 22*","Lodos acuosos, procedentes de la limpieza de calderas, que contienen sustancias peligrosas"]
["No peligrosos","10 01 23","Lodos acuosos procedentes de la limpieza de calderas, distintos de los especificados en el código 10 01 22"]
["No peligrosos","10 01 24","Arenas de lechos fluidizados"]
["No peligrosos","10 01 25","Residuos procedentes del almacenamiento y preparación de combustible de centrales termoeléctricas de carbón"]
["No peligrosos","10 01 26","Residuos del tratamiento del agua de refrigeración"]
["No peligrosos","10 01 99","Residuos no especificados en otra categoría"]
[null,"10 02","Residuos de la industria del hierro y del acero"]
["No peligrosos","10 02 01","Residuos del tratamiento de escorias"]
["No peligrosos","10 02 02","Escorias no tratadas"]
["Peligrosos","10 02 07*","Residuos sólidos del tratamiento de gases que contienen sustancias peligrosas"]
["No peligrosos","10 02 08","Residuos sólidos del tratamiento de gases, distintos de los especificados en el código 10 02 07"]
["No peligrosos","10 02 10","Cascarilla de laminación"]
["Peligrosos","10 02 11*","Residuos del tratamiento del agua de refrigeración que contienen aceites"]
["No peligrosos","10 02 12","Residuos del tratamiento del agua de refrigeración distintos de los especificados en el código 10 02 11"]
["Peligrosos","10 02 13*","Lodos y tortas de filtración del tratamiento de gases que contienen sustancias peligrosas"]
["No peligrosos","10 02 14","Lodos y tortas de filtración del tratamiento de gases, distintos de los especificados en el código 10 02 13"]
["No peligrosos","10 02 15","Otros lodos y tortas de filtración"]
["No peligrosos","10 02 99","Residuos no especificados en otra categoría"]
[null,"10 03","Residuos de la termometalurgia del aluminio"]
["No peligrosos","10 03 02","Fragmentos de ánodos"]
["Peligrosos","10 03 04*","Escorias de la producción primaria"]
["No peligrosos","10 03 05","Residuos de alúmina"]
["Peligrosos","10 03 08*","Escorias salinas de la producción secundaria"]
["Peligrosos","10 03 09*","Granzas negras de la producción secundaria"]
["Peligrosos","10 03 15*","Espumas inflamables o que emiten, en contacto con el agua, gases inflamables en cantidades peligrosas"]
["No peligrosos","10 03 16","Espumas distintas de las especificadas en el código 10 03 15"]
["Peligrosos","10 03 17*","Residuos que contienen alquitrán procedentes de la fabricación de ánodos"]
["No peligrosos","10 03 18","Residuos que contienen carbono procedentes de la fabricación de ánodos, distintos de los especificados en el código 10 03 17"]
["Peligrosos","10 03 19*","Partículas procedentes de los efluentes gaseosos que contienen sustancias peligrosas"]
["No peligrosos","10 03 20","Partículas procedentes de los efluentes gaseosos distintas de las especificadas en el código 10 03 19"]
["Peligrosos","10 03 21*","Otras partículas y polvo (incluido el polvo de molienda) que contienen sustancias peligrosas"]
["No peligrosos","10 03 22","Otras partículas y polvo (incluido el polvo de molienda) distintos de los especificados en el código 10 03 21"]
["Peligrosos","10 03 23*","Residuos sólidos del tratamiento de gases que contienen sustancias peligrosas"]
["No peligrosos","10 03 24","Residuos sólidos del tratamiento de gases, distintos de los especificados en el código 10 03 23"]
["Peligrosos","10 03 25*","Lodos y tortas de filtración del tratamiento de gases que contienen sustancias peligrosas"]
["No peligrosos","10 03 26","Lodos y tortas de filtración del tratamiento de gases, distintos de los especificados en el código 10 03 25"]
["Peligrosos","10 03 27*","Residuos del tratamiento del agua de refrigeración que contienen aceites"]
["No peligrosos","10 03 28","Residuos del tratamiento del agua de refrigeración distintos de los especificados en el código 10 03 27"]
["Peligrosos","10 03 29*","Residuos del tratamiento de escorias salinas y granzas negras, que contienen sustancias peligrosas"]
["No peligrosos","10 03 30","Residuos del tratamiento de escorias salinas y granzas negras distintos de los especificados en el código 10 03 29"]
["No peligrosos","10 03 99","Residuos no especificados en otra categoría"]
[null,"10 04","Residuos de la termometalurgia del plomo"]
["Peligrosos","10 04 01*","Escorias de la producción primaria y secundaria"]
["Peligrosos","10 04 02*","Granzas y espumas de la producción primaria y secundaria"]
["Peligrosos","10 04 03*","Arseniato de calcio"]
["Peligrosos","10 04 04*","Partículas procedentes de los efluentes gaseosos"]
["Peligrosos","10 04 05*","Otras partículas y polvos"]
["Peligrosos","10 04 06*","Residuos sólidos del tratamiento de gases"]
["Peligrosos","10 04 07*","Lodos y tortas de filtración del tratamiento de gases"]
["Peligrosos","10 04 09*","Residuos del tratamiento del agua de refrigeración que contienen aceites"]
["No peligrosos","10 04 10","Residuos del tratamiento del agua de refrigeración distintos de los especificados en el código 10 04 09"]
["No peligrosos","10 04 99","Residuos no especificados en otra categoría"]
[null,"10 05","Residuos de la termometalurgia del zinc"]
["No peligrosos","10 05 01","Escorias de la producción primaria y secundaria"]
["Peligrosos","10 05 03*","Partículas procedentes de los efluentes gaseosos"]
["No peligrosos","10 05 04","Otras partículas y polvos"]
["Peligrosos","10 05 05*","Residuos sólidos del tratamiento de gases"]
["Peligrosos","10 05 06*","Lodos y tortas de filtración del tratamiento de gases"]
["Peligrosos","10 05 08*","Residuos del tratamiento del agua de refrigeración que contienen aceites"]
["No peligrosos","10 05 09","Residuos del tratamiento del agua de refrigeración distintos de los especificados en el código 10 05 08"]
["Peligrosos","10 05 10*","Granzas y espumas inflamables o que emiten, en contacto con el agua, gases inflamables en cantidades peligrosas"]
["No peligrosos","10 05 11","Granzas y espumas distintas de las especificadas en el código 10 05 10"]
["No peligrosos","10 05 99","Residuos no especificados en otra categoría"]
[null,"10 06","Residuos de la termometalurgia del cobre"]
["No peligrosos","10 06 01","Escorias de la producción primaria y secundaria"]
["No peligrosos","10 06 02","Granzas y espumas de la producción primaria y secundaria"]
["Peligrosos","10 06 03*","Partículas procedentes de los efluentes gaseosos"]
["No peligrosos","10 06 04","Otras partículas y polvos"]
["Peligrosos","10 06 06*","Residuos sólidos del tratamiento de gases"]
["Peligrosos","10 06 07*","Lodos y tortas de filtración del tratamiento de gases"]
["Peligrosos","10 06 09*","Residuos del tratamiento del agua de refrigeración que contienen aceites"]
["No peligrosos","10 06 10","Residuos del tratamiento del agua de refrigeración distintos de los especificados en el código 10 06 09"]
["No peligrosos","10 06 99","Residuos no especificados en otra categoría"]
[null,"10 07","Residuos de la termometalurgia de la plata, oro y platino"]
["No peligrosos","10 07 01","Escorias de la producción primaria y secundaria"]
["No peligrosos","10 07 02","Granzas y espumas de la producción primaria y secundaria"]
["No peligrosos","10 07 03","Residuos sólidos del tratamiento de gases"]
["No peligrosos","10 07 04","Otras partículas y polvos"]
["No peligrosos","10 07 05","Lodos y tortas de filtración del tratamiento de gases"]
["Peligrosos","10 07 07*","Residuos del tratamiento del agua de refrigeración que contienen aceites"]
["No peligrosos","10 07 08","Residuos del tratamiento del agua de refrigeración distintos de los especificados en el código 10 07 07"]
["No peligrosos","10 07 99","Residuos no especificados en otra categoría"]
[null,"10 08","Residuos de la termometalurgia de otros metales no férreos"]
["No peligrosos","10 08 04","Partículas y polvo"]
["Peligrosos","10 08 08*","Escorias salinas de la producción primaria y secundaria"]
["No peligrosos","10 08 09","Otras escorias"]
["Peligrosos","10 08 10*","Granzas y espumas inflamables o que emiten, en contacto con el agua, gases inflamables en cantidades peligrosas"]
["No peligrosos","10 08 11","Granzas y espumas distintas de las especificadas en el código 10 08 10"]
["Peligrosos","10 08 12*","Residuos que contienen alquitrán procedentes de la fabricación de ánodos"]
["No peligrosos","10 08 13","Residuos que contienen carbono procedentes de la fabricación de ánodos, distintos de los especificados en el código 10 08 12"]
["No peligrosos","10 08 14","Fragmentos de ánodos"]
["Peligrosos","10 08 15*","Partículas procedentes de los efluentes gaseosos que contienen sustancias peligrosas"]
["No peligrosos","10 08 16","Partículas procedentes de los efluentes gaseosos distintas de las especificadas en el código 10 08 15"]
["Peligrosos","10 08 17*","Lodos y tortas de filtración del tratamiento de gases que contienen sustancias peligrosas"]
["No peligrosos","10 08 18","Lodos y tortas de filtración del tratamiento de gases, distintos de los especificados en el código 10 08 17"]
["Peligrosos","10 08 19*","Residuos del tratamiento del agua de refrigeración que contienen aceites"]
["No peligrosos","10 08 20","Residuos del tratamiento del agua de refrigeración distintos de los especificados en el código 10 08 19"]
["No peligrosos","10 08 99","Residuos no especificados en otra categoría"]
[null,"10 09","Residuos de la fundición de piezas férreas"]
["No peligrosos","10 09 03","Escorias de horno"]
["Peligrosos","10 09 05*","Machos y moldes de fundición sin colada que contienen sustancias peligrosas"]
["No peligrosos","10 09 06","Machos y moldes de fundición sin colada distintos de los especificados en el código 10 09 05"]
["Peligrosos","10 09 07*","Machos y moldes de fundición con colada que contienen sustancias peligrosas"]
["No peligrosos","10 09 08","Machos y moldes de fundición con colada distintos de los especificados en el código 10 09 07"]
["Peligrosos","10 09 09*","Partículas procedentes de los efluentes gaseosos que contienen sustancias peligrosas"]
["No peligrosos","10 09 10","Partículas procedentes de los efluentes gaseosos distintas de las especificadas en el código 10 09 09"]
["Peligrosos","10 09 11*","Otras partículas que contienen sustancias peligrosas"]
["No peligrosos","10 09 12","Otras partículas distintas de las especificadas en el código 10 09 11"]
["Peligrosos","10 09 13*","Ligantes residuales que contienen sustancias peligrosas"]
["No peligrosos","10 09 14","Ligantes residuales distintos de los especificados en el código 10 09 13"]
["Peligrosos","10 09 15*","Residuos de agentes indicadores de fisuración que contienen sustancias peligrosas"]
["No peligrosos","10 09 16","Residuos de agentes indicadores de fisuración distintos de los especificados en el código 10 09 15"]
["No peligrosos","10 09 99","Residuos no especificados en otra categoría"]
[null,"10 10","Residuos de la fundición de piezas no férreas"]
["No peligrosos","10 10 03","Escorias de horno"]
["Peligrosos","10 10 05*","Machos y moldes de fundición sin colada que contienen sustancias peligrosas"]
["No peligrosos","10 10 06","Machos y moldes de fundición sin colada distintos de los especificados en el código 10 10 05"]
["Peligrosos","10 10 07*","Machos y moldes de fundición con colada que contienen sustancias peligrosas"]
["No peligrosos","10 10 08","Machos y moldes de fundición con colada distintos de los especificados en el código 10 10 07"]
["Peligrosos","10 10 09*","Partículas procedentes de los efluentes gaseosos que contienen sustancias peligrosas"]
["No peligrosos","10 10 10","Partículas procedentes de los efluentes gaseosos distintas de las especificadas en el código 10 10 09"]
["Peligrosos","10 10 11*","Otras partículas que contienen sustancias peligrosas"]
["No peligrosos","10 10 12","Otras partículas distintas de las especificadas en el código 10 10 11"]
["Peligrosos","10 10 13*","Ligantes residuales que contienen sustancias peligrosas"]
["No peligrosos","10 10 14","Ligantes residuales distintos de los especificados en el código 10 10 13"]
["Peligrosos","10 10 15*","Residuos de agentes indicadores de fisuración que contienen sustancias peligrosas"]
["No peligrosos","10 10 16","Residuos de agentes indicadores de fisuración distintos de los especificados en el código 10 10 15"]
["No peligrosos","10 10 99","Residuos no especificados en otra categoría"]
[null,"10 11","Residuos de la fabricación del vidrio y sus derivados"]
["No peligrosos","10 11 03","Residuos de materiales de fibra de vidrio"]
["No peligrosos","10 11 05","Partículas y polvo"]
["Peligrosos","10 11 09*","Residuos de la preparación de mezclas antes del proceso de cocción que contienen sustancias peligrosas"]
["No peligrosos","10 11 10","Residuos de la preparación de mezclas antes del proceso de cocción distintos de los especificados en el código 10 11 09"]
["Peligrosos","10 11 11*","Residuos de pequeñas partículas de vidrio y de polvo de vidrio que contienen metales pesados (por ejemplo, de tubos catódicos)"]
["No peligrosos","10 11 12","Residuos de vidrio distintos de los especificados en el código 10 11 11"]
["Peligrosos","10 11 13*","Lodos procedentes del pulido y esmerilado del vidrio que contienen sustancias peligrosas"]
["No peligrosos","10 11 14","Lodos procedentes del pulido y esmerilado del vidrio, distintos de los especificados en el código 10 11 13"]
["Peligrosos","10 11 15*","Residuos sólidos del tratamiento de gases de combustión que contienen sustancias peligrosas"]
["No peligrosos","10 11 16","Residuos sólidos del tratamiento de gases de combustión, distintos de los especificados en el código 10 11 15"]
["Peligrosos","10 11 17*","Lodos y tortas de filtración del tratamiento de gases que contienen sustancias peligrosas"]
["No peligrosos","10 11 18","Lodos y tortas de filtración del tratamiento de gases, distintos de los especificados en el código 10 11 17"]
["Peligrosos","10 11 19*","Residuos sólidos del tratamiento in situ de efluentes que contienen sustancias peligrosas"]
["No peligrosos","10 11 20","Residuos sólidos del tratamiento in situ de efluentes, distintos de los especificados en el código 10 11 19"]
["No peligrosos","10 11 99","Residuos no especificados en otra categoría"]
[null,"10 12","Residuos de la fabricación de productos cerámicos, ladrillos, tejas y materiales de construcción"]
["No peligrosos","10 12 01","Residuos de la preparación de mezclas antes del proceso de cocción"]
["No peligrosos","10 12 03","Partículas y polvo"]
["No peligrosos","10 12 05","Lodos y tortas de filtración del tratamiento de gases"]
["No peligrosos","10 12 06","Moldes desechados"]
["No peligrosos","10 12 08","Residuos de cerámica, ladrillos, tejas y materiales de construcción (después del proceso de cocción)"]
["Peligrosos","10 12 09*","Residuos sólidos del tratamiento de gases que contienen sustancias peligrosas"]
["No peligrosos","10 12 10","Residuos sólidos del tratamiento de gases, distintos de los especificados en el código 10 12 09"]
["Peligrosos","10 12 11*","Residuos de vidriado que contienen metales pesados"]
["No peligrosos","10 12 12","Residuos de vidriado distintos de los especificados en el código 10 12 11"]
["No peligrosos","10 12 13","Lodos del tratamiento in situ de efluentes"]
["No peligrosos","10 12 99","Residuos no especificados en otra categoría"]
[null,"10 13","Residuos de la fabricación de cemento, cal y yeso y de productos derivados"]
["No peligrosos","10 13 01","Residuos de la preparación de mezclas antes del proceso de cocción"]
["No peligrosos","10 13 04","Residuos de la calcinación e hidratación de la cal"]
["No peligrosos","10 13 06","Partículas y polvo (excepto los códigos 10 13 12 y 10 13 13)"]
["No peligrosos","10 13 07","Lodos y tortas de filtración del tratamiento de gases"]
["Peligrosos","10 13 09*","Residuos de la fabricación de fibrocemento que contienen amianto"]
["No peligrosos","10 13 10","Residuos de la fabricación de fibrocemento distintos de los especificados en el código 10 13 09"]
["No peligrosos","10 13 11","Residuos de materiales compuestos a base de cemento distintos de los especificados en los códigos 10 13 09 y 10 13 10"]
["Peligrosos","10 13 12*","Residuos sólidos del tratamiento de gases que contienen sustancias peligrosas"]
["No peligrosos","10 13 13","Residuos sólidos del tratamiento de gases, distintos de los especificados en el código 10 13 12"]
["No peligrosos","10 13 14","Residuos de hormigón y lodos de hormigón"]
["No peligrosos","10 13 99","Residuos no especificados en otra categoría"]
[null,"10 14","Residuos de crematorios"]
["Peligrosos","10 14 01*","Residuos de la depuración de gases que contienen mercurio"]
[]
[null,11,"RESIDUOS DEL TRATAMIENTO QUÍMICO DE SUPERFICIE Y DEL RECUBRIMIENTO DE METALES Y OTROS MATERIALES; RESIDUOS DE LA HIDROMETALURGIA NO FÉRREA"]
[null,"11 01","Residuos del tratamiento químico de superficie y del recubrimiento de metales y otros materiales (por ejemplo, procesos de galvanización, procesos de recubrimiento con zinc, procesos de decapado, grabado, fosfatación, desengrasado alcalino y anodización)"]
["Peligrosos","11 01 05*","Ácidos de decapado"]
["Peligrosos","11 01 06*","Ácidos no especificados en otra categoría"]
["Peligrosos","11 01 07*","Bases de decapado"]
["Peligrosos","11 01 08*","Lodos de fosfatación"]
["Peligrosos","11 01 09*","Lodos y tortas de filtración que contienen sustancias peligrosas"]
["No peligrosos","11 01 10","Lodos y tortas de filtración distintos de los especificados en el código 11 01 09"]
["Peligrosos","11 01 11*","Líquidos acuosos de enjuague que contienen sustancias peligrosas"]
["No peligrosos","11 01 12","Líquidos acuosos de enjuague distintos de los especificados en el código 11 01 11"]
["Peligrosos","11 01 13*","Residuos de desengrasado que contienen sustancias peligrosas"]
["No peligrosos","11 01 14","Residuos de desengrasado distintos de los especificados en el código 11 01 13"]
["Peligrosos","11 01 15*","Eluatos y lodos procedentes de sistemas de membranas o de intercambio iónico que contienen sustancias peligrosas"]
["Peligrosos","11 01 16*","Resinas intercambiadoras de iones saturadas o usadas"]
["Peligrosos","11 01 98*","Otros residuos que contienen sustancias peligrosas"]
["No peligrosos","11 01 99","Residuos no especificados en otra categoría"]
[null,"11 02","Residuos de procesos hidrometalúrgicos no férreos"]
["Peligrosos","11 02 02*","Lodos de la hidrometalurgia del zinc (incluida jarosita, goetita)"]
["No peligrosos","11 02 03","Residuos de la producción de ánodos para procesos de electrólisis acuosa"]
["Peligrosos","11 02 05*","Residuos de procesos de la hidrometalurgia del cobre que contienen sustancias peligrosas"]
["No peligrosos","11 02 06","Residuos de procesos de la hidrometalurgia del cobre distintos de los especificados en el código 11 02 05"]
["Peligrosos","11 02 07*","Otros residuos que contienen sustancias peligrosas"]
["No peligrosos","11 02 99","Residuos no especificados en otra categoría"]
[null,"11 03","Lodos y sólidos de procesos de temple"]
["Peligrosos","11 03 01*","Residuos que contienen cianuro"]
["Peligrosos","11 03 02*","Otros residuos"]
[null,"11 05","Residuos de procesos de galvanización en caliente"]
["No peligrosos","11 05 01","Matas de galvanización"]
["No peligrosos","11 05 02","Cenizas de zinc"]
["Peligrosos","11 05 03*","Residuos sólidos del tratamiento de gases"]
["Peligrosos","11 05 04*","Fundentes usados"]
["No peligrosos","11 05 99","Residuos no especificados en otra categoría"]
[]
[null,12,"RESIDUOS DEL MOLDEADO Y DEL TRATAMIENTO FÍSICO Y MECÁNICO DE SUPERFICIE DE METALES Y PLÁSTICOS"]
[null,"12 01","Residuos del moldeado y tratamiento físico y mecánico de superficie de metales y plásticos"]
["No peligrosos","12 01 01","Limaduras y virutas de metales férreos"]
["No peligrosos","12 01 02","Polvo y partículas de metales férreos"]
["No peligrosos","12 01 03","Limaduras y virutas de metales no férreos"]
["No peligrosos","12 01 04","Polvo y partículas de metales no férreos"]
["No peligrosos","12 01 05","Virutas y rebabas de plástico"]
["Peligrosos","12 01 06*","Aceites minerales de mecanizado que contienen halógenos (excepto las emulsiones o disoluciones)"]
["Peligrosos","12 01 07*","Aceites minerales de mecanizado sin halógenos (excepto las emulsiones o disoluciones)"]
["Peligrosos","12 01 08*","Emulsiones y disoluciones de mecanizado que contienen halógenos"]
["Peligrosos","12 01 09*","Emulsiones y disoluciones de mecanizado sin halógenos"]
["Peligrosos","12 01 10*","Aceites sintéticos de mecanizado"]
["Peligrosos","12 01 12*","Ceras y grasas usadas"]
["No peligrosos","12 01 13","Residuos de soldadura"]
["Peligrosos","12 01 14*","Lodos de mecanizado que contienen sustancias peligrosas"]
["No peligrosos","12 01 15","Lodos de mecanizado distintos de los especificados en el código 12 01 14"]
["Peligrosos","12 01 16*","Residuos de granallado o chorreado que contienen sustancias peligrosas"]
["No peligrosos","12 01 17","Residuos de granallado o chorreado distintos de los especificados en el código 12 01 16"]
["Peligrosos","12 01 18*","Lodos metálicos (lodos de esmerilado, rectificado y lapeado) que contienen aceites"]
["Peligrosos","12 01 19*","Aceites de mecanizado fácilmente biodegradables"]
["Peligrosos","12 01 20*","Muelas y materiales de esmerilado usados que contienen sustancias peligrosas"]
["No peligrosos","12 01 21","Muelas y materiales de esmerilado usados distintos de los especificados en el código 12 01 20"]
["No peligrosos","12 01 99","Residuos no especificados en otra categoría"]
[null,"12 03","Residuos de los procesos de desengrase con agua y vapor (excepto el capítulo 11)"]
["Peligrosos","12 03 01*","Líquidos acuosos de limpieza"]
["Peligrosos","12 03 02*","Residuos de desengrase al vapor"]
[]
[null,13,"RESIDUOS DE ACEITES Y DE COMBUSTIBLES LÍQUIDOS (excepto los aceites comestibles y los de los capítulos 05, 12 y 19)"]
[null,"13 01","Residuos de aceites hidráulicos"]
["Peligrosos","13 01 01*","Aceites hidráulicos que contienen PCB"]
["Peligrosos","13 01 04*","Emulsiones cloradas"]
["Peligrosos","13 01 05*","Emulsiones no cloradas"]
["Peligrosos","13 01 09*","Aceites hidráulicos minerales clorados"]
["Peligrosos","13 01 10*","Aceites hidráulicos minerales no clorados"]
["Peligrosos","13 01 11*","Aceites hidráulicos sintéticos"]
["Peligrosos","13 01 12*","Aceites hidráulicos fácilmente biodegradables"]
["Peligrosos","13 01 13*","Otros aceites hidráulicos"]
[null,"13 02","Residuos de aceites de motor, de transmisión mecánica y lubricantes"]
["Peligrosos","13 02 04*","Aceites minerales clorados de motor, de transmisión mecánica y lubricantes"]
["Peligrosos","13 02 05*","Aceites minerales no clorados de motor, de transmisión mecánica y lubricantes"]
["Peligrosos","13 02 06*","Aceites sintéticos de motor, de transmisión mecánica y lubricantes"]
["Peligrosos","13 02 07*","Aceites fácilmente biodegradables de motor, de transmisión mecánica y lubricantes"]
["Peligrosos","13 02 08*","Otros aceites de motor, de transmisión mecánica y lubricantes"]
[null,"13 03","Residuos de aceites de aislamiento y transmisión de calor"]
["Peligrosos","13 03 01*","Aceites de aislamiento y transmisión de calor que contienen PCB"]
["Peligrosos","13 03 06*","Aceites minerales clorados de aislamiento y transmisión de calor, distintos de los especificados en el código 13 03 01"]
["Peligrosos","13 03 07*","Aceites minerales no clorados de aislamiento y transmisión de calor"]
["Peligrosos","13 03 08*","Aceites sintéticos de aislamiento y transmisión de calor"]
["Peligrosos","13 03 09*","Aceites fácilmente biodegradables de aislamiento y transmisión de calor"]
["Peligrosos","13 03 10*","Otros aceites de aislamiento y transmisión de calor"]
[null,"13 04","Aceites de sentinas"]
["Peligrosos","13 04 01*","Aceites de sentinas procedentes de la navegación en aguas continentales"]
["Peligrosos","13 04 02*","Aceites de sentinas recogidos en muelles"]
["Peligrosos","13 04 03*","Aceites de sentinas procedentes de otros tipos de navegación"]
[null,"13 05","Restos de separadores de agua/sustancias aceitosas"]
["Peligrosos","13 05 01*","Sólidos procedentes de desarenadores y de separadores de agua/sustancias aceitosas"]
["Peligrosos","13 05 02*","Lodos de separadores de agua/sustancias aceitosas"]
["Peligrosos","13 05 03*","Lodos de interceptores"]
["Peligrosos","13 05 06*","Aceites procedentes de separadores de agua/sustancias aceitosas"]
["Peligrosos","13 05 07*","Agua aceitosa procedente de separadores de agua/sustancias aceitosas"]
["Peligrosos","13 05 08*","Mezcla de residuos procedentes de desarenadores y de separadores de agua/sustancias aceitosas"]
[null,"13 07","Residuos de combustibles líquidos"]
["Peligrosos","13 07 01*","Fuelóleo y gasóleo"]
["Peligrosos","13 07 02*","Gasolina"]
["Peligrosos","13 07 03*","Otros combustibles (incluidas mezclas)"]
[null,"13 08","Residuos de aceites no especificados en otra categoría"]
["Peligrosos","13 08 01*","Lodos o emulsiones de desalación"]
["Peligrosos","13 08 02*","Otras emulsiones"]
["Peligrosos","13 08 99*","Residuos no especificados en otra categoría"]
[]
[null,14,"RESIDUOS DE DISOLVENTES, REFRIGERANTES Y PROPELENTES ORGÁNICOS (excepto los de los capítulos 07 y 08)"]
[null,"14 06","Residuos de disolventes, refrigerantes y propelentes de espuma y aerosoles orgánicos"]
["Peligrosos","14 06 01*","Clorofluorocarburos, HCFC, HFC"]
["Peligrosos","14 06 02*","Otros disolventes y mezclas de disolventes halogenados"]
["Peligrosos","14 06 03*","Otros disolventes y mezclas de disolventes"]
["Peligrosos","14 06 04*","Lodos o residuos sólidos que contienen disolventes halogenados"]
["Peligrosos","14 06 05*","Lodos o residuos sólidos que contienen otros disolventes"]
[]
[null,15,"RESIDUOS DE ENVASES; ABSORBENTES, TRAPOS DE LIMPIEZA, MATERIALES DE FILTRACIÓN Y ROPAS DE PROTECCIÓN NO ESPECIFICADOS EN OTRA CATEGORÍA"]
[null,"15 01","Envases (incluidos los residuos de envases de la recogida selectiva municipal)"]
["Ordinarios","15 01 01","Envases de papel y cartón"]
["Ordinarios","15 01 02","Envases de plástico"]
["Ordinarios","15 01 03","Envases de madera"]
["Ordinarios","15 01 04","Envases metálicos"]
["Ordinarios","15 01 05","Envases compuestos"]
["Ordinarios","15 01 06","Envases mezclados"]
["Ordinarios","15 01 07","Envases de vidrio"]
["Ordinarios","15 01 09","Envases textiles"]
["Peligrosos","15 01 10*","Envases que contienen restos de sustancias peligrosas o están contaminados por ellas"]
["Peligrosos","15 01 11*","Envases metálicos, incluidos los recipientes a presión vacíos, que contienen una matriz sólida y porosa peligrosa (por ejemplo, amianto)"]
[null,"15 02","Absorbentes, materiales de filtración, trapos de limpieza y ropas protectoras"]
["Peligrosos","15 02 02*","Absorbentes, materiales de filtración (incluidos los filtros de aceite no especificados en otra categoría), trapos de limpieza y ropas protectoras contaminados por sustancias peligrosas"]
["No peligrosos","15 02 03","Absorbentes, materiales de filtración, trapos de limpieza y ropas protectoras distintos de los especificados en el código 15 02 02"]
[]
[null,16,"RESIDUOS NO ESPECIFICADOS EN OTRO CAPÍTULO DE LA LISTA"]
[null,"16 01","Vehículos de diferentes medios de transporte (incluidas las máquinas no de carretera) al final de su vida útil y residuos del desguace de vehículos al final de su vida útil y del mantenimiento de vehículos (excepto los de los capítulos 13 y 14 y los subcapítulos 16 06 y 16 08)"]
["No peligrosos","16 01 03","Neumáticos al final de su vida útil"]
["Peligrosos","16 01 04*","Vehículos al final de su vida útil"]
["No peligrosos","16 01 06","Vehículos al final de su vida útil que no contengan líquidos ni otros componentes peligrosos"]
["Peligrosos","16 01 07*","Filtros de aceite"]
["Peligrosos","16 01 08*","Componentes que contienen mercurio"]
["Peligrosos","16 01 09*","Componentes que contienen PCB"]
["Peligrosos","16 01 10*","Componentes explosivos (por ejemplo, colchones de aire)"]
["Peligrosos","16 01 11*","Zapatas de freno que contienen amianto"]
["No peligrosos","16 01 12","Zapatas de freno distintas de las especificadas en el código 16 01 11"]
["Peligrosos","16 01 13*","Líquidos de frenos"]
["Peligrosos","16 01 14*","Anticongelantes que contienen sustancias peligrosas"]
["No peligrosos","16 01 15","Anticongelantes distintos de los especificados en el código 16 01 14"]
["No peligrosos","16 01 16","Depósitos para gases licuados"]
["No peligrosos","16 01 17","Metales férreos"]
["No peligrosos","16 01 18","Metales no férreos"]
["No peligrosos","16 01 19","Plástico"]
["No peligrosos","16 01 20","Vidrio"]
["Peligrosos","16 01 21*","Componentes peligrosos distintos de los especificados en los códigos 16 01 07 a 16 01 11 y 16 01 13 y 16 01 14"]
["No peligrosos","16 01 22","Componentes no especificados en otra categoría"]
["No peligrosos","16 01 99","Residuos no especificados en otra categoría"]
[null,"16 02","Residuos de aparatos eléctricos y electrónicos"]
["Peligrosos","16 02 09*","Transformadores y condensadores que contienen PCB"]
["Peligrosos","16 02 10*","Equipos desechados que contienen PCB, o están contaminados por ellos, distintos de los especificados en el código 16 02 09"]
["Peligrosos","16 02 11*","Equipos desechados que contienen clorofluorocarburos, HCFC, HFC"]
["Peligrosos","16 02 12*","Equipos desechados que contienen amianto libre"]
["Peligrosos","16 02 13*","Equipos desechados que contienen componentes peligrosos (1), distintos de los especificados en los códigos 16 02 09 a 16 02 12"]
["No peligrosos","16 02 14","Equipos desechados distintos de los especificados en los códigos 16 02 09 a 16 02 13"]
["Peligrosos","16 02 15*","Componentes peligrosos retirados de equipos desechados"]
["No peligrosos","16 02 16","Componentes retirados de equipos desechados distintos de los especificados en el código 16 02 15"]
[null,"16 03","Lotes de productos fuera de especificación y productos no utilizados"]
["Peligrosos","16 03 03*","Residuos inorgánicos que contienen sustancias peligrosas"]
["No peligrosos","16 03 04","Residuos inorgánicos distintos de los especificados en el código 16 03 03"]
["Peligrosos","16 03 05*","Residuos orgánicos que contienen sustancias peligrosas"]
["No peligrosos","16 03 06","Residuos orgánicos distintos de los especificados en el código 16 03 05"]
["Peligrosos","16 03 07*","Mercurio metálico"]
[null,"16 04","Residuos de explosivos"]
["Peligrosos","16 04 01*","Residuos de municiones"]
["Peligrosos","16 04 02*","Residuos de fuegos artificiales"]
["Peligrosos","16 04 03*","Otros residuos explosivos"]
[null,"16 05","Gases en recipientes a presión y productos químicos desechados"]
["Peligrosos","16 05 04*","Gases en recipientes a presión (incluidos los halones) que contienen sustancias peligrosas"]
["No peligrosos","16 05 05","Gases en recipientes a presión, distintos de los especificados en el código 16 05 04"]
["Peligrosos","16 05 06*","Productos químicos de laboratorio que consisten en sustancias peligrosas, incluidas las mezclas de productos químicos de laboratorio, o las contienen"]
["Peligrosos","16 05 07*","Productos químicos inorgánicos desechados que consisten en sustancias peligrosas o las contienen"]
["Peligrosos","16 05 08*","Productos químicos orgánicos desechados que consisten en sustancias peligrosas o las contienen"]
["No peligrosos","16 05 09","Productos químicos desechados distintos de los especificados en los códigos 16 05 06, 16 05 07 o 16 05 08"]
[null,"16 06","Pilas y acumuladores"]
["Peligrosos","16 06 01*","Baterías de plomo"]
["Peligrosos","16 06 02*","Acumuladores de Ni-Cd"]
["Peligrosos","16 06 03*","Pilas que contienen mercurio"]
["No peligrosos","16 06 04","Pilas alcalinas (excepto 16 06 03)"]
["No peligrosos","16 06 05","Otras pilas y acumuladores"]
["Peligrosos","16 06 06*","Electrolitos de pilas y acumuladores recogidos selectivamente"]
[null,"16 07","Residuos de la limpieza de cisternas de transporte y almacenamiento y de la limpieza de cubas (excepto los de los capítulos 05 y 13)"]
["Peligrosos","16 07 08*","Residuos que contienen hidrocarburos"]
["Peligrosos","16 07 09*","Residuos que contienen otras sustancias peligrosas"]
["No peligrosos","16 07 99","Residuos no especificados en otra categoría"]
[null,"16 08","Catalizadores usados"]
["No peligrosos","16 08 01","Catalizadores usados que contienen oro, plata, renio, rodio, paladio, iridio o platino (excepto el código 16 08 07)"]
["Peligrosos","16 08 02*","Catalizadores usados que contienen metales de transición peligrosos o compuestos de metales de transición peligrosos"]
["No peligrosos","16 08 03","Catalizadores usados que contienen metales de transición o compuestos de metales de transición no especificados en otra categoría"]
["No peligrosos","16 08 04","Catalizadores usados procedentes del craqueo catalítico fluido (excepto los del código 16 08 07)"]
["Peligrosos","16 08 05*","Catalizadores usados que contienen ácido fosfórico"]
["Peligrosos","16 08 06*","Líquidos usados utilizados como catalizadores"]
["Peligrosos","16 08 07*","Catalizadores usados contaminados con sustancias peligrosas"]
[null,"16 09","Sustancias oxidantes"]
["Peligrosos","16 09 01*","Permanganatos, por ejemplo permanganato potásico"]
["Peligrosos","16 09 02*","Cromatos, por ejemplo cromato potásico, dicromato sódico o potásico"]
["Peligrosos","16 09 03*","Peróxidos, por ejemplo peróxido de hidrógeno"]
["Peligrosos","16 09 04*","Sustancias oxidantes no especificadas en otra categoría"]
[null,"16 10","Residuos líquidos acuosos destinados a plantas de tratamiento externas"]
["Peligrosos","16 10 01*","Residuos líquidos acuosos que contienen sustancias peligrosas"]
["No peligrosos","16 10 02","Residuos líquidos acuosos distintos de los especificados en el código 16 10 01"]
["Peligrosos","16 10 03*","Concentrados acuosos que contienen sustancias peligrosas"]
["No peligrosos","16 10 04","Concentrados acuosos distintos de los especificados en el código 16 10 03"]
[null,"16 11","Residuos de revestimientos y refractarios"]
["Peligrosos","16 11 01*","Revestimientos y refractarios a base de carbono, procedentes de procesos metalúrgicos, que contienen sustancias peligrosas"]
["No peligrosos","16 11 02","Revestimientos y refractarios a base de carbono, procedentes de procesos metalúrgicos, distintos de los especificados en el código 16 11 01"]
["Peligrosos","16 11 03*","Otros revestimientos y refractarios procedentes de procesos metalúrgicos que contienen sustancias peligrosas"]
["No peligrosos","16 11 04","Otros revestimientos y refractarios procedentes de procesos metalúrgicos, distintos de los especificados en el código 16 11 03"]
["Peligrosos","16 11 05*","Revestimientos y refractarios, procedentes de procesos no metalúrgicos, que contienen sustancias peligrosas"]
["No peligrosos","16 11 06","Revestimientos y refractarios procedentes de procesos no metalúrgicos, distintos de los especificados en el código 16 11 05"]
[]
[null,17,"RESIDUOS DE LA CONSTRUCCIÓN Y DEMOLICIÓN (INCLUIDA LA TIERRA EXCAVADA DE ZONAS CONTAMINADAS)"]
[null,"17 01","Hormigón, ladrillos, tejas y materiales cerámicos"]
["No peligrosos","17 01 01","Hormigón"]
["No peligrosos","17 01 02","Ladrillos"]
["No peligrosos","17 01 03","Tejas y materiales cerámicos"]
["Peligrosos","17 01 06*","Mezclas, o fracciones separadas, de hormigón, ladrillos, tejas y materiales cerámicos que contienen sustancias peligrosas"]
["No peligrosos","17 01 07","Mezclas de hormigón, ladrillos, tejas y materiales cerámicos, distintas de las especificadas en el código 17 01 06"]
[null,"17 02","Madera, vidrio y plástico"]
["No peligrosos","17 02 01","Madera"]
["No peligrosos","17 02 02","Vidrio"]
["No peligrosos","17 02 03","Plástico"]
["Peligrosos","17 02 04*","Vidrio, plástico y madera que contienen sustancias peligrosas o están contaminados por ellas"]
[null,"17 03","Mezclas bituminosas, alquitrán de hulla y otros productos alquitranados"]
["Peligrosos","17 03 01*","Mezclas bituminosas que contienen alquitrán de hulla"]
["No peligrosos","17 03 02","Mezclas bituminosas distintas de las especificadas en el código 17 03 01"]
["Peligrosos","17 03 03*","Alquitrán de hulla y productos alquitranados"]
[null,"17 04","Metales (incluidas sus aleaciones)"]
["No peligrosos","17 04 01","Cobre, bronce, latón"]
["No peligrosos","17 04 02","Aluminio"]
["No peligrosos","17 04 03","Plomo"]
["No peligrosos","17 04 04","Zinc"]
["No peligrosos","17 04 05","Hierro y acero"]
["No peligrosos","17 04 06","Estaño"]
["No peligrosos","17 04 07","Metales mezclados"]
["Peligrosos","17 04 09*","Residuos metálicos contaminados con sustancias peligrosas"]
["Peligrosos","17 04 10*","Cables que contienen hidrocarburos, alquitrán de hulla y otras sustancias peligrosas"]
["No peligrosos","17 04 11","Cables distintos de los especificados en el código 17 04 10"]
[null,"17 05","Tierra (incluida la tierra excavada de zonas contaminadas), piedras y lodos de drenaje"]
["Peligrosos","17 05 03*","Tierra y piedras que contienen sustancias peligrosas"]
["No peligrosos","17 05 04","Tierra y piedras distintas de las especificadas en el código 17 05 03"]
["Peligrosos","17 05 05*","Lodos de drenaje que contienen sustancias peligrosas"]
["No peligrosos","17 05 06","Lodos de drenaje distintos de los especificados en el código 17 05 05"]
["Peligrosos","17 05 07*","Balasto de vías férreas que contiene sustancias peligrosas"]
["No peligrosos","17 05 08","Balasto de vías férreas distinto del especificado en el código 17 05 07"]
[null,"17 06","Materiales de aislamiento y materiales de construcción que contienen amianto"]
["Peligrosos","17 06 01*","Materiales de aislamiento que contienen amianto"]
["Peligrosos","17 06 03*","Otros materiales de aislamiento que consisten en sustancias peligrosas o contienen dichas sustancias"]
["No peligrosos","17 06 04","Materiales de aislamiento distintos de los especificados en los códigos 17 06 01 y 17 06 03"]
["Peligrosos","17 06 05*","Materiales de construcción que contienen amianto"]
[null,"17 08","Materiales de construcción a base de yeso"]
["Peligrosos","17 08 01*","Materiales de construcción a base de yeso contaminados con sustancias peligrosas"]
["No peligrosos","17 08 02","Materiales de construcción a base de yeso distintos de los especificados en el código 17 08 01"]
[null,"17 09","Otros residuos de construcción y demolición"]
["Peligrosos","17 09 01*","Residuos de construcción y demolición que contienen mercurio"]
["Peligrosos","17 09 02*","Residuos de construcción y demolición que contienen PCB (por ejemplo, sellantes que contienen PCB, revestimientos de suelo a base de resinas que contienen PCB, acristalamientos dobles que contienen PCB, condensadores que contienen PCB)"]
["Peligrosos","17 09 03*","Otros residuos de construcción y demolición (incluidos los residuos mezclados) que contienen sustancias peligrosas"]
["No peligrosos","17 09 04","Residuos mezclados de construcción y demolición distintos de los especificados en los códigos 17 09 01, 17 09 02 y 17 09 03"]
[]
[null,18,"RESIDUOS DE SERVICIOS MÉDICOS O VETERINARIOS O DE INVESTIGACIÓN ASOCIADA (salvo los residuos de cocina y de restaurante no procedentes directamente de la prestación de cuidados sanitarios)"]
[null,"18 01","Residuos de maternidades, del diagnóstico, tratamiento o prevención de enfermedades humanas"]
["No peligrosos","18 01 01","Objetos cortantes y punzantes (excepto el código 18 01 03)"]
["No peligrosos","18 01 02","Restos anatómicos y órganos, incluidos bolsas y bancos de sangre (excepto el código 18 01 03)"]
["Peligrosos","18 01 03*","Residuos cuya recogida y eliminación son objeto de requisitos especiales para prevenir infecciones"]
["No peligrosos","18 01 04","Residuos cuya recogida y eliminación no son objeto de requisitos especiales para prevenir infecciones (por ejemplo, vendajes, vaciados de yeso, ropa blanca, ropa desechable, pañales)"]
["Peligrosos","18 01 06*","Productos químicos que consisten en sustancias peligrosas o contienen dichas sustancias"]
["No peligrosos","18 01 07","Productos químicos distintos de los especificados en el código 18 01 06"]
["Peligrosos","18 01 08*","Medicamentos citotóxicos y citostáticos"]
["No peligrosos","18 01 09","Medicamentos distintos de los especificados en el código 18 01 08"]
["Peligrosos","18 01 10*","Residuos de amalgamas procedentes de cuidados dentales"]
[null,"18 02","Residuos de la investigación, diagnóstico, tratamiento o prevención de enfermedades de animales"]
["No peligrosos","18 02 01","Objetos cortantes y punzantes (excepto el código 18 02 02)"]
["Peligrosos","18 02 02*","Residuos cuya recogida y eliminación son objeto de requisitos especiales para prevenir infecciones"]
["No peligrosos","18 02 03","Residuos cuya recogida y eliminación no son objeto de requisitos especiales para prevenir infecciones"]
["Peligrosos","18 02 05*","Productos químicos que consisten en, o contienen, sustancias peligrosas"]
["No peligrosos","18 02 06","Productos químicos distintos de los especificados en el código 18 02 05"]
["Peligrosos","18 02 07*","Medicamentos citotóxicos y citostáticos"]
["No peligrosos","18 02 08","Medicamentos distintos de los especificados en el código 18 02 07"]
[]
[null,19,"RESIDUOS DE LAS INSTALACIONES PARA EL TRATAMIENTO DE RESIDUOS, DE LAS PLANTAS EXTERNAS DE TRATAMIENTO DE AGUAS RESIDUALES Y DE LA PREPARACIÓN DE AGUA PARA CONSUMO HUMANO Y DE AGUA PARA CONSUMO INDUSTRIAL"]
[null,"19 01","Residuos de la incineración o pirólisis de residuos"]
["No peligrosos","19 01 02","Materiales férreos separados de la ceniza de fondo de horno"]
["Peligrosos","19 01 05*","Torta de filtración del tratamiento de gases"]
["Peligrosos","19 01 06*","Residuos líquidos acuosos del tratamiento de gases y otros residuos líquidos acuosos"]
["Peligrosos","19 01 07*","Residuos sólidos del tratamiento de gases"]
["Peligrosos","19 01 10*","Carbón activo usado procedente del tratamiento de gases de combustión"]
["Peligrosos","19 01 11*","Ceniza de fondo de horno y escorias que contienen sustancias peligrosas"]
["No peligrosos","19 01 12","Ceniza de fondo de horno y escorias distintas de las especificadas en el código 19 01 11"]
["Peligrosos","19 01 13*","Cenizas volantes que contienen sustancias peligrosas"]
["No peligrosos","19 01 14","Cenizas volantes distintas de las especificadas en el código 19 01 13"]
["Peligrosos","19 01 15*","Polvo de caldera que contiene sustancias peligrosas"]
["No peligrosos","19 01 16","Polvo de caldera distinto del especificado en el código 19 01 15"]
["Peligrosos","19 01 17*","Residuos de pirólisis que contienen sustancias peligrosas"]
["No peligrosos","19 01 18","Residuos de pirólisis distintos de los especificados en el código 19 01 17"]
["No peligrosos","19 01 19","Arenas de lechos fluidizados"]
["No peligrosos","19 01 99","Residuos no especificados en otra categoría"]
[null,"19 02","Residuos de tratamientos fisicoquímicos de residuos (incluidas la descromatación, la descianurización y la neutralización)"]
["No peligrosos","19 02 03","Residuos mezclados previamente, compuestos exclusivamente por residuos no peligrosos"]
["Peligrosos","19 02 04*","Residuos mezclados previamente, compuestos por al menos un residuo peligroso"]
["Peligrosos","19 02 05*","Lodos de tratamientos fisicoquímicos que contienen sustancias peligrosas"]
["No peligrosos","19 02 06","Lodos de tratamientos fisicoquímicos, distintos de los especificados en el código 19 02 05"]
["Peligrosos","19 02 07*","Aceite y concentrados procedentes del proceso de separación"]
["Peligrosos","19 02 08*","Residuos combustibles líquidos que contienen sustancias peligrosas"]
["Peligrosos","19 02 09*","Residuos combustibles sólidos que contienen sustancias peligrosas"]
["No peligrosos","19 02 10","Residuos combustibles distintos de los especificados en los códigos 19 02 08 y 19 02 09"]
["Peligrosos","19 02 11*","Otros residuos que contienen sustancias peligrosas"]
["No peligrosos","19 02 99","Residuos no especificados en otra categoría"]
[null,"19 03","Residuos estabilizados/solidificados"]
["Peligrosos","19 03 04*","Residuos peligrosos, parcialmente estabilizados, distintos de los especificados en el código 19 03 08"]
["No peligrosos","19 03 05","Residuos estabilizados distintos de los especificados en el código 19 03 04"]
["Peligrosos","19 03 06*","Residuos peligrosos solidificados"]
["No peligrosos","19 03 07","Residuos solidificados distintos de los especificados en el código 19 03 06"]
["Peligrosos","19 03 08*","Mercurio parcialmente estabilizado"]
[null,"19 04","Residuos vitrificados y residuos de la vitrificación"]
["No peligrosos","19 04 01","Residuos vitrificados"]
["Peligrosos","19 04 02*","Cenizas volantes y otros residuos del tratamiento de gases de combustión"]
["Peligrosos","19 04 03*","Fase sólida no vitrificada"]
["No peligrosos","19 04 04","Residuos líquidos acuosos del templado de residuos vitrificados"]
[null,"19 05","Residuos del tratamiento aeróbico de residuos sólidos"]
["No peligrosos","19 05 01","Fracción no compostada de residuos municipales y asimilados"]
["No peligrosos","19 05 02","Fracción no compostada de residuos de procedencia animal o vegetal"]
["No peligrosos","19 05 03","Compost fuera de especificación"]
["No peligrosos","19 05 99","Residuos no especificados en otra categoría"]
[null,"19 06","Residuos del tratamiento anaeróbico de residuos"]
["No peligrosos","19 06 03","Licor del tratamiento anaeróbico de residuos municipales"]
["No peligrosos","19 06 04","Lodos de digestión del tratamiento anaeróbico de residuos municipales"]
["No peligrosos","19 06 05","Licor del tratamiento anaeróbico de residuos animales y vegetales"]
["No peligrosos","19 06 06","Lodos de digestión del tratamiento anaeróbico de residuos animales y vegetales"]
["No peligrosos","19 06 99","Residuos no especificados en otra categoría"]
[null,"19 07","Lixiviados de vertedero"]
["Peligrosos","19 07 02*","Lixiviados de vertedero que contienen sustancias peligrosas"]
["No peligrosos","19 07 03","Lixiviados de vertedero distintos de los especificados en el código 19 07 02"]
[null,"19 08","Residuos de plantas de tratamiento de aguas residuales no especificados en otra categoría"]
["No peligrosos","19 08 01","Residuos de cribado"]
["No peligrosos","19 08 02","Residuos de desarenado"]
["No peligrosos","19 08 05","Lodos del tratamiento de aguas residuales urbanas"]
["Peligrosos","19 08 06*","Resinas intercambiadoras de iones saturadas o usadas"]
["Peligrosos","19 08 07*","Soluciones y lodos de la regeneración de intercambiadores de iones"]
["Peligrosos","19 08 08*","Residuos procedentes de sistemas de membranas que contienen metales pesados"]
["No peligrosos","19 08 09","Mezclas de grasas y aceites procedentes de la separación de agua/sustancias aceitosas que contienen solamente aceites y grasas comestibles"]
["Peligrosos","19 08 10*","Mezclas de grasas y aceites procedentes de la separación de agua/sustancias aceitosas distintas de las especificadas en el código 19 08 09"]
["Peligrosos","19 08 11*","Lodos que contienen sustancias peligrosas procedentes del tratamiento biológico de aguas residuales industriales"]
["No peligrosos","19 08 12","Lodos procedentes del tratamiento biológico de aguas residuales industriales distintos de los especificados en el código 19 08 11"]
["Peligrosos","19 08 13*","Lodos que contienen sustancias peligrosas procedentes de otros tratamientos de aguas residuales industriales"]
["No peligrosos","19 08 14","Lodos procedentes de otros tratamientos de aguas residuales industriales, distintos de los especificados en el código 19 08 13"]
["No peligrosos","19 08 99","Residuos no especificados en otra categoría"]
[null,"19 09","Residuos de la preparación de agua para consumo humano o agua para uso industrial"]
["No peligrosos","19 09 01","Residuos sólidos de la filtración primaria y cribado"]
["No peligrosos","19 09 02","Lodos de la clarificación del agua"]
["No peligrosos","19 09 03","Lodos de descarbonatación"]
["No peligrosos","19 09 04","Carbón activo usado"]
["No peligrosos","19 09 05","Resinas intercambiadoras de iones saturadas o usadas"]
["No peligrosos","19 09 06","Soluciones y lodos de la regeneración de intercambiadores de iones"]
["No peligrosos","19 09 99","Residuos no especificados en otra categoría"]
[null,"19 10","Residuos procedentes del fragmentado de residuos que contienen metales"]
["No peligrosos","19 10 01","Residuos de hierro y acero"]
["No peligrosos","19 10 02","Residuos no férreos"]
["Peligrosos","19 10 03*","Fracciones ligeras de fragmentación (fluff-light) y polvo que contienen sustancias peligrosas"]
["No peligrosos","19 10 04","Fracciones ligeras de fragmentación (fluff-light) y polvo distintas de las especificadas en el código 19 10 03"]
["Peligrosos","19 10 05*","Otras fracciones que contienen sustancias peligrosas"]
["No peligrosos","19 10 06","Otras fracciones distintas de las especificadas en el código 19 10 05"]
[null,"19 11","Residuos de la regeneración de aceites"]
["Peligrosos","19 11 01*","Arcillas de filtración usadas"]
["Peligrosos","19 11 02*","Alquitranes ácidos"]
["Peligrosos","19 11 03*","Residuos de líquidos acuosos"]
["Peligrosos","19 11 04*","Residuos de la limpieza de combustibles con bases"]
["Peligrosos","19 11 05*","Lodos del tratamiento in situ de efluentes que contienen sustancias peligrosas"]
["No peligrosos","19 11 06","Lodos del tratamiento in situ de efluentes, distintos de los especificados en el código 19 11 05"]
["Peligrosos","19 11 07*","Residuos de la depuración de gases de combustión"]
["No peligrosos","19 11 99","Residuos no especificados en otra categoría"]
[null,"19 12","Residuos del tratamiento mecánico de residuos (por ejemplo, clasificación, trituración, compactación, peletización) no especificados en otra categoría"]
["No peligrosos","19 12 01","Papel y cartón"]
["No peligrosos","19 12 02","Metales férreos"]
["No peligrosos","19 12 03","Metales no férreos"]
["No peligrosos","19 12 04","Plástico y caucho"]
["No peligrosos","19 12 05","Vidrio"]
["Peligrosos","19 12 06*","Madera que contiene sustancias peligrosas"]
["No peligrosos","19 12 07","Madera distinta de la especificada en el código 19 12 06"]
["No peligrosos","19 12 08","Materias textiles"]
["No peligrosos","19 12 09","Minerales (por ejemplo, arena, piedras)"]
["No peligrosos","19 12 10","Residuos combustibles (combustible derivado de desperdicios)"]
["Peligrosos","19 12 11*","Otros residuos (incluidas mezclas de materiales) procedentes del tratamiento mecánico de residuos que contienen sustancias peligrosas"]
["No peligrosos","19 12 12","Otros residuos (incluidas mezclas de materiales) procedentes del tratamiento mecánico de residuos, distintos de los especificados en el código 19 12 11"]
[null,"19 13","Residuos de la recuperación de suelos y de aguas subterráneas"]
["Peligrosos","19 13 01*","Residuos sólidos de la recuperación de suelos que contienen sustancias peligrosas"]
["No peligrosos","19 13 02","Residuos sólidos de la recuperación de suelos distintos de los especificados en el código 19 13 01"]
["Peligrosos","19 13 03*","Lodos de la recuperación de suelos que contienen sustancias peligrosas"]
["No peligrosos","19 13 04","Lodos de la recuperación de suelos distintos de los especificados en el código 19 13 03"]
["Peligrosos","19 13 05*","Lodos de la recuperación de aguas subterráneas que contienen sustancias peligrosas"]
["No peligrosos","19 13 06","Lodos de la recuperación de aguas subterráneas distintos de los especificados en el código 19 13 05"]
["Peligrosos","19 13 07*","Residuos líquidos acuosos y concentrados acuosos, procedentes de la recuperación de aguas subterráneas, que contienen sustancias peligrosas,"]
["No peligrosos","19 13 08","Residuos de líquidos acuosos y concentrados acuosos procedentes de la recuperación de aguas subterráneas, distintos de los especificados en el código 19 13 07"]
[]
[null,20,"RESIDUOS MUNICIPALES (RESIDUOS DOMÉSTICOS Y RESIDUOS ASIMILABLES PROCEDENTES DE LOS COMERCIOS, INDUSTRIAS E INSTITUCIONES), INCLUIDAS LAS FRACCIONES RECOGIDAS SELECTIVAMENTE"]
[null,"20 01","Fracciones recogidas selectivamente (excepto las especificadas en el subcapítulo 15 01)"]
["Ordinarios","20 01 01","Papel y cartón"]
["Ordinarios","20 01 02","Vidrio"]
["Ordinarios","20 01 08","Residuos biodegradables de cocinas y restaurantes"]
["Ordinarios","20 01 10","Ropa"]
["Ordinarios","20 01 11","Materias textiles"]
["Peligrosos","20 01 13*","Disolventes"]
["Peligrosos","20 01 14*","Ácidos"]
["Peligrosos","20 01 15*","Álcalis"]
["Peligrosos","20 01 17*","Productos fotoquímicos"]
["Peligrosos","20 01 19*","Plaguicidas"]
["Peligrosos","20 01 21*","Tubos fluorescentes y otros residuos que contienen mercurio"]
["Peligrosos","20 01 23*","Equipos desechados que contienen clorofluorocarburos"]
["Ordinarios","20 01 25","Aceites y grasas comestibles"]
["Peligrosos","20 01 26*","Aceites y grasas distintos de los especificados en el código 20 01 25"]
["Peligrosos","20 01 27*","Pinturas, tintas, adhesivos y resinas que contienen sustancias peligrosas"]
["Ordinarios","20 01 28","Pinturas, tintas, adhesivos y resinas distintos de los especificados en el código 20 01 27"]
["Peligrosos","20 01 29*","Detergentes que contienen sustancias peligrosas"]
["Ordinarios","20 01 30","Detergentes distintos de los especificados en el código 20 01 29"]
["Peligrosos","20 01 31*","Medicamentos citotóxicos y citostáticos"]
["Ordinarios","20 01 32","Medicamentos distintos de los especificados en el código 20 01 31"]
["Peligrosos","20 01 33*","Baterías y acumuladores especificados en los códigos 16 06 01, 16 06 02 o 16 06 03 y baterías y acumuladores sin clasificar que contienen esas baterías"]
["Ordinarios","20 01 34","Baterías y acumuladores distintos de los especificados en el código 20 01 33"]
["Peligrosos","20 01 35*","Equipos eléctricos y electrónicos desechados, distintos de los especificados en los códigos 20 01 21 y 20 01 23, que contienen componentes peligrosos (1)"]
["Ordinarios","20 01 36","Equipos eléctricos y electrónicos desechados distintos de los especificados en los códigos 20 01 21, 20 01 23 y 20 01 35"]
["Peligrosos","20 01 37*","Madera que contiene sustancias peligrosas"]
["Ordinarios","20 01 38","Madera distinta de la especificada en el código 20 01 37"]
["Ordinarios","20 01 39","Plásticos"]
["Ordinarios","20 01 40","Metales"]
["Ordinarios","20 01 41","Residuos del deshollinado de chimeneas"]
["Ordinarios","20 01 99","Otras fracciones no especificadas en otra categoría"]
[null,"20 02","Residuos de parques y jardines (incluidos los residuos de cementerios)"]
["Ordinarios","20 02 01","Residuos biodegradables"]
["Ordinarios","20 02 02","Tierra y piedras"]
["Ordinarios","20 02 03","Otros residuos no biodegradables"]
[null,"20 03","Otros residuos municipales"]
["Ordinarios","20 03 01","Mezclas de residuos municipales"]
["Ordinarios","20 03 02","Residuos de mercados"]
["Ordinarios","20 03 03","Residuos de limpieza viaria"]
["No peligrosos","20 03 04","Lodos de fosas sépticas"]
["No peligrosos","20 03 06","Residuos de la limpieza de alcantarillas"]
["Ordinarios","20 03 07","Residuos voluminosos"]
["Ordinarios","20 03 99","Residuos municipales no especificados en otra categoría"]
[]
["(1) Los componentes peligrosos de los aparatos eléctricos y electrónicos pueden ser los acumuladores y pilas especificados en el subcapítulo 16 06 marcados como peligrosos, los interruptores de mercurio, el vidrio de los tubos de rayos catódicos y otros vidrios activados, etc."]

{"sheet":"Tipo de Gestión","index":5,"n_rows":19,"n_cols":3,"rows_kept":19,"cut":false,"hidden":false,"merged":[[14,0,16,0],[17,0,18,0],[0,0,0,2],[7,0,12,0]]}
["TIPOS DE GESTIÓN"]
["Etapa","Subetapa","Descripción"]
["Importación",null,"Importación de residuos peligrosos, no peligrosos y ordinarios para valorización."]
["Recolección",null,"Recolectar residuos en lugares distintos al establecimiento."]
["Transporte",null,"Transporte de residuos de todos los tipos."]
["Acopio",null,"Almacenamiento y recolección en el establecimiento."]
["Preparación para valorización",null,"Procesos en que los residuos se preparan para su posterior valorización. Por ejemplo: clasificación, separación, homogenización, mezcla, trituración, molienda, compactación, desensamblaje, cortado."]
["Valorización","Reutilización","Acción que permite volver a utilizar residuos y darles un uso igual o diferente a aquel para el que fueron concebidos sin sufrir cambios."]
[null,"Reciclaje","Proceso cuyo objetivo es convertir residuos en un producto nuevo terminado."]
[null,"Co-procesamiento","Uso de residuos como combustibles alternos."]
[null,"Co-incineración","Gasificación, pirólisis, plasma, incineración con recuperación de energía."]
[null,"Compostaje","Transformación de residuos orgánicos en abono natural."]
[null,"Descomposición anaeróbica","Descomposición biológica de residuos orgánicos en ausencia de oxígeno."]
["Exportación",null,"Exportación de residuos peligrosos, no peligrosos y ordinarios."]
["Tratamiento","Incineración","Sin recuperación de energía."]
[null,"Tratamiento térmico","Por ejemplo: esterilización (autoclaves)"]
[null,"Tratamiento físico, químico y/o biológico","Procesos industriales diversos, procesos unitarios (p.ej.: sistemas de tratamiento de lodos, neutralización de productos químicos)."]
["Disposición final","Relleno sanitario","Obra de ingeniería donde se realiza disposición final de residuos ordinarios bajo condiciones controladas."]
[null,"Depósito de seguridad","Obra de ingeniería donde se realiza disposición final de residuos peligrosos bajo condiciones de seguridad física y para la salud pública y el ambiente."]

{"sheet":"Manual de Usuario","index":6,"n_rows":53,"n_cols":3,"rows_kept":53,"cut":false,"hidden":false,"merged":[[47,0,47,2],[49,0,49,2],[1,0,1,2],[15,0,15,2],[48,0,48,2],[0,0,0,2],[26,0,26,2],[27,0,27,2],[28,0,28,2],[29,1,29,2],[6,0,6,1],[23,1,23,2],[24,1,24,2],[25,0,25,2],[8,0,8,2],[19,0,19,2],[16,0,17,2],[20,0,20,2],[21,1,21,2],[22,1,22,2],[51,0,51,2],[52,0,52,2],[30,1,30,2],[31,1,31,2],[35,0,35,2],[36,0,36,2],[37,0,37,2],[38,0,38,2],[41,0,41,2],[39,0,39,2],[33,0,33,2],[42,0,42,2],[43,0,43,2],[44,0,44,2],[45,0,45,2],[46,0,46,2]]}
["MANUAL DE USUARIO PARA EL LLENADO DEL REPORTE OPERACIONAL DE GESTORES DE RESIDUOS"]
["1.DATOS GENERALES DEL INFORME"]
[]
["1.2 Año: Debe seleccionar el año en curso."]
["1.3 Mes: Seleccione el mes de presentación del informe"]
["1.4 Día: Seleccione el día en que hace el informe"]
["1.5 Trimestre: Seleccione el Trimestre de la información a presentar de acuerdo a la tabla de Fechas de presentación"]
[]
["Tabla de Fechas de Presentación de Informes"]
["Trimestre","Consolidado de información","Fecha de entrega"]
["I","Diciembre, enero y febrero","05 de marzo"]
["II","Marzo, abril y mayo","05 de junio"]
["III","Junio, Julio, Agosto","05 de setiembre"]
["IV","Setiembre, octubre y noviembre","05 de diciembre"]
[]
["2. DATOS DEL GESTOR DE RESIDUOS"]
["En este apartado deberá indicar los datos generales correspondientes al Gestor Autorizado de Residuos que está presentando el Informe"]
[]
[]
["4. DATOS DEL ORIGEN DE LOS RESIDUOS"]
["4.1 Origen de los residuos: Se debe seleccionar el tipo de origen de donde provienen los residuos de acuerdo a:"]
[null,"Ente Generador: persona física o jurídica, pública o privada, que produce residuos al desarrollar procesos productivos, agropecuarios, de servicios, de comercialización o de consumo."]
[null,"Unidad de Cumplimiento: Es una estructura legal conformada por uno o más productores e importadores, tiene la responsabilidad de establecer los mecanismos y acciones que garanticen la gestión integral de sus respectivos residuos y su sostenibilidad. La Unidad de Cumplimiento es una estructura operativa que permite, cumplir con el Principio de Responsabilidad Extendida del Productor, y con los lineamientos técnicos, sanitarios y ambientales nacionales. Esta Unidad de Cumplimiento deberá tener un contrato firmado con el Gestor de acuerdo al Reglamento 38272-S Reglamento para la Declaratoria de Residuos de Manejo Especial"]
[null,"Gestor Autorizado de Residos: persona física o jurídica, pública o privada, encargada de la gestión total o parcial de los residuos, y autorizada conforme a lo establecido en esta Ley o sus reglamentos"]
[null,"Importador: persona física o jurídica, pública o privada, ubicada en un país diferente a Costa Rica"]
["4.2 Cédula Jurídica o de Identidad: Debe idicar el número de identificación de la empresa de donde provienen los residuos"]
["4.3 No. de Autorización ante el Ministerio de Salud: Si el Origen de los Residuos corresponde a una Unidad de Cumplimiento o a un Gestor Autorizado de Residuos, deberá indicar el número de autorización ante este Ministerio"]
["4.4 Nombre de la empresa: Indique el nombre de la empresa origen de los residuos"]
["4.5 No. de recibo: "]
[null,"1. Debe indicar el número de recibo emitido en la recepción de los residuos."]
[null,"2. Si su empresa cuenta con varios recibos para un mismo origen, deberá indicarlos uno por cada línea con su respectivo residuo."]
[null,"3. Si el recibo contiene diferentes residuos en un mismo recibo, debe repetir los números de recibo por por cada línea."]
[]
["5. DATOS DE LOS RESIDUOS GESTIONADOS"]
["5.1 Tipo de Residuo: De la lista desplegable, debe seleccionar el tipo de residuo que está recibiendo"]
["5.2 Categorización del tipo de Residuo: De la lista desplegable, debe seleccionar la categoría del residuo, de acuerdo al tipo de residuo indicado en el apartado 5.1"]
["5.3 Descripción Comercial del Residuo: En este apartado deberá indicar el nombre comercial del residuo, por ejemplo, papel, cartón, vidrio, aluminio, cobre, etc."]
["5.4 Código: de hoja Códigos, debe  buscar el apartado al que pertenece el residuo indicado, de acuerdo a su origen, y luego seleccionarlo en la lista desplegable de este apartado."]
["5.5 Descripción de los Residuos según LER: este apartado se llenará automaticamente, de acuerdo al código seleccionado."]
["5.10 al 5.18: Indique la cantidad gestionada en el último tipo de gestión que realizó, los demás procesos que realiza a ese residuo, deberá marcarlos con una X"]
[]
["Hoja Salidas"]
["6.1 Tipo de Residuo: De la lista desplegable, debe seleccionar el tipo de residuo que está enviando"]
["6.2 Categorización del tipo de Residuo: De la lista desplegable, debe seleccionar la categoría del residuo, de acuerdo al tipo de residuo indicado en el apartado"]
["6.3 Descripción Comercial del Residuo: En este apartado deberá indicar el nombre comercial del residuo, por ejemplo, papel, cartón, vidrio, aluminio, cobre, etc."]
["6.4 Código: de hoja Códigos, debe  buscar el apartado al que pertenece el residuo indicado, de acuerdo a su origen, y luego seleccionarlo en la lista desplegable de este apartado."]
["6.5 Descripción de los Residuos según LER: este apartado se llenará automaticamente, de acuerdo al código seleccionado."]
["6.6 Debe seleccionar cual fue el último tipo de gestión que le realizó al residuo indicado "]
["6.7 No. de envío: En caso de enviar los residuos a otro destino diferente a su empresa, debe indicar el número recibido del Gestor Autorizado donde envía los residuos."]
["6.8 Indique la cantidad en toneladas de residuos que está enviando"]
["6.9 De la lista, seleccione uno de los destinos."]
["6.10 No. de Cédula de Identidad o Identificación del Destino:  En caso de enviar los residuos a otro destino diferente a su empresa, debe indicar el número de identificación del Gestor Autorizado donde envía los residuos."]
["6.11 Nombre del Gestor Autorizado de Residuos Destino: En caso de enviar los residuos a otro destino diferente a su empresa, debe indicar el nombre del Gestor Autorizado donde envía los residuos.\nEn caso del Destino se un lugar de exportación, debe indicar el nombre de la empresa y el país donde está enviando los residuos."]

{"sheet":"Definiciones RAEE","index":7,"n_rows":0,"n_cols":0,"rows_kept":0,"cut":false,"hidden":false,"merged":[]}

{"sheet":"Sheet1","index":8,"n_rows":855,"n_cols":16,"rows_kept":855,"cut":false,"hidden":true,"merged":[[0,5,0,7],[1,5,1,7]]}
["NUMERO DE IDENTIFICACIÓN (CÉDULA FÍSICA o JURÍDICA o DIMEX) ",3101528447,"NOMBRE DEL GESTOR DE RESIDUOS AUTORIZADOS  REGISTRADOS ANTE EL MINISTERIO DE SALUD",{"$f":"VLOOKUP($B$1,#REF!,2,0)","v":{"$error":"#REF!"}},"CÓDIGO DE REGISTRO",{"$f":"VLOOKUP($B$1,#REF!,10,0)","v":{"$error":"#REF!"}}]
["NOMBRE DEL PROPIETARIO O REPRESENTANTE LEGAL",{"$f":"VLOOKUP($B$1,#REF!,11,0)","v":{"$error":"#REF!"}},"NÚMERO TELEFÓNICO ",null,"DIRECCIÓN ELECTRÓNICA."]
["PSF./CVO No.",{"$f":"VLOOKUP($B$1,#REF!,8,0)","v":{"$error":"#REF!"}}," FECHA RENOVACIÓN DEL  P.S.F./C.V.O.",{"$f":"VLOOKUP($B$1,#REF!,9,0)","v":{"$error":"#REF!"}}]
[]
["Indique el Periodo a reportar"]
["I"]
["II"]
["III"]
["IV"]
[]
[]
[]
["Tipo de Residuo","CODIGO LER","DESCRIPCIÓN DE RESIDUOS","Ordinario","No Peligroso","Peligroso","Manejo Especial","Recolección","Transporte","Acopio","Preparación para la valorización","Valorización","Exportación","Importación","Tratamiento","Disposición Final"]
["Peligroso","10 01 14*","10 01 14* Ceniza de fondo de horno, escorias y polvo de caldera procedentes de la coincineración que contienen sustancias peligrosas"]
["Peligroso","10 01 16*","10 01 16* Cenizas volantes procedentes de la co-incineración que contienen sustancias peligrosas"]
[null,"10 01 18*","10 01 18* Residuos procedentes de la depuración de gases que contienen sustancias peligrosas"]
[null,"10 01 20*","10 01 20* Lodos del tratamiento in situ de efluentes que contienen sustancias peligrosas"]
[null,"10 01 22*","10 01 22* Lodos acuosos, procedentes de la limpieza de calderas, que contienen sustancias peligrosas"]
[null,"10 02 07*","10 02 07* Residuos sólidos del tratamiento de gases que contienen sustancias peligrosas"]
[null,"10 02 11*","10 02 11* Residuos del tratamiento del agua de refrigeración que contienen aceites"]
[null,"10 02 13*","10 02 13* Lodos y tortas de filtración del tratamiento de gases que contienen sustancias peligrosas"]
[null,"10 03 04*","10 03 04* Escorias de la producción primaria"]
[null,"10 03 08*","10 03 08* Escorias salinas de la producción secundaria"]
[null,"10 03 09*","10 03 09* Granzas negras de la producción secundaria"]
[null,"10 03 15*","10 03 15* Espumas inflamables o que emiten, en contacto con el agua, gases inflamables en cantidades peligrosas"]
[null,"10 03 17*","10 03 17* Residuos que contienen alquitrán procedentes de la fabricación de ánodos"]
[null,"10 03 19*","10 03 19* Partículas procedentes de los efluentes gaseosos que contienen sustancias peligrosas"]
[null,"10 03 21*","10 03 21* Otras partículas y polvo (incluido el polvo de molienda) que contienen sustancias peligrosas"]
[null,"10 03 23*","10 03 23* Residuos sólidos del tratamiento de gases que contienen sustancias peligrosas"]
[null,"10 03 25*","10 03 25* Lodos y tortas de filtración del tratamiento de gases que contienen sustancias peligrosas"]
[null,"10 03 27*","10 03 27* Residuos del tratamiento del agua de refrigeración que contienen aceites"]
[null,"10 03 29*","10 03 29* Residuos del tratamiento de escorias salinas y granzas negras, que contienen sustancias peligrosas"]
[null,"10 04 01*","10 04 01* Escorias de la producción primaria y secundaria"]
[null,"10 04 02*","10 04 02* Granzas y espumas de la producción primaria y secundaria"]
[null,"10 04 03*","10 04 03* Arseniato de calcio"]
[null,"10 04 04*","10 04 04* Partículas procedentes de los efluentes gaseosos"]
[null,"10 04 05*","10 04 05* Otras partículas y polvos"]
[null,"10 04 06*","10 04 06* Residuos sólidos del tratamiento de gases"]
[null,"10 04 07*","10 04 07* Lodos y tortas de filtración del tratamiento de gases"]
[null,"10 04 09*","10 04 09* Residuos del tratamiento del agua de refrigeración que contienen aceites"]
[null,"10 05 03*","10 05 03* Partículas procedentes de los efluentes gaseosos"]
[null,"10 05 05*","10 05 05* Residuos sólidos del tratamiento de gases"]
[null,"10 05 06*","10 05 06* Lodos y tortas de filtración del tratamiento de gases"]
[null,"10 05 08*","10 05 08* Residuos del tratamiento del agua de refrigeración que contienen aceites"]
[null,"10 05 10*","10 05 10* Granzas y espumas inflamables o que emiten, en contacto con el agua, gases inflamables en cantidades peligrosas"]
[null,"10 06 03*","10 06 03* Partículas procedentes de los efluentes gaseosos"]
[null,"10 06 06*","10 06 06* Residuos sólidos del tratamiento de gases"]
[null,"10 06 07*","10 06 07* Lodos y tortas de filtración del tratamiento de gases"]
[null,"10 06 09*","10 06 09* Residuos del tratamiento del agua de refrigeración que contienen aceites"]
[null,"10 07 07*","10 07 07* Residuos del tratamiento del agua de refrigeración que contienen aceites"]
[null,"10 08 08*","10 08 08* Escorias salinas de la producción primaria y secundaria"]
[null,"10 08 10*","10 08 10* Granzas y espumas inflamables o que emiten, en contacto con el agua, gases inflamables en cantidades peligrosas"]
[null,"10 08 12*","10 08 12* Residuos que contienen alquitrán procedentes de la fabricación de ánodos"]
[null,"10 08 15*","10 08 15* Partículas procedentes de los efluentes gaseosos que contienen sustancias peligrosas"]
[null,"10 08 17*","10 08 17* Lodos y tortas de filtración del tratamiento de gases que contienen sustancias peligrosas"]
[null,"10 08 19*","10 08 19* Residuos del tratamiento del agua de refrigeración que contienen aceites"]
[null,"10 09 05*","10 09 05* Machos y moldes de fundición sin colada que contienen sustancias peligrosas"]
[null,"10 09 07*","10 09 07* Machos y moldes de fundición con colada que contienen sustancias peligrosas"]
[null,"10 09 09*","10 09 09* Partículas procedentes de los efluentes gaseosos que contienen sustancias peligrosas"]
[null,"10 09 11*","10 09 11* Otras partículas que contienen sustancias peligrosas"]
[null,"10 09 13*","10 09 13* Ligantes residuales que contienen sustancias peligrosas"]
[null,"10 09 15*","10 09 15* Residuos de agentes indicadores de fisuración que contienen sustancias peligrosas"]
[null,"10 10 05*","10 10 05* Machos y moldes de fundición sin colada que contienen sustancias peligrosas"]
[null,"10 10 07*","10 10 07* Machos y moldes de fundición con colada que contienen sustancias peligrosas"]
[null,"10 10 09*","10 10 09* Partículas procedentes de los efluentes gaseosos que contienen sustancias peligrosas"]
[null,"09 01 03*","09 01 03* Soluciones de revelado con disolventes"]
[null,"09 01 04*","09 01 04* Soluciones de fijado"]
[null,"09 01 05*","09 01 05* Soluciones de blanqueo y soluciones de blanqueo-fijado"]
[null,"09 01 06*","09 01 06* Residuos que contienen plata procedente del tratamiento in situ de residuos fotográficos"]
[null,"09 01 11*","09 01 11* Cámaras de un solo uso con pilas o acumuladores incluidos en los códigos 16 06 01, 16 06 02 o 16 06 03"]
[null,"09 01 13*","09 01 13* Residuos líquidos acuosos procedentes de la recuperación in situ de plata distintos de los especificados en el código 09 01 06"]
[null,"10 01 04*","10 01 04* Cenizas volantes y polvo de caldera de hidrocarburos"]
[null,"10 01 09*","10 01 09* Ácido sulfúrico"]
[null,"10 01 13*","10 01 13* Cenizas volantes de hidrocarburos emulsionados usados como combustibles"]
[null,"13 04 01*","13 04 01* Aceites de sentinas procedentes de la navegación en aguas continentales"]
[null,"13 04 02*","13 04 02* Aceites de sentinas recogidos en muelles"]
[null,"13 04 03*","13 04 03* Aceites de sentinas procedentes de otros tipos de navegación"]
[null,"13 05 01*","13 05 01* Sólidos procedentes de desarenadores y de separadores de agua/sustancias aceitosas"]
[null,"10 10 11*","10 10 11* Otras partículas que contienen sustancias peligrosas"]
[null,"10 10 13*","10 10 13* Ligantes residuales que contienen sustancias peligrosas"]
[null,"10 10 15*","10 10 15* Residuos de agentes indicadores de fisuración que contienen sustancias peligrosas"]
[null,"10 11 09*","10 11 09* Residuos de la preparación de mezclas antes del proceso de cocción que contienen sustancias peligrosas"]
[null,"10 11 11*","10 11 11* Residuos de pequeñas partículas de vidrio y de polvo de vidrio que contienen metales pesados (por ejemplo, de tubos catódicos)"]
[null,"10 11 13*","10 11 13* Lodos procedentes del pulido y esmerilado del vidrio que contienen sustancias peligrosas"]
[null,"10 11 15*","10 11 15* Residuos sólidos del tratamiento de gases de combustión que contienen sustancias peligrosas"]
[null,"10 11 17*","10 11 17* Lodos y tortas de filtración del tratamiento de gases que contienen sustancias peligrosas"]
[null,"10 11 19*","10 11 19* Residuos sólidos del tratamiento in situ de efluentes que contienen sustancias peligrosas"]
[null,"10 12 09*","10 12 09* Residuos sólidos del tratamiento de gases que contienen sustancias peligrosas"]
[null,"10 12 11*","10 12 11* Residuos de vidriado que contienen metales pesados"]
[null,"10 13 09*","10 13 09* Residuos de la fabricación de fibrocemento que contienen amianto"]
[null,"10 13 12*","10 13 12* Residuos sólidos del tratamiento de gases que contienen sustancias peligrosas"]
[null,"10 14 01*","10 14 01* Residuos de la depuración de gases que contienen mercurio"]
[null,"11 01 05*","11 01 05* Ácidos de decapado"]
[null,"11 01 06*","11 01 06* Ácidos no especificados en otra categoría"]
[null,"11 01 07*","11 01 07* Bases de decapado"]
[null,"11 01 08*","11 01 08* Lodos de fosfatación"]
[null,"11 01 09*","11 01 09* Lodos y tortas de filtración que contienen sustancias peligrosas"]
[null,"11 01 11*","11 01 11* Líquidos acuosos de enjuague que contienen sustancias peligrosas"]
[null,"11 01 13*","11 01 13* Residuos de desengrasado que contienen sustancias peligrosas"]
[null,"11 01 15*","11 01 15* Eluatos y lodos procedentes de sistemas de membranas o de intercambio iónico que contienen sustancias peligrosas"]
[null,"11 01 16*","11 01 16* Resinas intercambiadoras de iones saturadas o usadas"]
[null,"11 01 98*","11 01 98* Otros residuos que contienen sustancias peligrosas"]
[null,"11 02 02*","11 02 02* Lodos de la hidrometalurgia del zinc (incluida jarosita, goetita)"]
[null,"11 02 05*","11 02 05* Residuos de procesos de la hidrometalurgia del cobre que contienen sustancias peligrosas"]
[null,"11 02 07*","11 02 07* Otros residuos que contienen sustancias peligrosas"]
[null,"11 03 01*","11 03 01* Residuos que contienen cianuro"]
[null,"11 03 02*","11 03 02* Otros residuos"]
[null,"11 05 03*","11 05 03* Residuos sólidos del tratamiento de gases"]
[null,"11 05 04*","11 05 04* Fundentes usados"]
[null,"12 01 06*","12 01 06* Aceites minerales de mecanizado que contienen halógenos (excepto las emulsiones o disoluciones)"]
[null,"12 01 07*","12 01 07* Aceites minerales de mecanizado sin halógenos (excepto las emulsiones o disoluciones)"]
[null,"12 01 08*","12 01 08* Emulsiones y disoluciones de mecanizado que contienen halógenos"]
[null,"12 01 09*","12 01 09* Emulsiones y disoluciones de mecanizado sin halógenos"]
[null,"12 01 10*","12 01 10* Aceites sintéticos de mecanizado"]
[null,"12 01 12*","12 01 12* Ceras y grasas usadas"]
[null,"12 01 14*","12 01 14* Lodos de mecanizado que contienen sustancias peligrosas"]
[null,"12 01 16*","12 01 16* Residuos de granallado o chorreado que contienen sustancias peligrosas"]
[null,"12 01 18*","12 01 18* Lodos metálicos (lodos de esmerilado, rectificado y lapeado) que contienen aceites"]
[null,"12 01 19*","12 01 19* Aceites de mecanizado fácilmente biodegradables"]
[null,"12 01 20*","12 01 20* Muelas y materiales de esmerilado usados que contienen sustancias peligrosas"]
[null,"12 03 01*","12 03 01* Líquidos acuosos de limpieza"]
[null,"12 03 02*","12 03 02* Residuos de desengrase al vapor"]
[null,"13 01 01*","13 01 01* Aceites hidráulicos que contienen PCB"]
[null,"13 01 04*","13 01 04* Emulsiones cloradas"]
[null,"13 01 05*","13 01 05* Emulsiones no cloradas"]
[null,"13 01 09*","13 01 09* Aceites hidráulicos minerales clorados"]
[null,"13 01 10*","13 01 10* Aceites hidráulicos minerales no clorados"]
[null,"13 01 11*","13 01 11* Aceites hidráulicos sintéticos"]
[null,"13 01 12*","13 01 12* Aceites hidráulicos fácilmente biodegradables"]
[null,"13 01 13*","13 01 13* Otros aceites hidráulicos"]
[null,"13 02 04*","13 02 04* Aceites minerales clorados de motor, de transmisión mecánica y lubricantes"]
[null,"13 02 05*","13 02 05* Aceites minerales no clorados de motor, de transmisión mecánica y lubricantes"]
[null,"13 02 06*","13 02 06* Aceites sintéticos de motor, de transmisión mecánica y lubricantes"]
[null,"13 02 07*","13 02 07* Aceites fácilmente biodegradables de motor, de transmisión mecánica y lubricantes"]
[null,"13 02 08*","13 02 08* Otros aceites de motor, de transmisión mecánica y lubricantes"]
[null,"13 03 01*","13 03 01* Aceites de aislamiento y transmisión de calor que contienen PCB"]
[null,"13 03 06*","13 03 06* Aceites minerales clorados de aislamiento y transmisión de calor, distintos de los especificados en el código 13 03 01"]
[null,"13 03 07*","13 03 07* Aceites minerales no clorados de aislamiento y transmisión de calor"]
[null,"13 03 08*","13 03 08* Aceites sintéticos de aislamiento y transmisión de calor"]
[null,"13 03 09*","13 03 09* Aceites fácilmente biodegradables de aislamiento y transmisión de calor"]
[null,"13 03 10*","13 03 10* Otros aceites de aislamiento y transmisión de calor"]
[null,"13 05 02*","13 05 02* Lodos de separadores de agua/sustancias aceitosas"]
[null,"17 03 01*","17 03 01* Mezclas bituminosas que contienen alquitrán de hulla"]
[null,"13 05 03*","13 05 03* Lodos de interceptores"]
[null,"13 05 06*","13 05 06* Aceites procedentes de separadores de agua/sustancias aceitosas"]
[null,"13 05 07*","13 05 07* Agua aceitosa procedente de separadores de agua/sustancias aceitosas"]
[null,"13 05 08*","13 05 08* Mezcla de residuos procedentes de desarenadores y de separadores de agua/sustancias aceitosas"]
[null,"13 07 01*","13 07 01* Fuelóleo y gasóleo"]
[null,"13 07 02*","13 07 02* Gasolina"]
[null,"13 07 03*","13 07 03* Otros combustibles (incluidas mezclas)"]
[null,"13 08 01*","13 08 01* Lodos o emulsiones de desalación"]
[null,"13 08 02*","13 08 02* Otras emulsiones"]
[null,"13 08 99*","13 08 99* Residuos no especificados en otra categoría"]
[null,"14 06 01*","14 06 01* Clorofluorocarburos, HCFC, HFC"]
[null,"14 06 02*","14 06 02* Otros disolventes y mezclas de disolventes halogenados"]
[null,"14 06 03*","14 06 03* Otros disolventes y mezclas de disolventes"]
[null,"14 06 04*","14 06 04* Lodos o residuos sólidos que contienen disolventes halogenados"]
[null,"14 06 05*","14 06 05* Lodos o residuos sólidos que contienen otros disolventes"]
[null,"15 01 10*","15 01 10* Envases que contienen restos de sustancias peligrosas o están contaminados por ellas"]
[null,"15 01 11*","15 01 11* Envases metálicos, incluidos los recipientes a presión vacíos, que contienen una matriz sólida y porosa peligrosa (por ejemplo, amianto)"]
[null,"15 02 02*","15 02 02* Absorbentes, materiales de filtración (incluidos los filtros de aceite no especificados en otra categoría), trapos de limpieza y ropas protectoras contaminados por sustancias peligrosas"]
[null,"16 01 04*","16 01 04* Vehículos al final de su vida útil"]
[null,"16 01 07*","16 01 07* Filtros de aceite"]
[null,"16 01 08*","16 01 08* Componentes que contienen mercurio"]
[null,"16 01 09*","16 01 09* Componentes que contienen PCB"]
[null,"16 01 10*","16 01 10* Componentes explosivos (por ejemplo, colchones de aire)"]
[null,"16 01 11*","16 01 11* Zapatas de freno que contienen amianto"]
[null,"16 01 13*","16 01 13* Líquidos de frenos"]
[null,"16 01 14*","16 01 14* Anticongelantes que contienen sustancias peligrosas"]
[null,"16 01 21*","16 01 21* Componentes peligrosos distintos de los especificados en los códigos 16 01 07 a 16 01 11 y 16 01 13 y 16 01 14"]
[null,"16 02 09*","16 02 09* Transformadores y condensadores que contienen PCB"]
[null,"16 02 10*","16 02 10* Equipos desechados que contienen PCB, o están contaminados por ellos, distintos de los especificados en el código 16 02 09"]
[null,"16 02 11*","16 02 11* Equipos desechados que contienen clorofluorocarburos, HCFC, HFC"]
[null,"16 02 12*","16 02 12* Equipos desechados que contienen amianto libre"]
[null,"16 02 13*","16 02 13* Equipos desechados que contienen componentes peligrosos, distintos de los especificados en los códigos 16 02 09 a 16 02 12"]
[null,"16 02 15*","16 02 15* Componentes peligrosos retirados de equipos desechados"]
[null,"16 03 03*","16 03 03* Residuos inorgánicos que contienen sustancias peligrosas"]
[null,"16 03 05*","16 03 05* Residuos orgánicos que contienen sustancias peligrosas"]
[null,"16 03 07*","16 03 07* Mercurio metálico"]
[null,"16 04 01*","16 04 01* Residuos de municiones"]
[null,"16 04 02*","16 04 02* Residuos de fuegos artificiales"]
[null,"16 04 03*","16 04 03* Otros residuos explosivos"]
[null,"16 05 04*","16 05 04* Gases en recipientes a presión (incluidos los halones) que contienen sustancias peligrosas"]
[null,"16 05 06*","16 05 06* Productos químicos de laboratorio que consisten en sustancias peligrosas, incluidas las mezclas de productos químicos de laboratorio, o las contienen"]
[null,"16 05 07*","16 05 07* Productos químicos inorgánicos desechados que consisten en sustancias peligrosas o las contienen"]
[null,"16 05 08*","16 05 08* Productos químicos orgánicos desechados que consisten en sustancias peligrosas o las contienen"]
[null,"16 06 01*","16 06 01* Baterías de plomo"]
[null,"16 06 02*","16 06 02* Acumuladores de Ni-Cd"]
[null,"16 06 03*","16 06 03* Pilas que contienen mercurio"]
[null,"16 06 06*","16 06 06* Electrolitos de pilas y acumuladores recogidos selectivamente"]
[null,"16 07 08*","16 07 08* Residuos que contienen hidrocarburos"]
[null,"16 07 09*","16 07 09* Residuos que contienen otras sustancias peligrosas"]
[null,"16 08 02*","16 08 02* Catalizadores usados que contienen metales de transición peligrosos o compuestos de metales de transición peligrosos"]
[null,"16 08 05*","16 08 05* Catalizadores usados que contienen ácido fosfórico"]
[null,"16 08 06*","16 08 06* Líquidos usados utilizados como catalizadores"]
[null,"16 08 07*","16 08 07* Catalizadores usados contaminados con sustancias peligrosas"]
[null,"16 09 01*","16 09 01* Permanganatos, por ejemplo permanganato potásico"]
[null,"16 09 02*","16 09 02* Cromatos, por ejemplo cromato potásico, dicromato sódico o potásico"]
[null,"16 09 03*","16 09 03* Peróxidos, por ejemplo peróxido de hidrógeno"]
[null,"16 09 04*","16 09 04* Sustancias oxidantes no especificadas en otra categoría"]
[null,"16 10 01*","16 10 01* Residuos líquidos acuosos que contienen sustancias peligrosas"]
[null,"16 10 03*","16 10 03* Concentrados acuosos que contienen sustancias peligrosas"]
[null,"16 11 01*","16 11 01* Revestimientos y refractarios a base de carbono, procedentes de procesos metalúrgicos, que contienen sustancias peligrosas"]
[null,"16 11 03*","16 11 03* Otros revestimientos y refractarios procedentes de procesos metalúrgicos que contienen sustancias peligrosas"]
[null,"16 11 05*","16 11 05* Revestimientos y refractarios, procedentes de procesos no metalúrgicos, que contienen sustancias peligrosas"]
[null,"17 01 06*","17 01 06* Mezclas, o fracciones separadas, de hormigón, ladrillos, tejas y materiales cerámicos que contienen sustancias peligrosas"]
[null,"17 02 04*","17 02 04* Vidrio, plástico y madera que contienen sustancias peligrosas o están contaminados por ellas"]
[null,"01 03 04*","01 03 04* Estériles que generan ácido procedentes de la transformación de minerales sulfurados"]
[null,"01 03 05*","01 03 05* Otros estériles que contienen sustancias peligrosas"]
[null,"01 03 07*","01 03 07* Otros residuos que contienen sustancias peligrosas procedentes de la transformación física y química de minerales metálicos"]
[null,"01 03 10*","01 03 10* Lodos rojos procedentes de la producción de alúmina que contienen sustancias peligrosas distintos de los residuos mencionados en el código 01 03 07"]
[null,"01 04 07*","01 04 07* Residuos que contienen sustancias peligrosas procedentes de la transformación física y química de minerales no metálicos"]
[null,"01 05 05*","01 05 05* Lodos y residuos de perforaciones que contienen hidrocarburos"]
[null,"01 05 06*","01 05 06* Lodos y otros residuos de perforaciones que contienen sustancias peligrosas"]
[null,"02 01 08*","02 01 08* Residuos agroquímicos que contienen sustancias peligrosas"]
[null,"03 01 04*","03 01 04* Serrín, virutas, recortes, madera, tableros de partículas y chapas que contienen sustancias peligrosas"]
[null,"03 02 01*","03 02 01* Conservantes de la madera orgánicos no halogenados"]
[null,"03 02 02*","03 02 02* Conservantes de la madera organoclorados"]
[null,"03 02 03*","03 02 03* Conservantes de la madera organometálicos"]
[null,"03 02 04*","03 02 04* Conservantes de la madera inorgánicos"]
[null,"03 02 05*","03 02 05* Otros conservantes de la madera que contienen sustancias peligrosas"]
[null,"04 01 03*","04 01 03* Residuos del desengrasado que contienen disolventes sin fase líquida"]
[null,"04 02 14*","04 02 14* Residuos del acabado que contienen disolventes orgánicos"]
[null,"04 02 16*","04 02 16* Colorantes y pigmentos que contienen sustancias peligrosas"]
[null,"04 02 19*","04 02 19* Lodos del tratamiento in situ de efluentes que contienen sustancias peligrosas"]
[null,"05 01 02*","05 01 02* Lodos de la desalación"]
[null,"05 01 03*","05 01 03* Lodos de fondos de tanques"]
[null,"05 01 04*","05 01 04* Lodos de ácidos alquilo"]
[null,"05 01 05*","05 01 05* Derrames de hidrocarburos"]
[null,"05 01 06*","05 01 06* Lodos oleosos procedentes de operaciones de mantenimiento de plantas o equipos"]
[null,"05 01 07*","05 01 07* Alquitranes ácidos"]
[null,"05 01 08*","05 01 08* Otros alquitranes"]
[null,"05 01 09*","05 01 09* Lodos del tratamiento in situ de efluentes que contienen sustancias peligrosas"]
[null,"05 01 11*","05 01 11* Residuos procedentes de la limpieza de combustibles con bases"]
[null,"05 01 12*","05 01 12* Hidrocarburos que contienen ácidos"]
[null,"05 01 15*","05 01 15* Arcillas de filtración usadas"]
[null,"05 06 01*","05 06 01* Alquitranes ácidos"]
[null,"05 06 03*","05 06 03* Otros alquitranes"]
[null,"05 07 01*","05 07 01* Residuos que contienen mercurio"]
[null,"06 01 01*","06 01 01* Ácido sulfúrico y ácido sulfuroso"]
[null,"06 01 02*","06 01 02* Ácido clorhídrico"]
[null,"06 01 03*","06 01 03* Ácido fluorhídrico"]
[null,"06 01 04*","06 01 04* Ácido fosfórico y ácido fosforoso"]
[null,"06 01 05*","06 01 05* Ácido nítrico y ácido nitroso"]
[null,"06 01 06*","06 01 06* Otros ácidos"]
[null,"06 02 01*","06 02 01* Hidróxido cálcico"]
[null,"06 02 03*","06 02 03* Hidróxido amónico"]
[null,"06 02 04*","06 02 04* Hidróxido potásico e hidróxido sódico"]
[null,"06 02 05*","06 02 05* Otras bases"]
[null,"06 03 11*","06 03 11* Sales sólidas y soluciones que contienen cianuros"]
[null,"06 03 13*","06 03 13* Sales sólidas y soluciones que contienen metales pesados"]
[null,"06 03 15*","06 03 15* Óxidos metálicos que contienen metales pesados"]
[null,"06 04 03*","06 04 03* Residuos que contienen arsénico"]
[null,"06 04 04*","06 04 04* Residuos que contienen mercurio"]
[null,"06 04 05*","06 04 05* Residuos que contienen otros metales pesados"]
[null,"06 05 02*","06 05 02* Lodos del tratamiento in situ de efluentes que contienen sustancias peligrosas"]
[null,"06 06 02*","06 06 02* Residuos que contienen sulfuros peligrosos"]
[null,"06 07 01*","06 07 01* Residuos de electrólisis que contienen amianto"]
[null,"06 07 02*","06 07 02* Carbón activo procedente de la producción de cloro"]
[null,"06 07 03*","06 07 03* Lodos de sulfato bárico que contienen mercurio"]
[null,"06 07 04*","06 07 04* Soluciones y ácidos, por ejemplo, ácido de contacto"]
[null,"06 08 02*","06 08 02* Residuos que contienen clorosilanos peligrosos"]
[null,"06 09 03*","06 09 03* Residuos cálcicos de reacción que contienen o están contaminados con sustancias peligrosas"]
[null,"06 10 02*","06 10 02* Residuos que contienen sustancias peligrosas"]
[null,"06 13 01*","06 13 01* Productos fitosanitarios inorgánicos, conservantes de la madera y otros biocidas"]
[null,"06 13 02*","06 13 02* Carbón activo usado (excepto la categoría 06 07 02)"]
[null,"06 13 04*","06 13 04* Residuos procedentes de la transformación del amianto"]
[null,"06 13 05*","06 13 05* Hollín"]
[null,"07 01 01*","07 01 01* Líquidos de limpieza y licores madre acuosos"]
[null,"07 01 03*","07 01 03* Disolventes, líquidos de limpieza y licores madre organohalogenados"]
[null,"07 01 04*","07 01 04* Otros disolventes, líquidos de limpieza y licores madre orgánicos"]
[null,"07 01 07*","07 01 07* Residuos de reacción y de destilación halogenados"]
[null,"07 01 08*","07 01 08* Otros residuos de reacción y de destilación"]
[null,"07 01 09*","07 01 09* Tortas de filtración y absorbentes usados halogenados"]
[null,"07 01 10*","07 01 10* Otras tortas de filtración y absorbentes usados"]
[null,"07 01 11*","07 01 11* Lodos del tratamiento in situ de efluentes que contienen sustancias peligrosas"]
[null,"07 02 01*","07 02 01* Líquidos de limpieza y licores madre acuosos"]
[null,"07 02 03*","07 02 03* Disolventes, líquidos de limpieza y licores madre organohalogenados"]
[null,"07 02 04*","07 02 04* Otros disolventes, líquidos de limpieza y licores madre orgánicos"]
[null,"07 02 07*","07 02 07* Residuos de reacción y de destilación halogenados"]
[null,"07 02 08*","07 02 08* Otros residuos de reacción y de destilación"]
[null,"07 02 09*","07 02 09* Tortas de filtración y absorbentes usados halogenados"]
[null,"07 02 10*","07 02 10* Otras tortas de filtración y absorbentes usados"]
[null,"07 02 11*","07 02 11* Lodos del tratamiento in situ de efluentes que contienen sustancias peligrosas"]
[null,"07 02 14*","07 02 14* Residuos procedentes de aditivos que contienen sustancias peligrosas"]
[null,"07 02 16*","07 02 16* Residuos que contienen siliconas peligrosas"]
[null,"07 03 01*","07 03 01* Líquidos de limpieza y licores madre acuosos"]
[null,"07 03 03*","07 03 03* Disolventes, líquidos de limpieza y licores madre organohalogenados"]
[null,"07 03 04*","07 03 04* Otros disolventes, líquidos de limpieza y licores madre orgánicos"]
[null,"07 03 07*","07 03 07* Residuos de reacción y de destilación halogenados"]
[null,"07 03 08*","07 03 08* Otros residuos de reacción y de destilación"]
[null,"07 03 09*","07 03 09* Tortas de filtración y absorbentes usados halogenados"]
[null,"07 03 10*","07 03 10* Otras tortas de filtración y absorbentes usados"]
[null,"07 03 11*","07 03 11* Lodos del tratamiento in situ de efluentes que contienen sustancias peligrosas"]
[null,"07 04 01*","07 04 01* Líquidos de limpieza y licores madre acuosos"]
[null,"07 04 03*","07 04 03* Disolventes, líquidos de limpieza y licores madre organohalogenados"]
[null,"07 04 04*","07 04 04* Otros disolventes, líquidos de limpieza y licores madre orgánicos"]
[null,"07 04 07*","07 04 07* Residuos de reacción y de destilación halogenados"]
[null,"07 04 08*","07 04 08* Otros residuos de reacción y de destilación"]
[null,"07 04 09*","07 04 09* Tortas de filtración y absorbentes usados halogenados"]
[null,"07 04 10*","07 04 10* Otras tortas de filtración y absorbentes usados"]
[null,"07 04 11*","07 04 11* Lodos del tratamiento in situ de efluentes que contienen sustancias peligrosas"]
[null,"07 04 13*","07 04 13* Residuos sólidos que contienen sustancias peligrosas"]
[null,"07 05 01*","07 05 01* Líquidos de limpieza y licores madre acuosos"]
[null,"07 05 03*","07 05 03* Disolventes, líquidos de limpieza y licores madre organohalogenados"]
[null,"07 05 04*","07 05 04* Otros disolventes, líquidos de limpieza y licores madre orgánicos"]
[null,"07 05 07*","07 05 07* Residuos de reacción y de destilación halogenados"]
[null,"07 05 08*","07 05 08* Otros residuos de reacción y de destilación"]
[null,"07 05 09*","07 05 09* Tortas de filtración y absorbentes usados halogenados"]
[null,"07 05 10*","07 05 10* Otras tortas de filtración y absorbentes usados"]
[null,"07 05 11*","07 05 11* Lodos del tratamiento in situ de efluentes que contienen sustancias peligrosas"]
[null,"07 05 13*","07 05 13* Residuos sólidos que contienen sustancias peligrosas"]
[null,"07 06 01*","07 06 01* Líquidos de limpieza y licores madre acuosos"]
[null,"07 06 03*","07 06 03* Disolventes, líquidos de limpieza y licores madre organohalogenados"]
[null,"07 06 04*","07 06 04* Otros disolventes, líquidos de limpieza y licores madre orgánicos"]
[null,"07 06 07*","07 06 07* Residuos de reacción y de destilación halogenados"]
[null,"07 06 08*","07 06 08* Otros residuos de reacción y de destilación"]
[null,"07 06 09*","07 06 09* Tortas de filtración y absorbentes usados halogenados"]
[null,"07 06 10*","07 06 10* Otras tortas de filtración y absorbentes usados"]
[null,"07 06 11*","07 06 11* Lodos del tratamiento in situ de efluentes que contienen sustancias peligrosas"]
[null,"07 07 01*","07 07 01* Líquidos de limpieza y licores madre acuosos"]
[null,"07 07 03*","07 07 03* Disolventes, líquidos de limpieza y licores madre organohalogenados"]
[null,"07 07 04*","07 07 04* Otros disolventes, líquidos de limpieza y licores madre orgánicos"]
[null,"07 07 07*","07 07 07* Residuos de reacción y de destilación halogenados"]
[null,"07 07 08*","07 07 08* Otros residuos de reacción y de destilación"]
[null,"07 07 09*","07 07 09* Tortas de filtración y absorbentes usados halogenados"]
[null,"07 07 10*","07 07 10* Otras tortas de filtración y absorbentes usados"]
[null,"07 07 11*","07 07 11* Lodos del tratamiento in situ de efluentes que contienen sustancias peligrosas"]
[null,"08 01 11*","08 01 11* Residuos de pintura y barniz que contienen disolventes orgánicos u otras sustancias peligrosas"]
[null,"08 01 13*","08 01 13* Lodos de pintura y barniz que contienen disolventes orgánicos u otras sustancias peligrosas"]
[null,"08 01 15*","08 01 15* Lodos acuosos que contienen pintura o barniz con disolventes orgánicos u otras sustancias peligrosas"]
[null,"08 01 17*","08 01 17* Residuos del decapado o eliminación de pintura y barniz que contienen disolventes orgánicos u otras sustancias peligrosas"]
[null,"08 01 19*","08 01 19* Suspensiones acuosas que contienen pintura o barniz con disolventes orgánicos u otras sustancias peligrosas"]
[null,"08 01 21*","08 01 21* Residuos de decapantes o eliminadores de pintura y barniz"]
[null,"08 03 12*","08 03 12* Residuos de tintas que contienen sustancias peligrosas"]
[null,"08 03 14*","08 03 14* Lodos de tinta que contienen sustancias peligrosas"]
[null,"08 03 16*","08 03 16* Residuos de soluciones corrosivas"]
[null,"08 03 17*","08 03 17* Residuos de tóner de impresión que contienen sustancias peligrosas"]
[null,"08 03 19*","08 03 19* Aceites de dispersión"]
[null,"08 04 09*","08 04 09* Residuos de adhesivos y sellantes que contienen disolventes orgánicos u otras sustancias peligrosas"]
[null,"08 04 11*","08 04 11* Lodos de adhesivos y sellantes que contienen disolventes orgánicos u otras sustancias peligrosas"]
[null,"08 04 13*","08 04 13* Lodos acuosos que contienen adhesivos o sellantes con disolventes orgánicos u otras sustancias peligrosas"]
[null,"08 04 15*","08 04 15* Residuos líquidos acuosos que contienen adhesivos o sellantes con disolventes orgánicos u otras sustancias peligrosas"]
[null,"08 04 17*","08 04 17* Aceite de resina"]
[null,"08 05 01*","08 05 01* Isocianatos residuales"]
[null,"09 01 01*","09 01 01* Soluciones de revelado y soluciones activadoras al agua"]
[null,"09 01 02*","09 01 02* Soluciones de revelado de placas de impresión al agua"]
[null,"17 03 03*","17 03 03* Alquitrán de hulla y productos alquitranados"]
[null,"17 04 09*","17 04 09* Residuos metálicos contaminados con sustancias peligrosas"]
[null,"17 04 10*","17 04 10* Cables que contienen hidrocarburos, alquitrán de hulla y otras sustancias peligrosas"]
[null,"17 05 03*","17 05 03* Tierra y piedras que contienen sustancias peligrosas"]
[null,"17 05 05*","17 05 05* Lodos de drenaje que contienen sustancias peligrosas"]
[null,"17 05 07*","17 05 07* Balasto de vías férreas que contiene sustancias peligrosas"]
[null,"17 06 01*","17 06 01* Materiales de aislamiento que contienen amianto"]
[null,"17 06 03*","17 06 03* Otros materiales de aislamiento que consisten en sustancias peligrosas o contienen dichas sustancias"]
[null,"17 06 05*","17 06 05* Materiales de construcción que contienen amianto"]
[null,"17 08 01*","17 08 01* Materiales de construcción a base de yeso contaminados con sustancias peligrosas"]
[null,"17 09 01*","17 09 01* Residuos de construcción y demolición que contienen mercurio"]
[null,"17 09 02*","17 09 02* Residuos de construcción y demolición que contienen PCB (por ejemplo, sellantes que contienen PCB, revestimientos de suelo a base de resinas que contienen PCB, acristalamientos dobles que contienen PCB, condensadores que contienen PCB)"]
[null,"17 09 03*","17 09 03* Otros residuos de construcción y demolición (incluidos los residuos mezclados) que contienen sustancias peligrosas"]
[null,"18 01 03*","18 01 03* Residuos cuya recogida y eliminación son objeto de requisitos especiales para prevenir infecciones"]
[null,"18 01 06*","18 01 06* Productos químicos que consisten en sustancias peligrosas o contienen dichas sustancias"]
[null,"18 01 08*","18 01 08* Medicamentos citotóxicos y citostáticos"]
[null,"18 01 10*","18 01 10* Residuos de amalgamas procedentes de cuidados dentales"]
[null,"18 02 02*","18 02 02* Residuos cuya recogida y eliminación son objeto de requisitos especiales para prevenir infecciones"]
[null,"18 02 05*","18 02 05* Productos químicos que consisten en, o contienen, sustancias peligrosas"]
[null,"18 02 07*","18 02 07* Medicamentos citotóxicos y citostáticos"]
[null,"19 01 05*","19 01 05* Torta de filtración del tratamiento de gases"]
[null,"19 01 06*","19 01 06* Residuos líquidos acuosos del tratamiento de gases y otros residuos líquidos acuosos"]
[null,"19 01 07*","19 01 07* Residuos sólidos del tratamiento de gases"]
[null,"19 01 10*","19 01 10* Carbón activo usado procedente del tratamiento de gases de combustión"]
[null,"19 01 11*","19 01 11* Ceniza de fondo de horno y escorias que contienen sustancias peligrosas"]
[null,"19 01 13*","19 01 13* Cenizas volantes que contienen sustancias peligrosas"]
[null,"19 01 15*","19 01 15* Polvo de caldera que contiene sustancias peligrosas"]
[null,"19 01 17*","19 01 17* Residuos de pirólisis que contienen sustancias peligrosas"]
[null,"19 02 04*","19 02 04* Residuos mezclados previamente, compuestos por al menos un residuo peligroso"]
[null,"19 02 05*","19 02 05* Lodos de tratamientos fisicoquímicos que contienen sustancias peligrosas"]
[null,"19 02 07*","19 02 07* Aceite y concentrados procedentes del proceso de separación"]
[null,"19 02 08*","19 02 08* Residuos combustibles líquidos que contienen sustancias peligrosas"]
[null,"19 02 09*","19 02 09* Residuos combustibles sólidos que contienen sustancias peligrosas"]
[null,"19 02 11*","19 02 11* Otros residuos que contienen sustancias peligrosas"]
[null,"19 03 04*","19 03 04* Residuos peligrosos, parcialmente estabilizados, distintos de los especificados en el código 19 03 08"]
[null,"19 03 06*","19 03 06* Residuos peligrosos solidificados"]
[null,"19 03 08*","19 03 08* Mercurio parcialmente estabilizado"]
[null,"19 04 02*","19 04 02* Cenizas volantes y otros residuos del tratamiento de gases de combustión"]
[null,"19 04 03*","19 04 03* Fase sólida no vitrificada"]
[null,"19 07 02*","19 07 02* Lixiviados de vertedero que contienen sustancias peligrosas"]
[null,"19 08 06*","19 08 06* Resinas intercambiadoras de iones saturadas o usadas"]
[null,"19 08 07*","19 08 07* Soluciones y lodos de la regeneración de intercambiadores de iones"]
[null,"19 08 08*","19 08 08* Residuos procedentes de sistemas de membranas que contienen metales pesados"]
[null,"19 08 10*","19 08 10* Mezclas de grasas y aceites procedentes de la separación de agua/sustancias aceitosas distintas de las especificadas en el código 19 08 09"]
[null,"19 08 11*","19 08 11* Lodos que contienen sustancias peligrosas procedentes del tratamiento biológico de aguas residuales industriales"]
[null,"19 08 13*","19 08 13* Lodos que contienen sustancias peligrosas procedentes de otros tratamientos de aguas residuales industriales"]
[null,"19 10 03*","19 10 03* Fracciones ligeras de fragmentación (fluff-light) y polvo que contienen sustancias peligrosas"]
[null,"19 10 05*","19 10 05* Otras fracciones que contienen sustancias peligrosas"]
[null,"19 11 01*","19 11 01* Arcillas de filtración usadas"]
[null,"19 11 02*","19 11 02* Alquitranes ácidos"]
[null,"19 11 03*","19 11 03* Residuos de líquidos acuosos"]
[null,"19 11 04*","19 11 04* Residuos de la limpieza de combustibles con bases"]
[null,"19 11 05*","19 11 05* Lodos del tratamiento in situ de efluentes que contienen sustancias peligrosas"]
[null,"19 11 07*","19 11 07* Residuos de la depuración de gases de combustión"]
[null,"19 12 06*","19 12 06* Madera que contiene sustancias peligrosas"]
[null,"19 12 11*","19 12 11* Otros residuos (incluidas mezclas de materiales) procedentes del tratamiento mecánico de residuos que contienen sustancias peligrosas"]
[null,"19 13 01*","19 13 01* Residuos sólidos de la recuperación de suelos que contienen sustancias peligrosas"]
[null,"19 13 03*","19 13 03* Lodos de la recuperación de suelos que contienen sustancias peligrosas"]
[null,"19 13 05*","19 13 05* Lodos de la recuperación de aguas subterráneas que contienen sustancias peligrosas"]
[null,"19 13 07*","19 13 07* Residuos líquidos acuosos y concentrados acuosos, procedentes de la recuperación de aguas subterráneas, que contienen sustancias peligrosas,"]
[null,"20 01 13*","20 01 13* Disolventes"]
[null,"20 01 14*","20 01 14* Ácidos"]
[null,"20 01 15*","20 01 15* Álcalis"]
["No peligrosos","10 03 24","10 03 24 Residuos sólidos del tratamiento de gases, distintos de los especificados en el código 10 03 23"]
["No peligrosos","10 03 26","10 03 26 Lodos y tortas de filtración del tratamiento de gases, distintos de los especificados en el código 10 03 25"]
[null,"10 03 28","10 03 28 Residuos del tratamiento del agua de refrigeración distintos de los especificados en el código 10 03 27"]
[null,"10 03 30","10 03 30 Residuos del tratamiento de escorias salinas y granzas negras distintos de los especificados en el código 10 03 29"]
[null,"10 03 99","10 03 99 Residuos no especificados en otra categoría"]
[null,"10 04 10","10 04 10 Residuos del tratamiento del agua de refrigeración distintos de los especificados en el código 10 04 09"]
[null,"10 04 99","10 04 99 Residuos no especificados en otra categoría"]
[null,"10 05 01","10 05 01 Escorias de la producción primaria y secundaria"]
[null,"10 05 04","10 05 04 Otras partículas y polvos"]
[null,"10 05 09","10 05 09 Residuos del tratamiento del agua de refrigeración distintos de los especificados en el código 10 05 08"]
[null,"10 05 11","10 05 11 Granzas y espumas distintas de las especificadas en el código 10 05 10"]
[null,"10 05 99","10 05 99 Residuos no especificados en otra categoría"]
[null,"10 06 01","10 06 01 Escorias de la producción primaria y secundaria"]
[null,"10 06 02","10 06 02 Granzas y espumas de la producción primaria y secundaria"]
[null,"10 06 04","10 06 04 Otras partículas y polvos"]
[null,"10 06 10","10 06 10 Residuos del tratamiento del agua de refrigeración distintos de los especificados en el código 10 06 09"]
[null,"10 06 99","10 06 99 Residuos no especificados en otra categoría"]
[null,"10 07 01","10 07 01 Escorias de la producción primaria y secundaria"]
[null,"10 07 02","10 07 02 Granzas y espumas de la producción primaria y secundaria"]
[null,"10 07 03","10 07 03 Residuos sólidos del tratamiento de gases"]
[null,"10 07 04","10 07 04 Otras partículas y polvos"]
[null,"10 07 05","10 07 05 Lodos y tortas de filtración del tratamiento de gases"]
[null,"10 07 08","10 07 08 Residuos del tratamiento del agua de refrigeración distintos de los especificados en el código 10 07 07"]
[null,"10 07 99","10 07 99 Residuos no especificados en otra categoría"]
[null,"10 08 04","10 08 04 Partículas y polvo"]
[null,"10 08 09","10 08 09 Otras escorias"]
[null,"10 08 11","10 08 11 Granzas y espumas distintas de las especificadas en el código 10 08 10"]
[null,"10 08 13","10 08 13 Residuos que contienen carbono procedentes de la fabricación de ánodos, distintos de los especificados en el código 10 08 12"]
[null,"10 08 14","10 08 14 Fragmentos de ánodos"]
[null,"10 08 16","10 08 16 Partículas procedentes de los efluentes gaseosos distintas de las especificadas en el código 10 08 15"]
[null,"10 08 18","10 08 18 Lodos y tortas de filtración del tratamiento de gases, distintos de los especificados en el código 10 08 17"]
[null,"10 08 20","10 08 20 Residuos del tratamiento del agua de refrigeración distintos de los especificados en el código 10 08 19"]
[null,"10 08 99","10 08 99 Residuos no especificados en otra categoría"]
[null,"10 09 03","10 09 03 Escorias de horno"]
[null,"10 09 06","10 09 06 Machos y moldes de fundición sin colada distintos de los especificados en el código 10 09 05"]
[null,"10 09 08","10 09 08 Machos y moldes de fundición con colada distintos de los especificados en el código 10 09 07"]
[null,"10 09 10","10 09 10 Partículas procedentes de los efluentes gaseosos distintas de las especificadas en el código 10 09 09"]
[null,"10 09 12","10 09 12 Otras partículas distintas de las especificadas en el código 10 09 11"]
[null,"10 09 14","10 09 14 Ligantes residuales distintos de los especificados en el código 10 09 13"]
[null,"10 09 16","10 09 16 Residuos de agentes indicadores de fisuración distintos de los especificados en el código 10 09 15"]
[null,"10 09 99","10 09 99 Residuos no especificados en otra categoría"]
[null,"10 10 03","10 10 03 Escorias de horno"]
[null,"10 10 06","10 10 06 Machos y moldes de fundición sin colada distintos de los especificados en el código 10 10 05"]
[null,"10 10 08","10 10 08 Machos y moldes de fundición con colada distintos de los especificados en el código 10 10 07"]
[null,"10 10 10","10 10 10 Partículas procedentes de los efluentes gaseosos distintas de las especificadas en el código 10 10 09"]
[null,"10 10 12","10 10 12 Otras partículas distintas de las especificadas en el código 10 10 11"]
[null,"10 10 14","10 10 14 Ligantes residuales distintos de los especificados en el código 10 10 13"]
[null,"10 10 16","10 10 16 Residuos de agentes indicadores de fisuración distintos de los especificados en el código 10 10 15"]
[null,"10 10 99","10 10 99 Residuos no especificados en otra categoría"]
[null,"10 11 03","10 11 03 Residuos de materiales de fibra de vidrio"]
[null,"10 11 05","10 11 05 Partículas y polvo"]
[null,"10 11 10","10 11 10 Residuos de la preparación de mezclas antes del proceso de cocción distintos de los especificados en el código 10 11 09"]
[null,"10 11 12","10 11 12 Residuos de vidrio distintos de los especificados en el código 10 11 11"]
[null,"10 11 14","10 11 14 Lodos procedentes del pulido y esmerilado del vidrio, distintos de los especificados en el código 10 11 13"]
[null,"10 11 16","10 11 16 Residuos sólidos del tratamiento de gases de combustión, distintos de los especificados en el código 10 11 15"]
[null,"10 11 18","10 11 18 Lodos y tortas de filtración del tratamiento de gases, distintos de los especificados en el código 10 11 17"]
[null,"10 11 20","10 11 20 Residuos sólidos del tratamiento in situ de efluentes, distintos de los especificados en el código 10 11 19"]
[null,"10 11 99","10 11 99 Residuos no especificados en otra categoría"]
[null,"10 12 01","10 12 01 Residuos de la preparación de mezclas antes del proceso de cocción"]
[null,"10 12 03","10 12 03 Partículas y polvo"]
[null,"10 12 05","10 12 05 Lodos y tortas de filtración del tratamiento de gases"]
[null,"10 12 06","10 12 06 Moldes desechados"]
[null,"10 12 08","10 12 08 Residuos de cerámica, ladrillos, tejas y materiales de construcción (después del proceso de cocción)"]
[null,"10 12 10","10 12 10 Residuos sólidos del tratamiento de gases, distintos de los especificados en el código 10 12 09"]
[null,"10 12 12","10 12 12 Residuos de vidriado distintos de los especificados en el código 10 12 11"]
[null,"10 12 13","10 12 13 Lodos del tratamiento in situ de efluentes"]
[null,"10 12 99","10 12 99 Residuos no especificados en otra categoría"]
[null,"10 13 01","10 13 01 Residuos de la preparación de mezclas antes del proceso de cocción"]
[null,"10 13 04","10 13 04 Residuos de la calcinación e hidratación de la cal"]
[null,"10 13 06","10 13 06 Partículas y polvo (excepto los códigos 10 13 12 y 10 13 13)"]
[null,"10 13 07","10 13 07 Lodos y tortas de filtración del tratamiento de gases"]
[null,"10 13 10","10 13 10 Residuos de la fabricación de fibrocemento distintos de los especificados en el código 10 13 09"]
[null,"10 13 11","10 13 11 Residuos de materiales compuestos a base de cemento distintos de los especificados en los códigos 10 13 09 y 10 13 10"]
[null,"10 13 13","10 13 13 Residuos sólidos del tratamiento de gases, distintos de los especificados en el código 10 13 12"]
[null,"10 13 14","10 13 14 Residuos de hormigón y lodos de hormigón"]
[null,"10 13 99","10 13 99 Residuos no especificados en otra categoría"]
[null,"11 01 10","11 01 10 Lodos y tortas de filtración distintos de los especificados en el código 11 01 09"]
[null,"11 01 12","11 01 12 Líquidos acuosos de enjuague distintos de los especificados en el código 11 01 11"]
[null,"11 01 14","11 01 14 Residuos de desengrasado distintos de los especificados en el código 11 01 13"]
[null,"11 01 99","11 01 99 Residuos no especificados en otra categoría"]
[null,"11 02 03","11 02 03 Residuos de la producción de ánodos para procesos de electrólisis acuosa"]
[null,"11 02 06","11 02 06 Residuos de procesos de la hidrometalurgia del cobre distintos de los especificados en el código 11 02 05"]
[null,"11 02 99","11 02 99 Residuos no especificados en otra categoría"]
[null,"11 05 01","11 05 01 Matas de galvanización"]
[null,"11 05 02","11 05 02 Cenizas de zinc"]
[null,"11 05 99","11 05 99 Residuos no especificados en otra categoría"]
[null,"12 01 01","12 01 01 Limaduras y virutas de metales férreos"]
[null,"12 01 02","12 01 02 Polvo y partículas de metales férreos"]
[null,"12 01 03","12 01 03 Limaduras y virutas de metales no férreos"]
[null,"12 01 04","12 01 04 Polvo y partículas de metales no férreos"]
[null,"12 01 05","12 01 05 Virutas y rebabas de plástico"]
[null,"12 01 13","12 01 13 Residuos de soldadura"]
[null,"12 01 15","12 01 15 Lodos de mecanizado distintos de los especificados en el código 12 01 14"]
[null,"12 01 17","12 01 17 Residuos de granallado o chorreado distintos de los especificados en el código 12 01 16"]
[null,"12 01 21","12 01 21 Muelas y materiales de esmerilado usados distintos de los especificados en el código 12 01 20"]
[null,"12 01 99","12 01 99 Residuos no especificados en otra categoría"]
[null,"15 02 03","15 02 03 Absorbentes, materiales de filtración, trapos de limpieza y ropas protectoras distintos de los especificados en el código 15 02 02"]
[null,"16 01 03","16 01 03 Neumáticos al final de su vida útil"]
[null,"16 01 06","16 01 06 Vehículos al final de su vida útil que no contengan líquidos ni otros componentes peligrosos"]
[null,"16 01 12","16 01 12 Zapatas de freno distintas de las especificadas en el código 16 01 11"]
[null,"16 01 15","16 01 15 Anticongelantes distintos de los especificados en el código 16 01 14"]
[null,"16 01 16","16 01 16 Depósitos para gases licuados"]
[null,"16 01 17","16 01 17 Metales férreos"]
[null,"16 01 18","16 01 18 Metales no férreos"]
[null,"16 01 19","16 01 19 Plástico"]
[null,"16 01 20","16 01 20 Vidrio"]
[null,"16 01 22","16 01 22 Componentes no especificados en otra categoría"]
[null,"16 01 99","16 01 99 Residuos no especificados en otra categoría"]
[null,"16 02 14","16 02 14 Equipos desechados distintos de los especificados en los códigos 16 02 09 a 16 02 13"]
[null,"16 02 16","16 02 16 Componentes retirados de equipos desechados distintos de los especificados en el código 16 02 15"]
[null,"16 03 04","16 03 04 Residuos inorgánicos distintos de los especificados en el código 16 03 03"]
[null,"16 03 06","16 03 06 Residuos orgánicos distintos de los especificados en el código 16 03 05"]
[null,"16 05 05","16 05 05 Gases en recipientes a presión, distintos de los especificados en el código 16 05 04"]
[null,"16 05 09","16 05 09 Productos químicos desechados distintos de los especificados en los códigos 16 05 06, 16 05 07 o 16 05 08"]
[null,"16 06 04","16 06 04 Pilas alcalinas (excepto 16 06 03)"]
[null,"16 06 05","16 06 05 Otras pilas y acumuladores"]
[null,"16 07 99","16 07 99 Residuos no especificados en otra categoría"]
[null,"16 08 01","16 08 01 Catalizadores usados que contienen oro, plata, renio, rodio, paladio, iridio o platino (excepto el código 16 08 07)"]
[null,"16 08 03","16 08 03 Catalizadores usados que contienen metales de transición o compuestos de metales de transición no especificados en otra categoría"]
[null,"16 08 04","16 08 04 Catalizadores usados procedentes del craqueo catalítico fluido (excepto los del código 16 08 07)"]
[null,"16 10 02","16 10 02 Residuos líquidos acuosos distintos de los especificados en el código 16 10 01"]
[null,"16 10 04","16 10 04 Concentrados acuosos distintos de los especificados en el código 16 10 03"]
[null,"16 11 02","16 11 02 Revestimientos y refractarios a base de carbono, procedentes de procesos metalúrgicos, distintos de los especificados en el código 16 11 01"]
[null,"16 11 04","16 11 04 Otros revestimientos y refractarios procedentes de procesos metalúrgicos, distintos de los especificados en el código 16 11 03"]
[null,"16 11 06","16 11 06 Revestimientos y refractarios procedentes de procesos no metalúrgicos, distintos de los especificados en el código 16 11 05"]
[null,"17 01 01","17 01 01 Hormigón"]
[null,"17 01 02","17 01 02 Ladrillos"]
[null,"17 01 03","17 01 03 Tejas y materiales cerámicos"]
[null,"17 01 07","17 01 07 Mezclas de hormigón, ladrillos, tejas y materiales cerámicos, distintas de las especificadas en el código 17 01 06"]
[null,"17 02 01","17 02 01 Madera"]
[null,"17 02 02","17 02 02 Vidrio"]
[null,"17 02 03","17 02 03 Plástico"]
[null,"17 03 02","17 03 02 Mezclas bituminosas distintas de las especificadas en el código 17 03 01"]
[null,"17 04 01","17 04 01 Cobre, bronce, latón"]
[null,"17 04 02","17 04 02 Aluminio"]
[null,"17 04 03","17 04 03 Plomo"]
[null,"17 04 04","17 04 04 Zinc"]
[null,"17 04 05","17 04 05 Hierro y acero"]
[null,"17 04 06","17 04 06 Estaño"]
[null,"17 04 07","17 04 07 Metales mezclados"]
[null,"17 04 11","17 04 11 Cables distintos de los especificados en el código 17 04 10"]
[null,"17 05 04","17 05 04 Tierra y piedras distintas de las especificadas en el código 17 05 03"]
[null,"17 05 06","17 05 06 Lodos de drenaje distintos de los especificados en el código 17 05 05"]
[null,"17 05 08","17 05 08 Balasto de vías férreas distinto del especificado en el código 17 05 07"]
[null,"17 06 04","17 06 04 Materiales de aislamiento distintos de los especificados en los códigos 17 06 01 y 17 06 03"]
[null,"17 08 02","17 08 02 Materiales de construcción a base de yeso distintos de los especificados en el código 17 08 01"]
[null,"17 09 04","17 09 04 Residuos mezclados de construcción y demolición distintos de los especificados en los códigos 17 09 01, 17 09 02 y 17 09 03"]
[null,"18 01 01","18 01 01 Objetos cortantes y punzantes (excepto el código 18 01 03)"]
[null,"18 01 02","18 01 02 Restos anatómicos y órganos, incluidos bolsas y bancos de sangre (excepto el código 18 01 03)"]
[null,"18 01 04","18 01 04 Residuos cuya recogida y eliminación no son objeto de requisitos especiales para prevenir infecciones (por ejemplo, vendajes, vaciados de yeso, ropa blanca, ropa desechable, pañales)"]
[null,"18 01 07","18 01 07 Productos químicos distintos de los especificados en el código 18 01 06"]
[null,"18 01 09","18 01 09 Medicamentos distintos de los especificados en el código 18 01 08"]
[null,"18 02 01","18 02 01 Objetos cortantes y punzantes (excepto el código 18 02 02)"]
[null,"18 02 03","18 02 03 Residuos cuya recogida y eliminación no son objeto de requisitos especiales para prevenir infecciones"]
[null,"18 02 06","18 02 06 Productos químicos distintos de los especificados en el código 18 02 05"]
[null,"18 02 08","18 02 08 Medicamentos distintos de los especificados en el código 18 02 07"]
[null,"19 01 02","19 01 02 Materiales férreos separados de la ceniza de fondo de horno"]
[null,"19 01 12","19 01 12 Ceniza de fondo de horno y escorias distintas de las especificadas en el código 19 01 11"]
[null,"19 01 14","19 01 14 Cenizas volantes distintas de las especificadas en el código 19 01 13"]
[null,"19 01 16","19 01 16 Polvo de caldera distinto del especificado en el código 19 01 15"]
[null,"19 01 18","19 01 18 Residuos de pirólisis distintos de los especificados en el código 19 01 17"]
[null,"19 01 19","19 01 19 Arenas de lechos fluidizados"]
[null,"19 01 99","19 01 99 Residuos no especificados en otra categoría"]
[null,"19 02 03","19 02 03 Residuos mezclados previamente, compuestos exclusivamente por residuos no peligrosos"]
[null,"19 02 06","19 02 06 Lodos de tratamientos fisicoquímicos, distintos de los especificados en el código 19 02 05"]
[null,"19 02 10","19 02 10 Residuos combustibles distintos de los especificados en los códigos 19 02 08 y 19 02 09"]
[null,"19 02 99","19 02 99 Residuos no especificados en otra categoría"]
[null,"19 03 05","19 03 05 Residuos estabilizados distintos de los especificados en el código 19 03 04"]
[null,"19 03 07","19 03 07 Residuos solidificados distintos de los especificados en el código 19 03 06"]
[null,"19 04 01","19 04 01 Residuos vitrificados"]
[null,"19 04 04","19 04 04 Residuos líquidos acuosos del templado de residuos vitrificados"]
[null,"19 05 01","19 05 01 Fracción no compostada de residuos municipales y asimilados"]
[null,"19 05 02","19 05 02 Fracción no compostada de residuos de procedencia animal o vegetal"]
[null,"19 05 03","19 05 03 Compost fuera de especificación"]
[null,"19 05 99","19 05 99 Residuos no especificados en otra categoría"]
[null,"19 06 03","19 06 03 Licor del tratamiento anaeróbico de residuos municipales"]
[null,"19 06 04","19 06 04 Lodos de digestión del tratamiento anaeróbico de residuos municipales"]
[null,"19 06 05","19 06 05 Licor del tratamiento anaeróbico de residuos animales y vegetales"]
[null,"19 06 06","19 06 06 Lodos de digestión del tratamiento anaeróbico de residuos animales y vegetales"]
[null,"19 06 99","19 06 99 Residuos no especificados en otra categoría"]
[null,"19 07 03","19 07 03 Lixiviados de vertedero distintos de los especificados en el código 19 07 02"]
[null,"19 08 01","19 08 01 Residuos de cribado"]
[null,"19 08 02","19 08 02 Residuos de desarenado"]
[null,"19 08 05","19 08 05 Lodos del tratamiento de aguas residuales urbanas"]
[null,"19 08 09","19 08 09 Mezclas de grasas y aceites procedentes de la separación de agua/sustancias aceitosas que contienen solamente aceites y grasas comestibles"]
[null,"19 08 12","19 08 12 Lodos procedentes del tratamiento biológico de aguas residuales industriales distintos de los especificados en el código 19 08 11"]
[null,"19 08 14","19 08 14 Lodos procedentes de otros tratamientos de aguas residuales industriales, distintos de los especificados en el código 19 08 13"]
[null,"19 08 99","19 08 99 Residuos no especificados en otra categoría"]
[null,"19 09 01","19 09 01 Residuos sólidos de la filtración primaria y cribado"]
[null,"19 09 02","19 09 02 Lodos de la clarificación del agua"]
[null,"19 09 03","19 09 03 Lodos de descarbonatación"]
[null,"19 09 04","19 09 04 Carbón activo usado"]
[null,"19 09 05","19 09 05 Resinas intercambiadoras de iones saturadas o usadas"]
[null,"19 09 06","19 09 06 Soluciones y lodos de la regeneración de intercambiadores de iones"]
[null,"19 09 99","19 09 99 Residuos no especificados en otra categoría"]
[null,"19 10 01","19 10 01 Residuos de hierro y acero"]
[null,"19 10 02","19 10 02 Residuos no férreos"]
[null,"19 10 04","19 10 04 Fracciones ligeras de fragmentación (fluff-light) y polvo distintas de las especificadas en el código 19 10 03"]
[null,"19 10 06","19 10 06 Otras fracciones distintas de las especificadas en el código 19 10 05"]
[null,"19 11 06","19 11 06 Lodos del tratamiento in situ de efluentes, distintos de los especificados en el código 19 11 05"]
[null,"19 11 99","19 11 99 Residuos no especificados en otra categoría"]
["Ordinarios","19 12 01","19 12 01 Papel y cartón"]
[null,"19 12 02","19 12 02 Metales férreos"]
[null,"19 12 03","19 12 03 Metales no férreos"]
["Ordinarios","19 12 04","19 12 04 Plástico y caucho"]
["Ordinarios","19 12 05","19 12 05 Vidrio"]
["No peligrosos","19 12 07","19 12 07 Madera distinta de la especificada en el código 19 12 06"]
["No peligrosos","19 12 08","19 12 08 Materias textiles"]
["No peligrosos","19 12 09","19 12 09 Minerales (por ejemplo, arena, piedras)"]
["No peligrosos","19 12 10","19 12 10 Residuos combustibles (combustible derivado de desperdicios)"]
["No peligrosos","19 12 12","19 12 12 Otros residuos (incluidas mezclas de materiales) procedentes del tratamiento mecánico de residuos, distintos de los especificados en el código 19 12 11"]
["No peligrosos","19 13 02","19 13 02 Residuos sólidos de la recuperación de suelos distintos de los especificados en el código 19 13 01"]
["No peligrosos","19 13 04","19 13 04 Lodos de la recuperación de suelos distintos de los especificados en el código 19 13 03"]
["No peligrosos","19 13 06","19 13 06 Lodos de la recuperación de aguas subterráneas distintos de los especificados en el código 19 13 05"]
["No peligrosos","19 13 08","19 13 08 Residuos de líquidos acuosos y concentrados acuosos procedentes de la recuperación de aguas subterráneas, distintos de los especificados en el código 19 13 07"]
["Ordinarios","15 01 01","15 01 01 Envases de papel y cartón"]
["Ordinarios","15 01 02","15 01 02 Envases de plástico"]
["Ordinarios","15 01 03","15 01 03 Envases de madera"]
["Ordinarios","15 01 04","15 01 04 Envases metálicos"]
["No peligrosos","15 01 05","15 01 05 Envases compuestos"]
["No peligrosos","15 01 06","15 01 06 Envases mezclados"]
["Ordinarios","15 01 07","15 01 07 Envases de vidrio"]
["No peligrosos","15 01 09","15 01 09 Envases textiles"]
["Ordinarios","20 01 01","20 01 01 Papel y cartón"]
["Ordinarios","20 01 02","20 01 02 Vidrio"]
["Ordinarios","20 01 08","20 01 08 Residuos biodegradables de cocinas y restaurantes"]
["No peligrosos","20 01 10","20 01 10 Ropa"]
["No peligrosos","20 01 11","20 01 11 Materias textiles"]
["No peligrosos","20 01 25","20 01 25 Aceites y grasas comestibles"]
[null,"20 01 28","20 01 28 Pinturas, tintas, adhesivos y resinas distintos de los especificados en el código 20 01 27"]
["No peligrosos","20 01 30","20 01 30 Detergentes distintos de los especificados en el código 20 01 29"]
["No peligrosos","20 01 32","20 01 32 Medicamentos distintos de los especificados en el código 20 01 31"]
[null,"20 01 34","20 01 34 Baterías y acumuladores distintos de los especificados en el código 20 01 33"]
[null,"20 01 36","20 01 36 Equipos eléctricos y electrónicos desechados distintos de los especificados en los códigos 20 01 21, 20 01 23 y 20 01 35"]
["No peligrosos","20 01 38","20 01 38 Madera distinta de la especificada en el código 20 01 37"]
["Ordinarios","20 01 39","20 01 39 Plásticos"]
["No peligrosos","20 01 40","20 01 40 Metales"]
["No peligrosos","20 01 41","20 01 41 Residuos del deshollinado de chimeneas"]
["No peligrosos","20 01 99","20 01 99 Otras fracciones no especificadas en otra categoría"]
["No peligrosos","20 02 01","20 02 01 Residuos biodegradables"]
["No peligrosos","20 02 02","20 02 02 Tierra y piedras"]
["Ordinarios","20 02 03","20 02 03 Otros residuos no biodegradables"]
["No peligrosos","20 03 01","20 03 01 Mezclas de residuos municipales"]
["No peligrosos","20 03 02","20 03 02 Residuos de mercados"]
["No peligrosos","20 03 03","20 03 03 Residuos de limpieza viaria"]
["No peligrosos","20 03 04","20 03 04 Lodos de fosas sépticas"]
["No peligrosos","20 03 06","20 03 06 Residuos de la limpieza de alcantarillas"]
["No peligrosos","20 03 07","20 03 07 Residuos voluminosos"]
["No peligrosos","20 03 99","20 03 99 Residuos municipales no especificados en otra categoría"]
["Peligrosos","20 01 17*","20 01 17* Productos fotoquímicos"]
["Peligrosos","20 01 19*","20 01 19* Plaguicidas"]
["Manejo Especial","20 01 21*","20 01 21* Tubos fluorescentes y otros residuos que contienen mercurio"]
[null,"20 01 23*","20 01 23* Equipos desechados que contienen clorofluorocarburos"]
[null,"20 01 26*","20 01 26* Aceites y grasas distintos de los especificados en el código 20 01 25"]
[null,"20 01 27*","20 01 27* Pinturas, tintas, adhesivos y resinas que contienen sustancias peligrosas"]
[null,"20 01 29*","20 01 29* Detergentes que contienen sustancias peligrosas"]
[null,"20 01 31*","20 01 31* Medicamentos citotóxicos y citostáticos"]
[null,"20 01 33*","20 01 33* Baterías y acumuladores especificados en los códigos 16 06 01, 16 06 02 o 16 06 03 y baterías y acumuladores sin clasificar que contienen esas baterías"]
[null,"20 01 35*","20 01 35* Equipos eléctricos y electrónicos desechados, distintos de los especificados en los códigos 20 01 21 y 20 01 23, que contienen componentes peligrosos"]
[null,"20 01 37*","20 01 37* Madera que contiene sustancias peligrosas"]
["No peligrosos","01 01 01","01 01 01 Residuos de la extracción de minerales metálicos"]
["No peligrosos","01 01 02","01 01 02 Residuos de la extracción de minerales no metálicos"]
["No peligrosos","01 03 06","01 03 06 Estériles distintos de los mencionados en los códigos 01 03 04 y 01 03 05"]
["No peligrosos","01 03 08","01 03 08 Residuos de polvo y arenilla distintos de los mencionados en el código 01 03 07"]
["No peligrosos","01 03 09","01 03 09 Lodos rojos procedentes de la producción de alúmina distintos de los mencionados en el código 01 03 10"]
["No peligrosos","01 03 99","01 03 99 Residuos no especificados en otra categoría"]
["No peligrosos","01 04 08","01 04 08 Residuos de grava y rocas trituradas distintos de los mencionados en el código 01 04 07"]
["No peligrosos","01 04 09","01 04 09 Residuos de arena y arcillas"]
["No peligrosos","01 04 10","01 04 10 Residuos de polvo y arenilla distintos de los mencionados en el código 01 04 07"]
["No peligrosos","01 04 11","01 04 11 Residuos de la transformación de potasa y sal gema distintos de los mencionados en el código 01 04 07"]
["No peligrosos","01 04 12","01 04 12 Estériles y otros residuos del lavado y limpieza de minerales, distintos de los mencionados en los códigos 01 04 07 y 01 04 11"]
["No peligrosos","01 04 13","01 04 13 Residuos del corte y serrado de piedra distintos de los mencionados en el código 01 04 07"]
["No peligrosos","01 04 99","01 04 99 Residuos no especificados en otra categoría"]
["No peligrosos","01 05 04","01 05 04 Lodos y residuos de perforaciones que contienen agua dulce"]
["No peligrosos","01 05 07","01 05 07 Lodos y otros residuos de perforaciones que contienen barita distintos de los mencionados en los códigos 01 05 05 y 01 05 06"]
["No peligrosos","01 05 08","01 05 08 Lodos y otros residuos de perforaciones que contienen cloruros distintos de los mencionados en los códigos 01 05 05 y 01 05 06"]
["No peligrosos","01 05 99","01 05 99 Residuos no especificados en otra categoría"]
["No peligrosos","02 01 01","02 01 01 Lodos de lavado y limpieza"]
["No peligrosos","02 01 02","02 01 02 Residuos de tejidos de animales"]
["No peligrosos","02 01 03","02 01 03 Residuos de tejidos de vegetales"]
["No peligrosos","02 01 04","02 01 04 Residuos de plásticos (excepto embalajes)"]
["No peligrosos","02 01 06","02 01 06 Heces de animales, orina y estiércol (incluida paja podrida), efluentes, recogidos selectivamente y tratados fuera del lugar donde se generan"]
["No peligrosos","02 01 07","02 01 07 Residuos de la silvicultura"]
["No peligrosos","02 01 09","02 01 09 Residuos agroquímicos distintos de los mencionados en el código 02 01 08"]
["No peligrosos","02 01 10","02 01 10 Residuos metálicos"]
["No peligrosos","02 01 99","02 01 99 Residuos no especificados en otra categoría"]
["No peligrosos","02 02 01","02 02 01 Lodos del lavado y limpieza"]
["No peligrosos","02 02 02","02 02 02 Residuos de tejidos de animales"]
["No peligrosos","02 02 03","02 02 03 Materiales inadecuados para el consumo o la elaboración"]
["No peligrosos","02 02 04","02 02 04 Lodos del tratamiento in situ de efluentes"]
["No peligrosos","02 02 99","02 02 99 Residuos no especificados en otra categoría"]
["No peligrosos","02 03 01","02 03 01 Lodos del lavado, limpieza, pelado, centrifugado y separación"]
["No peligrosos","02 03 02","02 03 02 Residuos de conservantes"]
["No peligrosos","02 03 03","02 03 03 Residuos de la extracción con disolventes"]
["No peligrosos","02 03 04","02 03 04 Materiales inadecuados para el consumo o la elaboración"]
["No peligrosos","02 03 05","02 03 05 Lodos del tratamiento in situ de efluentes"]
["No peligrosos","02 03 99","02 03 99 Residuos no especificados en otra categoría"]
["No peligrosos","02 04 01","02 04 01 Tierra procedente de la limpieza y lavado de la remolacha"]
["No peligrosos","02 04 02","02 04 02 Carbonato cálcico fuera de especificación"]
["No peligrosos","02 04 03","02 04 03 Lodos del tratamiento in situ de efluentes"]
["No peligrosos","02 04 99","02 04 99 Residuos no especificados en otra categoría"]
["No peligrosos","02 05 01","02 05 01 Materiales inadecuados para el consumo o la elaboración"]
["No peligrosos","02 05 02","02 05 02 Lodos del tratamiento in situ de efluentes"]
["No peligrosos","02 05 99","02 05 99 Residuos no especificados en otra categoría"]
["No peligrosos","02 06 01","02 06 01 Materiales inadecuados para el consumo o la elaboración"]
["No peligrosos","02 06 02","02 06 02 Residuos de conservantes"]
["No peligrosos","02 06 03","02 06 03 Lodos del tratamiento in situ de efluentes"]
["No peligrosos","02 06 99","02 06 99 Residuos no especificados en otra categoría"]
["No peligrosos","02 07 01","02 07 01 Residuos del lavado, limpieza y reducción mecánica de materias primas"]
["No peligrosos","02 07 02","02 07 02 Residuos de la destilación de alcoholes"]
["No peligrosos","02 07 03","02 07 03 Residuos del tratamiento químico"]
["No peligrosos","02 07 04","02 07 04 Materiales inadecuados para el consumo o la elaboración"]
["No peligrosos","02 07 05","02 07 05 Lodos del tratamiento in situ de efluentes"]
["No peligrosos","02 07 99","02 07 99 Residuos no especificados en otra categoría"]
["No peligrosos","03 01 01","03 01 01 Residuos de corteza y corcho"]
["No peligrosos","03 01 05","03 01 05 Serrín, virutas, recortes, madera, tableros de partículas y chapas distintos de los mencionados en el código 03 01 04"]
["No peligrosos","03 01 99","03 01 99 Residuos no especificados en otra categoría"]
["No peligrosos","03 02 99","03 02 99 Conservantes de la madera no especificados en otra categoría"]
["No peligrosos","03 03 01","03 03 01 Residuos de corteza y madera"]
["No peligrosos","03 03 02","03 03 02 Lodos de lejías verdes (procedentes de la recuperación de lejías de cocción)"]
["No peligrosos","03 03 05","03 03 05 Lodos de destintado procedentes del reciclado de papel"]
["No peligrosos","03 03 07","03 03 07 Desechos, separados mecánicamente, de pasta elaborada a partir de residuos de papel y cartón"]
["No peligrosos","03 03 08","03 03 08 Residuos procedentes de la clasificación de papel y cartón destinados al reciclado"]
["No peligrosos","03 03 09","03 03 09 Residuos de lodos calizos"]
["No peligrosos","03 03 10","03 03 10 Desechos de fibras y lodos de fibras, de materiales de carga y de estucado, obtenidos por separación mecánica"]
["No peligrosos","03 03 11","03 03 11 Lodos del tratamiento in situ de efluentes, distintos de los especificados en el código 03 03 10"]
["No peligrosos","03 03 99","03 03 99 Residuos no especificados en otra categoría"]
["No peligrosos","04 01 01","04 01 01 Residuos de descarnaduras y cuarteado de cal"]
["No peligrosos","04 01 02","04 01 02 Residuos del encalado"]
["No peligrosos","04 01 04","04 01 04 Residuos líquidos de curtición que contienen cromo"]
["No peligrosos","04 01 05","04 01 05 Residuos líquidos de curtición que no contienen cromo"]
["No peligrosos","04 01 06","04 01 06 Lodos, en particular los procedentes del tratamiento in situ de efluentes, que contienen cromo"]
["No peligrosos","04 01 07","04 01 07 Lodos, en particular los procedentes del tratamiento in situ de efluentes, que no contienen cromo"]
["No peligrosos","04 01 08","04 01 08 Residuos de piel curtida (serrajes, rebajaduras, recortes y polvo de esmerilado) que contienen cromo"]
["No peligrosos","04 01 09","04 01 09 Residuos de confección y acabado"]
["No peligrosos","04 01 99","04 01 99 Residuos no especificados en otra categoría"]
["No peligrosos","04 02 09","04 02 09 Residuos de materiales compuestos (textiles impregnados, elastómeros, plastómeros)"]
["No peligrosos","04 02 10","04 02 10 Materia orgánica de productos naturales (por ejemplo, grasa, cera)"]
["No peligrosos","04 02 15","04 02 15 Residuos del acabado distintos de los especificados en el código 04 02 14"]
["No peligrosos","04 02 17","04 02 17 Colorantes y pigmentos distintos de los mencionados en el código 04 02 16"]
["No peligrosos","04 02 20","04 02 20 Lodos del tratamiento in situ de efluentes, distintos de los especificados en el código 04 02 19"]
["No peligrosos","04 02 21","04 02 21 Residuos de fibras textiles no transformadas"]
["No peligrosos","04 02 22","04 02 22 Residuos de fibras textiles transformadas"]
["No peligrosos","04 02 99","04 02 99 Residuos no especificados en otra categoría"]
["No peligrosos","05 01 10","05 01 10 Lodos del tratamiento in situ de efluentes, distintos de los especificados en el código 05 01 09"]
["No peligrosos","05 01 13","05 01 13 Lodos procedentes del agua de alimentación de calderas"]
["No peligrosos","05 01 14","05 01 14 Residuos de columnas de refrigeración"]
["No peligrosos","05 01 16","05 01 16 Residuos que contienen azufre procedentes de la desulfuración del petróleo"]
["No peligrosos","05 01 17","05 01 17 Betunes"]
["No peligrosos","05 01 99","05 01 99 Residuos no especificados en otra categoría"]
["No peligrosos","05 06 04","05 06 04 Residuos de columnas de refrigeración"]
["No peligrosos","05 06 99","05 06 99 Residuos no especificados en otra categoría"]
["No peligrosos","05 07 02","05 07 02 Residuos que contienen azufre"]
["No peligrosos","05 07 99","05 07 99 Residuos no especificados en otra categoría"]
["No peligrosos","06 01 99","06 01 99 Residuos no especificados en otra categoría"]
["No peligrosos","06 02 99","06 02 99 Residuos no especificados en otra categoría"]
["No peligrosos","06 03 14","06 03 14 Sales sólidas y soluciones distintas de las mencionadas en los códigos 06 03 11 y 06 03 13"]
["No peligrosos","06 03 16","06 03 16 Óxidos metálicos distintos de los mencionados en el código 06 03 15"]
["No peligrosos","06 03 99","06 03 99 Residuos no especificados en otra categoría"]
["No peligrosos","06 04 99","06 04 99 Residuos no especificados en otra categoría"]
["No peligrosos","06 05 03","06 05 03 Lodos del tratamiento in situ de efluentes, distintos de los especificados en el código 06 05 02"]
[null,"06 06 03","06 06 03 Residuos que contienen sulfuros distintos de los mencionados en el código 06 06 02"]
[null,"06 06 99","06 06 99 Residuos no especificados en otra categoría"]
[null,"06 07 99","06 07 99 Residuos no especificados en otra categoría"]
[null,"06 08 99","06 08 99 Residuos no especificados en otra categoría"]
[null,"06 09 02","06 09 02 Escorias de fósforo"]
[null,"06 09 04","06 09 04 Residuos cálcicos de reacción distintos de los mencionados en el código 06 09 03"]
[null,"06 09 99","06 09 99 Residuos no especificados en otra categoría"]
[null,"06 10 99","06 10 99 Residuos no especificados en otra categoría"]
[null,"06 11 01","06 11 01 Residuos cálcicos de reacción procedentes de la producción de dióxido de titanio"]
[null,"06 11 99","06 11 99 Residuos no especificados en otra categoría"]
[null,"06 13 03","06 13 03 Negro de carbón"]
[null,"06 13 99","06 13 99 Residuos no especificados en otra categoría"]
[null,"07 01 12","07 01 12 Lodos del tratamiento in situ de efluentes, distintos de los especificados en el código 07 01 11"]
[null,"07 01 99","07 01 99 Residuos no especificados en otra categoría"]
[null,"07 02 12","07 02 12 Lodos del tratamiento in situ de efluentes, distintos de los especificados en el código 07 02 11"]
[null,"07 02 13","07 02 13 Residuos de plástico"]
[null,"07 02 15","07 02 15 Residuos procedentes de aditivos distintos de los especificados en el código 07 02 14"]
[null,"07 02 17","07 02 17 Residuos que contienen siliconas distintos de los mencionados en el código 07 02 16"]
[null,"07 02 99","07 02 99 Residuos no especificados en otra categoría"]
[null,"07 03 12","07 03 12 Lodos del tratamiento in situ de efluentes, distintos de los especificados en el código 07 03 11"]
[null,"07 03 99","07 03 99 Residuos no especificados en otra categoría"]
[null,"07 04 12","07 04 12 Lodos del tratamiento in situ de efluentes, distintos de los especificados en el código 07 04 11"]
[null,"07 04 99","07 04 99 Residuos no especificados en otra categoría"]
[null,"07 05 12","07 05 12 Lodos del tratamiento in situ de efluentes, distintos de los especificados en el código 07 05 11"]
[null,"07 05 14","07 05 14 Residuos sólidos distintos de los especificados en el código 07 05 13"]
[null,"07 05 99","07 05 99 Residuos no especificados en otra categoría"]
[null,"07 06 12","07 06 12 Lodos del tratamiento in situ de efluentes, distintos de los especificados en el código 07 06 11"]
[null,"07 06 99","07 06 99 Residuos no especificados en otra categoría"]
[null,"07 07 12","07 07 12 Lodos del tratamiento in situ de efluentes, distintos de los especificados en el código 07 07 11"]
[null,"07 07 99","07 07 99 Residuos no especificados en otra categoría"]
[null,"08 01 12","08 01 12 Residuos de pintura y barniz, distintos de los especificados en el código 08 01 11"]
[null,"08 01 14","08 01 14 Lodos de pintura y barniz, distintos de los especificados en el código 08 01 13"]
[null,"08 01 16","08 01 16 Lodos acuosos que contienen pintura o barniz, distintos de los especificados en el código 08 01 15"]
[null,"08 01 18","08 01 18 Residuos del decapado o eliminación de pintura y barniz, distintos de los especificados en el código 08 01 17"]
[null,"08 01 20","08 01 20 Suspensiones acuosas que contienen pintura o barniz, distintas de las especificadas en el código 08 01 19"]
[null,"08 01 99","08 01 99 Residuos no especificados en otra categoría"]
[null,"08 02 01","08 02 01 Residuos de arenillas de revestimiento"]
[null,"08 02 02","08 02 02 Lodos acuosos que contienen materiales cerámicos"]
[null,"08 02 03","08 02 03 Suspensiones acuosas que contienen materiales cerámicos"]
[null,"08 02 99","08 02 99 Residuos no especificados en otra categoría"]
[null,"08 03 07","08 03 07 Lodos acuosos que contienen tinta"]
[null,"08 03 08","08 03 08 Residuos líquidos acuosos que contienen tinta"]
[null,"08 03 13","08 03 13 Residuos de tintas distintos de los especificados en el código 08 03 12"]
[null,"08 03 15","08 03 15 Lodos de tinta distintos de los especificados en el código 08 03 14"]
[null,"08 03 18","08 03 18 Residuos de tóner de impresión, distintos de los especificados en el código 08 03 17"]
[null,"08 03 99","08 03 99 Residuos no especificados en otra categoría"]
[null,"08 04 10","08 04 10 Residuos de adhesivos y sellantes, distintos de los especificados en el código 08 04 09"]
[null,"08 04 12","08 04 12 Lodos de adhesivos y sellantes, distintos de los especificados en el código 08 04 11"]
[null,"08 04 14","08 04 14 Lodos acuosos que contienen adhesivos o sellantes, distintos de los especificados en el código 08 04 13"]
[null,"08 04 16","08 04 16 Residuos líquidos acuosos que contienen adhesivos o sellantes, distintos de los especificados en el código 08 04 15"]
[null,"08 04 99","08 04 99 Residuos no especificados en otra categoría"]
[null,"09 01 07","09 01 07 Películas y papel fotográfico que contienen plata o compuestos de plata"]
[null,"09 01 08","09 01 08 Películas y papel fotográfico que no contienen plata ni compuestos de plata"]
[null,"09 01 10","09 01 10 Cámaras de un solo uso sin pilas ni acumuladores"]
[null,"09 01 12","09 01 12 Cámaras de un solo uso con pilas o acumuladores distintas de las especificadas en el código 09 01 11"]
[null,"09 01 99","09 01 99 Residuos no especificados en otra categoría"]
[null,"10 01 01","10 01 01 Ceniza de fondo de horno, escorias y polvo de caldera (excepto el polvo de caldera especificado en el código 10 01 04)"]
[null,"10 01 02","10 01 02 Cenizas volantes de carbón"]
[null,"10 01 03","10 01 03 Cenizas volantes de turba y de madera (no tratada)"]
[null,"10 01 05","10 01 05 Residuos cálcicos de reacción, en forma sólida, procedentes de la desulfuración de gases de combustión"]
[null,"10 01 07","10 01 07 Residuos cálcicos de reacción, en forma de lodos, procedentes de la desulfuración de gases de combustión"]
[null,"10 01 15","10 01 15 Ceniza de fondo de horno, escorias y polvo de caldera procedentes de la coincineración, distintos de los especificados en el código 10 01 14"]
[null,"10 01 17","10 01 17 Cenizas volantes procedentes de la co-incineración distintas de las especificadas en el código 10 01 16"]
[null,"10 01 19","10 01 19 Residuos procedentes de la depuración de gases distintos de los especificados en los códigos 10 01 05, 10 01 07 y 10 01 18"]
[null,"10 01 21","10 01 21 Lodos del tratamiento in situ de efluentes, distintos de los especificados en el código 10 01 20"]
[null,"10 01 23","10 01 23 Lodos acuosos procedentes de la limpieza de calderas, distintos de los especificados en el código 10 01 22"]
[null,"10 01 24","10 01 24 Arenas de lechos fluidizados"]
[null,"10 01 25","10 01 25 Residuos procedentes del almacenamiento y preparación de combustible de centrales termoeléctricas de carbón"]
[null,"10 01 26","10 01 26 Residuos del tratamiento del agua de refrigeración"]
[null,"10 01 99","10 01 99 Residuos no especificados en otra categoría"]
[null,"10 02 01","10 02 01 Residuos del tratamiento de escorias"]
[null,"10 02 02","10 02 02 Escorias no tratadas"]
[null,"10 02 08","10 02 08 Residuos sólidos del tratamiento de gases, distintos de los especificados en el código 10 02 07"]
[null,"10 02 10","10 02 10 Cascarilla de laminación"]
[null,"10 02 12","10 02 12 Residuos del tratamiento del agua de refrigeración distintos de los especificados en el código 10 02 11"]
[null,"10 02 14","10 02 14 Lodos y tortas de filtración del tratamiento de gases, distintos de los especificados en el código 10 02 13"]
[null,"10 02 15","10 02 15 Otros lodos y tortas de filtración"]
[null,"10 02 99","10 02 99 Residuos no especificados en otra categoría"]
[null,"10 03 02","10 03 02 Fragmentos de ánodos"]
[null,"10 03 05","10 03 05 Residuos de alúmina"]
[null,"10 03 16","10 03 16 Espumas distintas de las especificadas en el código 10 03 15"]
[null,"10 03 18","10 03 18 Residuos que contienen carbono procedentes de la fabricación de ánodos, distintos de los especificados en el código 10 03 17"]
[null,"10 03 20","10 03 20 Partículas procedentes de los efluentes gaseosos distintas de las especificadas en el código 10 03 19"]
[null,"10 03 22","10 03 22 Otras partículas y polvo (incluido el polvo de molienda) distintos de los especificados en el código 10 03 21"]